BEGIN:VCALENDAR
VERSION:2.0
PRODID:-//Taumarunui - ECPv6.15.16//NONSGML v1.0//EN
CALSCALE:GREGORIAN
METHOD:PUBLISH
X-WR-CALNAME:Taumarunui
X-ORIGINAL-URL:https://taumarunui.co.nz
X-WR-CALDESC:Events for Taumarunui
REFRESH-INTERVAL;VALUE=DURATION:PT1H
X-Robots-Tag:noindex
X-PUBLISHED-TTL:PT1H
BEGIN:VTIMEZONE
TZID:Pacific/Auckland
BEGIN:STANDARD
TZOFFSETFROM:+1300
TZOFFSETTO:+1200
TZNAME:NZST
DTSTART:20250405T140000
END:STANDARD
BEGIN:DAYLIGHT
TZOFFSETFROM:+1200
TZOFFSETTO:+1300
TZNAME:NZDT
DTSTART:20250927T140000
END:DAYLIGHT
BEGIN:STANDARD
TZOFFSETFROM:+1300
TZOFFSETTO:+1200
TZNAME:NZST
DTSTART:20260404T140000
END:STANDARD
BEGIN:DAYLIGHT
TZOFFSETFROM:+1200
TZOFFSETTO:+1300
TZNAME:NZDT
DTSTART:20260926T140000
END:DAYLIGHT
BEGIN:STANDARD
TZOFFSETFROM:+1300
TZOFFSETTO:+1200
TZNAME:NZST
DTSTART:20270403T140000
END:STANDARD
BEGIN:DAYLIGHT
TZOFFSETFROM:+1200
TZOFFSETTO:+1300
TZNAME:NZDT
DTSTART:20270925T140000
END:DAYLIGHT
BEGIN:STANDARD
TZOFFSETFROM:+1300
TZOFFSETTO:+1200
TZNAME:NZST
DTSTART:20280401T140000
END:STANDARD
BEGIN:DAYLIGHT
TZOFFSETFROM:+1200
TZOFFSETTO:+1300
TZNAME:NZDT
DTSTART:20280923T140000
END:DAYLIGHT
END:VTIMEZONE
BEGIN:VEVENT
DTSTART;TZID=Pacific/Auckland:20261230T190000
DTEND;TZID=Pacific/Auckland:20261230T210000
DTSTAMP:20260422T025828
CREATED:20250212T034742Z
LAST-MODIFIED:20250216T170453Z
UID:10011747-1798657200-1798664400@taumarunui.co.nz
SUMMARY:Taumarunui Community Choir
DESCRIPTION:Taumarunui Community Choir\n7pm Wednesday’s.\nCome have fun singing with others @ The Little Theatre \nThis term we are preparing a selection of Show tunes. New members are welcome. You don’t need to have any experience or be able to read music. Come have fun singing with others.
URL:https://taumarunui.co.nz/event/taumarunui-community-choir/2026-12-30/
LOCATION:The Little Theatre
CATEGORIES:Clubs
ATTACH;FMTTYPE=image/jpeg:https://taumarunui.co.nz/wp-content/uploads/2025/02/IMG_0495.jpeg
END:VEVENT
BEGIN:VEVENT
DTSTART;TZID=Pacific/Auckland:20270106T190000
DTEND;TZID=Pacific/Auckland:20270106T210000
DTSTAMP:20260422T025828
CREATED:20250212T034742Z
LAST-MODIFIED:20250216T170453Z
UID:10011748-1799262000-1799269200@taumarunui.co.nz
SUMMARY:Taumarunui Community Choir
DESCRIPTION:Taumarunui Community Choir\n7pm Wednesday’s.\nCome have fun singing with others @ The Little Theatre \nThis term we are preparing a selection of Show tunes. New members are welcome. You don’t need to have any experience or be able to read music. Come have fun singing with others.
URL:https://taumarunui.co.nz/event/taumarunui-community-choir/2027-01-06/
LOCATION:The Little Theatre
CATEGORIES:Clubs
ATTACH;FMTTYPE=image/jpeg:https://taumarunui.co.nz/wp-content/uploads/2025/02/IMG_0495.jpeg
END:VEVENT
BEGIN:VEVENT
DTSTART;TZID=Pacific/Auckland:20270113T190000
DTEND;TZID=Pacific/Auckland:20270113T210000
DTSTAMP:20260422T025828
CREATED:20250212T034742Z
LAST-MODIFIED:20250216T170453Z
UID:10011749-1799866800-1799874000@taumarunui.co.nz
SUMMARY:Taumarunui Community Choir
DESCRIPTION:Taumarunui Community Choir\n7pm Wednesday’s.\nCome have fun singing with others @ The Little Theatre \nThis term we are preparing a selection of Show tunes. New members are welcome. You don’t need to have any experience or be able to read music. Come have fun singing with others.
URL:https://taumarunui.co.nz/event/taumarunui-community-choir/2027-01-13/
LOCATION:The Little Theatre
CATEGORIES:Clubs
ATTACH;FMTTYPE=image/jpeg:https://taumarunui.co.nz/wp-content/uploads/2025/02/IMG_0495.jpeg
END:VEVENT
BEGIN:VEVENT
DTSTART;TZID=Pacific/Auckland:20270120T190000
DTEND;TZID=Pacific/Auckland:20270120T210000
DTSTAMP:20260422T025828
CREATED:20250212T034742Z
LAST-MODIFIED:20250216T170453Z
UID:10011750-1800471600-1800478800@taumarunui.co.nz
SUMMARY:Taumarunui Community Choir
DESCRIPTION:Taumarunui Community Choir\n7pm Wednesday’s.\nCome have fun singing with others @ The Little Theatre \nThis term we are preparing a selection of Show tunes. New members are welcome. You don’t need to have any experience or be able to read music. Come have fun singing with others.
URL:https://taumarunui.co.nz/event/taumarunui-community-choir/2027-01-20/
LOCATION:The Little Theatre
CATEGORIES:Clubs
ATTACH;FMTTYPE=image/jpeg:https://taumarunui.co.nz/wp-content/uploads/2025/02/IMG_0495.jpeg
END:VEVENT
BEGIN:VEVENT
DTSTART;TZID=Pacific/Auckland:20270127T190000
DTEND;TZID=Pacific/Auckland:20270127T210000
DTSTAMP:20260422T025828
CREATED:20250212T034742Z
LAST-MODIFIED:20250216T170453Z
UID:10011751-1801076400-1801083600@taumarunui.co.nz
SUMMARY:Taumarunui Community Choir
DESCRIPTION:Taumarunui Community Choir\n7pm Wednesday’s.\nCome have fun singing with others @ The Little Theatre \nThis term we are preparing a selection of Show tunes. New members are welcome. You don’t need to have any experience or be able to read music. Come have fun singing with others.
URL:https://taumarunui.co.nz/event/taumarunui-community-choir/2027-01-27/
LOCATION:The Little Theatre
CATEGORIES:Clubs
ATTACH;FMTTYPE=image/jpeg:https://taumarunui.co.nz/wp-content/uploads/2025/02/IMG_0495.jpeg
END:VEVENT
BEGIN:VEVENT
DTSTART;TZID=Pacific/Auckland:20270203T190000
DTEND;TZID=Pacific/Auckland:20270203T210000
DTSTAMP:20260422T025828
CREATED:20250212T034742Z
LAST-MODIFIED:20250216T170453Z
UID:10011752-1801681200-1801688400@taumarunui.co.nz
SUMMARY:Taumarunui Community Choir
DESCRIPTION:Taumarunui Community Choir\n7pm Wednesday’s.\nCome have fun singing with others @ The Little Theatre \nThis term we are preparing a selection of Show tunes. New members are welcome. You don’t need to have any experience or be able to read music. Come have fun singing with others.
URL:https://taumarunui.co.nz/event/taumarunui-community-choir/2027-02-03/
LOCATION:The Little Theatre
CATEGORIES:Clubs
ATTACH;FMTTYPE=image/jpeg:https://taumarunui.co.nz/wp-content/uploads/2025/02/IMG_0495.jpeg
END:VEVENT
BEGIN:VEVENT
DTSTART;TZID=Pacific/Auckland:20270210T190000
DTEND;TZID=Pacific/Auckland:20270210T210000
DTSTAMP:20260422T025828
CREATED:20250212T034742Z
LAST-MODIFIED:20250216T170453Z
UID:10011753-1802286000-1802293200@taumarunui.co.nz
SUMMARY:Taumarunui Community Choir
DESCRIPTION:Taumarunui Community Choir\n7pm Wednesday’s.\nCome have fun singing with others @ The Little Theatre \nThis term we are preparing a selection of Show tunes. New members are welcome. You don’t need to have any experience or be able to read music. Come have fun singing with others.
URL:https://taumarunui.co.nz/event/taumarunui-community-choir/2027-02-10/
LOCATION:The Little Theatre
CATEGORIES:Clubs
ATTACH;FMTTYPE=image/jpeg:https://taumarunui.co.nz/wp-content/uploads/2025/02/IMG_0495.jpeg
END:VEVENT
BEGIN:VEVENT
DTSTART;TZID=Pacific/Auckland:20270217T190000
DTEND;TZID=Pacific/Auckland:20270217T210000
DTSTAMP:20260422T025828
CREATED:20250212T034742Z
LAST-MODIFIED:20250216T170453Z
UID:10011754-1802890800-1802898000@taumarunui.co.nz
SUMMARY:Taumarunui Community Choir
DESCRIPTION:Taumarunui Community Choir\n7pm Wednesday’s.\nCome have fun singing with others @ The Little Theatre \nThis term we are preparing a selection of Show tunes. New members are welcome. You don’t need to have any experience or be able to read music. Come have fun singing with others.
URL:https://taumarunui.co.nz/event/taumarunui-community-choir/2027-02-17/
LOCATION:The Little Theatre
CATEGORIES:Clubs
ATTACH;FMTTYPE=image/jpeg:https://taumarunui.co.nz/wp-content/uploads/2025/02/IMG_0495.jpeg
END:VEVENT
BEGIN:VEVENT
DTSTART;TZID=Pacific/Auckland:20270224T190000
DTEND;TZID=Pacific/Auckland:20270224T210000
DTSTAMP:20260422T025828
CREATED:20250212T034742Z
LAST-MODIFIED:20250216T170453Z
UID:10011755-1803495600-1803502800@taumarunui.co.nz
SUMMARY:Taumarunui Community Choir
DESCRIPTION:Taumarunui Community Choir\n7pm Wednesday’s.\nCome have fun singing with others @ The Little Theatre \nThis term we are preparing a selection of Show tunes. New members are welcome. You don’t need to have any experience or be able to read music. Come have fun singing with others.
URL:https://taumarunui.co.nz/event/taumarunui-community-choir/2027-02-24/
LOCATION:The Little Theatre
CATEGORIES:Clubs
ATTACH;FMTTYPE=image/jpeg:https://taumarunui.co.nz/wp-content/uploads/2025/02/IMG_0495.jpeg
END:VEVENT
BEGIN:VEVENT
DTSTART;TZID=Pacific/Auckland:20270303T190000
DTEND;TZID=Pacific/Auckland:20270303T210000
DTSTAMP:20260422T025828
CREATED:20250212T034742Z
LAST-MODIFIED:20250216T170453Z
UID:10011756-1804100400-1804107600@taumarunui.co.nz
SUMMARY:Taumarunui Community Choir
DESCRIPTION:Taumarunui Community Choir\n7pm Wednesday’s.\nCome have fun singing with others @ The Little Theatre \nThis term we are preparing a selection of Show tunes. New members are welcome. You don’t need to have any experience or be able to read music. Come have fun singing with others.
URL:https://taumarunui.co.nz/event/taumarunui-community-choir/2027-03-03/
LOCATION:The Little Theatre
CATEGORIES:Clubs
ATTACH;FMTTYPE=image/jpeg:https://taumarunui.co.nz/wp-content/uploads/2025/02/IMG_0495.jpeg
END:VEVENT
BEGIN:VEVENT
DTSTART;TZID=Pacific/Auckland:20270310T190000
DTEND;TZID=Pacific/Auckland:20270310T210000
DTSTAMP:20260422T025828
CREATED:20250212T034742Z
LAST-MODIFIED:20250216T170453Z
UID:10011757-1804705200-1804712400@taumarunui.co.nz
SUMMARY:Taumarunui Community Choir
DESCRIPTION:Taumarunui Community Choir\n7pm Wednesday’s.\nCome have fun singing with others @ The Little Theatre \nThis term we are preparing a selection of Show tunes. New members are welcome. You don’t need to have any experience or be able to read music. Come have fun singing with others.
URL:https://taumarunui.co.nz/event/taumarunui-community-choir/2027-03-10/
LOCATION:The Little Theatre
CATEGORIES:Clubs
ATTACH;FMTTYPE=image/jpeg:https://taumarunui.co.nz/wp-content/uploads/2025/02/IMG_0495.jpeg
END:VEVENT
BEGIN:VEVENT
DTSTART;TZID=Pacific/Auckland:20270317T190000
DTEND;TZID=Pacific/Auckland:20270317T210000
DTSTAMP:20260422T025828
CREATED:20250212T034742Z
LAST-MODIFIED:20250216T170453Z
UID:10011758-1805310000-1805317200@taumarunui.co.nz
SUMMARY:Taumarunui Community Choir
DESCRIPTION:Taumarunui Community Choir\n7pm Wednesday’s.\nCome have fun singing with others @ The Little Theatre \nThis term we are preparing a selection of Show tunes. New members are welcome. You don’t need to have any experience or be able to read music. Come have fun singing with others.
URL:https://taumarunui.co.nz/event/taumarunui-community-choir/2027-03-17/
LOCATION:The Little Theatre
CATEGORIES:Clubs
ATTACH;FMTTYPE=image/jpeg:https://taumarunui.co.nz/wp-content/uploads/2025/02/IMG_0495.jpeg
END:VEVENT
BEGIN:VEVENT
DTSTART;TZID=Pacific/Auckland:20270324T190000
DTEND;TZID=Pacific/Auckland:20270324T210000
DTSTAMP:20260422T025828
CREATED:20250212T034742Z
LAST-MODIFIED:20250216T170453Z
UID:10011759-1805914800-1805922000@taumarunui.co.nz
SUMMARY:Taumarunui Community Choir
DESCRIPTION:Taumarunui Community Choir\n7pm Wednesday’s.\nCome have fun singing with others @ The Little Theatre \nThis term we are preparing a selection of Show tunes. New members are welcome. You don’t need to have any experience or be able to read music. Come have fun singing with others.
URL:https://taumarunui.co.nz/event/taumarunui-community-choir/2027-03-24/
LOCATION:The Little Theatre
CATEGORIES:Clubs
ATTACH;FMTTYPE=image/jpeg:https://taumarunui.co.nz/wp-content/uploads/2025/02/IMG_0495.jpeg
END:VEVENT
BEGIN:VEVENT
DTSTART;TZID=Pacific/Auckland:20270331T190000
DTEND;TZID=Pacific/Auckland:20270331T210000
DTSTAMP:20260422T025828
CREATED:20250212T034742Z
LAST-MODIFIED:20250216T170453Z
UID:10011760-1806519600-1806526800@taumarunui.co.nz
SUMMARY:Taumarunui Community Choir
DESCRIPTION:Taumarunui Community Choir\n7pm Wednesday’s.\nCome have fun singing with others @ The Little Theatre \nThis term we are preparing a selection of Show tunes. New members are welcome. You don’t need to have any experience or be able to read music. Come have fun singing with others.
URL:https://taumarunui.co.nz/event/taumarunui-community-choir/2027-03-31/
LOCATION:The Little Theatre
CATEGORIES:Clubs
ATTACH;FMTTYPE=image/jpeg:https://taumarunui.co.nz/wp-content/uploads/2025/02/IMG_0495.jpeg
END:VEVENT
BEGIN:VEVENT
DTSTART;TZID=Pacific/Auckland:20270407T190000
DTEND;TZID=Pacific/Auckland:20270407T210000
DTSTAMP:20260422T025828
CREATED:20250212T034742Z
LAST-MODIFIED:20250216T170453Z
UID:10011761-1807124400-1807131600@taumarunui.co.nz
SUMMARY:Taumarunui Community Choir
DESCRIPTION:Taumarunui Community Choir\n7pm Wednesday’s.\nCome have fun singing with others @ The Little Theatre \nThis term we are preparing a selection of Show tunes. New members are welcome. You don’t need to have any experience or be able to read music. Come have fun singing with others.
URL:https://taumarunui.co.nz/event/taumarunui-community-choir/2027-04-07/
LOCATION:The Little Theatre
CATEGORIES:Clubs
ATTACH;FMTTYPE=image/jpeg:https://taumarunui.co.nz/wp-content/uploads/2025/02/IMG_0495.jpeg
END:VEVENT
BEGIN:VEVENT
DTSTART;TZID=Pacific/Auckland:20270414T190000
DTEND;TZID=Pacific/Auckland:20270414T210000
DTSTAMP:20260422T025828
CREATED:20250212T034742Z
LAST-MODIFIED:20250216T170453Z
UID:10011762-1807729200-1807736400@taumarunui.co.nz
SUMMARY:Taumarunui Community Choir
DESCRIPTION:Taumarunui Community Choir\n7pm Wednesday’s.\nCome have fun singing with others @ The Little Theatre \nThis term we are preparing a selection of Show tunes. New members are welcome. You don’t need to have any experience or be able to read music. Come have fun singing with others.
URL:https://taumarunui.co.nz/event/taumarunui-community-choir/2027-04-14/
LOCATION:The Little Theatre
CATEGORIES:Clubs
ATTACH;FMTTYPE=image/jpeg:https://taumarunui.co.nz/wp-content/uploads/2025/02/IMG_0495.jpeg
END:VEVENT
BEGIN:VEVENT
DTSTART;TZID=Pacific/Auckland:20270421T190000
DTEND;TZID=Pacific/Auckland:20270421T210000
DTSTAMP:20260422T025828
CREATED:20250212T034742Z
LAST-MODIFIED:20250216T170453Z
UID:10011763-1808334000-1808341200@taumarunui.co.nz
SUMMARY:Taumarunui Community Choir
DESCRIPTION:Taumarunui Community Choir\n7pm Wednesday’s.\nCome have fun singing with others @ The Little Theatre \nThis term we are preparing a selection of Show tunes. New members are welcome. You don’t need to have any experience or be able to read music. Come have fun singing with others.
URL:https://taumarunui.co.nz/event/taumarunui-community-choir/2027-04-21/
LOCATION:The Little Theatre
CATEGORIES:Clubs
ATTACH;FMTTYPE=image/jpeg:https://taumarunui.co.nz/wp-content/uploads/2025/02/IMG_0495.jpeg
END:VEVENT
BEGIN:VEVENT
DTSTART;TZID=Pacific/Auckland:20270428T190000
DTEND;TZID=Pacific/Auckland:20270428T210000
DTSTAMP:20260422T025828
CREATED:20250212T034742Z
LAST-MODIFIED:20250216T170453Z
UID:10011764-1808938800-1808946000@taumarunui.co.nz
SUMMARY:Taumarunui Community Choir
DESCRIPTION:Taumarunui Community Choir\n7pm Wednesday’s.\nCome have fun singing with others @ The Little Theatre \nThis term we are preparing a selection of Show tunes. New members are welcome. You don’t need to have any experience or be able to read music. Come have fun singing with others.
URL:https://taumarunui.co.nz/event/taumarunui-community-choir/2027-04-28/
LOCATION:The Little Theatre
CATEGORIES:Clubs
ATTACH;FMTTYPE=image/jpeg:https://taumarunui.co.nz/wp-content/uploads/2025/02/IMG_0495.jpeg
END:VEVENT
BEGIN:VEVENT
DTSTART;TZID=Pacific/Auckland:20270505T190000
DTEND;TZID=Pacific/Auckland:20270505T210000
DTSTAMP:20260422T025828
CREATED:20250212T034742Z
LAST-MODIFIED:20250216T170453Z
UID:10011765-1809543600-1809550800@taumarunui.co.nz
SUMMARY:Taumarunui Community Choir
DESCRIPTION:Taumarunui Community Choir\n7pm Wednesday’s.\nCome have fun singing with others @ The Little Theatre \nThis term we are preparing a selection of Show tunes. New members are welcome. You don’t need to have any experience or be able to read music. Come have fun singing with others.
URL:https://taumarunui.co.nz/event/taumarunui-community-choir/2027-05-05/
LOCATION:The Little Theatre
CATEGORIES:Clubs
ATTACH;FMTTYPE=image/jpeg:https://taumarunui.co.nz/wp-content/uploads/2025/02/IMG_0495.jpeg
END:VEVENT
BEGIN:VEVENT
DTSTART;TZID=Pacific/Auckland:20270512T190000
DTEND;TZID=Pacific/Auckland:20270512T210000
DTSTAMP:20260422T025828
CREATED:20250212T034742Z
LAST-MODIFIED:20250216T170453Z
UID:10011766-1810148400-1810155600@taumarunui.co.nz
SUMMARY:Taumarunui Community Choir
DESCRIPTION:Taumarunui Community Choir\n7pm Wednesday’s.\nCome have fun singing with others @ The Little Theatre \nThis term we are preparing a selection of Show tunes. New members are welcome. You don’t need to have any experience or be able to read music. Come have fun singing with others.
URL:https://taumarunui.co.nz/event/taumarunui-community-choir/2027-05-12/
LOCATION:The Little Theatre
CATEGORIES:Clubs
ATTACH;FMTTYPE=image/jpeg:https://taumarunui.co.nz/wp-content/uploads/2025/02/IMG_0495.jpeg
END:VEVENT
BEGIN:VEVENT
DTSTART;TZID=Pacific/Auckland:20270519T190000
DTEND;TZID=Pacific/Auckland:20270519T210000
DTSTAMP:20260422T025828
CREATED:20250212T034742Z
LAST-MODIFIED:20250216T170453Z
UID:10011767-1810753200-1810760400@taumarunui.co.nz
SUMMARY:Taumarunui Community Choir
DESCRIPTION:Taumarunui Community Choir\n7pm Wednesday’s.\nCome have fun singing with others @ The Little Theatre \nThis term we are preparing a selection of Show tunes. New members are welcome. You don’t need to have any experience or be able to read music. Come have fun singing with others.
URL:https://taumarunui.co.nz/event/taumarunui-community-choir/2027-05-19/
LOCATION:The Little Theatre
CATEGORIES:Clubs
ATTACH;FMTTYPE=image/jpeg:https://taumarunui.co.nz/wp-content/uploads/2025/02/IMG_0495.jpeg
END:VEVENT
BEGIN:VEVENT
DTSTART;TZID=Pacific/Auckland:20270526T190000
DTEND;TZID=Pacific/Auckland:20270526T210000
DTSTAMP:20260422T025828
CREATED:20250212T034742Z
LAST-MODIFIED:20250216T170453Z
UID:10011768-1811358000-1811365200@taumarunui.co.nz
SUMMARY:Taumarunui Community Choir
DESCRIPTION:Taumarunui Community Choir\n7pm Wednesday’s.\nCome have fun singing with others @ The Little Theatre \nThis term we are preparing a selection of Show tunes. New members are welcome. You don’t need to have any experience or be able to read music. Come have fun singing with others.
URL:https://taumarunui.co.nz/event/taumarunui-community-choir/2027-05-26/
LOCATION:The Little Theatre
CATEGORIES:Clubs
ATTACH;FMTTYPE=image/jpeg:https://taumarunui.co.nz/wp-content/uploads/2025/02/IMG_0495.jpeg
END:VEVENT
BEGIN:VEVENT
DTSTART;TZID=Pacific/Auckland:20270602T190000
DTEND;TZID=Pacific/Auckland:20270602T210000
DTSTAMP:20260422T025828
CREATED:20250212T034742Z
LAST-MODIFIED:20250216T170453Z
UID:10011769-1811962800-1811970000@taumarunui.co.nz
SUMMARY:Taumarunui Community Choir
DESCRIPTION:Taumarunui Community Choir\n7pm Wednesday’s.\nCome have fun singing with others @ The Little Theatre \nThis term we are preparing a selection of Show tunes. New members are welcome. You don’t need to have any experience or be able to read music. Come have fun singing with others.
URL:https://taumarunui.co.nz/event/taumarunui-community-choir/2027-06-02/
LOCATION:The Little Theatre
CATEGORIES:Clubs
ATTACH;FMTTYPE=image/jpeg:https://taumarunui.co.nz/wp-content/uploads/2025/02/IMG_0495.jpeg
END:VEVENT
BEGIN:VEVENT
DTSTART;TZID=Pacific/Auckland:20270609T190000
DTEND;TZID=Pacific/Auckland:20270609T210000
DTSTAMP:20260422T025828
CREATED:20250212T034742Z
LAST-MODIFIED:20250216T170453Z
UID:10011770-1812567600-1812574800@taumarunui.co.nz
SUMMARY:Taumarunui Community Choir
DESCRIPTION:Taumarunui Community Choir\n7pm Wednesday’s.\nCome have fun singing with others @ The Little Theatre \nThis term we are preparing a selection of Show tunes. New members are welcome. You don’t need to have any experience or be able to read music. Come have fun singing with others.
URL:https://taumarunui.co.nz/event/taumarunui-community-choir/2027-06-09/
LOCATION:The Little Theatre
CATEGORIES:Clubs
ATTACH;FMTTYPE=image/jpeg:https://taumarunui.co.nz/wp-content/uploads/2025/02/IMG_0495.jpeg
END:VEVENT
BEGIN:VEVENT
DTSTART;TZID=Pacific/Auckland:20270616T190000
DTEND;TZID=Pacific/Auckland:20270616T210000
DTSTAMP:20260422T025828
CREATED:20250212T034742Z
LAST-MODIFIED:20250216T170453Z
UID:10011771-1813172400-1813179600@taumarunui.co.nz
SUMMARY:Taumarunui Community Choir
DESCRIPTION:Taumarunui Community Choir\n7pm Wednesday’s.\nCome have fun singing with others @ The Little Theatre \nThis term we are preparing a selection of Show tunes. New members are welcome. You don’t need to have any experience or be able to read music. Come have fun singing with others.
URL:https://taumarunui.co.nz/event/taumarunui-community-choir/2027-06-16/
LOCATION:The Little Theatre
CATEGORIES:Clubs
ATTACH;FMTTYPE=image/jpeg:https://taumarunui.co.nz/wp-content/uploads/2025/02/IMG_0495.jpeg
END:VEVENT
BEGIN:VEVENT
DTSTART;TZID=Pacific/Auckland:20270623T190000
DTEND;TZID=Pacific/Auckland:20270623T210000
DTSTAMP:20260422T025828
CREATED:20250212T034742Z
LAST-MODIFIED:20250216T170453Z
UID:10011772-1813777200-1813784400@taumarunui.co.nz
SUMMARY:Taumarunui Community Choir
DESCRIPTION:Taumarunui Community Choir\n7pm Wednesday’s.\nCome have fun singing with others @ The Little Theatre \nThis term we are preparing a selection of Show tunes. New members are welcome. You don’t need to have any experience or be able to read music. Come have fun singing with others.
URL:https://taumarunui.co.nz/event/taumarunui-community-choir/2027-06-23/
LOCATION:The Little Theatre
CATEGORIES:Clubs
ATTACH;FMTTYPE=image/jpeg:https://taumarunui.co.nz/wp-content/uploads/2025/02/IMG_0495.jpeg
END:VEVENT
BEGIN:VEVENT
DTSTART;TZID=Pacific/Auckland:20270630T190000
DTEND;TZID=Pacific/Auckland:20270630T210000
DTSTAMP:20260422T025828
CREATED:20250212T034742Z
LAST-MODIFIED:20250216T170453Z
UID:10011773-1814382000-1814389200@taumarunui.co.nz
SUMMARY:Taumarunui Community Choir
DESCRIPTION:Taumarunui Community Choir\n7pm Wednesday’s.\nCome have fun singing with others @ The Little Theatre \nThis term we are preparing a selection of Show tunes. New members are welcome. You don’t need to have any experience or be able to read music. Come have fun singing with others.
URL:https://taumarunui.co.nz/event/taumarunui-community-choir/2027-06-30/
LOCATION:The Little Theatre
CATEGORIES:Clubs
ATTACH;FMTTYPE=image/jpeg:https://taumarunui.co.nz/wp-content/uploads/2025/02/IMG_0495.jpeg
END:VEVENT
BEGIN:VEVENT
DTSTART;TZID=Pacific/Auckland:20270707T190000
DTEND;TZID=Pacific/Auckland:20270707T210000
DTSTAMP:20260422T025828
CREATED:20250212T034742Z
LAST-MODIFIED:20250216T170453Z
UID:10011774-1814986800-1814994000@taumarunui.co.nz
SUMMARY:Taumarunui Community Choir
DESCRIPTION:Taumarunui Community Choir\n7pm Wednesday’s.\nCome have fun singing with others @ The Little Theatre \nThis term we are preparing a selection of Show tunes. New members are welcome. You don’t need to have any experience or be able to read music. Come have fun singing with others.
URL:https://taumarunui.co.nz/event/taumarunui-community-choir/2027-07-07/
LOCATION:The Little Theatre
CATEGORIES:Clubs
ATTACH;FMTTYPE=image/jpeg:https://taumarunui.co.nz/wp-content/uploads/2025/02/IMG_0495.jpeg
END:VEVENT
BEGIN:VEVENT
DTSTART;TZID=Pacific/Auckland:20270714T190000
DTEND;TZID=Pacific/Auckland:20270714T210000
DTSTAMP:20260422T025828
CREATED:20250212T034742Z
LAST-MODIFIED:20250216T170453Z
UID:10011775-1815591600-1815598800@taumarunui.co.nz
SUMMARY:Taumarunui Community Choir
DESCRIPTION:Taumarunui Community Choir\n7pm Wednesday’s.\nCome have fun singing with others @ The Little Theatre \nThis term we are preparing a selection of Show tunes. New members are welcome. You don’t need to have any experience or be able to read music. Come have fun singing with others.
URL:https://taumarunui.co.nz/event/taumarunui-community-choir/2027-07-14/
LOCATION:The Little Theatre
CATEGORIES:Clubs
ATTACH;FMTTYPE=image/jpeg:https://taumarunui.co.nz/wp-content/uploads/2025/02/IMG_0495.jpeg
END:VEVENT
BEGIN:VEVENT
DTSTART;TZID=Pacific/Auckland:20270721T190000
DTEND;TZID=Pacific/Auckland:20270721T210000
DTSTAMP:20260422T025828
CREATED:20250212T034742Z
LAST-MODIFIED:20250216T170453Z
UID:10011776-1816196400-1816203600@taumarunui.co.nz
SUMMARY:Taumarunui Community Choir
DESCRIPTION:Taumarunui Community Choir\n7pm Wednesday’s.\nCome have fun singing with others @ The Little Theatre \nThis term we are preparing a selection of Show tunes. New members are welcome. You don’t need to have any experience or be able to read music. Come have fun singing with others.
URL:https://taumarunui.co.nz/event/taumarunui-community-choir/2027-07-21/
LOCATION:The Little Theatre
CATEGORIES:Clubs
ATTACH;FMTTYPE=image/jpeg:https://taumarunui.co.nz/wp-content/uploads/2025/02/IMG_0495.jpeg
END:VEVENT
END:VCALENDAR