BEGIN:VCALENDAR
VERSION:2.0
PRODID:-//Taumarunui - ECPv6.15.20//NONSGML v1.0//EN
CALSCALE:GREGORIAN
METHOD:PUBLISH
X-ORIGINAL-URL:https://taumarunui.co.nz
X-WR-CALDESC:Events for Taumarunui
REFRESH-INTERVAL;VALUE=DURATION:PT1H
X-Robots-Tag:noindex
X-PUBLISHED-TTL:PT1H
BEGIN:VTIMEZONE
TZID:Pacific/Auckland
BEGIN:STANDARD
TZOFFSETFROM:+1300
TZOFFSETTO:+1200
TZNAME:NZST
DTSTART:20240406T140000
END:STANDARD
BEGIN:DAYLIGHT
TZOFFSETFROM:+1200
TZOFFSETTO:+1300
TZNAME:NZDT
DTSTART:20240928T140000
END:DAYLIGHT
BEGIN:STANDARD
TZOFFSETFROM:+1300
TZOFFSETTO:+1200
TZNAME:NZST
DTSTART:20250405T140000
END:STANDARD
BEGIN:DAYLIGHT
TZOFFSETFROM:+1200
TZOFFSETTO:+1300
TZNAME:NZDT
DTSTART:20250927T140000
END:DAYLIGHT
BEGIN:STANDARD
TZOFFSETFROM:+1300
TZOFFSETTO:+1200
TZNAME:NZST
DTSTART:20260404T140000
END:STANDARD
BEGIN:DAYLIGHT
TZOFFSETFROM:+1200
TZOFFSETTO:+1300
TZNAME:NZDT
DTSTART:20260926T140000
END:DAYLIGHT
END:VTIMEZONE
BEGIN:VEVENT
DTSTART;TZID=Pacific/Auckland:20251203T160000
DTEND;TZID=Pacific/Auckland:20251203T170000
DTSTAMP:20260423T152726
CREATED:20250216T165727Z
LAST-MODIFIED:20250216T170030Z
UID:10011951-1764777600-1764781200@taumarunui.co.nz
SUMMARY:Join the Choir
DESCRIPTION:If your children love to sing\, bring them along.
URL:https://taumarunui.co.nz/event/join-the-choir/2025-12-03/
LOCATION:The Little Theatre
CATEGORIES:Children,Clubs
ATTACH;FMTTYPE=image/jpeg:https://taumarunui.co.nz/wp-content/uploads/2025/02/IMG_0494.jpeg
END:VEVENT
BEGIN:VEVENT
DTSTART;TZID=Pacific/Auckland:20251128T190000
DTEND;TZID=Pacific/Auckland:20251206T210000
DTSTAMP:20260423T152726
CREATED:20251112T211258Z
LAST-MODIFIED:20251112T211258Z
UID:10012540-1764356400-1765054800@taumarunui.co.nz
SUMMARY:“The Pink Hammer”
DESCRIPTION:Grab your toolbelt and your sense of humor- The Pink Hammer is coming to Taumarunui! 🔨 💓\nPerforming Arts Taumarunui Inc. proudly presents Michele Amas’ hit comedy\, directed by local Tim Leahy.\nStarring 4 of our powerhouse leading ladies Brenda Ralph\, Katy Bolten\, Lizy Green and Kerrin Hickey\, plus newcomer Aston Leaning as the delightfully grumpy Woody. (More about them soon).\nThis play is smart\, funny\, and full of heart – a celebration of resilience\, friendship\, and finding strength where you least expect it.\n🔨 The Pink Hammer – you won’t want to miss this one!\n🗓 Onstage 28 November 2025 – 6 December 2025\n🎟 Tickets on sale NOW from iTicket at http://www.iticket.co.nz/events/2025/nov/pati-the-pink-hammer or from your local iSite – grab yours today!
URL:https://taumarunui.co.nz/event/the-pink-hammer/
LOCATION:The Little Theatre
ATTACH;FMTTYPE=image/jpeg:https://taumarunui.co.nz/wp-content/uploads/2025/11/IMG_2349.jpeg
END:VEVENT
BEGIN:VEVENT
DTSTART;TZID=Pacific/Auckland:20251126T190000
DTEND;TZID=Pacific/Auckland:20251126T210000
DTSTAMP:20260423T152726
CREATED:20250212T034742Z
LAST-MODIFIED:20250216T170453Z
UID:10011690-1764183600-1764190800@taumarunui.co.nz
SUMMARY:Taumarunui Community Choir
DESCRIPTION:Taumarunui Community Choir\n7pm Wednesday’s.\nCome have fun singing with others @ The Little Theatre \nThis term we are preparing a selection of Show tunes. New members are welcome. You don’t need to have any experience or be able to read music. Come have fun singing with others.
URL:https://taumarunui.co.nz/event/taumarunui-community-choir/2025-11-26/
LOCATION:The Little Theatre
CATEGORIES:Clubs
ATTACH;FMTTYPE=image/jpeg:https://taumarunui.co.nz/wp-content/uploads/2025/02/IMG_0495.jpeg
END:VEVENT
BEGIN:VEVENT
DTSTART;TZID=Pacific/Auckland:20251126T160000
DTEND;TZID=Pacific/Auckland:20251126T170000
DTSTAMP:20260423T152726
CREATED:20250216T165727Z
LAST-MODIFIED:20250216T170030Z
UID:10011950-1764172800-1764176400@taumarunui.co.nz
SUMMARY:Join the Choir
DESCRIPTION:If your children love to sing\, bring them along.
URL:https://taumarunui.co.nz/event/join-the-choir/2025-11-26/
LOCATION:The Little Theatre
CATEGORIES:Children,Clubs
ATTACH;FMTTYPE=image/jpeg:https://taumarunui.co.nz/wp-content/uploads/2025/02/IMG_0494.jpeg
END:VEVENT
BEGIN:VEVENT
DTSTART;TZID=Pacific/Auckland:20251122T100000
DTEND;TZID=Pacific/Auckland:20251122T150000
DTSTAMP:20260423T152726
CREATED:20251106T232100Z
LAST-MODIFIED:20251106T232100Z
UID:10012533-1763805600-1763823600@taumarunui.co.nz
SUMMARY:Directors Workshop
DESCRIPTION:Step into the Directors chair!\nEver watched a show and thought ‘I’d love to give that a go!”? Now’s your chance!\nJoin us at The Little Theatre on Saturday 22 November\, 10am – 3pm\, for a fun\, hands on Directors Workshop led by John Drummond – a familiar face to many in Taumarunui’s theatre scene. John has directed a number of shows here over the years and many\, many more around the motu; and brings with him a wealth of experience\, and a real love for performing arts.\nWhether you’re brand new to directing or a seasoned stage wrangler\, you’ll pick up great tips\, share ideas\, and maybe even spark your next big production. \n💰 $20 per person\n🥪 Lunch (and laughs) will be provided\n🎭 No experience needed – just curiosity\, creativity\, and a love of theatre!\nSpots are limited\, so grab yours today by emailing info@pati.co.nz and come play director for the day!
URL:https://taumarunui.co.nz/event/directors-workshop/
LOCATION:The Little Theatre
ATTACH;FMTTYPE=image/jpeg:https://taumarunui.co.nz/wp-content/uploads/2025/11/IMG_2325.jpeg
END:VEVENT
BEGIN:VEVENT
DTSTART;TZID=Pacific/Auckland:20251119T190000
DTEND;TZID=Pacific/Auckland:20251119T210000
DTSTAMP:20260423T152726
CREATED:20250212T034742Z
LAST-MODIFIED:20250216T170453Z
UID:10011689-1763578800-1763586000@taumarunui.co.nz
SUMMARY:Taumarunui Community Choir
DESCRIPTION:Taumarunui Community Choir\n7pm Wednesday’s.\nCome have fun singing with others @ The Little Theatre \nThis term we are preparing a selection of Show tunes. New members are welcome. You don’t need to have any experience or be able to read music. Come have fun singing with others.
URL:https://taumarunui.co.nz/event/taumarunui-community-choir/2025-11-19/
LOCATION:The Little Theatre
CATEGORIES:Clubs
ATTACH;FMTTYPE=image/jpeg:https://taumarunui.co.nz/wp-content/uploads/2025/02/IMG_0495.jpeg
END:VEVENT
BEGIN:VEVENT
DTSTART;TZID=Pacific/Auckland:20251119T160000
DTEND;TZID=Pacific/Auckland:20251119T170000
DTSTAMP:20260423T152726
CREATED:20250216T165727Z
LAST-MODIFIED:20250216T170030Z
UID:10011949-1763568000-1763571600@taumarunui.co.nz
SUMMARY:Join the Choir
DESCRIPTION:If your children love to sing\, bring them along.
URL:https://taumarunui.co.nz/event/join-the-choir/2025-11-19/
LOCATION:The Little Theatre
CATEGORIES:Children,Clubs
ATTACH;FMTTYPE=image/jpeg:https://taumarunui.co.nz/wp-content/uploads/2025/02/IMG_0494.jpeg
END:VEVENT
BEGIN:VEVENT
DTSTART;TZID=Pacific/Auckland:20251112T190000
DTEND;TZID=Pacific/Auckland:20251112T210000
DTSTAMP:20260423T152726
CREATED:20250212T034742Z
LAST-MODIFIED:20250216T170453Z
UID:10011688-1762974000-1762981200@taumarunui.co.nz
SUMMARY:Taumarunui Community Choir
DESCRIPTION:Taumarunui Community Choir\n7pm Wednesday’s.\nCome have fun singing with others @ The Little Theatre \nThis term we are preparing a selection of Show tunes. New members are welcome. You don’t need to have any experience or be able to read music. Come have fun singing with others.
URL:https://taumarunui.co.nz/event/taumarunui-community-choir/2025-11-12/
LOCATION:The Little Theatre
CATEGORIES:Clubs
ATTACH;FMTTYPE=image/jpeg:https://taumarunui.co.nz/wp-content/uploads/2025/02/IMG_0495.jpeg
END:VEVENT
BEGIN:VEVENT
DTSTART;TZID=Pacific/Auckland:20251112T160000
DTEND;TZID=Pacific/Auckland:20251112T170000
DTSTAMP:20260423T152726
CREATED:20250216T165727Z
LAST-MODIFIED:20250216T170030Z
UID:10011948-1762963200-1762966800@taumarunui.co.nz
SUMMARY:Join the Choir
DESCRIPTION:If your children love to sing\, bring them along.
URL:https://taumarunui.co.nz/event/join-the-choir/2025-11-12/
LOCATION:The Little Theatre
CATEGORIES:Children,Clubs
ATTACH;FMTTYPE=image/jpeg:https://taumarunui.co.nz/wp-content/uploads/2025/02/IMG_0494.jpeg
END:VEVENT
BEGIN:VEVENT
DTSTART;TZID=Pacific/Auckland:20251105T190000
DTEND;TZID=Pacific/Auckland:20251105T210000
DTSTAMP:20260423T152726
CREATED:20250212T034742Z
LAST-MODIFIED:20250216T170453Z
UID:10011687-1762369200-1762376400@taumarunui.co.nz
SUMMARY:Taumarunui Community Choir
DESCRIPTION:Taumarunui Community Choir\n7pm Wednesday’s.\nCome have fun singing with others @ The Little Theatre \nThis term we are preparing a selection of Show tunes. New members are welcome. You don’t need to have any experience or be able to read music. Come have fun singing with others.
URL:https://taumarunui.co.nz/event/taumarunui-community-choir/2025-11-05/
LOCATION:The Little Theatre
CATEGORIES:Clubs
ATTACH;FMTTYPE=image/jpeg:https://taumarunui.co.nz/wp-content/uploads/2025/02/IMG_0495.jpeg
END:VEVENT
BEGIN:VEVENT
DTSTART;TZID=Pacific/Auckland:20251105T160000
DTEND;TZID=Pacific/Auckland:20251105T170000
DTSTAMP:20260423T152726
CREATED:20250216T165727Z
LAST-MODIFIED:20250216T170030Z
UID:10011947-1762358400-1762362000@taumarunui.co.nz
SUMMARY:Join the Choir
DESCRIPTION:If your children love to sing\, bring them along.
URL:https://taumarunui.co.nz/event/join-the-choir/2025-11-05/
LOCATION:The Little Theatre
CATEGORIES:Children,Clubs
ATTACH;FMTTYPE=image/jpeg:https://taumarunui.co.nz/wp-content/uploads/2025/02/IMG_0494.jpeg
END:VEVENT
BEGIN:VEVENT
DTSTART;TZID=Pacific/Auckland:20251029T190000
DTEND;TZID=Pacific/Auckland:20251029T210000
DTSTAMP:20260423T152726
CREATED:20250212T034742Z
LAST-MODIFIED:20250216T170453Z
UID:10011686-1761764400-1761771600@taumarunui.co.nz
SUMMARY:Taumarunui Community Choir
DESCRIPTION:Taumarunui Community Choir\n7pm Wednesday’s.\nCome have fun singing with others @ The Little Theatre \nThis term we are preparing a selection of Show tunes. New members are welcome. You don’t need to have any experience or be able to read music. Come have fun singing with others.
URL:https://taumarunui.co.nz/event/taumarunui-community-choir/2025-10-29/
LOCATION:The Little Theatre
CATEGORIES:Clubs
ATTACH;FMTTYPE=image/jpeg:https://taumarunui.co.nz/wp-content/uploads/2025/02/IMG_0495.jpeg
END:VEVENT
BEGIN:VEVENT
DTSTART;TZID=Pacific/Auckland:20251029T160000
DTEND;TZID=Pacific/Auckland:20251029T170000
DTSTAMP:20260423T152726
CREATED:20250216T165727Z
LAST-MODIFIED:20250216T170030Z
UID:10011946-1761753600-1761757200@taumarunui.co.nz
SUMMARY:Join the Choir
DESCRIPTION:If your children love to sing\, bring them along.
URL:https://taumarunui.co.nz/event/join-the-choir/2025-10-29/
LOCATION:The Little Theatre
CATEGORIES:Children,Clubs
ATTACH;FMTTYPE=image/jpeg:https://taumarunui.co.nz/wp-content/uploads/2025/02/IMG_0494.jpeg
END:VEVENT
BEGIN:VEVENT
DTSTART;TZID=Pacific/Auckland:20251022T190000
DTEND;TZID=Pacific/Auckland:20251022T210000
DTSTAMP:20260423T152726
CREATED:20250212T034742Z
LAST-MODIFIED:20250216T170453Z
UID:10011685-1761159600-1761166800@taumarunui.co.nz
SUMMARY:Taumarunui Community Choir
DESCRIPTION:Taumarunui Community Choir\n7pm Wednesday’s.\nCome have fun singing with others @ The Little Theatre \nThis term we are preparing a selection of Show tunes. New members are welcome. You don’t need to have any experience or be able to read music. Come have fun singing with others.
URL:https://taumarunui.co.nz/event/taumarunui-community-choir/2025-10-22/
LOCATION:The Little Theatre
CATEGORIES:Clubs
ATTACH;FMTTYPE=image/jpeg:https://taumarunui.co.nz/wp-content/uploads/2025/02/IMG_0495.jpeg
END:VEVENT
BEGIN:VEVENT
DTSTART;TZID=Pacific/Auckland:20251022T160000
DTEND;TZID=Pacific/Auckland:20251022T170000
DTSTAMP:20260423T152726
CREATED:20250216T165727Z
LAST-MODIFIED:20250216T170030Z
UID:10011945-1761148800-1761152400@taumarunui.co.nz
SUMMARY:Join the Choir
DESCRIPTION:If your children love to sing\, bring them along.
URL:https://taumarunui.co.nz/event/join-the-choir/2025-10-22/
LOCATION:The Little Theatre
CATEGORIES:Children,Clubs
ATTACH;FMTTYPE=image/jpeg:https://taumarunui.co.nz/wp-content/uploads/2025/02/IMG_0494.jpeg
END:VEVENT
BEGIN:VEVENT
DTSTART;TZID=Pacific/Auckland:20251015T190000
DTEND;TZID=Pacific/Auckland:20251015T210000
DTSTAMP:20260423T152726
CREATED:20250212T034742Z
LAST-MODIFIED:20250216T170453Z
UID:10011684-1760554800-1760562000@taumarunui.co.nz
SUMMARY:Taumarunui Community Choir
DESCRIPTION:Taumarunui Community Choir\n7pm Wednesday’s.\nCome have fun singing with others @ The Little Theatre \nThis term we are preparing a selection of Show tunes. New members are welcome. You don’t need to have any experience or be able to read music. Come have fun singing with others.
URL:https://taumarunui.co.nz/event/taumarunui-community-choir/2025-10-15/
LOCATION:The Little Theatre
CATEGORIES:Clubs
ATTACH;FMTTYPE=image/jpeg:https://taumarunui.co.nz/wp-content/uploads/2025/02/IMG_0495.jpeg
END:VEVENT
BEGIN:VEVENT
DTSTART;TZID=Pacific/Auckland:20251015T160000
DTEND;TZID=Pacific/Auckland:20251015T170000
DTSTAMP:20260423T152726
CREATED:20250216T165727Z
LAST-MODIFIED:20250216T170030Z
UID:10011944-1760544000-1760547600@taumarunui.co.nz
SUMMARY:Join the Choir
DESCRIPTION:If your children love to sing\, bring them along.
URL:https://taumarunui.co.nz/event/join-the-choir/2025-10-15/
LOCATION:The Little Theatre
CATEGORIES:Children,Clubs
ATTACH;FMTTYPE=image/jpeg:https://taumarunui.co.nz/wp-content/uploads/2025/02/IMG_0494.jpeg
END:VEVENT
BEGIN:VEVENT
DTSTART;TZID=Pacific/Auckland:20251008T190000
DTEND;TZID=Pacific/Auckland:20251008T210000
DTSTAMP:20260423T152726
CREATED:20250212T034742Z
LAST-MODIFIED:20250216T170453Z
UID:10011683-1759950000-1759957200@taumarunui.co.nz
SUMMARY:Taumarunui Community Choir
DESCRIPTION:Taumarunui Community Choir\n7pm Wednesday’s.\nCome have fun singing with others @ The Little Theatre \nThis term we are preparing a selection of Show tunes. New members are welcome. You don’t need to have any experience or be able to read music. Come have fun singing with others.
URL:https://taumarunui.co.nz/event/taumarunui-community-choir/2025-10-08/
LOCATION:The Little Theatre
CATEGORIES:Clubs
ATTACH;FMTTYPE=image/jpeg:https://taumarunui.co.nz/wp-content/uploads/2025/02/IMG_0495.jpeg
END:VEVENT
BEGIN:VEVENT
DTSTART;TZID=Pacific/Auckland:20251008T160000
DTEND;TZID=Pacific/Auckland:20251008T170000
DTSTAMP:20260423T152726
CREATED:20250216T165727Z
LAST-MODIFIED:20250216T170030Z
UID:10011943-1759939200-1759942800@taumarunui.co.nz
SUMMARY:Join the Choir
DESCRIPTION:If your children love to sing\, bring them along.
URL:https://taumarunui.co.nz/event/join-the-choir/2025-10-08/
LOCATION:The Little Theatre
CATEGORIES:Children,Clubs
ATTACH;FMTTYPE=image/jpeg:https://taumarunui.co.nz/wp-content/uploads/2025/02/IMG_0494.jpeg
END:VEVENT
BEGIN:VEVENT
DTSTART;TZID=Pacific/Auckland:20251001T190000
DTEND;TZID=Pacific/Auckland:20251001T210000
DTSTAMP:20260423T152726
CREATED:20250212T034742Z
LAST-MODIFIED:20250216T170453Z
UID:10011682-1759345200-1759352400@taumarunui.co.nz
SUMMARY:Taumarunui Community Choir
DESCRIPTION:Taumarunui Community Choir\n7pm Wednesday’s.\nCome have fun singing with others @ The Little Theatre \nThis term we are preparing a selection of Show tunes. New members are welcome. You don’t need to have any experience or be able to read music. Come have fun singing with others.
URL:https://taumarunui.co.nz/event/taumarunui-community-choir/2025-10-01/
LOCATION:The Little Theatre
CATEGORIES:Clubs
ATTACH;FMTTYPE=image/jpeg:https://taumarunui.co.nz/wp-content/uploads/2025/02/IMG_0495.jpeg
END:VEVENT
BEGIN:VEVENT
DTSTART;TZID=Pacific/Auckland:20251001T160000
DTEND;TZID=Pacific/Auckland:20251001T170000
DTSTAMP:20260423T152726
CREATED:20250216T165727Z
LAST-MODIFIED:20250216T170030Z
UID:10011942-1759334400-1759338000@taumarunui.co.nz
SUMMARY:Join the Choir
DESCRIPTION:If your children love to sing\, bring them along.
URL:https://taumarunui.co.nz/event/join-the-choir/2025-10-01/
LOCATION:The Little Theatre
CATEGORIES:Children,Clubs
ATTACH;FMTTYPE=image/jpeg:https://taumarunui.co.nz/wp-content/uploads/2025/02/IMG_0494.jpeg
END:VEVENT
BEGIN:VEVENT
DTSTART;TZID=Pacific/Auckland:20250924T190000
DTEND;TZID=Pacific/Auckland:20250924T210000
DTSTAMP:20260423T152726
CREATED:20250212T034742Z
LAST-MODIFIED:20250216T170453Z
UID:10011681-1758740400-1758747600@taumarunui.co.nz
SUMMARY:Taumarunui Community Choir
DESCRIPTION:Taumarunui Community Choir\n7pm Wednesday’s.\nCome have fun singing with others @ The Little Theatre \nThis term we are preparing a selection of Show tunes. New members are welcome. You don’t need to have any experience or be able to read music. Come have fun singing with others.
URL:https://taumarunui.co.nz/event/taumarunui-community-choir/2025-09-24/
LOCATION:The Little Theatre
CATEGORIES:Clubs
ATTACH;FMTTYPE=image/jpeg:https://taumarunui.co.nz/wp-content/uploads/2025/02/IMG_0495.jpeg
END:VEVENT
BEGIN:VEVENT
DTSTART;TZID=Pacific/Auckland:20250924T160000
DTEND;TZID=Pacific/Auckland:20250924T170000
DTSTAMP:20260423T152726
CREATED:20250216T165727Z
LAST-MODIFIED:20250216T170030Z
UID:10011941-1758729600-1758733200@taumarunui.co.nz
SUMMARY:Join the Choir
DESCRIPTION:If your children love to sing\, bring them along.
URL:https://taumarunui.co.nz/event/join-the-choir/2025-09-24/
LOCATION:The Little Theatre
CATEGORIES:Children,Clubs
ATTACH;FMTTYPE=image/jpeg:https://taumarunui.co.nz/wp-content/uploads/2025/02/IMG_0494.jpeg
END:VEVENT
BEGIN:VEVENT
DTSTART;TZID=Pacific/Auckland:20250917T190000
DTEND;TZID=Pacific/Auckland:20250917T210000
DTSTAMP:20260423T152726
CREATED:20250212T034742Z
LAST-MODIFIED:20250216T170453Z
UID:10011680-1758135600-1758142800@taumarunui.co.nz
SUMMARY:Taumarunui Community Choir
DESCRIPTION:Taumarunui Community Choir\n7pm Wednesday’s.\nCome have fun singing with others @ The Little Theatre \nThis term we are preparing a selection of Show tunes. New members are welcome. You don’t need to have any experience or be able to read music. Come have fun singing with others.
URL:https://taumarunui.co.nz/event/taumarunui-community-choir/2025-09-17/
LOCATION:The Little Theatre
CATEGORIES:Clubs
ATTACH;FMTTYPE=image/jpeg:https://taumarunui.co.nz/wp-content/uploads/2025/02/IMG_0495.jpeg
END:VEVENT
BEGIN:VEVENT
DTSTART;TZID=Pacific/Auckland:20250917T160000
DTEND;TZID=Pacific/Auckland:20250917T170000
DTSTAMP:20260423T152726
CREATED:20250216T165727Z
LAST-MODIFIED:20250216T170030Z
UID:10011940-1758124800-1758128400@taumarunui.co.nz
SUMMARY:Join the Choir
DESCRIPTION:If your children love to sing\, bring them along.
URL:https://taumarunui.co.nz/event/join-the-choir/2025-09-17/
LOCATION:The Little Theatre
CATEGORIES:Children,Clubs
ATTACH;FMTTYPE=image/jpeg:https://taumarunui.co.nz/wp-content/uploads/2025/02/IMG_0494.jpeg
END:VEVENT
BEGIN:VEVENT
DTSTART;TZID=Pacific/Auckland:20250910T190000
DTEND;TZID=Pacific/Auckland:20250910T210000
DTSTAMP:20260423T152726
CREATED:20250212T034742Z
LAST-MODIFIED:20250216T170453Z
UID:10011679-1757530800-1757538000@taumarunui.co.nz
SUMMARY:Taumarunui Community Choir
DESCRIPTION:Taumarunui Community Choir\n7pm Wednesday’s.\nCome have fun singing with others @ The Little Theatre \nThis term we are preparing a selection of Show tunes. New members are welcome. You don’t need to have any experience or be able to read music. Come have fun singing with others.
URL:https://taumarunui.co.nz/event/taumarunui-community-choir/2025-09-10/
LOCATION:The Little Theatre
CATEGORIES:Clubs
ATTACH;FMTTYPE=image/jpeg:https://taumarunui.co.nz/wp-content/uploads/2025/02/IMG_0495.jpeg
END:VEVENT
BEGIN:VEVENT
DTSTART;TZID=Pacific/Auckland:20250910T160000
DTEND;TZID=Pacific/Auckland:20250910T170000
DTSTAMP:20260423T152726
CREATED:20250216T165727Z
LAST-MODIFIED:20250216T170030Z
UID:10011939-1757520000-1757523600@taumarunui.co.nz
SUMMARY:Join the Choir
DESCRIPTION:If your children love to sing\, bring them along.
URL:https://taumarunui.co.nz/event/join-the-choir/2025-09-10/
LOCATION:The Little Theatre
CATEGORIES:Children,Clubs
ATTACH;FMTTYPE=image/jpeg:https://taumarunui.co.nz/wp-content/uploads/2025/02/IMG_0494.jpeg
END:VEVENT
BEGIN:VEVENT
DTSTART;TZID=Pacific/Auckland:20250903T190000
DTEND;TZID=Pacific/Auckland:20250903T210000
DTSTAMP:20260423T152726
CREATED:20250212T034742Z
LAST-MODIFIED:20250216T170453Z
UID:10011678-1756926000-1756933200@taumarunui.co.nz
SUMMARY:Taumarunui Community Choir
DESCRIPTION:Taumarunui Community Choir\n7pm Wednesday’s.\nCome have fun singing with others @ The Little Theatre \nThis term we are preparing a selection of Show tunes. New members are welcome. You don’t need to have any experience or be able to read music. Come have fun singing with others.
URL:https://taumarunui.co.nz/event/taumarunui-community-choir/2025-09-03/
LOCATION:The Little Theatre
CATEGORIES:Clubs
ATTACH;FMTTYPE=image/jpeg:https://taumarunui.co.nz/wp-content/uploads/2025/02/IMG_0495.jpeg
END:VEVENT
BEGIN:VEVENT
DTSTART;TZID=Pacific/Auckland:20250903T160000
DTEND;TZID=Pacific/Auckland:20250903T170000
DTSTAMP:20260423T152726
CREATED:20250216T165727Z
LAST-MODIFIED:20250216T170030Z
UID:10011938-1756915200-1756918800@taumarunui.co.nz
SUMMARY:Join the Choir
DESCRIPTION:If your children love to sing\, bring them along.
URL:https://taumarunui.co.nz/event/join-the-choir/2025-09-03/
LOCATION:The Little Theatre
CATEGORIES:Children,Clubs
ATTACH;FMTTYPE=image/jpeg:https://taumarunui.co.nz/wp-content/uploads/2025/02/IMG_0494.jpeg
END:VEVENT
BEGIN:VEVENT
DTSTART;TZID=Pacific/Auckland:20250827T190000
DTEND;TZID=Pacific/Auckland:20250827T210000
DTSTAMP:20260423T152726
CREATED:20250212T034742Z
LAST-MODIFIED:20250216T170453Z
UID:10011677-1756321200-1756328400@taumarunui.co.nz
SUMMARY:Taumarunui Community Choir
DESCRIPTION:Taumarunui Community Choir\n7pm Wednesday’s.\nCome have fun singing with others @ The Little Theatre \nThis term we are preparing a selection of Show tunes. New members are welcome. You don’t need to have any experience or be able to read music. Come have fun singing with others.
URL:https://taumarunui.co.nz/event/taumarunui-community-choir/2025-08-27/
LOCATION:The Little Theatre
CATEGORIES:Clubs
ATTACH;FMTTYPE=image/jpeg:https://taumarunui.co.nz/wp-content/uploads/2025/02/IMG_0495.jpeg
END:VEVENT
END:VCALENDAR