BEGIN:VCALENDAR
VERSION:2.0
PRODID:-//Taumarunui - ECPv6.15.20//NONSGML v1.0//EN
CALSCALE:GREGORIAN
METHOD:PUBLISH
X-ORIGINAL-URL:https://taumarunui.co.nz
X-WR-CALDESC:Events for Taumarunui
REFRESH-INTERVAL;VALUE=DURATION:PT1H
X-Robots-Tag:noindex
X-PUBLISHED-TTL:PT1H
BEGIN:VTIMEZONE
TZID:Pacific/Auckland
BEGIN:STANDARD
TZOFFSETFROM:+1300
TZOFFSETTO:+1200
TZNAME:NZST
DTSTART:20240406T140000
END:STANDARD
BEGIN:DAYLIGHT
TZOFFSETFROM:+1200
TZOFFSETTO:+1300
TZNAME:NZDT
DTSTART:20240928T140000
END:DAYLIGHT
BEGIN:STANDARD
TZOFFSETFROM:+1300
TZOFFSETTO:+1200
TZNAME:NZST
DTSTART:20250405T140000
END:STANDARD
BEGIN:DAYLIGHT
TZOFFSETFROM:+1200
TZOFFSETTO:+1300
TZNAME:NZDT
DTSTART:20250927T140000
END:DAYLIGHT
BEGIN:STANDARD
TZOFFSETFROM:+1300
TZOFFSETTO:+1200
TZNAME:NZST
DTSTART:20260404T140000
END:STANDARD
BEGIN:DAYLIGHT
TZOFFSETFROM:+1200
TZOFFSETTO:+1300
TZNAME:NZDT
DTSTART:20260926T140000
END:DAYLIGHT
BEGIN:STANDARD
TZOFFSETFROM:+1300
TZOFFSETTO:+1200
TZNAME:NZST
DTSTART:20270403T140000
END:STANDARD
BEGIN:DAYLIGHT
TZOFFSETFROM:+1200
TZOFFSETTO:+1300
TZNAME:NZDT
DTSTART:20270925T140000
END:DAYLIGHT
END:VTIMEZONE
BEGIN:VEVENT
DTSTART;TZID=Pacific/Auckland:20260424T103000
DTEND;TZID=Pacific/Auckland:20260424T143000
DTSTAMP:20260426T152002
CREATED:20241108T003031Z
LAST-MODIFIED:20241108T003031Z
UID:10008819-1777026600-1777041000@taumarunui.co.nz
SUMMARY:Taumarunui Mixed Make Time Play 9
DESCRIPTION:
URL:https://taumarunui.co.nz/event/taumarunui-mixed-make-time-play-9/2026-04-24/
LOCATION:Taumarunui Golf Club\, 165 Golf Road\, Taumarunui\, New Zealand
CATEGORIES:Clubs,Sport
ATTACH;FMTTYPE=image/jpeg:https://taumarunui.co.nz/wp-content/uploads/2024/11/IMG_8283.jpeg
END:VEVENT
BEGIN:VEVENT
DTSTART;TZID=Pacific/Auckland:20260417T103000
DTEND;TZID=Pacific/Auckland:20260417T143000
DTSTAMP:20260426T152002
CREATED:20241108T003031Z
LAST-MODIFIED:20241108T003031Z
UID:10008818-1776421800-1776436200@taumarunui.co.nz
SUMMARY:Taumarunui Mixed Make Time Play 9
DESCRIPTION:
URL:https://taumarunui.co.nz/event/taumarunui-mixed-make-time-play-9/2026-04-17/
LOCATION:Taumarunui Golf Club\, 165 Golf Road\, Taumarunui\, New Zealand
CATEGORIES:Clubs,Sport
ATTACH;FMTTYPE=image/jpeg:https://taumarunui.co.nz/wp-content/uploads/2024/11/IMG_8283.jpeg
END:VEVENT
BEGIN:VEVENT
DTSTART;TZID=Pacific/Auckland:20260410T103000
DTEND;TZID=Pacific/Auckland:20260410T143000
DTSTAMP:20260426T152002
CREATED:20241108T003031Z
LAST-MODIFIED:20241108T003031Z
UID:10008817-1775817000-1775831400@taumarunui.co.nz
SUMMARY:Taumarunui Mixed Make Time Play 9
DESCRIPTION:
URL:https://taumarunui.co.nz/event/taumarunui-mixed-make-time-play-9/2026-04-10/
LOCATION:Taumarunui Golf Club\, 165 Golf Road\, Taumarunui\, New Zealand
CATEGORIES:Clubs,Sport
ATTACH;FMTTYPE=image/jpeg:https://taumarunui.co.nz/wp-content/uploads/2024/11/IMG_8283.jpeg
END:VEVENT
BEGIN:VEVENT
DTSTART;TZID=Pacific/Auckland:20260403T103000
DTEND;TZID=Pacific/Auckland:20260403T143000
DTSTAMP:20260426T152002
CREATED:20241108T003031Z
LAST-MODIFIED:20241108T003031Z
UID:10008816-1775212200-1775226600@taumarunui.co.nz
SUMMARY:Taumarunui Mixed Make Time Play 9
DESCRIPTION:
URL:https://taumarunui.co.nz/event/taumarunui-mixed-make-time-play-9/2026-04-03/
LOCATION:Taumarunui Golf Club\, 165 Golf Road\, Taumarunui\, New Zealand
CATEGORIES:Clubs,Sport
ATTACH;FMTTYPE=image/jpeg:https://taumarunui.co.nz/wp-content/uploads/2024/11/IMG_8283.jpeg
END:VEVENT
BEGIN:VEVENT
DTSTART;TZID=Pacific/Auckland:20260327T103000
DTEND;TZID=Pacific/Auckland:20260327T143000
DTSTAMP:20260426T152002
CREATED:20241108T003031Z
LAST-MODIFIED:20241108T003031Z
UID:10008815-1774607400-1774621800@taumarunui.co.nz
SUMMARY:Taumarunui Mixed Make Time Play 9
DESCRIPTION:
URL:https://taumarunui.co.nz/event/taumarunui-mixed-make-time-play-9/2026-03-27/
LOCATION:Taumarunui Golf Club\, 165 Golf Road\, Taumarunui\, New Zealand
CATEGORIES:Clubs,Sport
ATTACH;FMTTYPE=image/jpeg:https://taumarunui.co.nz/wp-content/uploads/2024/11/IMG_8283.jpeg
END:VEVENT
BEGIN:VEVENT
DTSTART;TZID=Pacific/Auckland:20260320T103000
DTEND;TZID=Pacific/Auckland:20260320T143000
DTSTAMP:20260426T152002
CREATED:20241108T003031Z
LAST-MODIFIED:20241108T003031Z
UID:10008814-1774002600-1774017000@taumarunui.co.nz
SUMMARY:Taumarunui Mixed Make Time Play 9
DESCRIPTION:
URL:https://taumarunui.co.nz/event/taumarunui-mixed-make-time-play-9/2026-03-20/
LOCATION:Taumarunui Golf Club\, 165 Golf Road\, Taumarunui\, New Zealand
CATEGORIES:Clubs,Sport
ATTACH;FMTTYPE=image/jpeg:https://taumarunui.co.nz/wp-content/uploads/2024/11/IMG_8283.jpeg
END:VEVENT
BEGIN:VEVENT
DTSTART;TZID=Pacific/Auckland:20260313T103000
DTEND;TZID=Pacific/Auckland:20260313T143000
DTSTAMP:20260426T152002
CREATED:20241108T003031Z
LAST-MODIFIED:20241108T003031Z
UID:10008813-1773397800-1773412200@taumarunui.co.nz
SUMMARY:Taumarunui Mixed Make Time Play 9
DESCRIPTION:
URL:https://taumarunui.co.nz/event/taumarunui-mixed-make-time-play-9/2026-03-13/
LOCATION:Taumarunui Golf Club\, 165 Golf Road\, Taumarunui\, New Zealand
CATEGORIES:Clubs,Sport
ATTACH;FMTTYPE=image/jpeg:https://taumarunui.co.nz/wp-content/uploads/2024/11/IMG_8283.jpeg
END:VEVENT
BEGIN:VEVENT
DTSTART;TZID=Pacific/Auckland:20260306T103000
DTEND;TZID=Pacific/Auckland:20260306T143000
DTSTAMP:20260426T152002
CREATED:20241108T003031Z
LAST-MODIFIED:20241108T003031Z
UID:10008812-1772793000-1772807400@taumarunui.co.nz
SUMMARY:Taumarunui Mixed Make Time Play 9
DESCRIPTION:
URL:https://taumarunui.co.nz/event/taumarunui-mixed-make-time-play-9/2026-03-06/
LOCATION:Taumarunui Golf Club\, 165 Golf Road\, Taumarunui\, New Zealand
CATEGORIES:Clubs,Sport
ATTACH;FMTTYPE=image/jpeg:https://taumarunui.co.nz/wp-content/uploads/2024/11/IMG_8283.jpeg
END:VEVENT
BEGIN:VEVENT
DTSTART;TZID=Pacific/Auckland:20260227T103000
DTEND;TZID=Pacific/Auckland:20260227T143000
DTSTAMP:20260426T152002
CREATED:20241108T003031Z
LAST-MODIFIED:20241108T003031Z
UID:10008811-1772188200-1772202600@taumarunui.co.nz
SUMMARY:Taumarunui Mixed Make Time Play 9
DESCRIPTION:
URL:https://taumarunui.co.nz/event/taumarunui-mixed-make-time-play-9/2026-02-27/
LOCATION:Taumarunui Golf Club\, 165 Golf Road\, Taumarunui\, New Zealand
CATEGORIES:Clubs,Sport
ATTACH;FMTTYPE=image/jpeg:https://taumarunui.co.nz/wp-content/uploads/2024/11/IMG_8283.jpeg
END:VEVENT
BEGIN:VEVENT
DTSTART;TZID=Pacific/Auckland:20260220T103000
DTEND;TZID=Pacific/Auckland:20260220T143000
DTSTAMP:20260426T152002
CREATED:20241108T003031Z
LAST-MODIFIED:20241108T003031Z
UID:10008810-1771583400-1771597800@taumarunui.co.nz
SUMMARY:Taumarunui Mixed Make Time Play 9
DESCRIPTION:
URL:https://taumarunui.co.nz/event/taumarunui-mixed-make-time-play-9/2026-02-20/
LOCATION:Taumarunui Golf Club\, 165 Golf Road\, Taumarunui\, New Zealand
CATEGORIES:Clubs,Sport
ATTACH;FMTTYPE=image/jpeg:https://taumarunui.co.nz/wp-content/uploads/2024/11/IMG_8283.jpeg
END:VEVENT
BEGIN:VEVENT
DTSTART;TZID=Pacific/Auckland:20260213T103000
DTEND;TZID=Pacific/Auckland:20260213T143000
DTSTAMP:20260426T152002
CREATED:20241108T003031Z
LAST-MODIFIED:20241108T003031Z
UID:10008809-1770978600-1770993000@taumarunui.co.nz
SUMMARY:Taumarunui Mixed Make Time Play 9
DESCRIPTION:
URL:https://taumarunui.co.nz/event/taumarunui-mixed-make-time-play-9/2026-02-13/
LOCATION:Taumarunui Golf Club\, 165 Golf Road\, Taumarunui\, New Zealand
CATEGORIES:Clubs,Sport
ATTACH;FMTTYPE=image/jpeg:https://taumarunui.co.nz/wp-content/uploads/2024/11/IMG_8283.jpeg
END:VEVENT
BEGIN:VEVENT
DTSTART;TZID=Pacific/Auckland:20260206T103000
DTEND;TZID=Pacific/Auckland:20260206T143000
DTSTAMP:20260426T152002
CREATED:20241108T003031Z
LAST-MODIFIED:20241108T003031Z
UID:10008808-1770373800-1770388200@taumarunui.co.nz
SUMMARY:Taumarunui Mixed Make Time Play 9
DESCRIPTION:
URL:https://taumarunui.co.nz/event/taumarunui-mixed-make-time-play-9/2026-02-06/
LOCATION:Taumarunui Golf Club\, 165 Golf Road\, Taumarunui\, New Zealand
CATEGORIES:Clubs,Sport
ATTACH;FMTTYPE=image/jpeg:https://taumarunui.co.nz/wp-content/uploads/2024/11/IMG_8283.jpeg
END:VEVENT
BEGIN:VEVENT
DTSTART;VALUE=DATE:20260204
DTEND;VALUE=DATE:20260207
DTSTAMP:20260426T152002
CREATED:20250510T224723Z
LAST-MODIFIED:20250510T224723Z
UID:10012273-1770163200-1770422399@taumarunui.co.nz
SUMMARY:NZ Vets Seniors 3 Day Golf Tournament
DESCRIPTION:Check out our tournaments and discover why visitors keep coming back to enjoy Taumarunui’s beautiful Tarrangower golf course. Our members are famous for their warm hospitality. This year\, make it your mission to join our golfing family.
URL:https://taumarunui.co.nz/event/nz-vets-seniors-3-day-golf-tournament/
LOCATION:Taumarunui Golf Club\, 165 Golf Road\, Taumarunui\, New Zealand
ATTACH;FMTTYPE=image/jpeg:https://taumarunui.co.nz/wp-content/uploads/2025/05/IMG_0535.jpeg
END:VEVENT
BEGIN:VEVENT
DTSTART;TZID=Pacific/Auckland:20260130T103000
DTEND;TZID=Pacific/Auckland:20260130T143000
DTSTAMP:20260426T152002
CREATED:20241108T003031Z
LAST-MODIFIED:20241108T003031Z
UID:10008807-1769769000-1769783400@taumarunui.co.nz
SUMMARY:Taumarunui Mixed Make Time Play 9
DESCRIPTION:
URL:https://taumarunui.co.nz/event/taumarunui-mixed-make-time-play-9/2026-01-30/
LOCATION:Taumarunui Golf Club\, 165 Golf Road\, Taumarunui\, New Zealand
CATEGORIES:Clubs,Sport
ATTACH;FMTTYPE=image/jpeg:https://taumarunui.co.nz/wp-content/uploads/2024/11/IMG_8283.jpeg
END:VEVENT
BEGIN:VEVENT
DTSTART;VALUE=DATE:20260124
DTEND;VALUE=DATE:20260126
DTSTAMP:20260426T152002
CREATED:20250510T224602Z
LAST-MODIFIED:20250510T224602Z
UID:10012272-1769212800-1769385599@taumarunui.co.nz
SUMMARY:Auckland Anniversary Weekend - Heaps Golf Tournament
DESCRIPTION:Check out our tournaments and discover why visitors keep coming back to enjoy Taumarunui’s beautiful Tarrangower golf course. Our members are famous for their warm hospitality. This year\, make it your mission to join our golfing family.
URL:https://taumarunui.co.nz/event/auckland-anniversary-weekend-heaps-golf-tournament/
LOCATION:Taumarunui Golf Club\, 165 Golf Road\, Taumarunui\, New Zealand
ATTACH;FMTTYPE=image/jpeg:https://taumarunui.co.nz/wp-content/uploads/2025/05/IMG_0535.jpeg
END:VEVENT
BEGIN:VEVENT
DTSTART;TZID=Pacific/Auckland:20260123T103000
DTEND;TZID=Pacific/Auckland:20260123T143000
DTSTAMP:20260426T152002
CREATED:20241108T003031Z
LAST-MODIFIED:20241108T003031Z
UID:10008806-1769164200-1769178600@taumarunui.co.nz
SUMMARY:Taumarunui Mixed Make Time Play 9
DESCRIPTION:
URL:https://taumarunui.co.nz/event/taumarunui-mixed-make-time-play-9/2026-01-23/
LOCATION:Taumarunui Golf Club\, 165 Golf Road\, Taumarunui\, New Zealand
CATEGORIES:Clubs,Sport
ATTACH;FMTTYPE=image/jpeg:https://taumarunui.co.nz/wp-content/uploads/2024/11/IMG_8283.jpeg
END:VEVENT
BEGIN:VEVENT
DTSTART;TZID=Pacific/Auckland:20260116T103000
DTEND;TZID=Pacific/Auckland:20260116T143000
DTSTAMP:20260426T152002
CREATED:20241108T003031Z
LAST-MODIFIED:20241108T003031Z
UID:10008805-1768559400-1768573800@taumarunui.co.nz
SUMMARY:Taumarunui Mixed Make Time Play 9
DESCRIPTION:
URL:https://taumarunui.co.nz/event/taumarunui-mixed-make-time-play-9/2026-01-16/
LOCATION:Taumarunui Golf Club\, 165 Golf Road\, Taumarunui\, New Zealand
CATEGORIES:Clubs,Sport
ATTACH;FMTTYPE=image/jpeg:https://taumarunui.co.nz/wp-content/uploads/2024/11/IMG_8283.jpeg
END:VEVENT
BEGIN:VEVENT
DTSTART;TZID=Pacific/Auckland:20260109T103000
DTEND;TZID=Pacific/Auckland:20260109T143000
DTSTAMP:20260426T152002
CREATED:20241108T003031Z
LAST-MODIFIED:20241108T003031Z
UID:10008804-1767954600-1767969000@taumarunui.co.nz
SUMMARY:Taumarunui Mixed Make Time Play 9
DESCRIPTION:
URL:https://taumarunui.co.nz/event/taumarunui-mixed-make-time-play-9/2026-01-09/
LOCATION:Taumarunui Golf Club\, 165 Golf Road\, Taumarunui\, New Zealand
CATEGORIES:Clubs,Sport
ATTACH;FMTTYPE=image/jpeg:https://taumarunui.co.nz/wp-content/uploads/2024/11/IMG_8283.jpeg
END:VEVENT
BEGIN:VEVENT
DTSTART;TZID=Pacific/Auckland:20260102T103000
DTEND;TZID=Pacific/Auckland:20260102T143000
DTSTAMP:20260426T152002
CREATED:20241108T003031Z
LAST-MODIFIED:20241108T003031Z
UID:10008803-1767349800-1767364200@taumarunui.co.nz
SUMMARY:Taumarunui Mixed Make Time Play 9
DESCRIPTION:
URL:https://taumarunui.co.nz/event/taumarunui-mixed-make-time-play-9/2026-01-02/
LOCATION:Taumarunui Golf Club\, 165 Golf Road\, Taumarunui\, New Zealand
CATEGORIES:Clubs,Sport
ATTACH;FMTTYPE=image/jpeg:https://taumarunui.co.nz/wp-content/uploads/2024/11/IMG_8283.jpeg
END:VEVENT
BEGIN:VEVENT
DTSTART;TZID=Pacific/Auckland:20251226T103000
DTEND;TZID=Pacific/Auckland:20251226T143000
DTSTAMP:20260426T152002
CREATED:20241108T003031Z
LAST-MODIFIED:20241108T003031Z
UID:10008802-1766745000-1766759400@taumarunui.co.nz
SUMMARY:Taumarunui Mixed Make Time Play 9
DESCRIPTION:
URL:https://taumarunui.co.nz/event/taumarunui-mixed-make-time-play-9/2025-12-26/
LOCATION:Taumarunui Golf Club\, 165 Golf Road\, Taumarunui\, New Zealand
CATEGORIES:Clubs,Sport
ATTACH;FMTTYPE=image/jpeg:https://taumarunui.co.nz/wp-content/uploads/2024/11/IMG_8283.jpeg
END:VEVENT
BEGIN:VEVENT
DTSTART;TZID=Pacific/Auckland:20251219T103000
DTEND;TZID=Pacific/Auckland:20251219T143000
DTSTAMP:20260426T152002
CREATED:20241108T003031Z
LAST-MODIFIED:20241108T003031Z
UID:10008801-1766140200-1766154600@taumarunui.co.nz
SUMMARY:Taumarunui Mixed Make Time Play 9
DESCRIPTION:
URL:https://taumarunui.co.nz/event/taumarunui-mixed-make-time-play-9/2025-12-19/
LOCATION:Taumarunui Golf Club\, 165 Golf Road\, Taumarunui\, New Zealand
CATEGORIES:Clubs,Sport
ATTACH;FMTTYPE=image/jpeg:https://taumarunui.co.nz/wp-content/uploads/2024/11/IMG_8283.jpeg
END:VEVENT
BEGIN:VEVENT
DTSTART;TZID=Pacific/Auckland:20251212T103000
DTEND;TZID=Pacific/Auckland:20251212T143000
DTSTAMP:20260426T152002
CREATED:20241108T003031Z
LAST-MODIFIED:20241108T003031Z
UID:10008800-1765535400-1765549800@taumarunui.co.nz
SUMMARY:Taumarunui Mixed Make Time Play 9
DESCRIPTION:
URL:https://taumarunui.co.nz/event/taumarunui-mixed-make-time-play-9/2025-12-12/
LOCATION:Taumarunui Golf Club\, 165 Golf Road\, Taumarunui\, New Zealand
CATEGORIES:Clubs,Sport
ATTACH;FMTTYPE=image/jpeg:https://taumarunui.co.nz/wp-content/uploads/2024/11/IMG_8283.jpeg
END:VEVENT
BEGIN:VEVENT
DTSTART;VALUE=DATE:20251206
DTEND;VALUE=DATE:20251207
DTSTAMP:20260426T152002
CREATED:20250510T224440Z
LAST-MODIFIED:20250510T224440Z
UID:10012271-1764979200-1765065599@taumarunui.co.nz
SUMMARY:Christmas Hamper Golf Tournament
DESCRIPTION:Check out our tournaments and discover why visitors keep coming back to enjoy Taumarunui’s beautiful Tarrangower golf course. Our members are famous for their warm hospitality. This year\, make it your mission to join our golfing family.
URL:https://taumarunui.co.nz/event/christmas-hamper-golf-tournament/
LOCATION:Taumarunui Golf Club\, 165 Golf Road\, Taumarunui\, New Zealand
ATTACH;FMTTYPE=image/jpeg:https://taumarunui.co.nz/wp-content/uploads/2025/05/IMG_0535.jpeg
END:VEVENT
BEGIN:VEVENT
DTSTART;TZID=Pacific/Auckland:20251205T173000
DTEND;TZID=Pacific/Auckland:20251205T203000
DTSTAMP:20260426T152002
CREATED:20251111T215910Z
LAST-MODIFIED:20251111T215910Z
UID:10012539-1764955800-1764966600@taumarunui.co.nz
SUMMARY:Ladies Beginner Golf
DESCRIPTION:If your keen on giving golf a go ladies it’s free every fridays ⛳️ all the info below
URL:https://taumarunui.co.nz/event/ladies-beginner-golf/2025-12-05/
LOCATION:Taumarunui Golf Club\, 165 Golf Road\, Taumarunui\, New Zealand
ATTACH;FMTTYPE=image/jpeg:https://taumarunui.co.nz/wp-content/uploads/2025/11/IMG_2342.jpeg
END:VEVENT
BEGIN:VEVENT
DTSTART;TZID=Pacific/Auckland:20251205T103000
DTEND;TZID=Pacific/Auckland:20251205T143000
DTSTAMP:20260426T152002
CREATED:20241108T003031Z
LAST-MODIFIED:20241108T003031Z
UID:10008799-1764930600-1764945000@taumarunui.co.nz
SUMMARY:Taumarunui Mixed Make Time Play 9
DESCRIPTION:
URL:https://taumarunui.co.nz/event/taumarunui-mixed-make-time-play-9/2025-12-05/
LOCATION:Taumarunui Golf Club\, 165 Golf Road\, Taumarunui\, New Zealand
CATEGORIES:Clubs,Sport
ATTACH;FMTTYPE=image/jpeg:https://taumarunui.co.nz/wp-content/uploads/2024/11/IMG_8283.jpeg
END:VEVENT
BEGIN:VEVENT
DTSTART;TZID=Pacific/Auckland:20251128T173000
DTEND;TZID=Pacific/Auckland:20251128T203000
DTSTAMP:20260426T152002
CREATED:20251111T215910Z
LAST-MODIFIED:20251111T215910Z
UID:10012538-1764351000-1764361800@taumarunui.co.nz
SUMMARY:Ladies Beginner Golf
DESCRIPTION:If your keen on giving golf a go ladies it’s free every fridays ⛳️ all the info below
URL:https://taumarunui.co.nz/event/ladies-beginner-golf/2025-11-28/
LOCATION:Taumarunui Golf Club\, 165 Golf Road\, Taumarunui\, New Zealand
ATTACH;FMTTYPE=image/jpeg:https://taumarunui.co.nz/wp-content/uploads/2025/11/IMG_2342.jpeg
END:VEVENT
BEGIN:VEVENT
DTSTART;TZID=Pacific/Auckland:20251128T103000
DTEND;TZID=Pacific/Auckland:20251128T143000
DTSTAMP:20260426T152002
CREATED:20241108T003031Z
LAST-MODIFIED:20241108T003031Z
UID:10008798-1764325800-1764340200@taumarunui.co.nz
SUMMARY:Taumarunui Mixed Make Time Play 9
DESCRIPTION:
URL:https://taumarunui.co.nz/event/taumarunui-mixed-make-time-play-9/2025-11-28/
LOCATION:Taumarunui Golf Club\, 165 Golf Road\, Taumarunui\, New Zealand
CATEGORIES:Clubs,Sport
ATTACH;FMTTYPE=image/jpeg:https://taumarunui.co.nz/wp-content/uploads/2024/11/IMG_8283.jpeg
END:VEVENT
BEGIN:VEVENT
DTSTART;TZID=Pacific/Auckland:20251121T173000
DTEND;TZID=Pacific/Auckland:20251121T203000
DTSTAMP:20260426T152002
CREATED:20251111T215910Z
LAST-MODIFIED:20251111T215910Z
UID:10012537-1763746200-1763757000@taumarunui.co.nz
SUMMARY:Ladies Beginner Golf
DESCRIPTION:If your keen on giving golf a go ladies it’s free every fridays ⛳️ all the info below
URL:https://taumarunui.co.nz/event/ladies-beginner-golf/2025-11-21/
LOCATION:Taumarunui Golf Club\, 165 Golf Road\, Taumarunui\, New Zealand
ATTACH;FMTTYPE=image/jpeg:https://taumarunui.co.nz/wp-content/uploads/2025/11/IMG_2342.jpeg
END:VEVENT
BEGIN:VEVENT
DTSTART;TZID=Pacific/Auckland:20251121T103000
DTEND;TZID=Pacific/Auckland:20251121T143000
DTSTAMP:20260426T152002
CREATED:20241108T003031Z
LAST-MODIFIED:20241108T003031Z
UID:10008797-1763721000-1763735400@taumarunui.co.nz
SUMMARY:Taumarunui Mixed Make Time Play 9
DESCRIPTION:
URL:https://taumarunui.co.nz/event/taumarunui-mixed-make-time-play-9/2025-11-21/
LOCATION:Taumarunui Golf Club\, 165 Golf Road\, Taumarunui\, New Zealand
CATEGORIES:Clubs,Sport
ATTACH;FMTTYPE=image/jpeg:https://taumarunui.co.nz/wp-content/uploads/2024/11/IMG_8283.jpeg
END:VEVENT
BEGIN:VEVENT
DTSTART;VALUE=DATE:20251121
DTEND;VALUE=DATE:20251123
DTSTAMP:20260426T152002
CREATED:20250510T225103Z
LAST-MODIFIED:20250510T225103Z
UID:10012274-1763683200-1763855999@taumarunui.co.nz
SUMMARY:North Island Railways Golf Tournament
DESCRIPTION:Check out our tournaments and discover why visitors keep coming back to enjoy Taumarunui’s beautiful Tarrangower golf course. Our members are famous for their warm hospitality. This year\, make it your mission to join our golfing family.
URL:https://taumarunui.co.nz/event/north-island-railways-golf-tournament/
LOCATION:Taumarunui Golf Club\, 165 Golf Road\, Taumarunui\, New Zealand
ATTACH;FMTTYPE=image/jpeg:https://taumarunui.co.nz/wp-content/uploads/2025/05/IMG_0535.jpeg
END:VEVENT
END:VCALENDAR