BEGIN:VCALENDAR
VERSION:2.0
PRODID:-//Taumarunui - ECPv6.15.20//NONSGML v1.0//EN
CALSCALE:GREGORIAN
METHOD:PUBLISH
X-WR-CALNAME:Taumarunui
X-ORIGINAL-URL:https://taumarunui.co.nz
X-WR-CALDESC:Events for Taumarunui
REFRESH-INTERVAL;VALUE=DURATION:PT1H
X-Robots-Tag:noindex
X-PUBLISHED-TTL:PT1H
BEGIN:VTIMEZONE
TZID:Pacific/Auckland
BEGIN:STANDARD
TZOFFSETFROM:+1300
TZOFFSETTO:+1200
TZNAME:NZST
DTSTART:20230401T140000
END:STANDARD
BEGIN:DAYLIGHT
TZOFFSETFROM:+1200
TZOFFSETTO:+1300
TZNAME:NZDT
DTSTART:20230923T140000
END:DAYLIGHT
BEGIN:STANDARD
TZOFFSETFROM:+1300
TZOFFSETTO:+1200
TZNAME:NZST
DTSTART:20240406T140000
END:STANDARD
BEGIN:DAYLIGHT
TZOFFSETFROM:+1200
TZOFFSETTO:+1300
TZNAME:NZDT
DTSTART:20240928T140000
END:DAYLIGHT
BEGIN:STANDARD
TZOFFSETFROM:+1300
TZOFFSETTO:+1200
TZNAME:NZST
DTSTART:20250405T140000
END:STANDARD
BEGIN:DAYLIGHT
TZOFFSETFROM:+1200
TZOFFSETTO:+1300
TZNAME:NZDT
DTSTART:20250927T140000
END:DAYLIGHT
BEGIN:STANDARD
TZOFFSETFROM:+1300
TZOFFSETTO:+1200
TZNAME:NZST
DTSTART:20260404T140000
END:STANDARD
BEGIN:DAYLIGHT
TZOFFSETFROM:+1200
TZOFFSETTO:+1300
TZNAME:NZDT
DTSTART:20260926T140000
END:DAYLIGHT
END:VTIMEZONE
BEGIN:VEVENT
DTSTART;TZID=Pacific/Auckland:20250301T190000
DTEND;TZID=Pacific/Auckland:20250302T010000
DTSTAMP:20260425T105523
CREATED:20250125T190516Z
LAST-MODIFIED:20250125T190516Z
UID:10011039-1740855600-1740877200@taumarunui.co.nz
SUMMARY:Costume Party
DESCRIPTION:Now for a bit of fun…\nCostume Party\nPurchase your ticket here:\nhttps://www.adventurehighwayarttrail.shop/2025-adventure-highway-art-trail-dinner-and-dance \nEarly bird price\n$40 per person (Regular price $50)\nIncludes:\nDJ\nOpen Bar at discount prices\nFinger food\nStory telling\n7pm – 1am \nBe quick tickets are limited \nOn the weekends of the 22nd February and 1st March\, we’ll be holding the Adventure Highway Art Trail Open Art Studios weekends. Artists will showcase their work from their home studios\, and you can visit and buy directly. At the tail end of the Art Trail on the 1st of March\, we’ll be holding a costume party with DJ as a fundraiser for Twin Rivers Community Art Gallery. This will help us cover our outgoings\, which have increased a lot. So join us for some fun. Purchase your ticket using the link above. Venue: Downstairs beneath the Cosmopolitan Club
URL:https://taumarunui.co.nz/event/costume-party/
LOCATION:Taumarunui Cosmopolitan Club Inc\, Miriama Street\, Taumarunui\, 3920\, New Zealand
CATEGORIES:Event
ATTACH;FMTTYPE=image/jpeg:https://taumarunui.co.nz/wp-content/uploads/2025/01/IMG_0478.jpeg
GEO:-38.8841083;175.2587415
X-APPLE-STRUCTURED-LOCATION;VALUE=URI;X-ADDRESS=Taumarunui Cosmopolitan Club Inc Miriama Street Taumarunui 3920 New Zealand;X-APPLE-RADIUS=500;X-TITLE=Miriama Street:geo:175.2587415,-38.8841083
END:VEVENT
BEGIN:VEVENT
DTSTART;TZID=Pacific/Auckland:20250227T130000
DTEND;TZID=Pacific/Auckland:20250227T150000
DTSTAMP:20260425T105523
CREATED:20250122T181555Z
LAST-MODIFIED:20250122T181555Z
UID:10010783-1740661200-1740668400@taumarunui.co.nz
SUMMARY:Taumarunui Cossie Club - Housie
DESCRIPTION:Housie Fans\, It’s Time to Play! 🎉 \nWe do love our Housie\, and it’s back this Thursday at 1PM! Get ready for an exciting round of fun and laughter. \nBut that’s not all! Join us for Super Sunday Housie this Sunday 26th\, also at 1PM. Please bring a plate to share for afternoon tea.
URL:https://taumarunui.co.nz/event/taumarunui-cossie-club-housie/2025-02-27/
LOCATION:Taumarunui Cosmopolitan Club Inc\, Miriama Street\, Taumarunui\, 3920\, New Zealand
CATEGORIES:Clubs
ATTACH;FMTTYPE=image/jpeg:https://taumarunui.co.nz/wp-content/uploads/2025/01/IMG_0477.jpeg
GEO:-38.8841083;175.2587415
X-APPLE-STRUCTURED-LOCATION;VALUE=URI;X-ADDRESS=Taumarunui Cosmopolitan Club Inc Miriama Street Taumarunui 3920 New Zealand;X-APPLE-RADIUS=500;X-TITLE=Miriama Street:geo:175.2587415,-38.8841083
END:VEVENT
BEGIN:VEVENT
DTSTART;TZID=Pacific/Auckland:20250226T173000
DTEND;TZID=Pacific/Auckland:20250226T193000
DTSTAMP:20260425T105523
CREATED:20250210T191510Z
LAST-MODIFIED:20250210T191510Z
UID:10011645-1740591000-1740598200@taumarunui.co.nz
SUMMARY:Business After 5 - Chris Martin
DESCRIPTION:First Business After 5 for 2025 is one not to miss!\nCome and help us welcome Chris Martin – former Black Cap cricketer and now the new owner of New World Taumarunui. Listen to his story and some great anecdotes about his life. 🤣🤣🤣\nBring some questions and lots of enthusiasm. 😊😊😊
URL:https://taumarunui.co.nz/event/business-after-5-chris-martin/
LOCATION:Taumarunui Cosmopolitan Club Inc\, Miriama Street\, Taumarunui\, 3920\, New Zealand
CATEGORIES:Event
ATTACH;FMTTYPE=image/jpeg:https://taumarunui.co.nz/wp-content/uploads/2025/02/372c0677-673b-4ecb-bda8-fcfa353c2ecb-1.jpeg
GEO:-38.8841083;175.2587415
X-APPLE-STRUCTURED-LOCATION;VALUE=URI;X-ADDRESS=Taumarunui Cosmopolitan Club Inc Miriama Street Taumarunui 3920 New Zealand;X-APPLE-RADIUS=500;X-TITLE=Miriama Street:geo:175.2587415,-38.8841083
END:VEVENT
BEGIN:VEVENT
DTSTART;TZID=Pacific/Auckland:20250220T130000
DTEND;TZID=Pacific/Auckland:20250220T150000
DTSTAMP:20260425T105523
CREATED:20250122T181555Z
LAST-MODIFIED:20250122T181555Z
UID:10010782-1740056400-1740063600@taumarunui.co.nz
SUMMARY:Taumarunui Cossie Club - Housie
DESCRIPTION:Housie Fans\, It’s Time to Play! 🎉 \nWe do love our Housie\, and it’s back this Thursday at 1PM! Get ready for an exciting round of fun and laughter. \nBut that’s not all! Join us for Super Sunday Housie this Sunday 26th\, also at 1PM. Please bring a plate to share for afternoon tea.
URL:https://taumarunui.co.nz/event/taumarunui-cossie-club-housie/2025-02-20/
LOCATION:Taumarunui Cosmopolitan Club Inc\, Miriama Street\, Taumarunui\, 3920\, New Zealand
CATEGORIES:Clubs
ATTACH;FMTTYPE=image/jpeg:https://taumarunui.co.nz/wp-content/uploads/2025/01/IMG_0477.jpeg
GEO:-38.8841083;175.2587415
X-APPLE-STRUCTURED-LOCATION;VALUE=URI;X-ADDRESS=Taumarunui Cosmopolitan Club Inc Miriama Street Taumarunui 3920 New Zealand;X-APPLE-RADIUS=500;X-TITLE=Miriama Street:geo:175.2587415,-38.8841083
END:VEVENT
BEGIN:VEVENT
DTSTART;TZID=Pacific/Auckland:20250213T130000
DTEND;TZID=Pacific/Auckland:20250213T150000
DTSTAMP:20260425T105523
CREATED:20250122T181555Z
LAST-MODIFIED:20250122T181555Z
UID:10010781-1739451600-1739458800@taumarunui.co.nz
SUMMARY:Taumarunui Cossie Club - Housie
DESCRIPTION:Housie Fans\, It’s Time to Play! 🎉 \nWe do love our Housie\, and it’s back this Thursday at 1PM! Get ready for an exciting round of fun and laughter. \nBut that’s not all! Join us for Super Sunday Housie this Sunday 26th\, also at 1PM. Please bring a plate to share for afternoon tea.
URL:https://taumarunui.co.nz/event/taumarunui-cossie-club-housie/2025-02-13/
LOCATION:Taumarunui Cosmopolitan Club Inc\, Miriama Street\, Taumarunui\, 3920\, New Zealand
CATEGORIES:Clubs
ATTACH;FMTTYPE=image/jpeg:https://taumarunui.co.nz/wp-content/uploads/2025/01/IMG_0477.jpeg
GEO:-38.8841083;175.2587415
X-APPLE-STRUCTURED-LOCATION;VALUE=URI;X-ADDRESS=Taumarunui Cosmopolitan Club Inc Miriama Street Taumarunui 3920 New Zealand;X-APPLE-RADIUS=500;X-TITLE=Miriama Street:geo:175.2587415,-38.8841083
END:VEVENT
BEGIN:VEVENT
DTSTART;TZID=Pacific/Auckland:20250206T130000
DTEND;TZID=Pacific/Auckland:20250206T150000
DTSTAMP:20260425T105523
CREATED:20250122T181555Z
LAST-MODIFIED:20250122T181555Z
UID:10010780-1738846800-1738854000@taumarunui.co.nz
SUMMARY:Taumarunui Cossie Club - Housie
DESCRIPTION:Housie Fans\, It’s Time to Play! 🎉 \nWe do love our Housie\, and it’s back this Thursday at 1PM! Get ready for an exciting round of fun and laughter. \nBut that’s not all! Join us for Super Sunday Housie this Sunday 26th\, also at 1PM. Please bring a plate to share for afternoon tea.
URL:https://taumarunui.co.nz/event/taumarunui-cossie-club-housie/2025-02-06/
LOCATION:Taumarunui Cosmopolitan Club Inc\, Miriama Street\, Taumarunui\, 3920\, New Zealand
CATEGORIES:Clubs
ATTACH;FMTTYPE=image/jpeg:https://taumarunui.co.nz/wp-content/uploads/2025/01/IMG_0477.jpeg
GEO:-38.8841083;175.2587415
X-APPLE-STRUCTURED-LOCATION;VALUE=URI;X-ADDRESS=Taumarunui Cosmopolitan Club Inc Miriama Street Taumarunui 3920 New Zealand;X-APPLE-RADIUS=500;X-TITLE=Miriama Street:geo:175.2587415,-38.8841083
END:VEVENT
BEGIN:VEVENT
DTSTART;TZID=Pacific/Auckland:20250130T130000
DTEND;TZID=Pacific/Auckland:20250130T150000
DTSTAMP:20260425T105523
CREATED:20250122T181555Z
LAST-MODIFIED:20250122T181555Z
UID:10010779-1738242000-1738249200@taumarunui.co.nz
SUMMARY:Taumarunui Cossie Club - Housie
DESCRIPTION:Housie Fans\, It’s Time to Play! 🎉 \nWe do love our Housie\, and it’s back this Thursday at 1PM! Get ready for an exciting round of fun and laughter. \nBut that’s not all! Join us for Super Sunday Housie this Sunday 26th\, also at 1PM. Please bring a plate to share for afternoon tea.
URL:https://taumarunui.co.nz/event/taumarunui-cossie-club-housie/2025-01-30/
LOCATION:Taumarunui Cosmopolitan Club Inc\, Miriama Street\, Taumarunui\, 3920\, New Zealand
CATEGORIES:Clubs
ATTACH;FMTTYPE=image/jpeg:https://taumarunui.co.nz/wp-content/uploads/2025/01/IMG_0477.jpeg
GEO:-38.8841083;175.2587415
X-APPLE-STRUCTURED-LOCATION;VALUE=URI;X-ADDRESS=Taumarunui Cosmopolitan Club Inc Miriama Street Taumarunui 3920 New Zealand;X-APPLE-RADIUS=500;X-TITLE=Miriama Street:geo:175.2587415,-38.8841083
END:VEVENT
BEGIN:VEVENT
DTSTART;TZID=Pacific/Auckland:20250123T130000
DTEND;TZID=Pacific/Auckland:20250123T150000
DTSTAMP:20260425T105523
CREATED:20250122T181555Z
LAST-MODIFIED:20250122T181555Z
UID:10010778-1737637200-1737644400@taumarunui.co.nz
SUMMARY:Taumarunui Cossie Club - Housie
DESCRIPTION:Housie Fans\, It’s Time to Play! 🎉 \nWe do love our Housie\, and it’s back this Thursday at 1PM! Get ready for an exciting round of fun and laughter. \nBut that’s not all! Join us for Super Sunday Housie this Sunday 26th\, also at 1PM. Please bring a plate to share for afternoon tea.
URL:https://taumarunui.co.nz/event/taumarunui-cossie-club-housie/2025-01-23/
LOCATION:Taumarunui Cosmopolitan Club Inc\, Miriama Street\, Taumarunui\, 3920\, New Zealand
CATEGORIES:Clubs
ATTACH;FMTTYPE=image/jpeg:https://taumarunui.co.nz/wp-content/uploads/2025/01/IMG_0477.jpeg
GEO:-38.8841083;175.2587415
X-APPLE-STRUCTURED-LOCATION;VALUE=URI;X-ADDRESS=Taumarunui Cosmopolitan Club Inc Miriama Street Taumarunui 3920 New Zealand;X-APPLE-RADIUS=500;X-TITLE=Miriama Street:geo:175.2587415,-38.8841083
END:VEVENT
BEGIN:VEVENT
DTSTART;TZID=Pacific/Auckland:20241231T160000
DTEND;TZID=Pacific/Auckland:20241231T220000
DTSTAMP:20260425T105523
CREATED:20241105T041713Z
LAST-MODIFIED:20241105T041713Z
UID:10006688-1735660800-1735682400@taumarunui.co.nz
SUMMARY:Taumarunui Cossie Club - Club opens at 4pm
DESCRIPTION:
URL:https://taumarunui.co.nz/event/taumarunui-cossie-club-club-opens-at-4pm-2/
LOCATION:Taumarunui Cosmopolitan Club Inc\, Miriama Street\, Taumarunui\, 3920\, New Zealand
CATEGORIES:Event
GEO:-38.8841083;175.2587415
X-APPLE-STRUCTURED-LOCATION;VALUE=URI;X-ADDRESS=Taumarunui Cosmopolitan Club Inc Miriama Street Taumarunui 3920 New Zealand;X-APPLE-RADIUS=500;X-TITLE=Miriama Street:geo:175.2587415,-38.8841083
END:VEVENT
BEGIN:VEVENT
DTSTART;TZID=Pacific/Auckland:20241224T160000
DTEND;TZID=Pacific/Auckland:20241224T220000
DTSTAMP:20260425T105523
CREATED:20241105T041613Z
LAST-MODIFIED:20241105T041613Z
UID:10006687-1735056000-1735077600@taumarunui.co.nz
SUMMARY:Taumarunui Cossie Club - Club opens at 4pm
DESCRIPTION:
URL:https://taumarunui.co.nz/event/taumarunui-cossie-club-club-opens-at-4pm/
LOCATION:Taumarunui Cosmopolitan Club Inc\, Miriama Street\, Taumarunui\, 3920\, New Zealand
CATEGORIES:Event
GEO:-38.8841083;175.2587415
X-APPLE-STRUCTURED-LOCATION;VALUE=URI;X-ADDRESS=Taumarunui Cosmopolitan Club Inc Miriama Street Taumarunui 3920 New Zealand;X-APPLE-RADIUS=500;X-TITLE=Miriama Street:geo:175.2587415,-38.8841083
END:VEVENT
BEGIN:VEVENT
DTSTART;TZID=Pacific/Auckland:20241223T000000
DTEND;TZID=Pacific/Auckland:20241223T000000
DTSTAMP:20260425T105523
CREATED:20241105T041457Z
LAST-MODIFIED:20241105T041457Z
UID:10006686-1734912000-1734912000@taumarunui.co.nz
SUMMARY:Taumarunui Cossie Club - Taumarunui Speed Shears
DESCRIPTION:
URL:https://taumarunui.co.nz/event/taumarunui-cossie-club-taumarunui-speed-shears/
LOCATION:Taumarunui Cosmopolitan Club Inc\, Miriama Street\, Taumarunui\, 3920\, New Zealand
CATEGORIES:Event
GEO:-38.8841083;175.2587415
X-APPLE-STRUCTURED-LOCATION;VALUE=URI;X-ADDRESS=Taumarunui Cosmopolitan Club Inc Miriama Street Taumarunui 3920 New Zealand;X-APPLE-RADIUS=500;X-TITLE=Miriama Street:geo:175.2587415,-38.8841083
END:VEVENT
BEGIN:VEVENT
DTSTART;TZID=Pacific/Auckland:20241220T180000
DTEND;TZID=Pacific/Auckland:20241220T210000
DTSTAMP:20260425T105523
CREATED:20241208T215641Z
LAST-MODIFIED:20241208T215641Z
UID:10009719-1734717600-1734728400@taumarunui.co.nz
SUMMARY:Christmas Dinner at the Cosmopolitan Club
DESCRIPTION:🎄 Christmas Dinner at the Cosmopolitan Club 🎅 \nCome and celebrate the festive season with us! Our Christmas dinner is open to everyone in the community. \nEnjoy delicious food\, special treats\, and maybe even a visit from someone very special! \n📅 Date: Friday 20 December 2024\n📍 Where: Taumarunui Cosmopolitan Club\n🎟️ Tickets: Available now at the bar. Tickets must be purchased in advance\, so don’t miss out!
URL:https://taumarunui.co.nz/event/christmas-dinner-at-the-cosmopolitan-club/
LOCATION:Taumarunui Cosmopolitan Club Inc\, Miriama Street\, Taumarunui\, 3920\, New Zealand
CATEGORIES:Event
ATTACH;FMTTYPE=image/jpeg:https://taumarunui.co.nz/wp-content/uploads/2024/12/IMG_0451.jpeg
GEO:-38.8841083;175.2587415
X-APPLE-STRUCTURED-LOCATION;VALUE=URI;X-ADDRESS=Taumarunui Cosmopolitan Club Inc Miriama Street Taumarunui 3920 New Zealand;X-APPLE-RADIUS=500;X-TITLE=Miriama Street:geo:175.2587415,-38.8841083
END:VEVENT
BEGIN:VEVENT
DTSTART;TZID=Pacific/Auckland:20241214T000000
DTEND;TZID=Pacific/Auckland:20241214T000000
DTSTAMP:20260425T105523
CREATED:20241105T041357Z
LAST-MODIFIED:20241105T041357Z
UID:10006685-1734134400-1734134400@taumarunui.co.nz
SUMMARY:Taumarunui Cossie Club - King and Queen 8 Ball Tournament
DESCRIPTION:
URL:https://taumarunui.co.nz/event/taumarunui-cossie-club-king-and-queen-8-ball-tournament/
LOCATION:Taumarunui Cosmopolitan Club Inc\, Miriama Street\, Taumarunui\, 3920\, New Zealand
CATEGORIES:Event
GEO:-38.8841083;175.2587415
X-APPLE-STRUCTURED-LOCATION;VALUE=URI;X-ADDRESS=Taumarunui Cosmopolitan Club Inc Miriama Street Taumarunui 3920 New Zealand;X-APPLE-RADIUS=500;X-TITLE=Miriama Street:geo:175.2587415,-38.8841083
END:VEVENT
BEGIN:VEVENT
DTSTART;TZID=Pacific/Auckland:20241213T180000
DTEND;TZID=Pacific/Auckland:20241213T220000
DTSTAMP:20260425T105523
CREATED:20241105T040840Z
LAST-MODIFIED:20241105T160843Z
UID:10006683-1734112800-1734127200@taumarunui.co.nz
SUMMARY:Taumarunui Cossie Club - Matiere School Trivia Quiz
DESCRIPTION:Matiere school Quiz night- all money goes towards our tamariki at Matiere school! \nBook in your teams- spaces are filling fast and we only have a limited capacity. 👀👀 \n$60/ team of 4 \nFriday 13th December\, Spot prizes and Raffles on the night!
URL:https://taumarunui.co.nz/event/taumarunui-cossie-club-ham-raffle-drawn/
LOCATION:Taumarunui Cosmopolitan Club Inc\, Miriama Street\, Taumarunui\, 3920\, New Zealand
CATEGORIES:Event
ATTACH;FMTTYPE=image/jpeg:https://taumarunui.co.nz/wp-content/uploads/2024/11/IMG_8262.jpeg
GEO:-38.8841083;175.2587415
X-APPLE-STRUCTURED-LOCATION;VALUE=URI;X-ADDRESS=Taumarunui Cosmopolitan Club Inc Miriama Street Taumarunui 3920 New Zealand;X-APPLE-RADIUS=500;X-TITLE=Miriama Street:geo:175.2587415,-38.8841083
END:VEVENT
BEGIN:VEVENT
DTSTART;TZID=Pacific/Auckland:20241212T000000
DTEND;TZID=Pacific/Auckland:20241212T000000
DTSTAMP:20260425T105523
CREATED:20241105T041255Z
LAST-MODIFIED:20241105T041255Z
UID:10006684-1733961600-1733961600@taumarunui.co.nz
SUMMARY:Taumarunui Cossie Club - Ham raffle drawn
DESCRIPTION:
URL:https://taumarunui.co.nz/event/taumarunui-cossie-club-ham-raffle-drawn-2/
LOCATION:Taumarunui Cosmopolitan Club Inc\, Miriama Street\, Taumarunui\, 3920\, New Zealand
CATEGORIES:Event
GEO:-38.8841083;175.2587415
X-APPLE-STRUCTURED-LOCATION;VALUE=URI;X-ADDRESS=Taumarunui Cosmopolitan Club Inc Miriama Street Taumarunui 3920 New Zealand;X-APPLE-RADIUS=500;X-TITLE=Miriama Street:geo:175.2587415,-38.8841083
END:VEVENT
BEGIN:VEVENT
DTSTART;TZID=Pacific/Auckland:20241207T000000
DTEND;TZID=Pacific/Auckland:20241207T000000
DTSTAMP:20260425T105523
CREATED:20241105T040739Z
LAST-MODIFIED:20241105T040739Z
UID:10006682-1733529600-1733529600@taumarunui.co.nz
SUMMARY:Taumarunui Cossie Club - Children’s Christmas Party
DESCRIPTION:Also live Christmas trees for sale
URL:https://taumarunui.co.nz/event/taumarunui-cossie-club-childrens-christmas-party/
LOCATION:Taumarunui Cosmopolitan Club Inc\, Miriama Street\, Taumarunui\, 3920\, New Zealand
CATEGORIES:Event
GEO:-38.8841083;175.2587415
X-APPLE-STRUCTURED-LOCATION;VALUE=URI;X-ADDRESS=Taumarunui Cosmopolitan Club Inc Miriama Street Taumarunui 3920 New Zealand;X-APPLE-RADIUS=500;X-TITLE=Miriama Street:geo:175.2587415,-38.8841083
END:VEVENT
BEGIN:VEVENT
DTSTART;TZID=Pacific/Auckland:20241122T190000
DTEND;TZID=Pacific/Auckland:20241122T220000
DTSTAMP:20260425T105523
CREATED:20241105T040353Z
LAST-MODIFIED:20241114T212755Z
UID:10006680-1732302000-1732312800@taumarunui.co.nz
SUMMARY:Taumarunui Cossie Club - “Sound Cartel”
DESCRIPTION:Top Waikato Covers Band \n🎉 Grab your partner\, bring your neighbour\, dial a friend\, or bring your work team – it’s time to celebrate! 🎶 \nSound Cartel is back in town and ready to bring their energy to the Cossie Club! Come and join us for a night filled with great company\, delicious food\, refreshing drinks\, dancing\, and amazing live entertainment. \n📍 Where: The Taumarunui Cosmopolitan Club\n📅 When: Friday 22 November 2024 \nAlso Baton’s up tickets go on Sale tonight
URL:https://taumarunui.co.nz/event/taumarunui-cossie-club-sound-cartel/
LOCATION:Taumarunui Cosmopolitan Club Inc\, Miriama Street\, Taumarunui\, 3920\, New Zealand
CATEGORIES:Event
ATTACH;FMTTYPE=image/jpeg:https://taumarunui.co.nz/wp-content/uploads/2024/11/IMG_8319.jpeg
GEO:-38.8841083;175.2587415
X-APPLE-STRUCTURED-LOCATION;VALUE=URI;X-ADDRESS=Taumarunui Cosmopolitan Club Inc Miriama Street Taumarunui 3920 New Zealand;X-APPLE-RADIUS=500;X-TITLE=Miriama Street:geo:175.2587415,-38.8841083
END:VEVENT
END:VCALENDAR