BEGIN:VCALENDAR
VERSION:2.0
PRODID:-//Taumarunui - ECPv6.15.20//NONSGML v1.0//EN
CALSCALE:GREGORIAN
METHOD:PUBLISH
X-ORIGINAL-URL:https://taumarunui.co.nz
X-WR-CALDESC:Events for Taumarunui
REFRESH-INTERVAL;VALUE=DURATION:PT1H
X-Robots-Tag:noindex
X-PUBLISHED-TTL:PT1H
BEGIN:VTIMEZONE
TZID:Pacific/Auckland
BEGIN:STANDARD
TZOFFSETFROM:+1300
TZOFFSETTO:+1200
TZNAME:NZST
DTSTART:20250405T140000
END:STANDARD
BEGIN:DAYLIGHT
TZOFFSETFROM:+1200
TZOFFSETTO:+1300
TZNAME:NZDT
DTSTART:20250927T140000
END:DAYLIGHT
BEGIN:STANDARD
TZOFFSETFROM:+1300
TZOFFSETTO:+1200
TZNAME:NZST
DTSTART:20260404T140000
END:STANDARD
BEGIN:DAYLIGHT
TZOFFSETFROM:+1200
TZOFFSETTO:+1300
TZNAME:NZDT
DTSTART:20260926T140000
END:DAYLIGHT
BEGIN:STANDARD
TZOFFSETFROM:+1300
TZOFFSETTO:+1200
TZNAME:NZST
DTSTART:20270403T140000
END:STANDARD
BEGIN:DAYLIGHT
TZOFFSETFROM:+1200
TZOFFSETTO:+1300
TZNAME:NZDT
DTSTART:20270925T140000
END:DAYLIGHT
BEGIN:STANDARD
TZOFFSETFROM:+1300
TZOFFSETTO:+1200
TZNAME:NZST
DTSTART:20280401T140000
END:STANDARD
BEGIN:DAYLIGHT
TZOFFSETFROM:+1200
TZOFFSETTO:+1300
TZNAME:NZDT
DTSTART:20280923T140000
END:DAYLIGHT
END:VTIMEZONE
BEGIN:VEVENT
DTSTART;TZID=Pacific/Auckland:20261217T100000
DTEND;TZID=Pacific/Auckland:20261217T110000
DTSTAMP:20260426T152024
CREATED:20241015T061311Z
LAST-MODIFIED:20241025T022839Z
UID:10003362-1797501600-1797505200@taumarunui.co.nz
SUMMARY:Ruapehu Toy Library
DESCRIPTION:We are open on Thursday and Saturday during school terms \nSituated in the Taumarunui Arts Centre \nWe welcome any new members
URL:https://taumarunui.co.nz/event/ruapehu-toy-library/2026-12-17/
LOCATION:Taumarunui Arts Centre\, Hakiaha Street\, Taumarunui\, New Zealand
CATEGORIES:Children
ATTACH;FMTTYPE=image/jpeg:https://taumarunui.co.nz/wp-content/uploads/2024/10/IMG_8156-scaled.jpeg
END:VEVENT
BEGIN:VEVENT
DTSTART;TZID=Pacific/Auckland:20261224T100000
DTEND;TZID=Pacific/Auckland:20261224T110000
DTSTAMP:20260426T152024
CREATED:20241015T061311Z
LAST-MODIFIED:20241025T022839Z
UID:10003363-1798106400-1798110000@taumarunui.co.nz
SUMMARY:Ruapehu Toy Library
DESCRIPTION:We are open on Thursday and Saturday during school terms \nSituated in the Taumarunui Arts Centre \nWe welcome any new members
URL:https://taumarunui.co.nz/event/ruapehu-toy-library/2026-12-24/
LOCATION:Taumarunui Arts Centre\, Hakiaha Street\, Taumarunui\, New Zealand
CATEGORIES:Children
ATTACH;FMTTYPE=image/jpeg:https://taumarunui.co.nz/wp-content/uploads/2024/10/IMG_8156-scaled.jpeg
END:VEVENT
BEGIN:VEVENT
DTSTART;TZID=Pacific/Auckland:20261225T100000
DTEND;TZID=Pacific/Auckland:20261225T120000
DTSTAMP:20260426T152024
CREATED:20241015T065559Z
LAST-MODIFIED:20241024T075928Z
UID:10005080-1798192800-1798200000@taumarunui.co.nz
SUMMARY:Creative Fibre Taumarunui
DESCRIPTION:Formerly Taumarunui Spinners & Weavers \nAre you interested in fibre crafts – spinning\, weaving\, knitting\, crocheting etc or learning one of these crafts? WE meet at the Ruapehu Community Arts Centre\, Taumarunui on the second and fourth Friday of each month
URL:https://taumarunui.co.nz/event/creative-fibre-taumarunui/2026-12-25/
LOCATION:Taumarunui Arts Centre\, Hakiaha Street\, Taumarunui\, New Zealand
CATEGORIES:Clubs
ATTACH;FMTTYPE=image/jpeg:https://taumarunui.co.nz/wp-content/uploads/2024/10/IMG_8155-1-scaled.jpeg
END:VEVENT
BEGIN:VEVENT
DTSTART;TZID=Pacific/Auckland:20261231T100000
DTEND;TZID=Pacific/Auckland:20261231T110000
DTSTAMP:20260426T152024
CREATED:20241015T061311Z
LAST-MODIFIED:20241025T022839Z
UID:10003364-1798711200-1798714800@taumarunui.co.nz
SUMMARY:Ruapehu Toy Library
DESCRIPTION:We are open on Thursday and Saturday during school terms \nSituated in the Taumarunui Arts Centre \nWe welcome any new members
URL:https://taumarunui.co.nz/event/ruapehu-toy-library/2026-12-31/
LOCATION:Taumarunui Arts Centre\, Hakiaha Street\, Taumarunui\, New Zealand
CATEGORIES:Children
ATTACH;FMTTYPE=image/jpeg:https://taumarunui.co.nz/wp-content/uploads/2024/10/IMG_8156-scaled.jpeg
END:VEVENT
BEGIN:VEVENT
DTSTART;TZID=Pacific/Auckland:20270107T100000
DTEND;TZID=Pacific/Auckland:20270107T110000
DTSTAMP:20260426T152024
CREATED:20241015T061311Z
LAST-MODIFIED:20241025T022839Z
UID:10003365-1799316000-1799319600@taumarunui.co.nz
SUMMARY:Ruapehu Toy Library
DESCRIPTION:We are open on Thursday and Saturday during school terms \nSituated in the Taumarunui Arts Centre \nWe welcome any new members
URL:https://taumarunui.co.nz/event/ruapehu-toy-library/2027-01-07/
LOCATION:Taumarunui Arts Centre\, Hakiaha Street\, Taumarunui\, New Zealand
CATEGORIES:Children
ATTACH;FMTTYPE=image/jpeg:https://taumarunui.co.nz/wp-content/uploads/2024/10/IMG_8156-scaled.jpeg
END:VEVENT
BEGIN:VEVENT
DTSTART;TZID=Pacific/Auckland:20270108T100000
DTEND;TZID=Pacific/Auckland:20270108T120000
DTSTAMP:20260426T152024
CREATED:20241015T065733Z
LAST-MODIFIED:20241015T065733Z
UID:10005020-1799402400-1799409600@taumarunui.co.nz
SUMMARY:Creative Fibre Taumarunui
DESCRIPTION:Formerly Taumarunui Spinners & Weavers \nAre you interested in fibre crafts – spinning\, weaving\, knitting\, crocheting etc or learning one of these crafts? WE meet at the Ruapehu Community Arts Centre\, Taumarunui on the second and fourth Friday of each month
URL:https://taumarunui.co.nz/event/creative-fibre-taumarunui-2/2027-01-08/
LOCATION:Taumarunui Arts Centre\, Hakiaha Street\, Taumarunui\, New Zealand
CATEGORIES:Clubs
END:VEVENT
BEGIN:VEVENT
DTSTART;TZID=Pacific/Auckland:20270114T100000
DTEND;TZID=Pacific/Auckland:20270114T110000
DTSTAMP:20260426T152024
CREATED:20241015T061311Z
LAST-MODIFIED:20241025T022839Z
UID:10003366-1799920800-1799924400@taumarunui.co.nz
SUMMARY:Ruapehu Toy Library
DESCRIPTION:We are open on Thursday and Saturday during school terms \nSituated in the Taumarunui Arts Centre \nWe welcome any new members
URL:https://taumarunui.co.nz/event/ruapehu-toy-library/2027-01-14/
LOCATION:Taumarunui Arts Centre\, Hakiaha Street\, Taumarunui\, New Zealand
CATEGORIES:Children
ATTACH;FMTTYPE=image/jpeg:https://taumarunui.co.nz/wp-content/uploads/2024/10/IMG_8156-scaled.jpeg
END:VEVENT
BEGIN:VEVENT
DTSTART;TZID=Pacific/Auckland:20270121T100000
DTEND;TZID=Pacific/Auckland:20270121T110000
DTSTAMP:20260426T152024
CREATED:20241015T061311Z
LAST-MODIFIED:20241025T022839Z
UID:10003367-1800525600-1800529200@taumarunui.co.nz
SUMMARY:Ruapehu Toy Library
DESCRIPTION:We are open on Thursday and Saturday during school terms \nSituated in the Taumarunui Arts Centre \nWe welcome any new members
URL:https://taumarunui.co.nz/event/ruapehu-toy-library/2027-01-21/
LOCATION:Taumarunui Arts Centre\, Hakiaha Street\, Taumarunui\, New Zealand
CATEGORIES:Children
ATTACH;FMTTYPE=image/jpeg:https://taumarunui.co.nz/wp-content/uploads/2024/10/IMG_8156-scaled.jpeg
END:VEVENT
BEGIN:VEVENT
DTSTART;TZID=Pacific/Auckland:20270122T100000
DTEND;TZID=Pacific/Auckland:20270122T120000
DTSTAMP:20260426T152024
CREATED:20241015T065559Z
LAST-MODIFIED:20241024T075928Z
UID:10005081-1800612000-1800619200@taumarunui.co.nz
SUMMARY:Creative Fibre Taumarunui
DESCRIPTION:Formerly Taumarunui Spinners & Weavers \nAre you interested in fibre crafts – spinning\, weaving\, knitting\, crocheting etc or learning one of these crafts? WE meet at the Ruapehu Community Arts Centre\, Taumarunui on the second and fourth Friday of each month
URL:https://taumarunui.co.nz/event/creative-fibre-taumarunui/2027-01-22/
LOCATION:Taumarunui Arts Centre\, Hakiaha Street\, Taumarunui\, New Zealand
CATEGORIES:Clubs
ATTACH;FMTTYPE=image/jpeg:https://taumarunui.co.nz/wp-content/uploads/2024/10/IMG_8155-1-scaled.jpeg
END:VEVENT
BEGIN:VEVENT
DTSTART;TZID=Pacific/Auckland:20270128T100000
DTEND;TZID=Pacific/Auckland:20270128T110000
DTSTAMP:20260426T152024
CREATED:20241015T061311Z
LAST-MODIFIED:20241025T022839Z
UID:10003368-1801130400-1801134000@taumarunui.co.nz
SUMMARY:Ruapehu Toy Library
DESCRIPTION:We are open on Thursday and Saturday during school terms \nSituated in the Taumarunui Arts Centre \nWe welcome any new members
URL:https://taumarunui.co.nz/event/ruapehu-toy-library/2027-01-28/
LOCATION:Taumarunui Arts Centre\, Hakiaha Street\, Taumarunui\, New Zealand
CATEGORIES:Children
ATTACH;FMTTYPE=image/jpeg:https://taumarunui.co.nz/wp-content/uploads/2024/10/IMG_8156-scaled.jpeg
END:VEVENT
BEGIN:VEVENT
DTSTART;TZID=Pacific/Auckland:20270204T100000
DTEND;TZID=Pacific/Auckland:20270204T110000
DTSTAMP:20260426T152024
CREATED:20241015T061311Z
LAST-MODIFIED:20241025T022839Z
UID:10003369-1801735200-1801738800@taumarunui.co.nz
SUMMARY:Ruapehu Toy Library
DESCRIPTION:We are open on Thursday and Saturday during school terms \nSituated in the Taumarunui Arts Centre \nWe welcome any new members
URL:https://taumarunui.co.nz/event/ruapehu-toy-library/2027-02-04/
LOCATION:Taumarunui Arts Centre\, Hakiaha Street\, Taumarunui\, New Zealand
CATEGORIES:Children
ATTACH;FMTTYPE=image/jpeg:https://taumarunui.co.nz/wp-content/uploads/2024/10/IMG_8156-scaled.jpeg
END:VEVENT
BEGIN:VEVENT
DTSTART;TZID=Pacific/Auckland:20270211T100000
DTEND;TZID=Pacific/Auckland:20270211T110000
DTSTAMP:20260426T152024
CREATED:20241015T061311Z
LAST-MODIFIED:20241025T022839Z
UID:10003370-1802340000-1802343600@taumarunui.co.nz
SUMMARY:Ruapehu Toy Library
DESCRIPTION:We are open on Thursday and Saturday during school terms \nSituated in the Taumarunui Arts Centre \nWe welcome any new members
URL:https://taumarunui.co.nz/event/ruapehu-toy-library/2027-02-11/
LOCATION:Taumarunui Arts Centre\, Hakiaha Street\, Taumarunui\, New Zealand
CATEGORIES:Children
ATTACH;FMTTYPE=image/jpeg:https://taumarunui.co.nz/wp-content/uploads/2024/10/IMG_8156-scaled.jpeg
END:VEVENT
BEGIN:VEVENT
DTSTART;TZID=Pacific/Auckland:20270212T100000
DTEND;TZID=Pacific/Auckland:20270212T120000
DTSTAMP:20260426T152024
CREATED:20241015T065733Z
LAST-MODIFIED:20241015T065733Z
UID:10005021-1802426400-1802433600@taumarunui.co.nz
SUMMARY:Creative Fibre Taumarunui
DESCRIPTION:Formerly Taumarunui Spinners & Weavers \nAre you interested in fibre crafts – spinning\, weaving\, knitting\, crocheting etc or learning one of these crafts? WE meet at the Ruapehu Community Arts Centre\, Taumarunui on the second and fourth Friday of each month
URL:https://taumarunui.co.nz/event/creative-fibre-taumarunui-2/2027-02-12/
LOCATION:Taumarunui Arts Centre\, Hakiaha Street\, Taumarunui\, New Zealand
CATEGORIES:Clubs
END:VEVENT
BEGIN:VEVENT
DTSTART;TZID=Pacific/Auckland:20270218T100000
DTEND;TZID=Pacific/Auckland:20270218T110000
DTSTAMP:20260426T152024
CREATED:20241015T061311Z
LAST-MODIFIED:20241025T022839Z
UID:10003371-1802944800-1802948400@taumarunui.co.nz
SUMMARY:Ruapehu Toy Library
DESCRIPTION:We are open on Thursday and Saturday during school terms \nSituated in the Taumarunui Arts Centre \nWe welcome any new members
URL:https://taumarunui.co.nz/event/ruapehu-toy-library/2027-02-18/
LOCATION:Taumarunui Arts Centre\, Hakiaha Street\, Taumarunui\, New Zealand
CATEGORIES:Children
ATTACH;FMTTYPE=image/jpeg:https://taumarunui.co.nz/wp-content/uploads/2024/10/IMG_8156-scaled.jpeg
END:VEVENT
BEGIN:VEVENT
DTSTART;TZID=Pacific/Auckland:20270225T100000
DTEND;TZID=Pacific/Auckland:20270225T110000
DTSTAMP:20260426T152024
CREATED:20241015T061311Z
LAST-MODIFIED:20241025T022839Z
UID:10003372-1803549600-1803553200@taumarunui.co.nz
SUMMARY:Ruapehu Toy Library
DESCRIPTION:We are open on Thursday and Saturday during school terms \nSituated in the Taumarunui Arts Centre \nWe welcome any new members
URL:https://taumarunui.co.nz/event/ruapehu-toy-library/2027-02-25/
LOCATION:Taumarunui Arts Centre\, Hakiaha Street\, Taumarunui\, New Zealand
CATEGORIES:Children
ATTACH;FMTTYPE=image/jpeg:https://taumarunui.co.nz/wp-content/uploads/2024/10/IMG_8156-scaled.jpeg
END:VEVENT
BEGIN:VEVENT
DTSTART;TZID=Pacific/Auckland:20270226T100000
DTEND;TZID=Pacific/Auckland:20270226T120000
DTSTAMP:20260426T152024
CREATED:20241015T065559Z
LAST-MODIFIED:20241024T075928Z
UID:10005082-1803636000-1803643200@taumarunui.co.nz
SUMMARY:Creative Fibre Taumarunui
DESCRIPTION:Formerly Taumarunui Spinners & Weavers \nAre you interested in fibre crafts – spinning\, weaving\, knitting\, crocheting etc or learning one of these crafts? WE meet at the Ruapehu Community Arts Centre\, Taumarunui on the second and fourth Friday of each month
URL:https://taumarunui.co.nz/event/creative-fibre-taumarunui/2027-02-26/
LOCATION:Taumarunui Arts Centre\, Hakiaha Street\, Taumarunui\, New Zealand
CATEGORIES:Clubs
ATTACH;FMTTYPE=image/jpeg:https://taumarunui.co.nz/wp-content/uploads/2024/10/IMG_8155-1-scaled.jpeg
END:VEVENT
BEGIN:VEVENT
DTSTART;TZID=Pacific/Auckland:20270304T100000
DTEND;TZID=Pacific/Auckland:20270304T110000
DTSTAMP:20260426T152024
CREATED:20241015T061311Z
LAST-MODIFIED:20241025T022839Z
UID:10003373-1804154400-1804158000@taumarunui.co.nz
SUMMARY:Ruapehu Toy Library
DESCRIPTION:We are open on Thursday and Saturday during school terms \nSituated in the Taumarunui Arts Centre \nWe welcome any new members
URL:https://taumarunui.co.nz/event/ruapehu-toy-library/2027-03-04/
LOCATION:Taumarunui Arts Centre\, Hakiaha Street\, Taumarunui\, New Zealand
CATEGORIES:Children
ATTACH;FMTTYPE=image/jpeg:https://taumarunui.co.nz/wp-content/uploads/2024/10/IMG_8156-scaled.jpeg
END:VEVENT
BEGIN:VEVENT
DTSTART;TZID=Pacific/Auckland:20270311T100000
DTEND;TZID=Pacific/Auckland:20270311T110000
DTSTAMP:20260426T152024
CREATED:20241015T061311Z
LAST-MODIFIED:20241025T022839Z
UID:10003374-1804759200-1804762800@taumarunui.co.nz
SUMMARY:Ruapehu Toy Library
DESCRIPTION:We are open on Thursday and Saturday during school terms \nSituated in the Taumarunui Arts Centre \nWe welcome any new members
URL:https://taumarunui.co.nz/event/ruapehu-toy-library/2027-03-11/
LOCATION:Taumarunui Arts Centre\, Hakiaha Street\, Taumarunui\, New Zealand
CATEGORIES:Children
ATTACH;FMTTYPE=image/jpeg:https://taumarunui.co.nz/wp-content/uploads/2024/10/IMG_8156-scaled.jpeg
END:VEVENT
BEGIN:VEVENT
DTSTART;TZID=Pacific/Auckland:20270312T100000
DTEND;TZID=Pacific/Auckland:20270312T120000
DTSTAMP:20260426T152024
CREATED:20241015T065733Z
LAST-MODIFIED:20241015T065733Z
UID:10005022-1804845600-1804852800@taumarunui.co.nz
SUMMARY:Creative Fibre Taumarunui
DESCRIPTION:Formerly Taumarunui Spinners & Weavers \nAre you interested in fibre crafts – spinning\, weaving\, knitting\, crocheting etc or learning one of these crafts? WE meet at the Ruapehu Community Arts Centre\, Taumarunui on the second and fourth Friday of each month
URL:https://taumarunui.co.nz/event/creative-fibre-taumarunui-2/2027-03-12/
LOCATION:Taumarunui Arts Centre\, Hakiaha Street\, Taumarunui\, New Zealand
CATEGORIES:Clubs
END:VEVENT
BEGIN:VEVENT
DTSTART;TZID=Pacific/Auckland:20270318T100000
DTEND;TZID=Pacific/Auckland:20270318T110000
DTSTAMP:20260426T152024
CREATED:20241015T061311Z
LAST-MODIFIED:20241025T022839Z
UID:10003375-1805364000-1805367600@taumarunui.co.nz
SUMMARY:Ruapehu Toy Library
DESCRIPTION:We are open on Thursday and Saturday during school terms \nSituated in the Taumarunui Arts Centre \nWe welcome any new members
URL:https://taumarunui.co.nz/event/ruapehu-toy-library/2027-03-18/
LOCATION:Taumarunui Arts Centre\, Hakiaha Street\, Taumarunui\, New Zealand
CATEGORIES:Children
ATTACH;FMTTYPE=image/jpeg:https://taumarunui.co.nz/wp-content/uploads/2024/10/IMG_8156-scaled.jpeg
END:VEVENT
BEGIN:VEVENT
DTSTART;TZID=Pacific/Auckland:20270325T100000
DTEND;TZID=Pacific/Auckland:20270325T110000
DTSTAMP:20260426T152024
CREATED:20241015T061311Z
LAST-MODIFIED:20241025T022839Z
UID:10003376-1805968800-1805972400@taumarunui.co.nz
SUMMARY:Ruapehu Toy Library
DESCRIPTION:We are open on Thursday and Saturday during school terms \nSituated in the Taumarunui Arts Centre \nWe welcome any new members
URL:https://taumarunui.co.nz/event/ruapehu-toy-library/2027-03-25/
LOCATION:Taumarunui Arts Centre\, Hakiaha Street\, Taumarunui\, New Zealand
CATEGORIES:Children
ATTACH;FMTTYPE=image/jpeg:https://taumarunui.co.nz/wp-content/uploads/2024/10/IMG_8156-scaled.jpeg
END:VEVENT
BEGIN:VEVENT
DTSTART;TZID=Pacific/Auckland:20270326T100000
DTEND;TZID=Pacific/Auckland:20270326T120000
DTSTAMP:20260426T152024
CREATED:20241015T065559Z
LAST-MODIFIED:20241024T075928Z
UID:10005083-1806055200-1806062400@taumarunui.co.nz
SUMMARY:Creative Fibre Taumarunui
DESCRIPTION:Formerly Taumarunui Spinners & Weavers \nAre you interested in fibre crafts – spinning\, weaving\, knitting\, crocheting etc or learning one of these crafts? WE meet at the Ruapehu Community Arts Centre\, Taumarunui on the second and fourth Friday of each month
URL:https://taumarunui.co.nz/event/creative-fibre-taumarunui/2027-03-26/
LOCATION:Taumarunui Arts Centre\, Hakiaha Street\, Taumarunui\, New Zealand
CATEGORIES:Clubs
ATTACH;FMTTYPE=image/jpeg:https://taumarunui.co.nz/wp-content/uploads/2024/10/IMG_8155-1-scaled.jpeg
END:VEVENT
BEGIN:VEVENT
DTSTART;TZID=Pacific/Auckland:20270401T100000
DTEND;TZID=Pacific/Auckland:20270401T110000
DTSTAMP:20260426T152024
CREATED:20241015T061311Z
LAST-MODIFIED:20241025T022839Z
UID:10003377-1806573600-1806577200@taumarunui.co.nz
SUMMARY:Ruapehu Toy Library
DESCRIPTION:We are open on Thursday and Saturday during school terms \nSituated in the Taumarunui Arts Centre \nWe welcome any new members
URL:https://taumarunui.co.nz/event/ruapehu-toy-library/2027-04-01/
LOCATION:Taumarunui Arts Centre\, Hakiaha Street\, Taumarunui\, New Zealand
CATEGORIES:Children
ATTACH;FMTTYPE=image/jpeg:https://taumarunui.co.nz/wp-content/uploads/2024/10/IMG_8156-scaled.jpeg
END:VEVENT
BEGIN:VEVENT
DTSTART;TZID=Pacific/Auckland:20270408T100000
DTEND;TZID=Pacific/Auckland:20270408T110000
DTSTAMP:20260426T152024
CREATED:20241015T061311Z
LAST-MODIFIED:20241025T022839Z
UID:10003378-1807178400-1807182000@taumarunui.co.nz
SUMMARY:Ruapehu Toy Library
DESCRIPTION:We are open on Thursday and Saturday during school terms \nSituated in the Taumarunui Arts Centre \nWe welcome any new members
URL:https://taumarunui.co.nz/event/ruapehu-toy-library/2027-04-08/
LOCATION:Taumarunui Arts Centre\, Hakiaha Street\, Taumarunui\, New Zealand
CATEGORIES:Children
ATTACH;FMTTYPE=image/jpeg:https://taumarunui.co.nz/wp-content/uploads/2024/10/IMG_8156-scaled.jpeg
END:VEVENT
BEGIN:VEVENT
DTSTART;TZID=Pacific/Auckland:20270409T100000
DTEND;TZID=Pacific/Auckland:20270409T120000
DTSTAMP:20260426T152024
CREATED:20241015T065733Z
LAST-MODIFIED:20241015T065733Z
UID:10005023-1807264800-1807272000@taumarunui.co.nz
SUMMARY:Creative Fibre Taumarunui
DESCRIPTION:Formerly Taumarunui Spinners & Weavers \nAre you interested in fibre crafts – spinning\, weaving\, knitting\, crocheting etc or learning one of these crafts? WE meet at the Ruapehu Community Arts Centre\, Taumarunui on the second and fourth Friday of each month
URL:https://taumarunui.co.nz/event/creative-fibre-taumarunui-2/2027-04-09/
LOCATION:Taumarunui Arts Centre\, Hakiaha Street\, Taumarunui\, New Zealand
CATEGORIES:Clubs
END:VEVENT
BEGIN:VEVENT
DTSTART;TZID=Pacific/Auckland:20270415T100000
DTEND;TZID=Pacific/Auckland:20270415T110000
DTSTAMP:20260426T152024
CREATED:20241015T061311Z
LAST-MODIFIED:20241025T022839Z
UID:10003379-1807783200-1807786800@taumarunui.co.nz
SUMMARY:Ruapehu Toy Library
DESCRIPTION:We are open on Thursday and Saturday during school terms \nSituated in the Taumarunui Arts Centre \nWe welcome any new members
URL:https://taumarunui.co.nz/event/ruapehu-toy-library/2027-04-15/
LOCATION:Taumarunui Arts Centre\, Hakiaha Street\, Taumarunui\, New Zealand
CATEGORIES:Children
ATTACH;FMTTYPE=image/jpeg:https://taumarunui.co.nz/wp-content/uploads/2024/10/IMG_8156-scaled.jpeg
END:VEVENT
BEGIN:VEVENT
DTSTART;TZID=Pacific/Auckland:20270422T100000
DTEND;TZID=Pacific/Auckland:20270422T110000
DTSTAMP:20260426T152024
CREATED:20241015T061311Z
LAST-MODIFIED:20241025T022839Z
UID:10003380-1808388000-1808391600@taumarunui.co.nz
SUMMARY:Ruapehu Toy Library
DESCRIPTION:We are open on Thursday and Saturday during school terms \nSituated in the Taumarunui Arts Centre \nWe welcome any new members
URL:https://taumarunui.co.nz/event/ruapehu-toy-library/2027-04-22/
LOCATION:Taumarunui Arts Centre\, Hakiaha Street\, Taumarunui\, New Zealand
CATEGORIES:Children
ATTACH;FMTTYPE=image/jpeg:https://taumarunui.co.nz/wp-content/uploads/2024/10/IMG_8156-scaled.jpeg
END:VEVENT
BEGIN:VEVENT
DTSTART;TZID=Pacific/Auckland:20270423T100000
DTEND;TZID=Pacific/Auckland:20270423T120000
DTSTAMP:20260426T152024
CREATED:20241015T065559Z
LAST-MODIFIED:20241024T075928Z
UID:10005084-1808474400-1808481600@taumarunui.co.nz
SUMMARY:Creative Fibre Taumarunui
DESCRIPTION:Formerly Taumarunui Spinners & Weavers \nAre you interested in fibre crafts – spinning\, weaving\, knitting\, crocheting etc or learning one of these crafts? WE meet at the Ruapehu Community Arts Centre\, Taumarunui on the second and fourth Friday of each month
URL:https://taumarunui.co.nz/event/creative-fibre-taumarunui/2027-04-23/
LOCATION:Taumarunui Arts Centre\, Hakiaha Street\, Taumarunui\, New Zealand
CATEGORIES:Clubs
ATTACH;FMTTYPE=image/jpeg:https://taumarunui.co.nz/wp-content/uploads/2024/10/IMG_8155-1-scaled.jpeg
END:VEVENT
BEGIN:VEVENT
DTSTART;TZID=Pacific/Auckland:20270429T100000
DTEND;TZID=Pacific/Auckland:20270429T110000
DTSTAMP:20260426T152024
CREATED:20241015T061311Z
LAST-MODIFIED:20241025T022839Z
UID:10003381-1808992800-1808996400@taumarunui.co.nz
SUMMARY:Ruapehu Toy Library
DESCRIPTION:We are open on Thursday and Saturday during school terms \nSituated in the Taumarunui Arts Centre \nWe welcome any new members
URL:https://taumarunui.co.nz/event/ruapehu-toy-library/2027-04-29/
LOCATION:Taumarunui Arts Centre\, Hakiaha Street\, Taumarunui\, New Zealand
CATEGORIES:Children
ATTACH;FMTTYPE=image/jpeg:https://taumarunui.co.nz/wp-content/uploads/2024/10/IMG_8156-scaled.jpeg
END:VEVENT
BEGIN:VEVENT
DTSTART;TZID=Pacific/Auckland:20270506T100000
DTEND;TZID=Pacific/Auckland:20270506T110000
DTSTAMP:20260426T152024
CREATED:20241015T061311Z
LAST-MODIFIED:20241025T022839Z
UID:10003382-1809597600-1809601200@taumarunui.co.nz
SUMMARY:Ruapehu Toy Library
DESCRIPTION:We are open on Thursday and Saturday during school terms \nSituated in the Taumarunui Arts Centre \nWe welcome any new members
URL:https://taumarunui.co.nz/event/ruapehu-toy-library/2027-05-06/
LOCATION:Taumarunui Arts Centre\, Hakiaha Street\, Taumarunui\, New Zealand
CATEGORIES:Children
ATTACH;FMTTYPE=image/jpeg:https://taumarunui.co.nz/wp-content/uploads/2024/10/IMG_8156-scaled.jpeg
END:VEVENT
END:VCALENDAR