BEGIN:VCALENDAR
VERSION:2.0
PRODID:-//Taumarunui - ECPv6.15.16//NONSGML v1.0//EN
CALSCALE:GREGORIAN
METHOD:PUBLISH
X-ORIGINAL-URL:https://taumarunui.co.nz
X-WR-CALDESC:Events for Taumarunui
REFRESH-INTERVAL;VALUE=DURATION:PT1H
X-Robots-Tag:noindex
X-PUBLISHED-TTL:PT1H
BEGIN:VTIMEZONE
TZID:Pacific/Auckland
BEGIN:STANDARD
TZOFFSETFROM:+1300
TZOFFSETTO:+1200
TZNAME:NZST
DTSTART:20250405T140000
END:STANDARD
BEGIN:DAYLIGHT
TZOFFSETFROM:+1200
TZOFFSETTO:+1300
TZNAME:NZDT
DTSTART:20250927T140000
END:DAYLIGHT
BEGIN:STANDARD
TZOFFSETFROM:+1300
TZOFFSETTO:+1200
TZNAME:NZST
DTSTART:20260404T140000
END:STANDARD
BEGIN:DAYLIGHT
TZOFFSETFROM:+1200
TZOFFSETTO:+1300
TZNAME:NZDT
DTSTART:20260926T140000
END:DAYLIGHT
BEGIN:STANDARD
TZOFFSETFROM:+1300
TZOFFSETTO:+1200
TZNAME:NZST
DTSTART:20270403T140000
END:STANDARD
BEGIN:DAYLIGHT
TZOFFSETFROM:+1200
TZOFFSETTO:+1300
TZNAME:NZDT
DTSTART:20270925T140000
END:DAYLIGHT
END:VTIMEZONE
BEGIN:VEVENT
DTSTART;TZID=Pacific/Auckland:20260618T100000
DTEND;TZID=Pacific/Auckland:20260618T110000
DTSTAMP:20260421T073450
CREATED:20241015T061311Z
LAST-MODIFIED:20241025T022839Z
UID:10003336-1781776800-1781780400@taumarunui.co.nz
SUMMARY:Ruapehu Toy Library
DESCRIPTION:We are open on Thursday and Saturday during school terms \nSituated in the Taumarunui Arts Centre \nWe welcome any new members
URL:https://taumarunui.co.nz/event/ruapehu-toy-library/2026-06-18/
LOCATION:Taumarunui Arts Centre\, Hakiaha Street\, Taumarunui\, New Zealand
CATEGORIES:Children
ATTACH;FMTTYPE=image/jpeg:https://taumarunui.co.nz/wp-content/uploads/2024/10/IMG_8156-scaled.jpeg
END:VEVENT
BEGIN:VEVENT
DTSTART;TZID=Pacific/Auckland:20260625T100000
DTEND;TZID=Pacific/Auckland:20260625T110000
DTSTAMP:20260421T073450
CREATED:20241015T061311Z
LAST-MODIFIED:20241025T022839Z
UID:10003337-1782381600-1782385200@taumarunui.co.nz
SUMMARY:Ruapehu Toy Library
DESCRIPTION:We are open on Thursday and Saturday during school terms \nSituated in the Taumarunui Arts Centre \nWe welcome any new members
URL:https://taumarunui.co.nz/event/ruapehu-toy-library/2026-06-25/
LOCATION:Taumarunui Arts Centre\, Hakiaha Street\, Taumarunui\, New Zealand
CATEGORIES:Children
ATTACH;FMTTYPE=image/jpeg:https://taumarunui.co.nz/wp-content/uploads/2024/10/IMG_8156-scaled.jpeg
END:VEVENT
BEGIN:VEVENT
DTSTART;TZID=Pacific/Auckland:20260626T100000
DTEND;TZID=Pacific/Auckland:20260626T120000
DTSTAMP:20260421T073450
CREATED:20241015T065559Z
LAST-MODIFIED:20241024T075928Z
UID:10005074-1782468000-1782475200@taumarunui.co.nz
SUMMARY:Creative Fibre Taumarunui
DESCRIPTION:Formerly Taumarunui Spinners & Weavers \nAre you interested in fibre crafts – spinning\, weaving\, knitting\, crocheting etc or learning one of these crafts? WE meet at the Ruapehu Community Arts Centre\, Taumarunui on the second and fourth Friday of each month
URL:https://taumarunui.co.nz/event/creative-fibre-taumarunui/2026-06-26/
LOCATION:Taumarunui Arts Centre\, Hakiaha Street\, Taumarunui\, New Zealand
CATEGORIES:Clubs
ATTACH;FMTTYPE=image/jpeg:https://taumarunui.co.nz/wp-content/uploads/2024/10/IMG_8155-1-scaled.jpeg
END:VEVENT
BEGIN:VEVENT
DTSTART;TZID=Pacific/Auckland:20260702T100000
DTEND;TZID=Pacific/Auckland:20260702T110000
DTSTAMP:20260421T073450
CREATED:20241015T061311Z
LAST-MODIFIED:20241025T022839Z
UID:10003338-1782986400-1782990000@taumarunui.co.nz
SUMMARY:Ruapehu Toy Library
DESCRIPTION:We are open on Thursday and Saturday during school terms \nSituated in the Taumarunui Arts Centre \nWe welcome any new members
URL:https://taumarunui.co.nz/event/ruapehu-toy-library/2026-07-02/
LOCATION:Taumarunui Arts Centre\, Hakiaha Street\, Taumarunui\, New Zealand
CATEGORIES:Children
ATTACH;FMTTYPE=image/jpeg:https://taumarunui.co.nz/wp-content/uploads/2024/10/IMG_8156-scaled.jpeg
END:VEVENT
BEGIN:VEVENT
DTSTART;TZID=Pacific/Auckland:20260709T100000
DTEND;TZID=Pacific/Auckland:20260709T110000
DTSTAMP:20260421T073450
CREATED:20241015T061311Z
LAST-MODIFIED:20241025T022839Z
UID:10003339-1783591200-1783594800@taumarunui.co.nz
SUMMARY:Ruapehu Toy Library
DESCRIPTION:We are open on Thursday and Saturday during school terms \nSituated in the Taumarunui Arts Centre \nWe welcome any new members
URL:https://taumarunui.co.nz/event/ruapehu-toy-library/2026-07-09/
LOCATION:Taumarunui Arts Centre\, Hakiaha Street\, Taumarunui\, New Zealand
CATEGORIES:Children
ATTACH;FMTTYPE=image/jpeg:https://taumarunui.co.nz/wp-content/uploads/2024/10/IMG_8156-scaled.jpeg
END:VEVENT
BEGIN:VEVENT
DTSTART;TZID=Pacific/Auckland:20260710T100000
DTEND;TZID=Pacific/Auckland:20260710T120000
DTSTAMP:20260421T073450
CREATED:20241015T065733Z
LAST-MODIFIED:20241015T065733Z
UID:10005014-1783677600-1783684800@taumarunui.co.nz
SUMMARY:Creative Fibre Taumarunui
DESCRIPTION:Formerly Taumarunui Spinners & Weavers \nAre you interested in fibre crafts – spinning\, weaving\, knitting\, crocheting etc or learning one of these crafts? WE meet at the Ruapehu Community Arts Centre\, Taumarunui on the second and fourth Friday of each month
URL:https://taumarunui.co.nz/event/creative-fibre-taumarunui-2/2026-07-10/
LOCATION:Taumarunui Arts Centre\, Hakiaha Street\, Taumarunui\, New Zealand
CATEGORIES:Clubs
END:VEVENT
BEGIN:VEVENT
DTSTART;TZID=Pacific/Auckland:20260716T100000
DTEND;TZID=Pacific/Auckland:20260716T110000
DTSTAMP:20260421T073450
CREATED:20241015T061311Z
LAST-MODIFIED:20241025T022839Z
UID:10003340-1784196000-1784199600@taumarunui.co.nz
SUMMARY:Ruapehu Toy Library
DESCRIPTION:We are open on Thursday and Saturday during school terms \nSituated in the Taumarunui Arts Centre \nWe welcome any new members
URL:https://taumarunui.co.nz/event/ruapehu-toy-library/2026-07-16/
LOCATION:Taumarunui Arts Centre\, Hakiaha Street\, Taumarunui\, New Zealand
CATEGORIES:Children
ATTACH;FMTTYPE=image/jpeg:https://taumarunui.co.nz/wp-content/uploads/2024/10/IMG_8156-scaled.jpeg
END:VEVENT
BEGIN:VEVENT
DTSTART;TZID=Pacific/Auckland:20260723T100000
DTEND;TZID=Pacific/Auckland:20260723T110000
DTSTAMP:20260421T073450
CREATED:20241015T061311Z
LAST-MODIFIED:20241025T022839Z
UID:10003341-1784800800-1784804400@taumarunui.co.nz
SUMMARY:Ruapehu Toy Library
DESCRIPTION:We are open on Thursday and Saturday during school terms \nSituated in the Taumarunui Arts Centre \nWe welcome any new members
URL:https://taumarunui.co.nz/event/ruapehu-toy-library/2026-07-23/
LOCATION:Taumarunui Arts Centre\, Hakiaha Street\, Taumarunui\, New Zealand
CATEGORIES:Children
ATTACH;FMTTYPE=image/jpeg:https://taumarunui.co.nz/wp-content/uploads/2024/10/IMG_8156-scaled.jpeg
END:VEVENT
BEGIN:VEVENT
DTSTART;TZID=Pacific/Auckland:20260724T100000
DTEND;TZID=Pacific/Auckland:20260724T120000
DTSTAMP:20260421T073450
CREATED:20241015T065559Z
LAST-MODIFIED:20241024T075928Z
UID:10005075-1784887200-1784894400@taumarunui.co.nz
SUMMARY:Creative Fibre Taumarunui
DESCRIPTION:Formerly Taumarunui Spinners & Weavers \nAre you interested in fibre crafts – spinning\, weaving\, knitting\, crocheting etc or learning one of these crafts? WE meet at the Ruapehu Community Arts Centre\, Taumarunui on the second and fourth Friday of each month
URL:https://taumarunui.co.nz/event/creative-fibre-taumarunui/2026-07-24/
LOCATION:Taumarunui Arts Centre\, Hakiaha Street\, Taumarunui\, New Zealand
CATEGORIES:Clubs
ATTACH;FMTTYPE=image/jpeg:https://taumarunui.co.nz/wp-content/uploads/2024/10/IMG_8155-1-scaled.jpeg
END:VEVENT
BEGIN:VEVENT
DTSTART;TZID=Pacific/Auckland:20260730T100000
DTEND;TZID=Pacific/Auckland:20260730T110000
DTSTAMP:20260421T073450
CREATED:20241015T061311Z
LAST-MODIFIED:20241025T022839Z
UID:10003342-1785405600-1785409200@taumarunui.co.nz
SUMMARY:Ruapehu Toy Library
DESCRIPTION:We are open on Thursday and Saturday during school terms \nSituated in the Taumarunui Arts Centre \nWe welcome any new members
URL:https://taumarunui.co.nz/event/ruapehu-toy-library/2026-07-30/
LOCATION:Taumarunui Arts Centre\, Hakiaha Street\, Taumarunui\, New Zealand
CATEGORIES:Children
ATTACH;FMTTYPE=image/jpeg:https://taumarunui.co.nz/wp-content/uploads/2024/10/IMG_8156-scaled.jpeg
END:VEVENT
BEGIN:VEVENT
DTSTART;TZID=Pacific/Auckland:20260806T100000
DTEND;TZID=Pacific/Auckland:20260806T110000
DTSTAMP:20260421T073450
CREATED:20241015T061311Z
LAST-MODIFIED:20241025T022839Z
UID:10003343-1786010400-1786014000@taumarunui.co.nz
SUMMARY:Ruapehu Toy Library
DESCRIPTION:We are open on Thursday and Saturday during school terms \nSituated in the Taumarunui Arts Centre \nWe welcome any new members
URL:https://taumarunui.co.nz/event/ruapehu-toy-library/2026-08-06/
LOCATION:Taumarunui Arts Centre\, Hakiaha Street\, Taumarunui\, New Zealand
CATEGORIES:Children
ATTACH;FMTTYPE=image/jpeg:https://taumarunui.co.nz/wp-content/uploads/2024/10/IMG_8156-scaled.jpeg
END:VEVENT
BEGIN:VEVENT
DTSTART;TZID=Pacific/Auckland:20260813T100000
DTEND;TZID=Pacific/Auckland:20260813T110000
DTSTAMP:20260421T073450
CREATED:20241015T061311Z
LAST-MODIFIED:20241025T022839Z
UID:10003344-1786615200-1786618800@taumarunui.co.nz
SUMMARY:Ruapehu Toy Library
DESCRIPTION:We are open on Thursday and Saturday during school terms \nSituated in the Taumarunui Arts Centre \nWe welcome any new members
URL:https://taumarunui.co.nz/event/ruapehu-toy-library/2026-08-13/
LOCATION:Taumarunui Arts Centre\, Hakiaha Street\, Taumarunui\, New Zealand
CATEGORIES:Children
ATTACH;FMTTYPE=image/jpeg:https://taumarunui.co.nz/wp-content/uploads/2024/10/IMG_8156-scaled.jpeg
END:VEVENT
BEGIN:VEVENT
DTSTART;TZID=Pacific/Auckland:20260814T100000
DTEND;TZID=Pacific/Auckland:20260814T120000
DTSTAMP:20260421T073450
CREATED:20241015T065733Z
LAST-MODIFIED:20241015T065733Z
UID:10005015-1786701600-1786708800@taumarunui.co.nz
SUMMARY:Creative Fibre Taumarunui
DESCRIPTION:Formerly Taumarunui Spinners & Weavers \nAre you interested in fibre crafts – spinning\, weaving\, knitting\, crocheting etc or learning one of these crafts? WE meet at the Ruapehu Community Arts Centre\, Taumarunui on the second and fourth Friday of each month
URL:https://taumarunui.co.nz/event/creative-fibre-taumarunui-2/2026-08-14/
LOCATION:Taumarunui Arts Centre\, Hakiaha Street\, Taumarunui\, New Zealand
CATEGORIES:Clubs
END:VEVENT
BEGIN:VEVENT
DTSTART;TZID=Pacific/Auckland:20260820T100000
DTEND;TZID=Pacific/Auckland:20260820T110000
DTSTAMP:20260421T073450
CREATED:20241015T061311Z
LAST-MODIFIED:20241025T022839Z
UID:10003345-1787220000-1787223600@taumarunui.co.nz
SUMMARY:Ruapehu Toy Library
DESCRIPTION:We are open on Thursday and Saturday during school terms \nSituated in the Taumarunui Arts Centre \nWe welcome any new members
URL:https://taumarunui.co.nz/event/ruapehu-toy-library/2026-08-20/
LOCATION:Taumarunui Arts Centre\, Hakiaha Street\, Taumarunui\, New Zealand
CATEGORIES:Children
ATTACH;FMTTYPE=image/jpeg:https://taumarunui.co.nz/wp-content/uploads/2024/10/IMG_8156-scaled.jpeg
END:VEVENT
BEGIN:VEVENT
DTSTART;TZID=Pacific/Auckland:20260827T100000
DTEND;TZID=Pacific/Auckland:20260827T110000
DTSTAMP:20260421T073450
CREATED:20241015T061311Z
LAST-MODIFIED:20241025T022839Z
UID:10003346-1787824800-1787828400@taumarunui.co.nz
SUMMARY:Ruapehu Toy Library
DESCRIPTION:We are open on Thursday and Saturday during school terms \nSituated in the Taumarunui Arts Centre \nWe welcome any new members
URL:https://taumarunui.co.nz/event/ruapehu-toy-library/2026-08-27/
LOCATION:Taumarunui Arts Centre\, Hakiaha Street\, Taumarunui\, New Zealand
CATEGORIES:Children
ATTACH;FMTTYPE=image/jpeg:https://taumarunui.co.nz/wp-content/uploads/2024/10/IMG_8156-scaled.jpeg
END:VEVENT
BEGIN:VEVENT
DTSTART;TZID=Pacific/Auckland:20260828T100000
DTEND;TZID=Pacific/Auckland:20260828T120000
DTSTAMP:20260421T073450
CREATED:20241015T065559Z
LAST-MODIFIED:20241024T075928Z
UID:10005076-1787911200-1787918400@taumarunui.co.nz
SUMMARY:Creative Fibre Taumarunui
DESCRIPTION:Formerly Taumarunui Spinners & Weavers \nAre you interested in fibre crafts – spinning\, weaving\, knitting\, crocheting etc or learning one of these crafts? WE meet at the Ruapehu Community Arts Centre\, Taumarunui on the second and fourth Friday of each month
URL:https://taumarunui.co.nz/event/creative-fibre-taumarunui/2026-08-28/
LOCATION:Taumarunui Arts Centre\, Hakiaha Street\, Taumarunui\, New Zealand
CATEGORIES:Clubs
ATTACH;FMTTYPE=image/jpeg:https://taumarunui.co.nz/wp-content/uploads/2024/10/IMG_8155-1-scaled.jpeg
END:VEVENT
BEGIN:VEVENT
DTSTART;TZID=Pacific/Auckland:20260903T100000
DTEND;TZID=Pacific/Auckland:20260903T110000
DTSTAMP:20260421T073450
CREATED:20241015T061311Z
LAST-MODIFIED:20241025T022839Z
UID:10003347-1788429600-1788433200@taumarunui.co.nz
SUMMARY:Ruapehu Toy Library
DESCRIPTION:We are open on Thursday and Saturday during school terms \nSituated in the Taumarunui Arts Centre \nWe welcome any new members
URL:https://taumarunui.co.nz/event/ruapehu-toy-library/2026-09-03/
LOCATION:Taumarunui Arts Centre\, Hakiaha Street\, Taumarunui\, New Zealand
CATEGORIES:Children
ATTACH;FMTTYPE=image/jpeg:https://taumarunui.co.nz/wp-content/uploads/2024/10/IMG_8156-scaled.jpeg
END:VEVENT
BEGIN:VEVENT
DTSTART;TZID=Pacific/Auckland:20260910T100000
DTEND;TZID=Pacific/Auckland:20260910T110000
DTSTAMP:20260421T073450
CREATED:20241015T061311Z
LAST-MODIFIED:20241025T022839Z
UID:10003348-1789034400-1789038000@taumarunui.co.nz
SUMMARY:Ruapehu Toy Library
DESCRIPTION:We are open on Thursday and Saturday during school terms \nSituated in the Taumarunui Arts Centre \nWe welcome any new members
URL:https://taumarunui.co.nz/event/ruapehu-toy-library/2026-09-10/
LOCATION:Taumarunui Arts Centre\, Hakiaha Street\, Taumarunui\, New Zealand
CATEGORIES:Children
ATTACH;FMTTYPE=image/jpeg:https://taumarunui.co.nz/wp-content/uploads/2024/10/IMG_8156-scaled.jpeg
END:VEVENT
BEGIN:VEVENT
DTSTART;TZID=Pacific/Auckland:20260911T100000
DTEND;TZID=Pacific/Auckland:20260911T120000
DTSTAMP:20260421T073450
CREATED:20241015T065733Z
LAST-MODIFIED:20241015T065733Z
UID:10005016-1789120800-1789128000@taumarunui.co.nz
SUMMARY:Creative Fibre Taumarunui
DESCRIPTION:Formerly Taumarunui Spinners & Weavers \nAre you interested in fibre crafts – spinning\, weaving\, knitting\, crocheting etc or learning one of these crafts? WE meet at the Ruapehu Community Arts Centre\, Taumarunui on the second and fourth Friday of each month
URL:https://taumarunui.co.nz/event/creative-fibre-taumarunui-2/2026-09-11/
LOCATION:Taumarunui Arts Centre\, Hakiaha Street\, Taumarunui\, New Zealand
CATEGORIES:Clubs
END:VEVENT
BEGIN:VEVENT
DTSTART;TZID=Pacific/Auckland:20260917T100000
DTEND;TZID=Pacific/Auckland:20260917T110000
DTSTAMP:20260421T073450
CREATED:20241015T061311Z
LAST-MODIFIED:20241025T022839Z
UID:10003349-1789639200-1789642800@taumarunui.co.nz
SUMMARY:Ruapehu Toy Library
DESCRIPTION:We are open on Thursday and Saturday during school terms \nSituated in the Taumarunui Arts Centre \nWe welcome any new members
URL:https://taumarunui.co.nz/event/ruapehu-toy-library/2026-09-17/
LOCATION:Taumarunui Arts Centre\, Hakiaha Street\, Taumarunui\, New Zealand
CATEGORIES:Children
ATTACH;FMTTYPE=image/jpeg:https://taumarunui.co.nz/wp-content/uploads/2024/10/IMG_8156-scaled.jpeg
END:VEVENT
BEGIN:VEVENT
DTSTART;TZID=Pacific/Auckland:20260924T100000
DTEND;TZID=Pacific/Auckland:20260924T110000
DTSTAMP:20260421T073450
CREATED:20241015T061311Z
LAST-MODIFIED:20241025T022839Z
UID:10003350-1790244000-1790247600@taumarunui.co.nz
SUMMARY:Ruapehu Toy Library
DESCRIPTION:We are open on Thursday and Saturday during school terms \nSituated in the Taumarunui Arts Centre \nWe welcome any new members
URL:https://taumarunui.co.nz/event/ruapehu-toy-library/2026-09-24/
LOCATION:Taumarunui Arts Centre\, Hakiaha Street\, Taumarunui\, New Zealand
CATEGORIES:Children
ATTACH;FMTTYPE=image/jpeg:https://taumarunui.co.nz/wp-content/uploads/2024/10/IMG_8156-scaled.jpeg
END:VEVENT
BEGIN:VEVENT
DTSTART;TZID=Pacific/Auckland:20260925T100000
DTEND;TZID=Pacific/Auckland:20260925T120000
DTSTAMP:20260421T073450
CREATED:20241015T065559Z
LAST-MODIFIED:20241024T075928Z
UID:10005077-1790330400-1790337600@taumarunui.co.nz
SUMMARY:Creative Fibre Taumarunui
DESCRIPTION:Formerly Taumarunui Spinners & Weavers \nAre you interested in fibre crafts – spinning\, weaving\, knitting\, crocheting etc or learning one of these crafts? WE meet at the Ruapehu Community Arts Centre\, Taumarunui on the second and fourth Friday of each month
URL:https://taumarunui.co.nz/event/creative-fibre-taumarunui/2026-09-25/
LOCATION:Taumarunui Arts Centre\, Hakiaha Street\, Taumarunui\, New Zealand
CATEGORIES:Clubs
ATTACH;FMTTYPE=image/jpeg:https://taumarunui.co.nz/wp-content/uploads/2024/10/IMG_8155-1-scaled.jpeg
END:VEVENT
BEGIN:VEVENT
DTSTART;TZID=Pacific/Auckland:20261001T100000
DTEND;TZID=Pacific/Auckland:20261001T110000
DTSTAMP:20260421T073450
CREATED:20241015T061311Z
LAST-MODIFIED:20241025T022839Z
UID:10003351-1790848800-1790852400@taumarunui.co.nz
SUMMARY:Ruapehu Toy Library
DESCRIPTION:We are open on Thursday and Saturday during school terms \nSituated in the Taumarunui Arts Centre \nWe welcome any new members
URL:https://taumarunui.co.nz/event/ruapehu-toy-library/2026-10-01/
LOCATION:Taumarunui Arts Centre\, Hakiaha Street\, Taumarunui\, New Zealand
CATEGORIES:Children
ATTACH;FMTTYPE=image/jpeg:https://taumarunui.co.nz/wp-content/uploads/2024/10/IMG_8156-scaled.jpeg
END:VEVENT
BEGIN:VEVENT
DTSTART;TZID=Pacific/Auckland:20261008T100000
DTEND;TZID=Pacific/Auckland:20261008T110000
DTSTAMP:20260421T073450
CREATED:20241015T061311Z
LAST-MODIFIED:20241025T022839Z
UID:10003352-1791453600-1791457200@taumarunui.co.nz
SUMMARY:Ruapehu Toy Library
DESCRIPTION:We are open on Thursday and Saturday during school terms \nSituated in the Taumarunui Arts Centre \nWe welcome any new members
URL:https://taumarunui.co.nz/event/ruapehu-toy-library/2026-10-08/
LOCATION:Taumarunui Arts Centre\, Hakiaha Street\, Taumarunui\, New Zealand
CATEGORIES:Children
ATTACH;FMTTYPE=image/jpeg:https://taumarunui.co.nz/wp-content/uploads/2024/10/IMG_8156-scaled.jpeg
END:VEVENT
BEGIN:VEVENT
DTSTART;TZID=Pacific/Auckland:20261009T100000
DTEND;TZID=Pacific/Auckland:20261009T120000
DTSTAMP:20260421T073450
CREATED:20241015T065733Z
LAST-MODIFIED:20241015T065733Z
UID:10005017-1791540000-1791547200@taumarunui.co.nz
SUMMARY:Creative Fibre Taumarunui
DESCRIPTION:Formerly Taumarunui Spinners & Weavers \nAre you interested in fibre crafts – spinning\, weaving\, knitting\, crocheting etc or learning one of these crafts? WE meet at the Ruapehu Community Arts Centre\, Taumarunui on the second and fourth Friday of each month
URL:https://taumarunui.co.nz/event/creative-fibre-taumarunui-2/2026-10-09/
LOCATION:Taumarunui Arts Centre\, Hakiaha Street\, Taumarunui\, New Zealand
CATEGORIES:Clubs
END:VEVENT
BEGIN:VEVENT
DTSTART;TZID=Pacific/Auckland:20261015T100000
DTEND;TZID=Pacific/Auckland:20261015T110000
DTSTAMP:20260421T073450
CREATED:20241015T061311Z
LAST-MODIFIED:20241025T022839Z
UID:10003353-1792058400-1792062000@taumarunui.co.nz
SUMMARY:Ruapehu Toy Library
DESCRIPTION:We are open on Thursday and Saturday during school terms \nSituated in the Taumarunui Arts Centre \nWe welcome any new members
URL:https://taumarunui.co.nz/event/ruapehu-toy-library/2026-10-15/
LOCATION:Taumarunui Arts Centre\, Hakiaha Street\, Taumarunui\, New Zealand
CATEGORIES:Children
ATTACH;FMTTYPE=image/jpeg:https://taumarunui.co.nz/wp-content/uploads/2024/10/IMG_8156-scaled.jpeg
END:VEVENT
BEGIN:VEVENT
DTSTART;TZID=Pacific/Auckland:20261022T100000
DTEND;TZID=Pacific/Auckland:20261022T110000
DTSTAMP:20260421T073450
CREATED:20241015T061311Z
LAST-MODIFIED:20241025T022839Z
UID:10003354-1792663200-1792666800@taumarunui.co.nz
SUMMARY:Ruapehu Toy Library
DESCRIPTION:We are open on Thursday and Saturday during school terms \nSituated in the Taumarunui Arts Centre \nWe welcome any new members
URL:https://taumarunui.co.nz/event/ruapehu-toy-library/2026-10-22/
LOCATION:Taumarunui Arts Centre\, Hakiaha Street\, Taumarunui\, New Zealand
CATEGORIES:Children
ATTACH;FMTTYPE=image/jpeg:https://taumarunui.co.nz/wp-content/uploads/2024/10/IMG_8156-scaled.jpeg
END:VEVENT
BEGIN:VEVENT
DTSTART;TZID=Pacific/Auckland:20261023T100000
DTEND;TZID=Pacific/Auckland:20261023T120000
DTSTAMP:20260421T073450
CREATED:20241015T065559Z
LAST-MODIFIED:20241024T075928Z
UID:10005078-1792749600-1792756800@taumarunui.co.nz
SUMMARY:Creative Fibre Taumarunui
DESCRIPTION:Formerly Taumarunui Spinners & Weavers \nAre you interested in fibre crafts – spinning\, weaving\, knitting\, crocheting etc or learning one of these crafts? WE meet at the Ruapehu Community Arts Centre\, Taumarunui on the second and fourth Friday of each month
URL:https://taumarunui.co.nz/event/creative-fibre-taumarunui/2026-10-23/
LOCATION:Taumarunui Arts Centre\, Hakiaha Street\, Taumarunui\, New Zealand
CATEGORIES:Clubs
ATTACH;FMTTYPE=image/jpeg:https://taumarunui.co.nz/wp-content/uploads/2024/10/IMG_8155-1-scaled.jpeg
END:VEVENT
BEGIN:VEVENT
DTSTART;TZID=Pacific/Auckland:20261029T100000
DTEND;TZID=Pacific/Auckland:20261029T110000
DTSTAMP:20260421T073450
CREATED:20241015T061311Z
LAST-MODIFIED:20241025T022839Z
UID:10003355-1793268000-1793271600@taumarunui.co.nz
SUMMARY:Ruapehu Toy Library
DESCRIPTION:We are open on Thursday and Saturday during school terms \nSituated in the Taumarunui Arts Centre \nWe welcome any new members
URL:https://taumarunui.co.nz/event/ruapehu-toy-library/2026-10-29/
LOCATION:Taumarunui Arts Centre\, Hakiaha Street\, Taumarunui\, New Zealand
CATEGORIES:Children
ATTACH;FMTTYPE=image/jpeg:https://taumarunui.co.nz/wp-content/uploads/2024/10/IMG_8156-scaled.jpeg
END:VEVENT
BEGIN:VEVENT
DTSTART;TZID=Pacific/Auckland:20261105T100000
DTEND;TZID=Pacific/Auckland:20261105T110000
DTSTAMP:20260421T073450
CREATED:20241015T061311Z
LAST-MODIFIED:20241025T022839Z
UID:10003356-1793872800-1793876400@taumarunui.co.nz
SUMMARY:Ruapehu Toy Library
DESCRIPTION:We are open on Thursday and Saturday during school terms \nSituated in the Taumarunui Arts Centre \nWe welcome any new members
URL:https://taumarunui.co.nz/event/ruapehu-toy-library/2026-11-05/
LOCATION:Taumarunui Arts Centre\, Hakiaha Street\, Taumarunui\, New Zealand
CATEGORIES:Children
ATTACH;FMTTYPE=image/jpeg:https://taumarunui.co.nz/wp-content/uploads/2024/10/IMG_8156-scaled.jpeg
END:VEVENT
END:VCALENDAR