BEGIN:VCALENDAR
VERSION:2.0
PRODID:-//Taumarunui - ECPv6.15.16//NONSGML v1.0//EN
CALSCALE:GREGORIAN
METHOD:PUBLISH
X-WR-CALNAME:Taumarunui
X-ORIGINAL-URL:https://taumarunui.co.nz
X-WR-CALDESC:Events for Taumarunui
REFRESH-INTERVAL;VALUE=DURATION:PT1H
X-Robots-Tag:noindex
X-PUBLISHED-TTL:PT1H
BEGIN:VTIMEZONE
TZID:Pacific/Auckland
BEGIN:STANDARD
TZOFFSETFROM:+1300
TZOFFSETTO:+1200
TZNAME:NZST
DTSTART:20230401T140000
END:STANDARD
BEGIN:DAYLIGHT
TZOFFSETFROM:+1200
TZOFFSETTO:+1300
TZNAME:NZDT
DTSTART:20230923T140000
END:DAYLIGHT
BEGIN:STANDARD
TZOFFSETFROM:+1300
TZOFFSETTO:+1200
TZNAME:NZST
DTSTART:20240406T140000
END:STANDARD
BEGIN:DAYLIGHT
TZOFFSETFROM:+1200
TZOFFSETTO:+1300
TZNAME:NZDT
DTSTART:20240928T140000
END:DAYLIGHT
BEGIN:STANDARD
TZOFFSETFROM:+1300
TZOFFSETTO:+1200
TZNAME:NZST
DTSTART:20250405T140000
END:STANDARD
BEGIN:DAYLIGHT
TZOFFSETFROM:+1200
TZOFFSETTO:+1300
TZNAME:NZDT
DTSTART:20250927T140000
END:DAYLIGHT
BEGIN:STANDARD
TZOFFSETFROM:+1300
TZOFFSETTO:+1200
TZNAME:NZST
DTSTART:20260404T140000
END:STANDARD
BEGIN:DAYLIGHT
TZOFFSETFROM:+1200
TZOFFSETTO:+1300
TZNAME:NZDT
DTSTART:20260926T140000
END:DAYLIGHT
END:VTIMEZONE
BEGIN:VEVENT
DTSTART;TZID=Pacific/Auckland:20250303T000000
DTEND;TZID=Pacific/Auckland:20250303T000000
DTSTAMP:20260421T224459
CREATED:20241015T070524Z
LAST-MODIFIED:20241015T070556Z
UID:10005192-1740960000-1740960000@taumarunui.co.nz
SUMMARY:Ruapehu Quiltmakers
DESCRIPTION:Meet at St Paul’s Church Hall every Monday\, alternating day meetings (9.30am-1.30pm) and night meetings (2-5.30pm)
URL:https://taumarunui.co.nz/event/ruapehu-quiltmakers/2025-03-03/
LOCATION:St Pauls Church\, Marae Street\, Taumarunui\, 3920\, New Zealand
CATEGORIES:Clubs
GEO:-38.8848957;175.261395
X-APPLE-STRUCTURED-LOCATION;VALUE=URI;X-ADDRESS=St Pauls Church Marae Street Taumarunui 3920 New Zealand;X-APPLE-RADIUS=500;X-TITLE=Marae Street:geo:175.261395,-38.8848957
END:VEVENT
BEGIN:VEVENT
DTSTART;TZID=Pacific/Auckland:20250224T000000
DTEND;TZID=Pacific/Auckland:20250224T000000
DTSTAMP:20260421T224459
CREATED:20241015T070524Z
LAST-MODIFIED:20241015T070556Z
UID:10005191-1740355200-1740355200@taumarunui.co.nz
SUMMARY:Ruapehu Quiltmakers
DESCRIPTION:Meet at St Paul’s Church Hall every Monday\, alternating day meetings (9.30am-1.30pm) and night meetings (2-5.30pm)
URL:https://taumarunui.co.nz/event/ruapehu-quiltmakers/2025-02-24/
LOCATION:St Pauls Church\, Marae Street\, Taumarunui\, 3920\, New Zealand
CATEGORIES:Clubs
GEO:-38.8848957;175.261395
X-APPLE-STRUCTURED-LOCATION;VALUE=URI;X-ADDRESS=St Pauls Church Marae Street Taumarunui 3920 New Zealand;X-APPLE-RADIUS=500;X-TITLE=Marae Street:geo:175.261395,-38.8848957
END:VEVENT
BEGIN:VEVENT
DTSTART;TZID=Pacific/Auckland:20250217T000000
DTEND;TZID=Pacific/Auckland:20250217T000000
DTSTAMP:20260421T224459
CREATED:20241015T070524Z
LAST-MODIFIED:20241015T070556Z
UID:10005190-1739750400-1739750400@taumarunui.co.nz
SUMMARY:Ruapehu Quiltmakers
DESCRIPTION:Meet at St Paul’s Church Hall every Monday\, alternating day meetings (9.30am-1.30pm) and night meetings (2-5.30pm)
URL:https://taumarunui.co.nz/event/ruapehu-quiltmakers/2025-02-17/
LOCATION:St Pauls Church\, Marae Street\, Taumarunui\, 3920\, New Zealand
CATEGORIES:Clubs
GEO:-38.8848957;175.261395
X-APPLE-STRUCTURED-LOCATION;VALUE=URI;X-ADDRESS=St Pauls Church Marae Street Taumarunui 3920 New Zealand;X-APPLE-RADIUS=500;X-TITLE=Marae Street:geo:175.261395,-38.8848957
END:VEVENT
BEGIN:VEVENT
DTSTART;TZID=Pacific/Auckland:20250215T100000
DTEND;TZID=Pacific/Auckland:20250215T130000
DTSTAMP:20260421T224459
CREATED:20240922T232338Z
LAST-MODIFIED:20241115T012610Z
UID:10001514-1739613600-1739624400@taumarunui.co.nz
SUMMARY:Taumarunui Artisan Craft Fair
DESCRIPTION:Third Saturday of the month except January \nSt Paul’s Church Hall \nFree live music – 10.30am and 11.45am \nAll welcome
URL:https://taumarunui.co.nz/event/taumarunui-artisan-craft-fair/2025-02-15/
LOCATION:St Pauls Church\, Marae Street\, Taumarunui\, 3920\, New Zealand
CATEGORIES:Markets
ATTACH;FMTTYPE=image/jpeg:https://taumarunui.co.nz/wp-content/uploads/2024/10/IMG_8096.jpg
GEO:-38.8848957;175.261395
X-APPLE-STRUCTURED-LOCATION;VALUE=URI;X-ADDRESS=St Pauls Church Marae Street Taumarunui 3920 New Zealand;X-APPLE-RADIUS=500;X-TITLE=Marae Street:geo:175.261395,-38.8848957
END:VEVENT
BEGIN:VEVENT
DTSTART;TZID=Pacific/Auckland:20250210T000000
DTEND;TZID=Pacific/Auckland:20250210T000000
DTSTAMP:20260421T224459
CREATED:20241015T070524Z
LAST-MODIFIED:20241015T070556Z
UID:10005189-1739145600-1739145600@taumarunui.co.nz
SUMMARY:Ruapehu Quiltmakers
DESCRIPTION:Meet at St Paul’s Church Hall every Monday\, alternating day meetings (9.30am-1.30pm) and night meetings (2-5.30pm)
URL:https://taumarunui.co.nz/event/ruapehu-quiltmakers/2025-02-10/
LOCATION:St Pauls Church\, Marae Street\, Taumarunui\, 3920\, New Zealand
CATEGORIES:Clubs
GEO:-38.8848957;175.261395
X-APPLE-STRUCTURED-LOCATION;VALUE=URI;X-ADDRESS=St Pauls Church Marae Street Taumarunui 3920 New Zealand;X-APPLE-RADIUS=500;X-TITLE=Marae Street:geo:175.261395,-38.8848957
END:VEVENT
BEGIN:VEVENT
DTSTART;TZID=Pacific/Auckland:20250203T000000
DTEND;TZID=Pacific/Auckland:20250203T000000
DTSTAMP:20260421T224459
CREATED:20241015T070524Z
LAST-MODIFIED:20241015T070556Z
UID:10005188-1738540800-1738540800@taumarunui.co.nz
SUMMARY:Ruapehu Quiltmakers
DESCRIPTION:Meet at St Paul’s Church Hall every Monday\, alternating day meetings (9.30am-1.30pm) and night meetings (2-5.30pm)
URL:https://taumarunui.co.nz/event/ruapehu-quiltmakers/2025-02-03/
LOCATION:St Pauls Church\, Marae Street\, Taumarunui\, 3920\, New Zealand
CATEGORIES:Clubs
GEO:-38.8848957;175.261395
X-APPLE-STRUCTURED-LOCATION;VALUE=URI;X-ADDRESS=St Pauls Church Marae Street Taumarunui 3920 New Zealand;X-APPLE-RADIUS=500;X-TITLE=Marae Street:geo:175.261395,-38.8848957
END:VEVENT
BEGIN:VEVENT
DTSTART;TZID=Pacific/Auckland:20250127T000000
DTEND;TZID=Pacific/Auckland:20250127T000000
DTSTAMP:20260421T224459
CREATED:20241015T070524Z
LAST-MODIFIED:20241015T070556Z
UID:10005187-1737936000-1737936000@taumarunui.co.nz
SUMMARY:Ruapehu Quiltmakers
DESCRIPTION:Meet at St Paul’s Church Hall every Monday\, alternating day meetings (9.30am-1.30pm) and night meetings (2-5.30pm)
URL:https://taumarunui.co.nz/event/ruapehu-quiltmakers/2025-01-27/
LOCATION:St Pauls Church\, Marae Street\, Taumarunui\, 3920\, New Zealand
CATEGORIES:Clubs
GEO:-38.8848957;175.261395
X-APPLE-STRUCTURED-LOCATION;VALUE=URI;X-ADDRESS=St Pauls Church Marae Street Taumarunui 3920 New Zealand;X-APPLE-RADIUS=500;X-TITLE=Marae Street:geo:175.261395,-38.8848957
END:VEVENT
BEGIN:VEVENT
DTSTART;TZID=Pacific/Auckland:20250120T000000
DTEND;TZID=Pacific/Auckland:20250120T000000
DTSTAMP:20260421T224459
CREATED:20241015T070524Z
LAST-MODIFIED:20241015T070556Z
UID:10005186-1737331200-1737331200@taumarunui.co.nz
SUMMARY:Ruapehu Quiltmakers
DESCRIPTION:Meet at St Paul’s Church Hall every Monday\, alternating day meetings (9.30am-1.30pm) and night meetings (2-5.30pm)
URL:https://taumarunui.co.nz/event/ruapehu-quiltmakers/2025-01-20/
LOCATION:St Pauls Church\, Marae Street\, Taumarunui\, 3920\, New Zealand
CATEGORIES:Clubs
GEO:-38.8848957;175.261395
X-APPLE-STRUCTURED-LOCATION;VALUE=URI;X-ADDRESS=St Pauls Church Marae Street Taumarunui 3920 New Zealand;X-APPLE-RADIUS=500;X-TITLE=Marae Street:geo:175.261395,-38.8848957
END:VEVENT
BEGIN:VEVENT
DTSTART;TZID=Pacific/Auckland:20250113T000000
DTEND;TZID=Pacific/Auckland:20250113T000000
DTSTAMP:20260421T224459
CREATED:20241015T070524Z
LAST-MODIFIED:20241015T070556Z
UID:10005185-1736726400-1736726400@taumarunui.co.nz
SUMMARY:Ruapehu Quiltmakers
DESCRIPTION:Meet at St Paul’s Church Hall every Monday\, alternating day meetings (9.30am-1.30pm) and night meetings (2-5.30pm)
URL:https://taumarunui.co.nz/event/ruapehu-quiltmakers/2025-01-13/
LOCATION:St Pauls Church\, Marae Street\, Taumarunui\, 3920\, New Zealand
CATEGORIES:Clubs
GEO:-38.8848957;175.261395
X-APPLE-STRUCTURED-LOCATION;VALUE=URI;X-ADDRESS=St Pauls Church Marae Street Taumarunui 3920 New Zealand;X-APPLE-RADIUS=500;X-TITLE=Marae Street:geo:175.261395,-38.8848957
END:VEVENT
BEGIN:VEVENT
DTSTART;TZID=Pacific/Auckland:20250106T000000
DTEND;TZID=Pacific/Auckland:20250106T000000
DTSTAMP:20260421T224459
CREATED:20241015T070524Z
LAST-MODIFIED:20241015T070556Z
UID:10005184-1736121600-1736121600@taumarunui.co.nz
SUMMARY:Ruapehu Quiltmakers
DESCRIPTION:Meet at St Paul’s Church Hall every Monday\, alternating day meetings (9.30am-1.30pm) and night meetings (2-5.30pm)
URL:https://taumarunui.co.nz/event/ruapehu-quiltmakers/2025-01-06/
LOCATION:St Pauls Church\, Marae Street\, Taumarunui\, 3920\, New Zealand
CATEGORIES:Clubs
GEO:-38.8848957;175.261395
X-APPLE-STRUCTURED-LOCATION;VALUE=URI;X-ADDRESS=St Pauls Church Marae Street Taumarunui 3920 New Zealand;X-APPLE-RADIUS=500;X-TITLE=Marae Street:geo:175.261395,-38.8848957
END:VEVENT
BEGIN:VEVENT
DTSTART;TZID=Pacific/Auckland:20241230T000000
DTEND;TZID=Pacific/Auckland:20241230T000000
DTSTAMP:20260421T224459
CREATED:20241015T070524Z
LAST-MODIFIED:20241015T070556Z
UID:10005183-1735516800-1735516800@taumarunui.co.nz
SUMMARY:Ruapehu Quiltmakers
DESCRIPTION:Meet at St Paul’s Church Hall every Monday\, alternating day meetings (9.30am-1.30pm) and night meetings (2-5.30pm)
URL:https://taumarunui.co.nz/event/ruapehu-quiltmakers/2024-12-30/
LOCATION:St Pauls Church\, Marae Street\, Taumarunui\, 3920\, New Zealand
CATEGORIES:Clubs
GEO:-38.8848957;175.261395
X-APPLE-STRUCTURED-LOCATION;VALUE=URI;X-ADDRESS=St Pauls Church Marae Street Taumarunui 3920 New Zealand;X-APPLE-RADIUS=500;X-TITLE=Marae Street:geo:175.261395,-38.8848957
END:VEVENT
BEGIN:VEVENT
DTSTART;TZID=Pacific/Auckland:20241223T000000
DTEND;TZID=Pacific/Auckland:20241223T000000
DTSTAMP:20260421T224459
CREATED:20241015T070524Z
LAST-MODIFIED:20241015T070556Z
UID:10005182-1734912000-1734912000@taumarunui.co.nz
SUMMARY:Ruapehu Quiltmakers
DESCRIPTION:Meet at St Paul’s Church Hall every Monday\, alternating day meetings (9.30am-1.30pm) and night meetings (2-5.30pm)
URL:https://taumarunui.co.nz/event/ruapehu-quiltmakers/2024-12-23/
LOCATION:St Pauls Church\, Marae Street\, Taumarunui\, 3920\, New Zealand
CATEGORIES:Clubs
GEO:-38.8848957;175.261395
X-APPLE-STRUCTURED-LOCATION;VALUE=URI;X-ADDRESS=St Pauls Church Marae Street Taumarunui 3920 New Zealand;X-APPLE-RADIUS=500;X-TITLE=Marae Street:geo:175.261395,-38.8848957
END:VEVENT
BEGIN:VEVENT
DTSTART;TZID=Pacific/Auckland:20241221T100000
DTEND;TZID=Pacific/Auckland:20241221T130000
DTSTAMP:20260421T224459
CREATED:20240922T232338Z
LAST-MODIFIED:20241115T012610Z
UID:10001512-1734775200-1734786000@taumarunui.co.nz
SUMMARY:Taumarunui Artisan Craft Fair
DESCRIPTION:Third Saturday of the month except January \nSt Paul’s Church Hall \nFree live music – 10.30am and 11.45am \nAll welcome
URL:https://taumarunui.co.nz/event/taumarunui-artisan-craft-fair/2024-12-21/
LOCATION:St Pauls Church\, Marae Street\, Taumarunui\, 3920\, New Zealand
CATEGORIES:Markets
ATTACH;FMTTYPE=image/jpeg:https://taumarunui.co.nz/wp-content/uploads/2024/10/IMG_8096.jpg
GEO:-38.8848957;175.261395
X-APPLE-STRUCTURED-LOCATION;VALUE=URI;X-ADDRESS=St Pauls Church Marae Street Taumarunui 3920 New Zealand;X-APPLE-RADIUS=500;X-TITLE=Marae Street:geo:175.261395,-38.8848957
END:VEVENT
BEGIN:VEVENT
DTSTART;TZID=Pacific/Auckland:20241216T000000
DTEND;TZID=Pacific/Auckland:20241216T000000
DTSTAMP:20260421T224459
CREATED:20241015T070524Z
LAST-MODIFIED:20241015T070556Z
UID:10005181-1734307200-1734307200@taumarunui.co.nz
SUMMARY:Ruapehu Quiltmakers
DESCRIPTION:Meet at St Paul’s Church Hall every Monday\, alternating day meetings (9.30am-1.30pm) and night meetings (2-5.30pm)
URL:https://taumarunui.co.nz/event/ruapehu-quiltmakers/2024-12-16/
LOCATION:St Pauls Church\, Marae Street\, Taumarunui\, 3920\, New Zealand
CATEGORIES:Clubs
GEO:-38.8848957;175.261395
X-APPLE-STRUCTURED-LOCATION;VALUE=URI;X-ADDRESS=St Pauls Church Marae Street Taumarunui 3920 New Zealand;X-APPLE-RADIUS=500;X-TITLE=Marae Street:geo:175.261395,-38.8848957
END:VEVENT
BEGIN:VEVENT
DTSTART;TZID=Pacific/Auckland:20241209T000000
DTEND;TZID=Pacific/Auckland:20241209T000000
DTSTAMP:20260421T224459
CREATED:20241015T070524Z
LAST-MODIFIED:20241015T070556Z
UID:10005180-1733702400-1733702400@taumarunui.co.nz
SUMMARY:Ruapehu Quiltmakers
DESCRIPTION:Meet at St Paul’s Church Hall every Monday\, alternating day meetings (9.30am-1.30pm) and night meetings (2-5.30pm)
URL:https://taumarunui.co.nz/event/ruapehu-quiltmakers/2024-12-09/
LOCATION:St Pauls Church\, Marae Street\, Taumarunui\, 3920\, New Zealand
CATEGORIES:Clubs
GEO:-38.8848957;175.261395
X-APPLE-STRUCTURED-LOCATION;VALUE=URI;X-ADDRESS=St Pauls Church Marae Street Taumarunui 3920 New Zealand;X-APPLE-RADIUS=500;X-TITLE=Marae Street:geo:175.261395,-38.8848957
END:VEVENT
BEGIN:VEVENT
DTSTART;TZID=Pacific/Auckland:20241202T000000
DTEND;TZID=Pacific/Auckland:20241202T000000
DTSTAMP:20260421T224459
CREATED:20241015T070524Z
LAST-MODIFIED:20241015T070556Z
UID:10005179-1733097600-1733097600@taumarunui.co.nz
SUMMARY:Ruapehu Quiltmakers
DESCRIPTION:Meet at St Paul’s Church Hall every Monday\, alternating day meetings (9.30am-1.30pm) and night meetings (2-5.30pm)
URL:https://taumarunui.co.nz/event/ruapehu-quiltmakers/2024-12-02/
LOCATION:St Pauls Church\, Marae Street\, Taumarunui\, 3920\, New Zealand
CATEGORIES:Clubs
GEO:-38.8848957;175.261395
X-APPLE-STRUCTURED-LOCATION;VALUE=URI;X-ADDRESS=St Pauls Church Marae Street Taumarunui 3920 New Zealand;X-APPLE-RADIUS=500;X-TITLE=Marae Street:geo:175.261395,-38.8848957
END:VEVENT
BEGIN:VEVENT
DTSTART;TZID=Pacific/Auckland:20241125T000000
DTEND;TZID=Pacific/Auckland:20241125T000000
DTSTAMP:20260421T224459
CREATED:20241015T070524Z
LAST-MODIFIED:20241015T070556Z
UID:10005178-1732492800-1732492800@taumarunui.co.nz
SUMMARY:Ruapehu Quiltmakers
DESCRIPTION:Meet at St Paul’s Church Hall every Monday\, alternating day meetings (9.30am-1.30pm) and night meetings (2-5.30pm)
URL:https://taumarunui.co.nz/event/ruapehu-quiltmakers/2024-11-25/
LOCATION:St Pauls Church\, Marae Street\, Taumarunui\, 3920\, New Zealand
CATEGORIES:Clubs
GEO:-38.8848957;175.261395
X-APPLE-STRUCTURED-LOCATION;VALUE=URI;X-ADDRESS=St Pauls Church Marae Street Taumarunui 3920 New Zealand;X-APPLE-RADIUS=500;X-TITLE=Marae Street:geo:175.261395,-38.8848957
END:VEVENT
BEGIN:VEVENT
DTSTART;TZID=Pacific/Auckland:20241118T000000
DTEND;TZID=Pacific/Auckland:20241118T000000
DTSTAMP:20260421T224459
CREATED:20241015T070524Z
LAST-MODIFIED:20241015T070556Z
UID:10005177-1731888000-1731888000@taumarunui.co.nz
SUMMARY:Ruapehu Quiltmakers
DESCRIPTION:Meet at St Paul’s Church Hall every Monday\, alternating day meetings (9.30am-1.30pm) and night meetings (2-5.30pm)
URL:https://taumarunui.co.nz/event/ruapehu-quiltmakers/2024-11-18/
LOCATION:St Pauls Church\, Marae Street\, Taumarunui\, 3920\, New Zealand
CATEGORIES:Clubs
GEO:-38.8848957;175.261395
X-APPLE-STRUCTURED-LOCATION;VALUE=URI;X-ADDRESS=St Pauls Church Marae Street Taumarunui 3920 New Zealand;X-APPLE-RADIUS=500;X-TITLE=Marae Street:geo:175.261395,-38.8848957
END:VEVENT
BEGIN:VEVENT
DTSTART;TZID=Pacific/Auckland:20241116T100000
DTEND;TZID=Pacific/Auckland:20241116T130000
DTSTAMP:20260421T224459
CREATED:20240922T232338Z
LAST-MODIFIED:20241115T012610Z
UID:10001511-1731751200-1731762000@taumarunui.co.nz
SUMMARY:Taumarunui Artisan Craft Fair
DESCRIPTION:Third Saturday of the month except January \nSt Paul’s Church Hall \nFree live music – 10.30am and 11.45am \nAll welcome
URL:https://taumarunui.co.nz/event/taumarunui-artisan-craft-fair/2024-11-16/
LOCATION:St Pauls Church\, Marae Street\, Taumarunui\, 3920\, New Zealand
CATEGORIES:Markets
ATTACH;FMTTYPE=image/jpeg:https://taumarunui.co.nz/wp-content/uploads/2024/10/IMG_8096.jpg
GEO:-38.8848957;175.261395
X-APPLE-STRUCTURED-LOCATION;VALUE=URI;X-ADDRESS=St Pauls Church Marae Street Taumarunui 3920 New Zealand;X-APPLE-RADIUS=500;X-TITLE=Marae Street:geo:175.261395,-38.8848957
END:VEVENT
BEGIN:VEVENT
DTSTART;TZID=Pacific/Auckland:20241111T000000
DTEND;TZID=Pacific/Auckland:20241111T000000
DTSTAMP:20260421T224459
CREATED:20241015T070524Z
LAST-MODIFIED:20241015T070556Z
UID:10005176-1731283200-1731283200@taumarunui.co.nz
SUMMARY:Ruapehu Quiltmakers
DESCRIPTION:Meet at St Paul’s Church Hall every Monday\, alternating day meetings (9.30am-1.30pm) and night meetings (2-5.30pm)
URL:https://taumarunui.co.nz/event/ruapehu-quiltmakers/2024-11-11/
LOCATION:St Pauls Church\, Marae Street\, Taumarunui\, 3920\, New Zealand
CATEGORIES:Clubs
GEO:-38.8848957;175.261395
X-APPLE-STRUCTURED-LOCATION;VALUE=URI;X-ADDRESS=St Pauls Church Marae Street Taumarunui 3920 New Zealand;X-APPLE-RADIUS=500;X-TITLE=Marae Street:geo:175.261395,-38.8848957
END:VEVENT
BEGIN:VEVENT
DTSTART;TZID=Pacific/Auckland:20241110T100000
DTEND;TZID=Pacific/Auckland:20241110T120000
DTSTAMP:20260421T224459
CREATED:20241101T061850Z
LAST-MODIFIED:20241104T163222Z
UID:10006678-1731232800-1731240000@taumarunui.co.nz
SUMMARY:Remembrance Service at St Paul’s
DESCRIPTION:Service of Remembrance for those who have passed. There will be special readings and space to light candles for each person. Please come and invite your friends to share together in remembering our loved ones.
URL:https://taumarunui.co.nz/event/remembrance-service-at-st-pauls/
LOCATION:St Pauls Church\, Marae Street\, Taumarunui\, 3920\, New Zealand
CATEGORIES:Event
ATTACH;FMTTYPE=image/jpeg:https://taumarunui.co.nz/wp-content/uploads/2024/11/IMG_0395.jpeg
GEO:-38.8848957;175.261395
X-APPLE-STRUCTURED-LOCATION;VALUE=URI;X-ADDRESS=St Pauls Church Marae Street Taumarunui 3920 New Zealand;X-APPLE-RADIUS=500;X-TITLE=Marae Street:geo:175.261395,-38.8848957
END:VEVENT
BEGIN:VEVENT
DTSTART;TZID=Pacific/Auckland:20241104T000000
DTEND;TZID=Pacific/Auckland:20241104T000000
DTSTAMP:20260421T224459
CREATED:20241015T070524Z
LAST-MODIFIED:20241015T070556Z
UID:10005175-1730678400-1730678400@taumarunui.co.nz
SUMMARY:Ruapehu Quiltmakers
DESCRIPTION:Meet at St Paul’s Church Hall every Monday\, alternating day meetings (9.30am-1.30pm) and night meetings (2-5.30pm)
URL:https://taumarunui.co.nz/event/ruapehu-quiltmakers/2024-11-04/
LOCATION:St Pauls Church\, Marae Street\, Taumarunui\, 3920\, New Zealand
CATEGORIES:Clubs
GEO:-38.8848957;175.261395
X-APPLE-STRUCTURED-LOCATION;VALUE=URI;X-ADDRESS=St Pauls Church Marae Street Taumarunui 3920 New Zealand;X-APPLE-RADIUS=500;X-TITLE=Marae Street:geo:175.261395,-38.8848957
END:VEVENT
BEGIN:VEVENT
DTSTART;TZID=Pacific/Auckland:20241028T000000
DTEND;TZID=Pacific/Auckland:20241028T000000
DTSTAMP:20260421T224459
CREATED:20241015T070524Z
LAST-MODIFIED:20241015T070556Z
UID:10005174-1730073600-1730073600@taumarunui.co.nz
SUMMARY:Ruapehu Quiltmakers
DESCRIPTION:Meet at St Paul’s Church Hall every Monday\, alternating day meetings (9.30am-1.30pm) and night meetings (2-5.30pm)
URL:https://taumarunui.co.nz/event/ruapehu-quiltmakers/2024-10-28/
LOCATION:St Pauls Church\, Marae Street\, Taumarunui\, 3920\, New Zealand
CATEGORIES:Clubs
GEO:-38.8848957;175.261395
X-APPLE-STRUCTURED-LOCATION;VALUE=URI;X-ADDRESS=St Pauls Church Marae Street Taumarunui 3920 New Zealand;X-APPLE-RADIUS=500;X-TITLE=Marae Street:geo:175.261395,-38.8848957
END:VEVENT
BEGIN:VEVENT
DTSTART;TZID=Pacific/Auckland:20241021T000000
DTEND;TZID=Pacific/Auckland:20241021T000000
DTSTAMP:20260421T224459
CREATED:20241015T070524Z
LAST-MODIFIED:20241015T070556Z
UID:10005173-1729468800-1729468800@taumarunui.co.nz
SUMMARY:Ruapehu Quiltmakers
DESCRIPTION:Meet at St Paul’s Church Hall every Monday\, alternating day meetings (9.30am-1.30pm) and night meetings (2-5.30pm)
URL:https://taumarunui.co.nz/event/ruapehu-quiltmakers/2024-10-21/
LOCATION:St Pauls Church\, Marae Street\, Taumarunui\, 3920\, New Zealand
CATEGORIES:Clubs
GEO:-38.8848957;175.261395
X-APPLE-STRUCTURED-LOCATION;VALUE=URI;X-ADDRESS=St Pauls Church Marae Street Taumarunui 3920 New Zealand;X-APPLE-RADIUS=500;X-TITLE=Marae Street:geo:175.261395,-38.8848957
END:VEVENT
BEGIN:VEVENT
DTSTART;TZID=Pacific/Auckland:20241019T100000
DTEND;TZID=Pacific/Auckland:20241019T130000
DTSTAMP:20260421T224459
CREATED:20240922T232338Z
LAST-MODIFIED:20241115T012610Z
UID:10001510-1729332000-1729342800@taumarunui.co.nz
SUMMARY:Taumarunui Artisan Craft Fair
DESCRIPTION:Third Saturday of the month except January \nSt Paul’s Church Hall \nFree live music – 10.30am and 11.45am \nAll welcome
URL:https://taumarunui.co.nz/event/taumarunui-artisan-craft-fair/2024-10-19/
LOCATION:St Pauls Church\, Marae Street\, Taumarunui\, 3920\, New Zealand
CATEGORIES:Markets
ATTACH;FMTTYPE=image/jpeg:https://taumarunui.co.nz/wp-content/uploads/2024/10/IMG_8096.jpg
GEO:-38.8848957;175.261395
X-APPLE-STRUCTURED-LOCATION;VALUE=URI;X-ADDRESS=St Pauls Church Marae Street Taumarunui 3920 New Zealand;X-APPLE-RADIUS=500;X-TITLE=Marae Street:geo:175.261395,-38.8848957
END:VEVENT
END:VCALENDAR