BEGIN:VCALENDAR
VERSION:2.0
PRODID:-//Taumarunui - ECPv6.15.20//NONSGML v1.0//EN
CALSCALE:GREGORIAN
METHOD:PUBLISH
X-WR-CALNAME:Taumarunui
X-ORIGINAL-URL:https://taumarunui.co.nz
X-WR-CALDESC:Events for Taumarunui
REFRESH-INTERVAL;VALUE=DURATION:PT1H
X-Robots-Tag:noindex
X-PUBLISHED-TTL:PT1H
BEGIN:VTIMEZONE
TZID:Pacific/Auckland
BEGIN:STANDARD
TZOFFSETFROM:+1300
TZOFFSETTO:+1200
TZNAME:NZST
DTSTART:20240406T140000
END:STANDARD
BEGIN:DAYLIGHT
TZOFFSETFROM:+1200
TZOFFSETTO:+1300
TZNAME:NZDT
DTSTART:20240928T140000
END:DAYLIGHT
BEGIN:STANDARD
TZOFFSETFROM:+1300
TZOFFSETTO:+1200
TZNAME:NZST
DTSTART:20250405T140000
END:STANDARD
BEGIN:DAYLIGHT
TZOFFSETFROM:+1200
TZOFFSETTO:+1300
TZNAME:NZDT
DTSTART:20250927T140000
END:DAYLIGHT
BEGIN:STANDARD
TZOFFSETFROM:+1300
TZOFFSETTO:+1200
TZNAME:NZST
DTSTART:20260404T140000
END:STANDARD
BEGIN:DAYLIGHT
TZOFFSETFROM:+1200
TZOFFSETTO:+1300
TZNAME:NZDT
DTSTART:20260926T140000
END:DAYLIGHT
END:VTIMEZONE
BEGIN:VEVENT
DTSTART;TZID=Pacific/Auckland:20251009T130000
DTEND;TZID=Pacific/Auckland:20251009T150000
DTSTAMP:20260424T051301
CREATED:20241015T065239Z
LAST-MODIFIED:20241015T065239Z
UID:10004724-1760014800-1760022000@taumarunui.co.nz
SUMMARY:Senior Citizens
DESCRIPTION:Aged 50+ years. \nJoin us every Thursday at our clubrooms in Morero Terrace for a social afternoon and afternoon tea.
URL:https://taumarunui.co.nz/event/senior-citizens/2025-10-09/
LOCATION:Senior Citizens Hall\, Morero Street\, Taumarunui\, New Zealand
CATEGORIES:Clubs
END:VEVENT
BEGIN:VEVENT
DTSTART;TZID=Pacific/Auckland:20251008T190000
DTEND;TZID=Pacific/Auckland:20251008T220000
DTSTAMP:20260424T051301
CREATED:20251004T084551Z
LAST-MODIFIED:20251004T084551Z
UID:10012446-1759950000-1759960800@taumarunui.co.nz
SUMMARY:Pot Luck Evening
DESCRIPTION:SAVE THE DATE NOTICE! \nLet’s make this regional community social event\, on Wednesday evening\, being hosted at the Taumarunui Senior Citizens Centre\, an awesome success. \nYummy kai\, friendly faces\, plus there may be a few special guests\, in attendance\, from amongst those who have been each invited…….. \nCome along wearing the colours of our beautiful region\, if you want to\, to add to the event’s ambience as well! \nBring the kaumatua & the kiddies. Bring your favourite cousin\, your bestie\, or even your next door neighbour who is new to the area & bit shy… Feel free to extend an invitation to come along to this family-friendly “Pot-luck Supper” evening social! \nNo political speeches. No placards or signs. No propaganda. Just people from across the Ruapehu region being a friendly\, kind & neighbourly “team” of people. See you there!
URL:https://taumarunui.co.nz/event/pot-luck-evening/
LOCATION:Senior Citizens Hall\, Morero Street\, Taumarunui\, New Zealand
ATTACH;FMTTYPE=image/jpeg:https://taumarunui.co.nz/wp-content/uploads/2025/10/IMG_0571.jpeg
END:VEVENT
BEGIN:VEVENT
DTSTART;TZID=Pacific/Auckland:20251007T173000
DTEND;TZID=Pacific/Auckland:20251007T190000
DTSTAMP:20260424T051301
CREATED:20241015T062549Z
LAST-MODIFIED:20241015T062549Z
UID:10003881-1759858200-1759863600@taumarunui.co.nz
SUMMARY:Progressive Hatha Yoga for all
DESCRIPTION:On every Tuesday of school terms in Senior Citizen Hall\, Taumarunui. \nFirst class $10\, equipment available.
URL:https://taumarunui.co.nz/event/progressive-hatha-yoga-for-all/2025-10-07/
LOCATION:Senior Citizens Hall\, Morero Street\, Taumarunui\, New Zealand
CATEGORIES:Clubs,Sport
END:VEVENT
BEGIN:VEVENT
DTSTART;TZID=Pacific/Auckland:20251002T130000
DTEND;TZID=Pacific/Auckland:20251002T150000
DTSTAMP:20260424T051301
CREATED:20241015T065239Z
LAST-MODIFIED:20241015T065239Z
UID:10004723-1759410000-1759417200@taumarunui.co.nz
SUMMARY:Senior Citizens
DESCRIPTION:Aged 50+ years. \nJoin us every Thursday at our clubrooms in Morero Terrace for a social afternoon and afternoon tea.
URL:https://taumarunui.co.nz/event/senior-citizens/2025-10-02/
LOCATION:Senior Citizens Hall\, Morero Street\, Taumarunui\, New Zealand
CATEGORIES:Clubs
END:VEVENT
BEGIN:VEVENT
DTSTART;TZID=Pacific/Auckland:20250930T173000
DTEND;TZID=Pacific/Auckland:20250930T190000
DTSTAMP:20260424T051301
CREATED:20241015T062549Z
LAST-MODIFIED:20241015T062549Z
UID:10003880-1759253400-1759258800@taumarunui.co.nz
SUMMARY:Progressive Hatha Yoga for all
DESCRIPTION:On every Tuesday of school terms in Senior Citizen Hall\, Taumarunui. \nFirst class $10\, equipment available.
URL:https://taumarunui.co.nz/event/progressive-hatha-yoga-for-all/2025-09-30/
LOCATION:Senior Citizens Hall\, Morero Street\, Taumarunui\, New Zealand
CATEGORIES:Clubs,Sport
END:VEVENT
BEGIN:VEVENT
DTSTART;TZID=Pacific/Auckland:20250930T100000
DTEND;TZID=Pacific/Auckland:20250930T100000
DTSTAMP:20260424T051301
CREATED:20241028T201218Z
LAST-MODIFIED:20241028T201248Z
UID:10006253-1759226400-1759226400@taumarunui.co.nz
SUMMARY:Community Networking Hui
DESCRIPTION:On today 10am at the Senior Citizen Room Cnr of Morero and Miriama St\, Taumarunui.
URL:https://taumarunui.co.nz/event/community-networking-hui/2025-09-30/
LOCATION:Senior Citizens Hall\, Morero Street\, Taumarunui\, New Zealand
CATEGORIES:Event
ATTACH;FMTTYPE=image/jpeg:https://taumarunui.co.nz/wp-content/uploads/2024/10/IMG_8170.jpeg
END:VEVENT
BEGIN:VEVENT
DTSTART;TZID=Pacific/Auckland:20250927T130000
DTEND;TZID=Pacific/Auckland:20250927T130000
DTSTAMP:20260424T051301
CREATED:20241015T062915Z
LAST-MODIFIED:20241015T063023Z
UID:10004100-1758978000-1758978000@taumarunui.co.nz
SUMMARY:Taumarunui Genealogy Interest Group
DESCRIPTION:Meetings held monthly on fourth Saturday of the month
URL:https://taumarunui.co.nz/event/taumarunui-genealogy-interest-group/2025-09-27/
LOCATION:Senior Citizens Hall\, Morero Street\, Taumarunui\, New Zealand
CATEGORIES:Clubs
END:VEVENT
BEGIN:VEVENT
DTSTART;TZID=Pacific/Auckland:20250926T130000
DTEND;TZID=Pacific/Auckland:20250926T150000
DTSTAMP:20260424T051301
CREATED:20250122T180717Z
LAST-MODIFIED:20250122T180717Z
UID:10010726-1758891600-1758898800@taumarunui.co.nz
SUMMARY:Cheerful Seniors Taumarunui
DESCRIPTION:Hi everyone\, we are offering a new social connection group for seniors (anyone aged 50 years plus – or thereabouts). Join our page for the up to date news and events. last Friday of every month – Senior Citizens Hall\, Taumarunui. Gold coin donation from 1pm – 3pm
URL:https://taumarunui.co.nz/event/cheerful-seniors-taumarunui/2025-09-26/
LOCATION:Senior Citizens Hall\, Morero Street\, Taumarunui\, New Zealand
CATEGORIES:Clubs,Wellness
ATTACH;FMTTYPE=image/jpeg:https://taumarunui.co.nz/wp-content/uploads/2025/01/IMG_0476.jpeg
END:VEVENT
BEGIN:VEVENT
DTSTART;TZID=Pacific/Auckland:20250925T130000
DTEND;TZID=Pacific/Auckland:20250925T150000
DTSTAMP:20260424T051301
CREATED:20241015T065239Z
LAST-MODIFIED:20241015T065239Z
UID:10004722-1758805200-1758812400@taumarunui.co.nz
SUMMARY:Senior Citizens
DESCRIPTION:Aged 50+ years. \nJoin us every Thursday at our clubrooms in Morero Terrace for a social afternoon and afternoon tea.
URL:https://taumarunui.co.nz/event/senior-citizens/2025-09-25/
LOCATION:Senior Citizens Hall\, Morero Street\, Taumarunui\, New Zealand
CATEGORIES:Clubs
END:VEVENT
BEGIN:VEVENT
DTSTART;TZID=Pacific/Auckland:20250923T173000
DTEND;TZID=Pacific/Auckland:20250923T190000
DTSTAMP:20260424T051301
CREATED:20241015T062549Z
LAST-MODIFIED:20241015T062549Z
UID:10003879-1758648600-1758654000@taumarunui.co.nz
SUMMARY:Progressive Hatha Yoga for all
DESCRIPTION:On every Tuesday of school terms in Senior Citizen Hall\, Taumarunui. \nFirst class $10\, equipment available.
URL:https://taumarunui.co.nz/event/progressive-hatha-yoga-for-all/2025-09-23/
LOCATION:Senior Citizens Hall\, Morero Street\, Taumarunui\, New Zealand
CATEGORIES:Clubs,Sport
END:VEVENT
BEGIN:VEVENT
DTSTART;TZID=Pacific/Auckland:20250918T130000
DTEND;TZID=Pacific/Auckland:20250918T150000
DTSTAMP:20260424T051301
CREATED:20241015T065239Z
LAST-MODIFIED:20241015T065239Z
UID:10004721-1758200400-1758207600@taumarunui.co.nz
SUMMARY:Senior Citizens
DESCRIPTION:Aged 50+ years. \nJoin us every Thursday at our clubrooms in Morero Terrace for a social afternoon and afternoon tea.
URL:https://taumarunui.co.nz/event/senior-citizens/2025-09-18/
LOCATION:Senior Citizens Hall\, Morero Street\, Taumarunui\, New Zealand
CATEGORIES:Clubs
END:VEVENT
BEGIN:VEVENT
DTSTART;TZID=Pacific/Auckland:20250916T173000
DTEND;TZID=Pacific/Auckland:20250916T190000
DTSTAMP:20260424T051301
CREATED:20241015T062549Z
LAST-MODIFIED:20241015T062549Z
UID:10003878-1758043800-1758049200@taumarunui.co.nz
SUMMARY:Progressive Hatha Yoga for all
DESCRIPTION:On every Tuesday of school terms in Senior Citizen Hall\, Taumarunui. \nFirst class $10\, equipment available.
URL:https://taumarunui.co.nz/event/progressive-hatha-yoga-for-all/2025-09-16/
LOCATION:Senior Citizens Hall\, Morero Street\, Taumarunui\, New Zealand
CATEGORIES:Clubs,Sport
END:VEVENT
BEGIN:VEVENT
DTSTART;TZID=Pacific/Auckland:20250911T130000
DTEND;TZID=Pacific/Auckland:20250911T150000
DTSTAMP:20260424T051301
CREATED:20241015T065239Z
LAST-MODIFIED:20241015T065239Z
UID:10004720-1757595600-1757602800@taumarunui.co.nz
SUMMARY:Senior Citizens
DESCRIPTION:Aged 50+ years. \nJoin us every Thursday at our clubrooms in Morero Terrace for a social afternoon and afternoon tea.
URL:https://taumarunui.co.nz/event/senior-citizens/2025-09-11/
LOCATION:Senior Citizens Hall\, Morero Street\, Taumarunui\, New Zealand
CATEGORIES:Clubs
END:VEVENT
BEGIN:VEVENT
DTSTART;TZID=Pacific/Auckland:20250909T173000
DTEND;TZID=Pacific/Auckland:20250909T190000
DTSTAMP:20260424T051301
CREATED:20241015T062549Z
LAST-MODIFIED:20241015T062549Z
UID:10003877-1757439000-1757444400@taumarunui.co.nz
SUMMARY:Progressive Hatha Yoga for all
DESCRIPTION:On every Tuesday of school terms in Senior Citizen Hall\, Taumarunui. \nFirst class $10\, equipment available.
URL:https://taumarunui.co.nz/event/progressive-hatha-yoga-for-all/2025-09-09/
LOCATION:Senior Citizens Hall\, Morero Street\, Taumarunui\, New Zealand
CATEGORIES:Clubs,Sport
END:VEVENT
BEGIN:VEVENT
DTSTART;TZID=Pacific/Auckland:20250904T130000
DTEND;TZID=Pacific/Auckland:20250904T150000
DTSTAMP:20260424T051301
CREATED:20241015T065239Z
LAST-MODIFIED:20241015T065239Z
UID:10004719-1756990800-1756998000@taumarunui.co.nz
SUMMARY:Senior Citizens
DESCRIPTION:Aged 50+ years. \nJoin us every Thursday at our clubrooms in Morero Terrace for a social afternoon and afternoon tea.
URL:https://taumarunui.co.nz/event/senior-citizens/2025-09-04/
LOCATION:Senior Citizens Hall\, Morero Street\, Taumarunui\, New Zealand
CATEGORIES:Clubs
END:VEVENT
BEGIN:VEVENT
DTSTART;TZID=Pacific/Auckland:20250902T173000
DTEND;TZID=Pacific/Auckland:20250902T190000
DTSTAMP:20260424T051301
CREATED:20241015T062549Z
LAST-MODIFIED:20241015T062549Z
UID:10003876-1756834200-1756839600@taumarunui.co.nz
SUMMARY:Progressive Hatha Yoga for all
DESCRIPTION:On every Tuesday of school terms in Senior Citizen Hall\, Taumarunui. \nFirst class $10\, equipment available.
URL:https://taumarunui.co.nz/event/progressive-hatha-yoga-for-all/2025-09-02/
LOCATION:Senior Citizens Hall\, Morero Street\, Taumarunui\, New Zealand
CATEGORIES:Clubs,Sport
END:VEVENT
BEGIN:VEVENT
DTSTART;TZID=Pacific/Auckland:20250829T130000
DTEND;TZID=Pacific/Auckland:20250829T150000
DTSTAMP:20260424T051301
CREATED:20250122T180717Z
LAST-MODIFIED:20250122T180717Z
UID:10010725-1756472400-1756479600@taumarunui.co.nz
SUMMARY:Cheerful Seniors Taumarunui
DESCRIPTION:Hi everyone\, we are offering a new social connection group for seniors (anyone aged 50 years plus – or thereabouts). Join our page for the up to date news and events. last Friday of every month – Senior Citizens Hall\, Taumarunui. Gold coin donation from 1pm – 3pm
URL:https://taumarunui.co.nz/event/cheerful-seniors-taumarunui/2025-08-29/
LOCATION:Senior Citizens Hall\, Morero Street\, Taumarunui\, New Zealand
CATEGORIES:Clubs,Wellness
ATTACH;FMTTYPE=image/jpeg:https://taumarunui.co.nz/wp-content/uploads/2025/01/IMG_0476.jpeg
END:VEVENT
BEGIN:VEVENT
DTSTART;TZID=Pacific/Auckland:20250828T130000
DTEND;TZID=Pacific/Auckland:20250828T150000
DTSTAMP:20260424T051301
CREATED:20241015T065239Z
LAST-MODIFIED:20241015T065239Z
UID:10004718-1756386000-1756393200@taumarunui.co.nz
SUMMARY:Senior Citizens
DESCRIPTION:Aged 50+ years. \nJoin us every Thursday at our clubrooms in Morero Terrace for a social afternoon and afternoon tea.
URL:https://taumarunui.co.nz/event/senior-citizens/2025-08-28/
LOCATION:Senior Citizens Hall\, Morero Street\, Taumarunui\, New Zealand
CATEGORIES:Clubs
END:VEVENT
BEGIN:VEVENT
DTSTART;TZID=Pacific/Auckland:20250826T173000
DTEND;TZID=Pacific/Auckland:20250826T190000
DTSTAMP:20260424T051301
CREATED:20241015T062549Z
LAST-MODIFIED:20241015T062549Z
UID:10003875-1756229400-1756234800@taumarunui.co.nz
SUMMARY:Progressive Hatha Yoga for all
DESCRIPTION:On every Tuesday of school terms in Senior Citizen Hall\, Taumarunui. \nFirst class $10\, equipment available.
URL:https://taumarunui.co.nz/event/progressive-hatha-yoga-for-all/2025-08-26/
LOCATION:Senior Citizens Hall\, Morero Street\, Taumarunui\, New Zealand
CATEGORIES:Clubs,Sport
END:VEVENT
BEGIN:VEVENT
DTSTART;TZID=Pacific/Auckland:20250826T100000
DTEND;TZID=Pacific/Auckland:20250826T100000
DTSTAMP:20260424T051301
CREATED:20241028T201218Z
LAST-MODIFIED:20241028T201248Z
UID:10006252-1756202400-1756202400@taumarunui.co.nz
SUMMARY:Community Networking Hui
DESCRIPTION:On today 10am at the Senior Citizen Room Cnr of Morero and Miriama St\, Taumarunui.
URL:https://taumarunui.co.nz/event/community-networking-hui/2025-08-26/
LOCATION:Senior Citizens Hall\, Morero Street\, Taumarunui\, New Zealand
CATEGORIES:Event
ATTACH;FMTTYPE=image/jpeg:https://taumarunui.co.nz/wp-content/uploads/2024/10/IMG_8170.jpeg
END:VEVENT
BEGIN:VEVENT
DTSTART;TZID=Pacific/Auckland:20250823T130000
DTEND;TZID=Pacific/Auckland:20250823T130000
DTSTAMP:20260424T051301
CREATED:20241015T062915Z
LAST-MODIFIED:20241015T063023Z
UID:10004099-1755954000-1755954000@taumarunui.co.nz
SUMMARY:Taumarunui Genealogy Interest Group
DESCRIPTION:Meetings held monthly on fourth Saturday of the month
URL:https://taumarunui.co.nz/event/taumarunui-genealogy-interest-group/2025-08-23/
LOCATION:Senior Citizens Hall\, Morero Street\, Taumarunui\, New Zealand
CATEGORIES:Clubs
END:VEVENT
BEGIN:VEVENT
DTSTART;TZID=Pacific/Auckland:20250822T130000
DTEND;TZID=Pacific/Auckland:20250822T150000
DTSTAMP:20260424T051301
CREATED:20250806T180047Z
LAST-MODIFIED:20250806T180047Z
UID:10012292-1755867600-1755874800@taumarunui.co.nz
SUMMARY:Meet the Mayoral Candidates
DESCRIPTION:Put this one in your diary…. Meet the Mayoral Candidates. Everyone welcome – especially Seniors in our community who need to hear who the candidates are\, and wish to ask questions around leadership qualities and the candidate’s plans to lead Ruapehu District Council for the upcoming term.
URL:https://taumarunui.co.nz/event/meet-the-mayoral-candidates/
LOCATION:Senior Citizens Hall\, Morero Street\, Taumarunui\, New Zealand
ATTACH;FMTTYPE=image/jpeg:https://taumarunui.co.nz/wp-content/uploads/2025/08/IMG_1251.jpeg
END:VEVENT
BEGIN:VEVENT
DTSTART;TZID=Pacific/Auckland:20250821T130000
DTEND;TZID=Pacific/Auckland:20250821T150000
DTSTAMP:20260424T051301
CREATED:20241015T065239Z
LAST-MODIFIED:20241015T065239Z
UID:10004717-1755781200-1755788400@taumarunui.co.nz
SUMMARY:Senior Citizens
DESCRIPTION:Aged 50+ years. \nJoin us every Thursday at our clubrooms in Morero Terrace for a social afternoon and afternoon tea.
URL:https://taumarunui.co.nz/event/senior-citizens/2025-08-21/
LOCATION:Senior Citizens Hall\, Morero Street\, Taumarunui\, New Zealand
CATEGORIES:Clubs
END:VEVENT
BEGIN:VEVENT
DTSTART;TZID=Pacific/Auckland:20250819T173000
DTEND;TZID=Pacific/Auckland:20250819T190000
DTSTAMP:20260424T051301
CREATED:20241015T062549Z
LAST-MODIFIED:20241015T062549Z
UID:10003874-1755624600-1755630000@taumarunui.co.nz
SUMMARY:Progressive Hatha Yoga for all
DESCRIPTION:On every Tuesday of school terms in Senior Citizen Hall\, Taumarunui. \nFirst class $10\, equipment available.
URL:https://taumarunui.co.nz/event/progressive-hatha-yoga-for-all/2025-08-19/
LOCATION:Senior Citizens Hall\, Morero Street\, Taumarunui\, New Zealand
CATEGORIES:Clubs,Sport
END:VEVENT
BEGIN:VEVENT
DTSTART;TZID=Pacific/Auckland:20250814T130000
DTEND;TZID=Pacific/Auckland:20250814T150000
DTSTAMP:20260424T051301
CREATED:20241015T065239Z
LAST-MODIFIED:20241015T065239Z
UID:10004716-1755176400-1755183600@taumarunui.co.nz
SUMMARY:Senior Citizens
DESCRIPTION:Aged 50+ years. \nJoin us every Thursday at our clubrooms in Morero Terrace for a social afternoon and afternoon tea.
URL:https://taumarunui.co.nz/event/senior-citizens/2025-08-14/
LOCATION:Senior Citizens Hall\, Morero Street\, Taumarunui\, New Zealand
CATEGORIES:Clubs
END:VEVENT
BEGIN:VEVENT
DTSTART;TZID=Pacific/Auckland:20250812T173000
DTEND;TZID=Pacific/Auckland:20250812T190000
DTSTAMP:20260424T051301
CREATED:20241015T062549Z
LAST-MODIFIED:20241015T062549Z
UID:10003873-1755019800-1755025200@taumarunui.co.nz
SUMMARY:Progressive Hatha Yoga for all
DESCRIPTION:On every Tuesday of school terms in Senior Citizen Hall\, Taumarunui. \nFirst class $10\, equipment available.
URL:https://taumarunui.co.nz/event/progressive-hatha-yoga-for-all/2025-08-12/
LOCATION:Senior Citizens Hall\, Morero Street\, Taumarunui\, New Zealand
CATEGORIES:Clubs,Sport
END:VEVENT
BEGIN:VEVENT
DTSTART;TZID=Pacific/Auckland:20250807T130000
DTEND;TZID=Pacific/Auckland:20250807T150000
DTSTAMP:20260424T051301
CREATED:20241015T065239Z
LAST-MODIFIED:20241015T065239Z
UID:10004715-1754571600-1754578800@taumarunui.co.nz
SUMMARY:Senior Citizens
DESCRIPTION:Aged 50+ years. \nJoin us every Thursday at our clubrooms in Morero Terrace for a social afternoon and afternoon tea.
URL:https://taumarunui.co.nz/event/senior-citizens/2025-08-07/
LOCATION:Senior Citizens Hall\, Morero Street\, Taumarunui\, New Zealand
CATEGORIES:Clubs
END:VEVENT
BEGIN:VEVENT
DTSTART;TZID=Pacific/Auckland:20250805T173000
DTEND;TZID=Pacific/Auckland:20250805T190000
DTSTAMP:20260424T051301
CREATED:20241015T062549Z
LAST-MODIFIED:20241015T062549Z
UID:10003872-1754415000-1754420400@taumarunui.co.nz
SUMMARY:Progressive Hatha Yoga for all
DESCRIPTION:On every Tuesday of school terms in Senior Citizen Hall\, Taumarunui. \nFirst class $10\, equipment available.
URL:https://taumarunui.co.nz/event/progressive-hatha-yoga-for-all/2025-08-05/
LOCATION:Senior Citizens Hall\, Morero Street\, Taumarunui\, New Zealand
CATEGORIES:Clubs,Sport
END:VEVENT
BEGIN:VEVENT
DTSTART;TZID=Pacific/Auckland:20250731T130000
DTEND;TZID=Pacific/Auckland:20250731T150000
DTSTAMP:20260424T051301
CREATED:20241015T065239Z
LAST-MODIFIED:20241015T065239Z
UID:10004714-1753966800-1753974000@taumarunui.co.nz
SUMMARY:Senior Citizens
DESCRIPTION:Aged 50+ years. \nJoin us every Thursday at our clubrooms in Morero Terrace for a social afternoon and afternoon tea.
URL:https://taumarunui.co.nz/event/senior-citizens/2025-07-31/
LOCATION:Senior Citizens Hall\, Morero Street\, Taumarunui\, New Zealand
CATEGORIES:Clubs
END:VEVENT
BEGIN:VEVENT
DTSTART;TZID=Pacific/Auckland:20250729T173000
DTEND;TZID=Pacific/Auckland:20250729T190000
DTSTAMP:20260424T051301
CREATED:20241015T062549Z
LAST-MODIFIED:20241015T062549Z
UID:10003871-1753810200-1753815600@taumarunui.co.nz
SUMMARY:Progressive Hatha Yoga for all
DESCRIPTION:On every Tuesday of school terms in Senior Citizen Hall\, Taumarunui. \nFirst class $10\, equipment available.
URL:https://taumarunui.co.nz/event/progressive-hatha-yoga-for-all/2025-07-29/
LOCATION:Senior Citizens Hall\, Morero Street\, Taumarunui\, New Zealand
CATEGORIES:Clubs,Sport
END:VEVENT
END:VCALENDAR