BEGIN:VCALENDAR
VERSION:2.0
PRODID:-//Taumarunui - ECPv6.15.20//NONSGML v1.0//EN
CALSCALE:GREGORIAN
METHOD:PUBLISH
X-WR-CALNAME:Taumarunui
X-ORIGINAL-URL:https://taumarunui.co.nz
X-WR-CALDESC:Events for Taumarunui
REFRESH-INTERVAL;VALUE=DURATION:PT1H
X-Robots-Tag:noindex
X-PUBLISHED-TTL:PT1H
BEGIN:VTIMEZONE
TZID:Pacific/Auckland
BEGIN:STANDARD
TZOFFSETFROM:+1300
TZOFFSETTO:+1200
TZNAME:NZST
DTSTART:20250405T140000
END:STANDARD
BEGIN:DAYLIGHT
TZOFFSETFROM:+1200
TZOFFSETTO:+1300
TZNAME:NZDT
DTSTART:20250927T140000
END:DAYLIGHT
BEGIN:STANDARD
TZOFFSETFROM:+1300
TZOFFSETTO:+1200
TZNAME:NZST
DTSTART:20260404T140000
END:STANDARD
BEGIN:DAYLIGHT
TZOFFSETFROM:+1200
TZOFFSETTO:+1300
TZNAME:NZDT
DTSTART:20260926T140000
END:DAYLIGHT
BEGIN:STANDARD
TZOFFSETFROM:+1300
TZOFFSETTO:+1200
TZNAME:NZST
DTSTART:20270403T140000
END:STANDARD
BEGIN:DAYLIGHT
TZOFFSETFROM:+1200
TZOFFSETTO:+1300
TZNAME:NZDT
DTSTART:20270925T140000
END:DAYLIGHT
END:VTIMEZONE
BEGIN:VEVENT
DTSTART;TZID=Pacific/Auckland:20261001T130000
DTEND;TZID=Pacific/Auckland:20261001T150000
DTSTAMP:20260425T124031
CREATED:20241015T065239Z
LAST-MODIFIED:20241015T065239Z
UID:10004775-1790859600-1790866800@taumarunui.co.nz
SUMMARY:Senior Citizens
DESCRIPTION:Aged 50+ years. \nJoin us every Thursday at our clubrooms in Morero Terrace for a social afternoon and afternoon tea.
URL:https://taumarunui.co.nz/event/senior-citizens/2026-10-01/
LOCATION:Senior Citizens Hall\, Morero Street\, Taumarunui\, New Zealand
CATEGORIES:Clubs
END:VEVENT
BEGIN:VEVENT
DTSTART;TZID=Pacific/Auckland:20261002T090000
DTEND;TZID=Pacific/Auckland:20261002T120000
DTSTAMP:20260425T124031
CREATED:20251126T214707Z
LAST-MODIFIED:20251126T214707Z
UID:10012590-1790931600-1790942400@taumarunui.co.nz
SUMMARY:Taumarunui Community Market
DESCRIPTION:Get along and support the community
URL:https://taumarunui.co.nz/event/taumarunui-community-market/2026-10-02/
LOCATION:Senior Citizens Hall\, Morero Street\, Taumarunui\, New Zealand
ATTACH;FMTTYPE=image/jpeg:https://taumarunui.co.nz/wp-content/uploads/2025/11/IMG_2481.jpeg
END:VEVENT
BEGIN:VEVENT
DTSTART;TZID=Pacific/Auckland:20261006T173000
DTEND;TZID=Pacific/Auckland:20261006T190000
DTSTAMP:20260425T124031
CREATED:20241015T062549Z
LAST-MODIFIED:20241015T062549Z
UID:10003933-1791307800-1791313200@taumarunui.co.nz
SUMMARY:Progressive Hatha Yoga for all
DESCRIPTION:On every Tuesday of school terms in Senior Citizen Hall\, Taumarunui. \nFirst class $10\, equipment available.
URL:https://taumarunui.co.nz/event/progressive-hatha-yoga-for-all/2026-10-06/
LOCATION:Senior Citizens Hall\, Morero Street\, Taumarunui\, New Zealand
CATEGORIES:Clubs,Sport
END:VEVENT
BEGIN:VEVENT
DTSTART;TZID=Pacific/Auckland:20261008T130000
DTEND;TZID=Pacific/Auckland:20261008T150000
DTSTAMP:20260425T124031
CREATED:20241015T065239Z
LAST-MODIFIED:20241015T065239Z
UID:10004776-1791464400-1791471600@taumarunui.co.nz
SUMMARY:Senior Citizens
DESCRIPTION:Aged 50+ years. \nJoin us every Thursday at our clubrooms in Morero Terrace for a social afternoon and afternoon tea.
URL:https://taumarunui.co.nz/event/senior-citizens/2026-10-08/
LOCATION:Senior Citizens Hall\, Morero Street\, Taumarunui\, New Zealand
CATEGORIES:Clubs
END:VEVENT
BEGIN:VEVENT
DTSTART;TZID=Pacific/Auckland:20261009T090000
DTEND;TZID=Pacific/Auckland:20261009T120000
DTSTAMP:20260425T124031
CREATED:20251126T214707Z
LAST-MODIFIED:20251126T214707Z
UID:10012591-1791536400-1791547200@taumarunui.co.nz
SUMMARY:Taumarunui Community Market
DESCRIPTION:Get along and support the community
URL:https://taumarunui.co.nz/event/taumarunui-community-market/2026-10-09/
LOCATION:Senior Citizens Hall\, Morero Street\, Taumarunui\, New Zealand
ATTACH;FMTTYPE=image/jpeg:https://taumarunui.co.nz/wp-content/uploads/2025/11/IMG_2481.jpeg
END:VEVENT
BEGIN:VEVENT
DTSTART;TZID=Pacific/Auckland:20261013T173000
DTEND;TZID=Pacific/Auckland:20261013T190000
DTSTAMP:20260425T124031
CREATED:20241015T062549Z
LAST-MODIFIED:20241015T062549Z
UID:10003934-1791912600-1791918000@taumarunui.co.nz
SUMMARY:Progressive Hatha Yoga for all
DESCRIPTION:On every Tuesday of school terms in Senior Citizen Hall\, Taumarunui. \nFirst class $10\, equipment available.
URL:https://taumarunui.co.nz/event/progressive-hatha-yoga-for-all/2026-10-13/
LOCATION:Senior Citizens Hall\, Morero Street\, Taumarunui\, New Zealand
CATEGORIES:Clubs,Sport
END:VEVENT
BEGIN:VEVENT
DTSTART;TZID=Pacific/Auckland:20261015T130000
DTEND;TZID=Pacific/Auckland:20261015T150000
DTSTAMP:20260425T124031
CREATED:20241015T065239Z
LAST-MODIFIED:20241015T065239Z
UID:10004777-1792069200-1792076400@taumarunui.co.nz
SUMMARY:Senior Citizens
DESCRIPTION:Aged 50+ years. \nJoin us every Thursday at our clubrooms in Morero Terrace for a social afternoon and afternoon tea.
URL:https://taumarunui.co.nz/event/senior-citizens/2026-10-15/
LOCATION:Senior Citizens Hall\, Morero Street\, Taumarunui\, New Zealand
CATEGORIES:Clubs
END:VEVENT
BEGIN:VEVENT
DTSTART;TZID=Pacific/Auckland:20261016T090000
DTEND;TZID=Pacific/Auckland:20261016T120000
DTSTAMP:20260425T124031
CREATED:20251126T214707Z
LAST-MODIFIED:20251126T214707Z
UID:10012592-1792141200-1792152000@taumarunui.co.nz
SUMMARY:Taumarunui Community Market
DESCRIPTION:Get along and support the community
URL:https://taumarunui.co.nz/event/taumarunui-community-market/2026-10-16/
LOCATION:Senior Citizens Hall\, Morero Street\, Taumarunui\, New Zealand
ATTACH;FMTTYPE=image/jpeg:https://taumarunui.co.nz/wp-content/uploads/2025/11/IMG_2481.jpeg
END:VEVENT
BEGIN:VEVENT
DTSTART;TZID=Pacific/Auckland:20261020T173000
DTEND;TZID=Pacific/Auckland:20261020T190000
DTSTAMP:20260425T124031
CREATED:20241015T062549Z
LAST-MODIFIED:20241015T062549Z
UID:10003935-1792517400-1792522800@taumarunui.co.nz
SUMMARY:Progressive Hatha Yoga for all
DESCRIPTION:On every Tuesday of school terms in Senior Citizen Hall\, Taumarunui. \nFirst class $10\, equipment available.
URL:https://taumarunui.co.nz/event/progressive-hatha-yoga-for-all/2026-10-20/
LOCATION:Senior Citizens Hall\, Morero Street\, Taumarunui\, New Zealand
CATEGORIES:Clubs,Sport
END:VEVENT
BEGIN:VEVENT
DTSTART;TZID=Pacific/Auckland:20261022T130000
DTEND;TZID=Pacific/Auckland:20261022T150000
DTSTAMP:20260425T124031
CREATED:20241015T065239Z
LAST-MODIFIED:20241015T065239Z
UID:10004778-1792674000-1792681200@taumarunui.co.nz
SUMMARY:Senior Citizens
DESCRIPTION:Aged 50+ years. \nJoin us every Thursday at our clubrooms in Morero Terrace for a social afternoon and afternoon tea.
URL:https://taumarunui.co.nz/event/senior-citizens/2026-10-22/
LOCATION:Senior Citizens Hall\, Morero Street\, Taumarunui\, New Zealand
CATEGORIES:Clubs
END:VEVENT
BEGIN:VEVENT
DTSTART;TZID=Pacific/Auckland:20261023T090000
DTEND;TZID=Pacific/Auckland:20261023T120000
DTSTAMP:20260425T124031
CREATED:20251126T214707Z
LAST-MODIFIED:20251126T214707Z
UID:10012593-1792746000-1792756800@taumarunui.co.nz
SUMMARY:Taumarunui Community Market
DESCRIPTION:Get along and support the community
URL:https://taumarunui.co.nz/event/taumarunui-community-market/2026-10-23/
LOCATION:Senior Citizens Hall\, Morero Street\, Taumarunui\, New Zealand
ATTACH;FMTTYPE=image/jpeg:https://taumarunui.co.nz/wp-content/uploads/2025/11/IMG_2481.jpeg
END:VEVENT
BEGIN:VEVENT
DTSTART;TZID=Pacific/Auckland:20261024T130000
DTEND;TZID=Pacific/Auckland:20261024T130000
DTSTAMP:20260425T124031
CREATED:20241015T062915Z
LAST-MODIFIED:20241015T063023Z
UID:10004113-1792846800-1792846800@taumarunui.co.nz
SUMMARY:Taumarunui Genealogy Interest Group
DESCRIPTION:Meetings held monthly on fourth Saturday of the month
URL:https://taumarunui.co.nz/event/taumarunui-genealogy-interest-group/2026-10-24/
LOCATION:Senior Citizens Hall\, Morero Street\, Taumarunui\, New Zealand
CATEGORIES:Clubs
END:VEVENT
BEGIN:VEVENT
DTSTART;TZID=Pacific/Auckland:20261027T100000
DTEND;TZID=Pacific/Auckland:20261027T100000
DTSTAMP:20260425T124031
CREATED:20241028T201218Z
LAST-MODIFIED:20241028T201248Z
UID:10006266-1793095200-1793095200@taumarunui.co.nz
SUMMARY:Community Networking Hui
DESCRIPTION:On today 10am at the Senior Citizen Room Cnr of Morero and Miriama St\, Taumarunui.
URL:https://taumarunui.co.nz/event/community-networking-hui/2026-10-27/
LOCATION:Senior Citizens Hall\, Morero Street\, Taumarunui\, New Zealand
CATEGORIES:Event
ATTACH;FMTTYPE=image/jpeg:https://taumarunui.co.nz/wp-content/uploads/2024/10/IMG_8170.jpeg
END:VEVENT
BEGIN:VEVENT
DTSTART;TZID=Pacific/Auckland:20261027T173000
DTEND;TZID=Pacific/Auckland:20261027T190000
DTSTAMP:20260425T124031
CREATED:20241015T062549Z
LAST-MODIFIED:20241015T062549Z
UID:10003936-1793122200-1793127600@taumarunui.co.nz
SUMMARY:Progressive Hatha Yoga for all
DESCRIPTION:On every Tuesday of school terms in Senior Citizen Hall\, Taumarunui. \nFirst class $10\, equipment available.
URL:https://taumarunui.co.nz/event/progressive-hatha-yoga-for-all/2026-10-27/
LOCATION:Senior Citizens Hall\, Morero Street\, Taumarunui\, New Zealand
CATEGORIES:Clubs,Sport
END:VEVENT
BEGIN:VEVENT
DTSTART;TZID=Pacific/Auckland:20261029T130000
DTEND;TZID=Pacific/Auckland:20261029T150000
DTSTAMP:20260425T124031
CREATED:20241015T065239Z
LAST-MODIFIED:20241015T065239Z
UID:10004779-1793278800-1793286000@taumarunui.co.nz
SUMMARY:Senior Citizens
DESCRIPTION:Aged 50+ years. \nJoin us every Thursday at our clubrooms in Morero Terrace for a social afternoon and afternoon tea.
URL:https://taumarunui.co.nz/event/senior-citizens/2026-10-29/
LOCATION:Senior Citizens Hall\, Morero Street\, Taumarunui\, New Zealand
CATEGORIES:Clubs
END:VEVENT
BEGIN:VEVENT
DTSTART;TZID=Pacific/Auckland:20261030T090000
DTEND;TZID=Pacific/Auckland:20261030T120000
DTSTAMP:20260425T124031
CREATED:20251126T214707Z
LAST-MODIFIED:20251126T214707Z
UID:10012594-1793350800-1793361600@taumarunui.co.nz
SUMMARY:Taumarunui Community Market
DESCRIPTION:Get along and support the community
URL:https://taumarunui.co.nz/event/taumarunui-community-market/2026-10-30/
LOCATION:Senior Citizens Hall\, Morero Street\, Taumarunui\, New Zealand
ATTACH;FMTTYPE=image/jpeg:https://taumarunui.co.nz/wp-content/uploads/2025/11/IMG_2481.jpeg
END:VEVENT
BEGIN:VEVENT
DTSTART;TZID=Pacific/Auckland:20261030T130000
DTEND;TZID=Pacific/Auckland:20261030T150000
DTSTAMP:20260425T124031
CREATED:20250122T180717Z
LAST-MODIFIED:20250122T180717Z
UID:10010739-1793365200-1793372400@taumarunui.co.nz
SUMMARY:Cheerful Seniors Taumarunui
DESCRIPTION:Hi everyone\, we are offering a new social connection group for seniors (anyone aged 50 years plus – or thereabouts). Join our page for the up to date news and events. last Friday of every month – Senior Citizens Hall\, Taumarunui. Gold coin donation from 1pm – 3pm
URL:https://taumarunui.co.nz/event/cheerful-seniors-taumarunui/2026-10-30/
LOCATION:Senior Citizens Hall\, Morero Street\, Taumarunui\, New Zealand
CATEGORIES:Clubs,Wellness
ATTACH;FMTTYPE=image/jpeg:https://taumarunui.co.nz/wp-content/uploads/2025/01/IMG_0476.jpeg
END:VEVENT
BEGIN:VEVENT
DTSTART;TZID=Pacific/Auckland:20261103T173000
DTEND;TZID=Pacific/Auckland:20261103T190000
DTSTAMP:20260425T124031
CREATED:20241015T062549Z
LAST-MODIFIED:20241015T062549Z
UID:10003937-1793727000-1793732400@taumarunui.co.nz
SUMMARY:Progressive Hatha Yoga for all
DESCRIPTION:On every Tuesday of school terms in Senior Citizen Hall\, Taumarunui. \nFirst class $10\, equipment available.
URL:https://taumarunui.co.nz/event/progressive-hatha-yoga-for-all/2026-11-03/
LOCATION:Senior Citizens Hall\, Morero Street\, Taumarunui\, New Zealand
CATEGORIES:Clubs,Sport
END:VEVENT
BEGIN:VEVENT
DTSTART;TZID=Pacific/Auckland:20261105T130000
DTEND;TZID=Pacific/Auckland:20261105T150000
DTSTAMP:20260425T124031
CREATED:20241015T065239Z
LAST-MODIFIED:20241015T065239Z
UID:10004780-1793883600-1793890800@taumarunui.co.nz
SUMMARY:Senior Citizens
DESCRIPTION:Aged 50+ years. \nJoin us every Thursday at our clubrooms in Morero Terrace for a social afternoon and afternoon tea.
URL:https://taumarunui.co.nz/event/senior-citizens/2026-11-05/
LOCATION:Senior Citizens Hall\, Morero Street\, Taumarunui\, New Zealand
CATEGORIES:Clubs
END:VEVENT
BEGIN:VEVENT
DTSTART;TZID=Pacific/Auckland:20261106T090000
DTEND;TZID=Pacific/Auckland:20261106T120000
DTSTAMP:20260425T124031
CREATED:20251126T214707Z
LAST-MODIFIED:20251126T214707Z
UID:10012595-1793955600-1793966400@taumarunui.co.nz
SUMMARY:Taumarunui Community Market
DESCRIPTION:Get along and support the community
URL:https://taumarunui.co.nz/event/taumarunui-community-market/2026-11-06/
LOCATION:Senior Citizens Hall\, Morero Street\, Taumarunui\, New Zealand
ATTACH;FMTTYPE=image/jpeg:https://taumarunui.co.nz/wp-content/uploads/2025/11/IMG_2481.jpeg
END:VEVENT
BEGIN:VEVENT
DTSTART;TZID=Pacific/Auckland:20261110T173000
DTEND;TZID=Pacific/Auckland:20261110T190000
DTSTAMP:20260425T124031
CREATED:20241015T062549Z
LAST-MODIFIED:20241015T062549Z
UID:10003938-1794331800-1794337200@taumarunui.co.nz
SUMMARY:Progressive Hatha Yoga for all
DESCRIPTION:On every Tuesday of school terms in Senior Citizen Hall\, Taumarunui. \nFirst class $10\, equipment available.
URL:https://taumarunui.co.nz/event/progressive-hatha-yoga-for-all/2026-11-10/
LOCATION:Senior Citizens Hall\, Morero Street\, Taumarunui\, New Zealand
CATEGORIES:Clubs,Sport
END:VEVENT
BEGIN:VEVENT
DTSTART;TZID=Pacific/Auckland:20261112T130000
DTEND;TZID=Pacific/Auckland:20261112T150000
DTSTAMP:20260425T124031
CREATED:20241015T065239Z
LAST-MODIFIED:20241015T065239Z
UID:10004781-1794488400-1794495600@taumarunui.co.nz
SUMMARY:Senior Citizens
DESCRIPTION:Aged 50+ years. \nJoin us every Thursday at our clubrooms in Morero Terrace for a social afternoon and afternoon tea.
URL:https://taumarunui.co.nz/event/senior-citizens/2026-11-12/
LOCATION:Senior Citizens Hall\, Morero Street\, Taumarunui\, New Zealand
CATEGORIES:Clubs
END:VEVENT
BEGIN:VEVENT
DTSTART;TZID=Pacific/Auckland:20261113T090000
DTEND;TZID=Pacific/Auckland:20261113T120000
DTSTAMP:20260425T124031
CREATED:20251126T214707Z
LAST-MODIFIED:20251126T214707Z
UID:10012596-1794560400-1794571200@taumarunui.co.nz
SUMMARY:Taumarunui Community Market
DESCRIPTION:Get along and support the community
URL:https://taumarunui.co.nz/event/taumarunui-community-market/2026-11-13/
LOCATION:Senior Citizens Hall\, Morero Street\, Taumarunui\, New Zealand
ATTACH;FMTTYPE=image/jpeg:https://taumarunui.co.nz/wp-content/uploads/2025/11/IMG_2481.jpeg
END:VEVENT
BEGIN:VEVENT
DTSTART;TZID=Pacific/Auckland:20261117T173000
DTEND;TZID=Pacific/Auckland:20261117T190000
DTSTAMP:20260425T124031
CREATED:20241015T062549Z
LAST-MODIFIED:20241015T062549Z
UID:10003939-1794936600-1794942000@taumarunui.co.nz
SUMMARY:Progressive Hatha Yoga for all
DESCRIPTION:On every Tuesday of school terms in Senior Citizen Hall\, Taumarunui. \nFirst class $10\, equipment available.
URL:https://taumarunui.co.nz/event/progressive-hatha-yoga-for-all/2026-11-17/
LOCATION:Senior Citizens Hall\, Morero Street\, Taumarunui\, New Zealand
CATEGORIES:Clubs,Sport
END:VEVENT
BEGIN:VEVENT
DTSTART;TZID=Pacific/Auckland:20261119T130000
DTEND;TZID=Pacific/Auckland:20261119T150000
DTSTAMP:20260425T124031
CREATED:20241015T065239Z
LAST-MODIFIED:20241015T065239Z
UID:10004782-1795093200-1795100400@taumarunui.co.nz
SUMMARY:Senior Citizens
DESCRIPTION:Aged 50+ years. \nJoin us every Thursday at our clubrooms in Morero Terrace for a social afternoon and afternoon tea.
URL:https://taumarunui.co.nz/event/senior-citizens/2026-11-19/
LOCATION:Senior Citizens Hall\, Morero Street\, Taumarunui\, New Zealand
CATEGORIES:Clubs
END:VEVENT
BEGIN:VEVENT
DTSTART;TZID=Pacific/Auckland:20261120T090000
DTEND;TZID=Pacific/Auckland:20261120T120000
DTSTAMP:20260425T124031
CREATED:20251126T214707Z
LAST-MODIFIED:20251126T214707Z
UID:10012597-1795165200-1795176000@taumarunui.co.nz
SUMMARY:Taumarunui Community Market
DESCRIPTION:Get along and support the community
URL:https://taumarunui.co.nz/event/taumarunui-community-market/2026-11-20/
LOCATION:Senior Citizens Hall\, Morero Street\, Taumarunui\, New Zealand
ATTACH;FMTTYPE=image/jpeg:https://taumarunui.co.nz/wp-content/uploads/2025/11/IMG_2481.jpeg
END:VEVENT
BEGIN:VEVENT
DTSTART;TZID=Pacific/Auckland:20261124T100000
DTEND;TZID=Pacific/Auckland:20261124T100000
DTSTAMP:20260425T124031
CREATED:20241028T201218Z
LAST-MODIFIED:20241028T201248Z
UID:10006267-1795514400-1795514400@taumarunui.co.nz
SUMMARY:Community Networking Hui
DESCRIPTION:On today 10am at the Senior Citizen Room Cnr of Morero and Miriama St\, Taumarunui.
URL:https://taumarunui.co.nz/event/community-networking-hui/2026-11-24/
LOCATION:Senior Citizens Hall\, Morero Street\, Taumarunui\, New Zealand
CATEGORIES:Event
ATTACH;FMTTYPE=image/jpeg:https://taumarunui.co.nz/wp-content/uploads/2024/10/IMG_8170.jpeg
END:VEVENT
BEGIN:VEVENT
DTSTART;TZID=Pacific/Auckland:20261124T173000
DTEND;TZID=Pacific/Auckland:20261124T190000
DTSTAMP:20260425T124031
CREATED:20241015T062549Z
LAST-MODIFIED:20241015T062549Z
UID:10003940-1795541400-1795546800@taumarunui.co.nz
SUMMARY:Progressive Hatha Yoga for all
DESCRIPTION:On every Tuesday of school terms in Senior Citizen Hall\, Taumarunui. \nFirst class $10\, equipment available.
URL:https://taumarunui.co.nz/event/progressive-hatha-yoga-for-all/2026-11-24/
LOCATION:Senior Citizens Hall\, Morero Street\, Taumarunui\, New Zealand
CATEGORIES:Clubs,Sport
END:VEVENT
BEGIN:VEVENT
DTSTART;TZID=Pacific/Auckland:20261126T130000
DTEND;TZID=Pacific/Auckland:20261126T150000
DTSTAMP:20260425T124031
CREATED:20241015T065239Z
LAST-MODIFIED:20241015T065239Z
UID:10004783-1795698000-1795705200@taumarunui.co.nz
SUMMARY:Senior Citizens
DESCRIPTION:Aged 50+ years. \nJoin us every Thursday at our clubrooms in Morero Terrace for a social afternoon and afternoon tea.
URL:https://taumarunui.co.nz/event/senior-citizens/2026-11-26/
LOCATION:Senior Citizens Hall\, Morero Street\, Taumarunui\, New Zealand
CATEGORIES:Clubs
END:VEVENT
BEGIN:VEVENT
DTSTART;TZID=Pacific/Auckland:20261127T090000
DTEND;TZID=Pacific/Auckland:20261127T120000
DTSTAMP:20260425T124031
CREATED:20251126T214707Z
LAST-MODIFIED:20251126T214707Z
UID:10012598-1795770000-1795780800@taumarunui.co.nz
SUMMARY:Taumarunui Community Market
DESCRIPTION:Get along and support the community
URL:https://taumarunui.co.nz/event/taumarunui-community-market/2026-11-27/
LOCATION:Senior Citizens Hall\, Morero Street\, Taumarunui\, New Zealand
ATTACH;FMTTYPE=image/jpeg:https://taumarunui.co.nz/wp-content/uploads/2025/11/IMG_2481.jpeg
END:VEVENT
END:VCALENDAR