BEGIN:VCALENDAR
VERSION:2.0
PRODID:-//Taumarunui - ECPv6.15.20//NONSGML v1.0//EN
CALSCALE:GREGORIAN
METHOD:PUBLISH
X-WR-CALNAME:Taumarunui
X-ORIGINAL-URL:https://taumarunui.co.nz
X-WR-CALDESC:Events for Taumarunui
REFRESH-INTERVAL;VALUE=DURATION:PT1H
X-Robots-Tag:noindex
X-PUBLISHED-TTL:PT1H
BEGIN:VTIMEZONE
TZID:Pacific/Auckland
BEGIN:STANDARD
TZOFFSETFROM:+1300
TZOFFSETTO:+1200
TZNAME:NZST
DTSTART:20250405T140000
END:STANDARD
BEGIN:DAYLIGHT
TZOFFSETFROM:+1200
TZOFFSETTO:+1300
TZNAME:NZDT
DTSTART:20250927T140000
END:DAYLIGHT
BEGIN:STANDARD
TZOFFSETFROM:+1300
TZOFFSETTO:+1200
TZNAME:NZST
DTSTART:20260404T140000
END:STANDARD
BEGIN:DAYLIGHT
TZOFFSETFROM:+1200
TZOFFSETTO:+1300
TZNAME:NZDT
DTSTART:20260926T140000
END:DAYLIGHT
BEGIN:STANDARD
TZOFFSETFROM:+1300
TZOFFSETTO:+1200
TZNAME:NZST
DTSTART:20270403T140000
END:STANDARD
BEGIN:DAYLIGHT
TZOFFSETFROM:+1200
TZOFFSETTO:+1300
TZNAME:NZDT
DTSTART:20270925T140000
END:DAYLIGHT
END:VTIMEZONE
BEGIN:VEVENT
DTSTART;TZID=Pacific/Auckland:20260821T090000
DTEND;TZID=Pacific/Auckland:20260821T120000
DTSTAMP:20260426T021944
CREATED:20251126T214707Z
LAST-MODIFIED:20251126T214707Z
UID:10012584-1787302800-1787313600@taumarunui.co.nz
SUMMARY:Taumarunui Community Market
DESCRIPTION:Get along and support the community
URL:https://taumarunui.co.nz/event/taumarunui-community-market/2026-08-21/
LOCATION:Senior Citizens Hall\, Morero Street\, Taumarunui\, New Zealand
ATTACH;FMTTYPE=image/jpeg:https://taumarunui.co.nz/wp-content/uploads/2025/11/IMG_2481.jpeg
END:VEVENT
BEGIN:VEVENT
DTSTART;TZID=Pacific/Auckland:20260822T130000
DTEND;TZID=Pacific/Auckland:20260822T130000
DTSTAMP:20260426T021944
CREATED:20241015T062915Z
LAST-MODIFIED:20241015T063023Z
UID:10004111-1787403600-1787403600@taumarunui.co.nz
SUMMARY:Taumarunui Genealogy Interest Group
DESCRIPTION:Meetings held monthly on fourth Saturday of the month
URL:https://taumarunui.co.nz/event/taumarunui-genealogy-interest-group/2026-08-22/
LOCATION:Senior Citizens Hall\, Morero Street\, Taumarunui\, New Zealand
CATEGORIES:Clubs
END:VEVENT
BEGIN:VEVENT
DTSTART;TZID=Pacific/Auckland:20260825T100000
DTEND;TZID=Pacific/Auckland:20260825T100000
DTSTAMP:20260426T021944
CREATED:20241028T201218Z
LAST-MODIFIED:20241028T201248Z
UID:10006264-1787652000-1787652000@taumarunui.co.nz
SUMMARY:Community Networking Hui
DESCRIPTION:On today 10am at the Senior Citizen Room Cnr of Morero and Miriama St\, Taumarunui.
URL:https://taumarunui.co.nz/event/community-networking-hui/2026-08-25/
LOCATION:Senior Citizens Hall\, Morero Street\, Taumarunui\, New Zealand
CATEGORIES:Event
ATTACH;FMTTYPE=image/jpeg:https://taumarunui.co.nz/wp-content/uploads/2024/10/IMG_8170.jpeg
END:VEVENT
BEGIN:VEVENT
DTSTART;TZID=Pacific/Auckland:20260825T173000
DTEND;TZID=Pacific/Auckland:20260825T190000
DTSTAMP:20260426T021944
CREATED:20241015T062549Z
LAST-MODIFIED:20241015T062549Z
UID:10003927-1787679000-1787684400@taumarunui.co.nz
SUMMARY:Progressive Hatha Yoga for all
DESCRIPTION:On every Tuesday of school terms in Senior Citizen Hall\, Taumarunui. \nFirst class $10\, equipment available.
URL:https://taumarunui.co.nz/event/progressive-hatha-yoga-for-all/2026-08-25/
LOCATION:Senior Citizens Hall\, Morero Street\, Taumarunui\, New Zealand
CATEGORIES:Clubs,Sport
END:VEVENT
BEGIN:VEVENT
DTSTART;TZID=Pacific/Auckland:20260827T130000
DTEND;TZID=Pacific/Auckland:20260827T150000
DTSTAMP:20260426T021944
CREATED:20241015T065239Z
LAST-MODIFIED:20241015T065239Z
UID:10004770-1787835600-1787842800@taumarunui.co.nz
SUMMARY:Senior Citizens
DESCRIPTION:Aged 50+ years. \nJoin us every Thursday at our clubrooms in Morero Terrace for a social afternoon and afternoon tea.
URL:https://taumarunui.co.nz/event/senior-citizens/2026-08-27/
LOCATION:Senior Citizens Hall\, Morero Street\, Taumarunui\, New Zealand
CATEGORIES:Clubs
END:VEVENT
BEGIN:VEVENT
DTSTART;TZID=Pacific/Auckland:20260828T090000
DTEND;TZID=Pacific/Auckland:20260828T120000
DTSTAMP:20260426T021944
CREATED:20251126T214707Z
LAST-MODIFIED:20251126T214707Z
UID:10012585-1787907600-1787918400@taumarunui.co.nz
SUMMARY:Taumarunui Community Market
DESCRIPTION:Get along and support the community
URL:https://taumarunui.co.nz/event/taumarunui-community-market/2026-08-28/
LOCATION:Senior Citizens Hall\, Morero Street\, Taumarunui\, New Zealand
ATTACH;FMTTYPE=image/jpeg:https://taumarunui.co.nz/wp-content/uploads/2025/11/IMG_2481.jpeg
END:VEVENT
BEGIN:VEVENT
DTSTART;TZID=Pacific/Auckland:20260828T130000
DTEND;TZID=Pacific/Auckland:20260828T150000
DTSTAMP:20260426T021944
CREATED:20250122T180717Z
LAST-MODIFIED:20250122T180717Z
UID:10010737-1787922000-1787929200@taumarunui.co.nz
SUMMARY:Cheerful Seniors Taumarunui
DESCRIPTION:Hi everyone\, we are offering a new social connection group for seniors (anyone aged 50 years plus – or thereabouts). Join our page for the up to date news and events. last Friday of every month – Senior Citizens Hall\, Taumarunui. Gold coin donation from 1pm – 3pm
URL:https://taumarunui.co.nz/event/cheerful-seniors-taumarunui/2026-08-28/
LOCATION:Senior Citizens Hall\, Morero Street\, Taumarunui\, New Zealand
CATEGORIES:Clubs,Wellness
ATTACH;FMTTYPE=image/jpeg:https://taumarunui.co.nz/wp-content/uploads/2025/01/IMG_0476.jpeg
END:VEVENT
BEGIN:VEVENT
DTSTART;TZID=Pacific/Auckland:20260901T173000
DTEND;TZID=Pacific/Auckland:20260901T190000
DTSTAMP:20260426T021944
CREATED:20241015T062549Z
LAST-MODIFIED:20241015T062549Z
UID:10003928-1788283800-1788289200@taumarunui.co.nz
SUMMARY:Progressive Hatha Yoga for all
DESCRIPTION:On every Tuesday of school terms in Senior Citizen Hall\, Taumarunui. \nFirst class $10\, equipment available.
URL:https://taumarunui.co.nz/event/progressive-hatha-yoga-for-all/2026-09-01/
LOCATION:Senior Citizens Hall\, Morero Street\, Taumarunui\, New Zealand
CATEGORIES:Clubs,Sport
END:VEVENT
BEGIN:VEVENT
DTSTART;TZID=Pacific/Auckland:20260903T130000
DTEND;TZID=Pacific/Auckland:20260903T150000
DTSTAMP:20260426T021944
CREATED:20241015T065239Z
LAST-MODIFIED:20241015T065239Z
UID:10004771-1788440400-1788447600@taumarunui.co.nz
SUMMARY:Senior Citizens
DESCRIPTION:Aged 50+ years. \nJoin us every Thursday at our clubrooms in Morero Terrace for a social afternoon and afternoon tea.
URL:https://taumarunui.co.nz/event/senior-citizens/2026-09-03/
LOCATION:Senior Citizens Hall\, Morero Street\, Taumarunui\, New Zealand
CATEGORIES:Clubs
END:VEVENT
BEGIN:VEVENT
DTSTART;TZID=Pacific/Auckland:20260904T090000
DTEND;TZID=Pacific/Auckland:20260904T120000
DTSTAMP:20260426T021944
CREATED:20251126T214707Z
LAST-MODIFIED:20251126T214707Z
UID:10012586-1788512400-1788523200@taumarunui.co.nz
SUMMARY:Taumarunui Community Market
DESCRIPTION:Get along and support the community
URL:https://taumarunui.co.nz/event/taumarunui-community-market/2026-09-04/
LOCATION:Senior Citizens Hall\, Morero Street\, Taumarunui\, New Zealand
ATTACH;FMTTYPE=image/jpeg:https://taumarunui.co.nz/wp-content/uploads/2025/11/IMG_2481.jpeg
END:VEVENT
BEGIN:VEVENT
DTSTART;TZID=Pacific/Auckland:20260908T173000
DTEND;TZID=Pacific/Auckland:20260908T190000
DTSTAMP:20260426T021944
CREATED:20241015T062549Z
LAST-MODIFIED:20241015T062549Z
UID:10003929-1788888600-1788894000@taumarunui.co.nz
SUMMARY:Progressive Hatha Yoga for all
DESCRIPTION:On every Tuesday of school terms in Senior Citizen Hall\, Taumarunui. \nFirst class $10\, equipment available.
URL:https://taumarunui.co.nz/event/progressive-hatha-yoga-for-all/2026-09-08/
LOCATION:Senior Citizens Hall\, Morero Street\, Taumarunui\, New Zealand
CATEGORIES:Clubs,Sport
END:VEVENT
BEGIN:VEVENT
DTSTART;TZID=Pacific/Auckland:20260910T130000
DTEND;TZID=Pacific/Auckland:20260910T150000
DTSTAMP:20260426T021944
CREATED:20241015T065239Z
LAST-MODIFIED:20241015T065239Z
UID:10004772-1789045200-1789052400@taumarunui.co.nz
SUMMARY:Senior Citizens
DESCRIPTION:Aged 50+ years. \nJoin us every Thursday at our clubrooms in Morero Terrace for a social afternoon and afternoon tea.
URL:https://taumarunui.co.nz/event/senior-citizens/2026-09-10/
LOCATION:Senior Citizens Hall\, Morero Street\, Taumarunui\, New Zealand
CATEGORIES:Clubs
END:VEVENT
BEGIN:VEVENT
DTSTART;TZID=Pacific/Auckland:20260911T090000
DTEND;TZID=Pacific/Auckland:20260911T120000
DTSTAMP:20260426T021944
CREATED:20251126T214707Z
LAST-MODIFIED:20251126T214707Z
UID:10012587-1789117200-1789128000@taumarunui.co.nz
SUMMARY:Taumarunui Community Market
DESCRIPTION:Get along and support the community
URL:https://taumarunui.co.nz/event/taumarunui-community-market/2026-09-11/
LOCATION:Senior Citizens Hall\, Morero Street\, Taumarunui\, New Zealand
ATTACH;FMTTYPE=image/jpeg:https://taumarunui.co.nz/wp-content/uploads/2025/11/IMG_2481.jpeg
END:VEVENT
BEGIN:VEVENT
DTSTART;TZID=Pacific/Auckland:20260915T173000
DTEND;TZID=Pacific/Auckland:20260915T190000
DTSTAMP:20260426T021944
CREATED:20241015T062549Z
LAST-MODIFIED:20241015T062549Z
UID:10003930-1789493400-1789498800@taumarunui.co.nz
SUMMARY:Progressive Hatha Yoga for all
DESCRIPTION:On every Tuesday of school terms in Senior Citizen Hall\, Taumarunui. \nFirst class $10\, equipment available.
URL:https://taumarunui.co.nz/event/progressive-hatha-yoga-for-all/2026-09-15/
LOCATION:Senior Citizens Hall\, Morero Street\, Taumarunui\, New Zealand
CATEGORIES:Clubs,Sport
END:VEVENT
BEGIN:VEVENT
DTSTART;TZID=Pacific/Auckland:20260917T130000
DTEND;TZID=Pacific/Auckland:20260917T150000
DTSTAMP:20260426T021944
CREATED:20241015T065239Z
LAST-MODIFIED:20241015T065239Z
UID:10004773-1789650000-1789657200@taumarunui.co.nz
SUMMARY:Senior Citizens
DESCRIPTION:Aged 50+ years. \nJoin us every Thursday at our clubrooms in Morero Terrace for a social afternoon and afternoon tea.
URL:https://taumarunui.co.nz/event/senior-citizens/2026-09-17/
LOCATION:Senior Citizens Hall\, Morero Street\, Taumarunui\, New Zealand
CATEGORIES:Clubs
END:VEVENT
BEGIN:VEVENT
DTSTART;TZID=Pacific/Auckland:20260918T090000
DTEND;TZID=Pacific/Auckland:20260918T120000
DTSTAMP:20260426T021944
CREATED:20251126T214707Z
LAST-MODIFIED:20251126T214707Z
UID:10012588-1789722000-1789732800@taumarunui.co.nz
SUMMARY:Taumarunui Community Market
DESCRIPTION:Get along and support the community
URL:https://taumarunui.co.nz/event/taumarunui-community-market/2026-09-18/
LOCATION:Senior Citizens Hall\, Morero Street\, Taumarunui\, New Zealand
ATTACH;FMTTYPE=image/jpeg:https://taumarunui.co.nz/wp-content/uploads/2025/11/IMG_2481.jpeg
END:VEVENT
BEGIN:VEVENT
DTSTART;TZID=Pacific/Auckland:20260922T173000
DTEND;TZID=Pacific/Auckland:20260922T190000
DTSTAMP:20260426T021944
CREATED:20241015T062549Z
LAST-MODIFIED:20241015T062549Z
UID:10003931-1790098200-1790103600@taumarunui.co.nz
SUMMARY:Progressive Hatha Yoga for all
DESCRIPTION:On every Tuesday of school terms in Senior Citizen Hall\, Taumarunui. \nFirst class $10\, equipment available.
URL:https://taumarunui.co.nz/event/progressive-hatha-yoga-for-all/2026-09-22/
LOCATION:Senior Citizens Hall\, Morero Street\, Taumarunui\, New Zealand
CATEGORIES:Clubs,Sport
END:VEVENT
BEGIN:VEVENT
DTSTART;TZID=Pacific/Auckland:20260924T130000
DTEND;TZID=Pacific/Auckland:20260924T150000
DTSTAMP:20260426T021944
CREATED:20241015T065239Z
LAST-MODIFIED:20241015T065239Z
UID:10004774-1790254800-1790262000@taumarunui.co.nz
SUMMARY:Senior Citizens
DESCRIPTION:Aged 50+ years. \nJoin us every Thursday at our clubrooms in Morero Terrace for a social afternoon and afternoon tea.
URL:https://taumarunui.co.nz/event/senior-citizens/2026-09-24/
LOCATION:Senior Citizens Hall\, Morero Street\, Taumarunui\, New Zealand
CATEGORIES:Clubs
END:VEVENT
BEGIN:VEVENT
DTSTART;TZID=Pacific/Auckland:20260925T090000
DTEND;TZID=Pacific/Auckland:20260925T120000
DTSTAMP:20260426T021944
CREATED:20251126T214707Z
LAST-MODIFIED:20251126T214707Z
UID:10012589-1790326800-1790337600@taumarunui.co.nz
SUMMARY:Taumarunui Community Market
DESCRIPTION:Get along and support the community
URL:https://taumarunui.co.nz/event/taumarunui-community-market/2026-09-25/
LOCATION:Senior Citizens Hall\, Morero Street\, Taumarunui\, New Zealand
ATTACH;FMTTYPE=image/jpeg:https://taumarunui.co.nz/wp-content/uploads/2025/11/IMG_2481.jpeg
END:VEVENT
BEGIN:VEVENT
DTSTART;TZID=Pacific/Auckland:20260925T130000
DTEND;TZID=Pacific/Auckland:20260925T150000
DTSTAMP:20260426T021944
CREATED:20250122T180717Z
LAST-MODIFIED:20250122T180717Z
UID:10010738-1790341200-1790348400@taumarunui.co.nz
SUMMARY:Cheerful Seniors Taumarunui
DESCRIPTION:Hi everyone\, we are offering a new social connection group for seniors (anyone aged 50 years plus – or thereabouts). Join our page for the up to date news and events. last Friday of every month – Senior Citizens Hall\, Taumarunui. Gold coin donation from 1pm – 3pm
URL:https://taumarunui.co.nz/event/cheerful-seniors-taumarunui/2026-09-25/
LOCATION:Senior Citizens Hall\, Morero Street\, Taumarunui\, New Zealand
CATEGORIES:Clubs,Wellness
ATTACH;FMTTYPE=image/jpeg:https://taumarunui.co.nz/wp-content/uploads/2025/01/IMG_0476.jpeg
END:VEVENT
BEGIN:VEVENT
DTSTART;TZID=Pacific/Auckland:20260926T130000
DTEND;TZID=Pacific/Auckland:20260926T130000
DTSTAMP:20260426T021944
CREATED:20241015T062915Z
LAST-MODIFIED:20241015T063023Z
UID:10004112-1790427600-1790427600@taumarunui.co.nz
SUMMARY:Taumarunui Genealogy Interest Group
DESCRIPTION:Meetings held monthly on fourth Saturday of the month
URL:https://taumarunui.co.nz/event/taumarunui-genealogy-interest-group/2026-09-26/
LOCATION:Senior Citizens Hall\, Morero Street\, Taumarunui\, New Zealand
CATEGORIES:Clubs
END:VEVENT
BEGIN:VEVENT
DTSTART;TZID=Pacific/Auckland:20260929T100000
DTEND;TZID=Pacific/Auckland:20260929T100000
DTSTAMP:20260426T021944
CREATED:20241028T201218Z
LAST-MODIFIED:20241028T201248Z
UID:10006265-1790676000-1790676000@taumarunui.co.nz
SUMMARY:Community Networking Hui
DESCRIPTION:On today 10am at the Senior Citizen Room Cnr of Morero and Miriama St\, Taumarunui.
URL:https://taumarunui.co.nz/event/community-networking-hui/2026-09-29/
LOCATION:Senior Citizens Hall\, Morero Street\, Taumarunui\, New Zealand
CATEGORIES:Event
ATTACH;FMTTYPE=image/jpeg:https://taumarunui.co.nz/wp-content/uploads/2024/10/IMG_8170.jpeg
END:VEVENT
BEGIN:VEVENT
DTSTART;TZID=Pacific/Auckland:20260929T173000
DTEND;TZID=Pacific/Auckland:20260929T190000
DTSTAMP:20260426T021944
CREATED:20241015T062549Z
LAST-MODIFIED:20241015T062549Z
UID:10003932-1790703000-1790708400@taumarunui.co.nz
SUMMARY:Progressive Hatha Yoga for all
DESCRIPTION:On every Tuesday of school terms in Senior Citizen Hall\, Taumarunui. \nFirst class $10\, equipment available.
URL:https://taumarunui.co.nz/event/progressive-hatha-yoga-for-all/2026-09-29/
LOCATION:Senior Citizens Hall\, Morero Street\, Taumarunui\, New Zealand
CATEGORIES:Clubs,Sport
END:VEVENT
BEGIN:VEVENT
DTSTART;TZID=Pacific/Auckland:20261001T130000
DTEND;TZID=Pacific/Auckland:20261001T150000
DTSTAMP:20260426T021944
CREATED:20241015T065239Z
LAST-MODIFIED:20241015T065239Z
UID:10004775-1790859600-1790866800@taumarunui.co.nz
SUMMARY:Senior Citizens
DESCRIPTION:Aged 50+ years. \nJoin us every Thursday at our clubrooms in Morero Terrace for a social afternoon and afternoon tea.
URL:https://taumarunui.co.nz/event/senior-citizens/2026-10-01/
LOCATION:Senior Citizens Hall\, Morero Street\, Taumarunui\, New Zealand
CATEGORIES:Clubs
END:VEVENT
BEGIN:VEVENT
DTSTART;TZID=Pacific/Auckland:20261002T090000
DTEND;TZID=Pacific/Auckland:20261002T120000
DTSTAMP:20260426T021944
CREATED:20251126T214707Z
LAST-MODIFIED:20251126T214707Z
UID:10012590-1790931600-1790942400@taumarunui.co.nz
SUMMARY:Taumarunui Community Market
DESCRIPTION:Get along and support the community
URL:https://taumarunui.co.nz/event/taumarunui-community-market/2026-10-02/
LOCATION:Senior Citizens Hall\, Morero Street\, Taumarunui\, New Zealand
ATTACH;FMTTYPE=image/jpeg:https://taumarunui.co.nz/wp-content/uploads/2025/11/IMG_2481.jpeg
END:VEVENT
BEGIN:VEVENT
DTSTART;TZID=Pacific/Auckland:20261006T173000
DTEND;TZID=Pacific/Auckland:20261006T190000
DTSTAMP:20260426T021944
CREATED:20241015T062549Z
LAST-MODIFIED:20241015T062549Z
UID:10003933-1791307800-1791313200@taumarunui.co.nz
SUMMARY:Progressive Hatha Yoga for all
DESCRIPTION:On every Tuesday of school terms in Senior Citizen Hall\, Taumarunui. \nFirst class $10\, equipment available.
URL:https://taumarunui.co.nz/event/progressive-hatha-yoga-for-all/2026-10-06/
LOCATION:Senior Citizens Hall\, Morero Street\, Taumarunui\, New Zealand
CATEGORIES:Clubs,Sport
END:VEVENT
BEGIN:VEVENT
DTSTART;TZID=Pacific/Auckland:20261008T130000
DTEND;TZID=Pacific/Auckland:20261008T150000
DTSTAMP:20260426T021944
CREATED:20241015T065239Z
LAST-MODIFIED:20241015T065239Z
UID:10004776-1791464400-1791471600@taumarunui.co.nz
SUMMARY:Senior Citizens
DESCRIPTION:Aged 50+ years. \nJoin us every Thursday at our clubrooms in Morero Terrace for a social afternoon and afternoon tea.
URL:https://taumarunui.co.nz/event/senior-citizens/2026-10-08/
LOCATION:Senior Citizens Hall\, Morero Street\, Taumarunui\, New Zealand
CATEGORIES:Clubs
END:VEVENT
BEGIN:VEVENT
DTSTART;TZID=Pacific/Auckland:20261009T090000
DTEND;TZID=Pacific/Auckland:20261009T120000
DTSTAMP:20260426T021944
CREATED:20251126T214707Z
LAST-MODIFIED:20251126T214707Z
UID:10012591-1791536400-1791547200@taumarunui.co.nz
SUMMARY:Taumarunui Community Market
DESCRIPTION:Get along and support the community
URL:https://taumarunui.co.nz/event/taumarunui-community-market/2026-10-09/
LOCATION:Senior Citizens Hall\, Morero Street\, Taumarunui\, New Zealand
ATTACH;FMTTYPE=image/jpeg:https://taumarunui.co.nz/wp-content/uploads/2025/11/IMG_2481.jpeg
END:VEVENT
BEGIN:VEVENT
DTSTART;TZID=Pacific/Auckland:20261013T173000
DTEND;TZID=Pacific/Auckland:20261013T190000
DTSTAMP:20260426T021944
CREATED:20241015T062549Z
LAST-MODIFIED:20241015T062549Z
UID:10003934-1791912600-1791918000@taumarunui.co.nz
SUMMARY:Progressive Hatha Yoga for all
DESCRIPTION:On every Tuesday of school terms in Senior Citizen Hall\, Taumarunui. \nFirst class $10\, equipment available.
URL:https://taumarunui.co.nz/event/progressive-hatha-yoga-for-all/2026-10-13/
LOCATION:Senior Citizens Hall\, Morero Street\, Taumarunui\, New Zealand
CATEGORIES:Clubs,Sport
END:VEVENT
BEGIN:VEVENT
DTSTART;TZID=Pacific/Auckland:20261015T130000
DTEND;TZID=Pacific/Auckland:20261015T150000
DTSTAMP:20260426T021944
CREATED:20241015T065239Z
LAST-MODIFIED:20241015T065239Z
UID:10004777-1792069200-1792076400@taumarunui.co.nz
SUMMARY:Senior Citizens
DESCRIPTION:Aged 50+ years. \nJoin us every Thursday at our clubrooms in Morero Terrace for a social afternoon and afternoon tea.
URL:https://taumarunui.co.nz/event/senior-citizens/2026-10-15/
LOCATION:Senior Citizens Hall\, Morero Street\, Taumarunui\, New Zealand
CATEGORIES:Clubs
END:VEVENT
END:VCALENDAR