BEGIN:VCALENDAR
VERSION:2.0
PRODID:-//Taumarunui - ECPv6.15.16//NONSGML v1.0//EN
CALSCALE:GREGORIAN
METHOD:PUBLISH
X-ORIGINAL-URL:https://taumarunui.co.nz
X-WR-CALDESC:Events for Taumarunui
REFRESH-INTERVAL;VALUE=DURATION:PT1H
X-Robots-Tag:noindex
X-PUBLISHED-TTL:PT1H
BEGIN:VTIMEZONE
TZID:Pacific/Auckland
BEGIN:STANDARD
TZOFFSETFROM:+1300
TZOFFSETTO:+1200
TZNAME:NZST
DTSTART:20240406T140000
END:STANDARD
BEGIN:DAYLIGHT
TZOFFSETFROM:+1200
TZOFFSETTO:+1300
TZNAME:NZDT
DTSTART:20240928T140000
END:DAYLIGHT
BEGIN:STANDARD
TZOFFSETFROM:+1300
TZOFFSETTO:+1200
TZNAME:NZST
DTSTART:20250405T140000
END:STANDARD
BEGIN:DAYLIGHT
TZOFFSETFROM:+1200
TZOFFSETTO:+1300
TZNAME:NZDT
DTSTART:20250927T140000
END:DAYLIGHT
BEGIN:STANDARD
TZOFFSETFROM:+1300
TZOFFSETTO:+1200
TZNAME:NZST
DTSTART:20260404T140000
END:STANDARD
BEGIN:DAYLIGHT
TZOFFSETFROM:+1200
TZOFFSETTO:+1300
TZNAME:NZDT
DTSTART:20260926T140000
END:DAYLIGHT
BEGIN:STANDARD
TZOFFSETFROM:+1300
TZOFFSETTO:+1200
TZNAME:NZST
DTSTART:20270403T140000
END:STANDARD
BEGIN:DAYLIGHT
TZOFFSETFROM:+1200
TZOFFSETTO:+1300
TZNAME:NZDT
DTSTART:20270925T140000
END:DAYLIGHT
END:VTIMEZONE
BEGIN:VEVENT
DTSTART;TZID=Pacific/Auckland:20260120T173000
DTEND;TZID=Pacific/Auckland:20260120T190000
DTSTAMP:20260422T090343
CREATED:20241015T062549Z
LAST-MODIFIED:20241015T062549Z
UID:10003896-1768930200-1768935600@taumarunui.co.nz
SUMMARY:Progressive Hatha Yoga for all
DESCRIPTION:On every Tuesday of school terms in Senior Citizen Hall\, Taumarunui. \nFirst class $10\, equipment available.
URL:https://taumarunui.co.nz/event/progressive-hatha-yoga-for-all/2026-01-20/
LOCATION:Senior Citizens Hall\, Morero Street\, Taumarunui\, New Zealand
CATEGORIES:Clubs,Sport
END:VEVENT
BEGIN:VEVENT
DTSTART;TZID=Pacific/Auckland:20260116T090000
DTEND;TZID=Pacific/Auckland:20260116T120000
DTSTAMP:20260422T090343
CREATED:20251126T214707Z
LAST-MODIFIED:20251126T214707Z
UID:10012553-1768554000-1768564800@taumarunui.co.nz
SUMMARY:Taumarunui Community Market
DESCRIPTION:Get along and support the community
URL:https://taumarunui.co.nz/event/taumarunui-community-market/2026-01-16/
LOCATION:Senior Citizens Hall\, Morero Street\, Taumarunui\, New Zealand
ATTACH;FMTTYPE=image/jpeg:https://taumarunui.co.nz/wp-content/uploads/2025/11/IMG_2481.jpeg
END:VEVENT
BEGIN:VEVENT
DTSTART;TZID=Pacific/Auckland:20260115T130000
DTEND;TZID=Pacific/Auckland:20260115T150000
DTSTAMP:20260422T090343
CREATED:20241015T065239Z
LAST-MODIFIED:20241015T065239Z
UID:10004738-1768482000-1768489200@taumarunui.co.nz
SUMMARY:Senior Citizens
DESCRIPTION:Aged 50+ years. \nJoin us every Thursday at our clubrooms in Morero Terrace for a social afternoon and afternoon tea.
URL:https://taumarunui.co.nz/event/senior-citizens/2026-01-15/
LOCATION:Senior Citizens Hall\, Morero Street\, Taumarunui\, New Zealand
CATEGORIES:Clubs
END:VEVENT
BEGIN:VEVENT
DTSTART;TZID=Pacific/Auckland:20260113T173000
DTEND;TZID=Pacific/Auckland:20260113T190000
DTSTAMP:20260422T090343
CREATED:20241015T062549Z
LAST-MODIFIED:20241015T062549Z
UID:10003895-1768325400-1768330800@taumarunui.co.nz
SUMMARY:Progressive Hatha Yoga for all
DESCRIPTION:On every Tuesday of school terms in Senior Citizen Hall\, Taumarunui. \nFirst class $10\, equipment available.
URL:https://taumarunui.co.nz/event/progressive-hatha-yoga-for-all/2026-01-13/
LOCATION:Senior Citizens Hall\, Morero Street\, Taumarunui\, New Zealand
CATEGORIES:Clubs,Sport
END:VEVENT
BEGIN:VEVENT
DTSTART;TZID=Pacific/Auckland:20260109T090000
DTEND;TZID=Pacific/Auckland:20260109T120000
DTSTAMP:20260422T090343
CREATED:20251126T214707Z
LAST-MODIFIED:20251126T214707Z
UID:10012552-1767949200-1767960000@taumarunui.co.nz
SUMMARY:Taumarunui Community Market
DESCRIPTION:Get along and support the community
URL:https://taumarunui.co.nz/event/taumarunui-community-market/2026-01-09/
LOCATION:Senior Citizens Hall\, Morero Street\, Taumarunui\, New Zealand
ATTACH;FMTTYPE=image/jpeg:https://taumarunui.co.nz/wp-content/uploads/2025/11/IMG_2481.jpeg
END:VEVENT
BEGIN:VEVENT
DTSTART;TZID=Pacific/Auckland:20260108T130000
DTEND;TZID=Pacific/Auckland:20260108T150000
DTSTAMP:20260422T090343
CREATED:20241015T065239Z
LAST-MODIFIED:20241015T065239Z
UID:10004737-1767877200-1767884400@taumarunui.co.nz
SUMMARY:Senior Citizens
DESCRIPTION:Aged 50+ years. \nJoin us every Thursday at our clubrooms in Morero Terrace for a social afternoon and afternoon tea.
URL:https://taumarunui.co.nz/event/senior-citizens/2026-01-08/
LOCATION:Senior Citizens Hall\, Morero Street\, Taumarunui\, New Zealand
CATEGORIES:Clubs
END:VEVENT
BEGIN:VEVENT
DTSTART;TZID=Pacific/Auckland:20260106T173000
DTEND;TZID=Pacific/Auckland:20260106T190000
DTSTAMP:20260422T090343
CREATED:20241015T062549Z
LAST-MODIFIED:20241015T062549Z
UID:10003894-1767720600-1767726000@taumarunui.co.nz
SUMMARY:Progressive Hatha Yoga for all
DESCRIPTION:On every Tuesday of school terms in Senior Citizen Hall\, Taumarunui. \nFirst class $10\, equipment available.
URL:https://taumarunui.co.nz/event/progressive-hatha-yoga-for-all/2026-01-06/
LOCATION:Senior Citizens Hall\, Morero Street\, Taumarunui\, New Zealand
CATEGORIES:Clubs,Sport
END:VEVENT
BEGIN:VEVENT
DTSTART;TZID=Pacific/Auckland:20260102T090000
DTEND;TZID=Pacific/Auckland:20260102T120000
DTSTAMP:20260422T090343
CREATED:20251126T214707Z
LAST-MODIFIED:20251126T214707Z
UID:10012551-1767344400-1767355200@taumarunui.co.nz
SUMMARY:Taumarunui Community Market
DESCRIPTION:Get along and support the community
URL:https://taumarunui.co.nz/event/taumarunui-community-market/2026-01-02/
LOCATION:Senior Citizens Hall\, Morero Street\, Taumarunui\, New Zealand
ATTACH;FMTTYPE=image/jpeg:https://taumarunui.co.nz/wp-content/uploads/2025/11/IMG_2481.jpeg
END:VEVENT
BEGIN:VEVENT
DTSTART;TZID=Pacific/Auckland:20260101T130000
DTEND;TZID=Pacific/Auckland:20260101T150000
DTSTAMP:20260422T090343
CREATED:20241015T065239Z
LAST-MODIFIED:20241015T065239Z
UID:10004736-1767272400-1767279600@taumarunui.co.nz
SUMMARY:Senior Citizens
DESCRIPTION:Aged 50+ years. \nJoin us every Thursday at our clubrooms in Morero Terrace for a social afternoon and afternoon tea.
URL:https://taumarunui.co.nz/event/senior-citizens/2026-01-01/
LOCATION:Senior Citizens Hall\, Morero Street\, Taumarunui\, New Zealand
CATEGORIES:Clubs
END:VEVENT
BEGIN:VEVENT
DTSTART;TZID=Pacific/Auckland:20251230T173000
DTEND;TZID=Pacific/Auckland:20251230T190000
DTSTAMP:20260422T090343
CREATED:20241015T062549Z
LAST-MODIFIED:20241015T062549Z
UID:10003893-1767115800-1767121200@taumarunui.co.nz
SUMMARY:Progressive Hatha Yoga for all
DESCRIPTION:On every Tuesday of school terms in Senior Citizen Hall\, Taumarunui. \nFirst class $10\, equipment available.
URL:https://taumarunui.co.nz/event/progressive-hatha-yoga-for-all/2025-12-30/
LOCATION:Senior Citizens Hall\, Morero Street\, Taumarunui\, New Zealand
CATEGORIES:Clubs,Sport
END:VEVENT
BEGIN:VEVENT
DTSTART;TZID=Pacific/Auckland:20251230T100000
DTEND;TZID=Pacific/Auckland:20251230T100000
DTSTAMP:20260422T090343
CREATED:20241028T201218Z
LAST-MODIFIED:20241028T201248Z
UID:10006256-1767088800-1767088800@taumarunui.co.nz
SUMMARY:Community Networking Hui
DESCRIPTION:On today 10am at the Senior Citizen Room Cnr of Morero and Miriama St\, Taumarunui.
URL:https://taumarunui.co.nz/event/community-networking-hui/2025-12-30/
LOCATION:Senior Citizens Hall\, Morero Street\, Taumarunui\, New Zealand
CATEGORIES:Event
ATTACH;FMTTYPE=image/jpeg:https://taumarunui.co.nz/wp-content/uploads/2024/10/IMG_8170.jpeg
END:VEVENT
BEGIN:VEVENT
DTSTART;TZID=Pacific/Auckland:20251227T130000
DTEND;TZID=Pacific/Auckland:20251227T130000
DTSTAMP:20260422T090343
CREATED:20241015T062915Z
LAST-MODIFIED:20241015T063023Z
UID:10004103-1766840400-1766840400@taumarunui.co.nz
SUMMARY:Taumarunui Genealogy Interest Group
DESCRIPTION:Meetings held monthly on fourth Saturday of the month
URL:https://taumarunui.co.nz/event/taumarunui-genealogy-interest-group/2025-12-27/
LOCATION:Senior Citizens Hall\, Morero Street\, Taumarunui\, New Zealand
CATEGORIES:Clubs
END:VEVENT
BEGIN:VEVENT
DTSTART;TZID=Pacific/Auckland:20251226T130000
DTEND;TZID=Pacific/Auckland:20251226T150000
DTSTAMP:20260422T090343
CREATED:20250122T180717Z
LAST-MODIFIED:20250122T180717Z
UID:10010729-1766754000-1766761200@taumarunui.co.nz
SUMMARY:Cheerful Seniors Taumarunui
DESCRIPTION:Hi everyone\, we are offering a new social connection group for seniors (anyone aged 50 years plus – or thereabouts). Join our page for the up to date news and events. last Friday of every month – Senior Citizens Hall\, Taumarunui. Gold coin donation from 1pm – 3pm
URL:https://taumarunui.co.nz/event/cheerful-seniors-taumarunui/2025-12-26/
LOCATION:Senior Citizens Hall\, Morero Street\, Taumarunui\, New Zealand
CATEGORIES:Clubs,Wellness
ATTACH;FMTTYPE=image/jpeg:https://taumarunui.co.nz/wp-content/uploads/2025/01/IMG_0476.jpeg
END:VEVENT
BEGIN:VEVENT
DTSTART;TZID=Pacific/Auckland:20251226T090000
DTEND;TZID=Pacific/Auckland:20251226T120000
DTSTAMP:20260422T090343
CREATED:20251126T214707Z
LAST-MODIFIED:20251126T214707Z
UID:10012550-1766739600-1766750400@taumarunui.co.nz
SUMMARY:Taumarunui Community Market
DESCRIPTION:Get along and support the community
URL:https://taumarunui.co.nz/event/taumarunui-community-market/2025-12-26/
LOCATION:Senior Citizens Hall\, Morero Street\, Taumarunui\, New Zealand
ATTACH;FMTTYPE=image/jpeg:https://taumarunui.co.nz/wp-content/uploads/2025/11/IMG_2481.jpeg
END:VEVENT
BEGIN:VEVENT
DTSTART;TZID=Pacific/Auckland:20251225T130000
DTEND;TZID=Pacific/Auckland:20251225T150000
DTSTAMP:20260422T090343
CREATED:20241015T065239Z
LAST-MODIFIED:20241015T065239Z
UID:10004735-1766667600-1766674800@taumarunui.co.nz
SUMMARY:Senior Citizens
DESCRIPTION:Aged 50+ years. \nJoin us every Thursday at our clubrooms in Morero Terrace for a social afternoon and afternoon tea.
URL:https://taumarunui.co.nz/event/senior-citizens/2025-12-25/
LOCATION:Senior Citizens Hall\, Morero Street\, Taumarunui\, New Zealand
CATEGORIES:Clubs
END:VEVENT
BEGIN:VEVENT
DTSTART;TZID=Pacific/Auckland:20251223T173000
DTEND;TZID=Pacific/Auckland:20251223T190000
DTSTAMP:20260422T090343
CREATED:20241015T062549Z
LAST-MODIFIED:20241015T062549Z
UID:10003892-1766511000-1766516400@taumarunui.co.nz
SUMMARY:Progressive Hatha Yoga for all
DESCRIPTION:On every Tuesday of school terms in Senior Citizen Hall\, Taumarunui. \nFirst class $10\, equipment available.
URL:https://taumarunui.co.nz/event/progressive-hatha-yoga-for-all/2025-12-23/
LOCATION:Senior Citizens Hall\, Morero Street\, Taumarunui\, New Zealand
CATEGORIES:Clubs,Sport
END:VEVENT
BEGIN:VEVENT
DTSTART;TZID=Pacific/Auckland:20251219T090000
DTEND;TZID=Pacific/Auckland:20251219T120000
DTSTAMP:20260422T090343
CREATED:20251126T214707Z
LAST-MODIFIED:20251126T214707Z
UID:10012549-1766134800-1766145600@taumarunui.co.nz
SUMMARY:Taumarunui Community Market
DESCRIPTION:Get along and support the community
URL:https://taumarunui.co.nz/event/taumarunui-community-market/2025-12-19/
LOCATION:Senior Citizens Hall\, Morero Street\, Taumarunui\, New Zealand
ATTACH;FMTTYPE=image/jpeg:https://taumarunui.co.nz/wp-content/uploads/2025/11/IMG_2481.jpeg
END:VEVENT
BEGIN:VEVENT
DTSTART;TZID=Pacific/Auckland:20251218T130000
DTEND;TZID=Pacific/Auckland:20251218T150000
DTSTAMP:20260422T090343
CREATED:20241015T065239Z
LAST-MODIFIED:20241015T065239Z
UID:10004734-1766062800-1766070000@taumarunui.co.nz
SUMMARY:Senior Citizens
DESCRIPTION:Aged 50+ years. \nJoin us every Thursday at our clubrooms in Morero Terrace for a social afternoon and afternoon tea.
URL:https://taumarunui.co.nz/event/senior-citizens/2025-12-18/
LOCATION:Senior Citizens Hall\, Morero Street\, Taumarunui\, New Zealand
CATEGORIES:Clubs
END:VEVENT
BEGIN:VEVENT
DTSTART;TZID=Pacific/Auckland:20251216T173000
DTEND;TZID=Pacific/Auckland:20251216T190000
DTSTAMP:20260422T090343
CREATED:20241015T062549Z
LAST-MODIFIED:20241015T062549Z
UID:10003891-1765906200-1765911600@taumarunui.co.nz
SUMMARY:Progressive Hatha Yoga for all
DESCRIPTION:On every Tuesday of school terms in Senior Citizen Hall\, Taumarunui. \nFirst class $10\, equipment available.
URL:https://taumarunui.co.nz/event/progressive-hatha-yoga-for-all/2025-12-16/
LOCATION:Senior Citizens Hall\, Morero Street\, Taumarunui\, New Zealand
CATEGORIES:Clubs,Sport
END:VEVENT
BEGIN:VEVENT
DTSTART;TZID=Pacific/Auckland:20251212T090000
DTEND;TZID=Pacific/Auckland:20251212T120000
DTSTAMP:20260422T090343
CREATED:20251126T214707Z
LAST-MODIFIED:20251126T214707Z
UID:10012548-1765530000-1765540800@taumarunui.co.nz
SUMMARY:Taumarunui Community Market
DESCRIPTION:Get along and support the community
URL:https://taumarunui.co.nz/event/taumarunui-community-market/2025-12-12/
LOCATION:Senior Citizens Hall\, Morero Street\, Taumarunui\, New Zealand
ATTACH;FMTTYPE=image/jpeg:https://taumarunui.co.nz/wp-content/uploads/2025/11/IMG_2481.jpeg
END:VEVENT
BEGIN:VEVENT
DTSTART;TZID=Pacific/Auckland:20251211T130000
DTEND;TZID=Pacific/Auckland:20251211T150000
DTSTAMP:20260422T090343
CREATED:20241015T065239Z
LAST-MODIFIED:20241015T065239Z
UID:10004733-1765458000-1765465200@taumarunui.co.nz
SUMMARY:Senior Citizens
DESCRIPTION:Aged 50+ years. \nJoin us every Thursday at our clubrooms in Morero Terrace for a social afternoon and afternoon tea.
URL:https://taumarunui.co.nz/event/senior-citizens/2025-12-11/
LOCATION:Senior Citizens Hall\, Morero Street\, Taumarunui\, New Zealand
CATEGORIES:Clubs
END:VEVENT
BEGIN:VEVENT
DTSTART;TZID=Pacific/Auckland:20251209T173000
DTEND;TZID=Pacific/Auckland:20251209T190000
DTSTAMP:20260422T090343
CREATED:20241015T062549Z
LAST-MODIFIED:20241015T062549Z
UID:10003890-1765301400-1765306800@taumarunui.co.nz
SUMMARY:Progressive Hatha Yoga for all
DESCRIPTION:On every Tuesday of school terms in Senior Citizen Hall\, Taumarunui. \nFirst class $10\, equipment available.
URL:https://taumarunui.co.nz/event/progressive-hatha-yoga-for-all/2025-12-09/
LOCATION:Senior Citizens Hall\, Morero Street\, Taumarunui\, New Zealand
CATEGORIES:Clubs,Sport
END:VEVENT
BEGIN:VEVENT
DTSTART;TZID=Pacific/Auckland:20251205T090000
DTEND;TZID=Pacific/Auckland:20251205T120000
DTSTAMP:20260422T090343
CREATED:20251126T214707Z
LAST-MODIFIED:20251126T214707Z
UID:10012547-1764925200-1764936000@taumarunui.co.nz
SUMMARY:Taumarunui Community Market
DESCRIPTION:Get along and support the community
URL:https://taumarunui.co.nz/event/taumarunui-community-market/2025-12-05/
LOCATION:Senior Citizens Hall\, Morero Street\, Taumarunui\, New Zealand
ATTACH;FMTTYPE=image/jpeg:https://taumarunui.co.nz/wp-content/uploads/2025/11/IMG_2481.jpeg
END:VEVENT
BEGIN:VEVENT
DTSTART;TZID=Pacific/Auckland:20251204T130000
DTEND;TZID=Pacific/Auckland:20251204T150000
DTSTAMP:20260422T090343
CREATED:20241015T065239Z
LAST-MODIFIED:20241015T065239Z
UID:10004732-1764853200-1764860400@taumarunui.co.nz
SUMMARY:Senior Citizens
DESCRIPTION:Aged 50+ years. \nJoin us every Thursday at our clubrooms in Morero Terrace for a social afternoon and afternoon tea.
URL:https://taumarunui.co.nz/event/senior-citizens/2025-12-04/
LOCATION:Senior Citizens Hall\, Morero Street\, Taumarunui\, New Zealand
CATEGORIES:Clubs
END:VEVENT
BEGIN:VEVENT
DTSTART;TZID=Pacific/Auckland:20251202T173000
DTEND;TZID=Pacific/Auckland:20251202T190000
DTSTAMP:20260422T090343
CREATED:20241015T062549Z
LAST-MODIFIED:20241015T062549Z
UID:10003889-1764696600-1764702000@taumarunui.co.nz
SUMMARY:Progressive Hatha Yoga for all
DESCRIPTION:On every Tuesday of school terms in Senior Citizen Hall\, Taumarunui. \nFirst class $10\, equipment available.
URL:https://taumarunui.co.nz/event/progressive-hatha-yoga-for-all/2025-12-02/
LOCATION:Senior Citizens Hall\, Morero Street\, Taumarunui\, New Zealand
CATEGORIES:Clubs,Sport
END:VEVENT
BEGIN:VEVENT
DTSTART;TZID=Pacific/Auckland:20251128T130000
DTEND;TZID=Pacific/Auckland:20251128T150000
DTSTAMP:20260422T090343
CREATED:20250122T180717Z
LAST-MODIFIED:20250122T180717Z
UID:10010728-1764334800-1764342000@taumarunui.co.nz
SUMMARY:Cheerful Seniors Taumarunui
DESCRIPTION:Hi everyone\, we are offering a new social connection group for seniors (anyone aged 50 years plus – or thereabouts). Join our page for the up to date news and events. last Friday of every month – Senior Citizens Hall\, Taumarunui. Gold coin donation from 1pm – 3pm
URL:https://taumarunui.co.nz/event/cheerful-seniors-taumarunui/2025-11-28/
LOCATION:Senior Citizens Hall\, Morero Street\, Taumarunui\, New Zealand
CATEGORIES:Clubs,Wellness
ATTACH;FMTTYPE=image/jpeg:https://taumarunui.co.nz/wp-content/uploads/2025/01/IMG_0476.jpeg
END:VEVENT
BEGIN:VEVENT
DTSTART;TZID=Pacific/Auckland:20251128T090000
DTEND;TZID=Pacific/Auckland:20251128T120000
DTSTAMP:20260422T090343
CREATED:20251126T214707Z
LAST-MODIFIED:20251126T214707Z
UID:10012546-1764320400-1764331200@taumarunui.co.nz
SUMMARY:Taumarunui Community Market
DESCRIPTION:Get along and support the community
URL:https://taumarunui.co.nz/event/taumarunui-community-market/2025-11-28/
LOCATION:Senior Citizens Hall\, Morero Street\, Taumarunui\, New Zealand
ATTACH;FMTTYPE=image/jpeg:https://taumarunui.co.nz/wp-content/uploads/2025/11/IMG_2481.jpeg
END:VEVENT
BEGIN:VEVENT
DTSTART;TZID=Pacific/Auckland:20251127T130000
DTEND;TZID=Pacific/Auckland:20251127T150000
DTSTAMP:20260422T090343
CREATED:20241015T065239Z
LAST-MODIFIED:20241015T065239Z
UID:10004731-1764248400-1764255600@taumarunui.co.nz
SUMMARY:Senior Citizens
DESCRIPTION:Aged 50+ years. \nJoin us every Thursday at our clubrooms in Morero Terrace for a social afternoon and afternoon tea.
URL:https://taumarunui.co.nz/event/senior-citizens/2025-11-27/
LOCATION:Senior Citizens Hall\, Morero Street\, Taumarunui\, New Zealand
CATEGORIES:Clubs
END:VEVENT
BEGIN:VEVENT
DTSTART;TZID=Pacific/Auckland:20251125T173000
DTEND;TZID=Pacific/Auckland:20251125T190000
DTSTAMP:20260422T090343
CREATED:20241015T062549Z
LAST-MODIFIED:20241015T062549Z
UID:10003888-1764091800-1764097200@taumarunui.co.nz
SUMMARY:Progressive Hatha Yoga for all
DESCRIPTION:On every Tuesday of school terms in Senior Citizen Hall\, Taumarunui. \nFirst class $10\, equipment available.
URL:https://taumarunui.co.nz/event/progressive-hatha-yoga-for-all/2025-11-25/
LOCATION:Senior Citizens Hall\, Morero Street\, Taumarunui\, New Zealand
CATEGORIES:Clubs,Sport
END:VEVENT
BEGIN:VEVENT
DTSTART;TZID=Pacific/Auckland:20251125T100000
DTEND;TZID=Pacific/Auckland:20251125T100000
DTSTAMP:20260422T090343
CREATED:20241028T201218Z
LAST-MODIFIED:20241028T201248Z
UID:10006255-1764064800-1764064800@taumarunui.co.nz
SUMMARY:Community Networking Hui
DESCRIPTION:On today 10am at the Senior Citizen Room Cnr of Morero and Miriama St\, Taumarunui.
URL:https://taumarunui.co.nz/event/community-networking-hui/2025-11-25/
LOCATION:Senior Citizens Hall\, Morero Street\, Taumarunui\, New Zealand
CATEGORIES:Event
ATTACH;FMTTYPE=image/jpeg:https://taumarunui.co.nz/wp-content/uploads/2024/10/IMG_8170.jpeg
END:VEVENT
END:VCALENDAR