BEGIN:VCALENDAR
VERSION:2.0
PRODID:-//Taumarunui - ECPv6.15.16//NONSGML v1.0//EN
CALSCALE:GREGORIAN
METHOD:PUBLISH
X-ORIGINAL-URL:https://taumarunui.co.nz
X-WR-CALDESC:Events for Taumarunui
REFRESH-INTERVAL;VALUE=DURATION:PT1H
X-Robots-Tag:noindex
X-PUBLISHED-TTL:PT1H
BEGIN:VTIMEZONE
TZID:Pacific/Auckland
BEGIN:STANDARD
TZOFFSETFROM:+1300
TZOFFSETTO:+1200
TZNAME:NZST
DTSTART:20250405T140000
END:STANDARD
BEGIN:DAYLIGHT
TZOFFSETFROM:+1200
TZOFFSETTO:+1300
TZNAME:NZDT
DTSTART:20250927T140000
END:DAYLIGHT
BEGIN:STANDARD
TZOFFSETFROM:+1300
TZOFFSETTO:+1200
TZNAME:NZST
DTSTART:20260404T140000
END:STANDARD
BEGIN:DAYLIGHT
TZOFFSETFROM:+1200
TZOFFSETTO:+1300
TZNAME:NZDT
DTSTART:20260926T140000
END:DAYLIGHT
BEGIN:STANDARD
TZOFFSETFROM:+1300
TZOFFSETTO:+1200
TZNAME:NZST
DTSTART:20270403T140000
END:STANDARD
BEGIN:DAYLIGHT
TZOFFSETFROM:+1200
TZOFFSETTO:+1300
TZNAME:NZDT
DTSTART:20270925T140000
END:DAYLIGHT
END:VTIMEZONE
BEGIN:VEVENT
DTSTART;TZID=Pacific/Auckland:20260228T130000
DTEND;TZID=Pacific/Auckland:20260228T130000
DTSTAMP:20260420T184900
CREATED:20241015T062915Z
LAST-MODIFIED:20241015T063023Z
UID:10004105-1772283600-1772283600@taumarunui.co.nz
SUMMARY:Taumarunui Genealogy Interest Group
DESCRIPTION:Meetings held monthly on fourth Saturday of the month
URL:https://taumarunui.co.nz/event/taumarunui-genealogy-interest-group/2026-02-28/
LOCATION:Senior Citizens Hall\, Morero Street\, Taumarunui\, New Zealand
CATEGORIES:Clubs
END:VEVENT
BEGIN:VEVENT
DTSTART;TZID=Pacific/Auckland:20260227T130000
DTEND;TZID=Pacific/Auckland:20260227T150000
DTSTAMP:20260420T184900
CREATED:20250122T180717Z
LAST-MODIFIED:20250122T180717Z
UID:10010731-1772197200-1772204400@taumarunui.co.nz
SUMMARY:Cheerful Seniors Taumarunui
DESCRIPTION:Hi everyone\, we are offering a new social connection group for seniors (anyone aged 50 years plus – or thereabouts). Join our page for the up to date news and events. last Friday of every month – Senior Citizens Hall\, Taumarunui. Gold coin donation from 1pm – 3pm
URL:https://taumarunui.co.nz/event/cheerful-seniors-taumarunui/2026-02-27/
LOCATION:Senior Citizens Hall\, Morero Street\, Taumarunui\, New Zealand
CATEGORIES:Clubs,Wellness
ATTACH;FMTTYPE=image/jpeg:https://taumarunui.co.nz/wp-content/uploads/2025/01/IMG_0476.jpeg
END:VEVENT
BEGIN:VEVENT
DTSTART;TZID=Pacific/Auckland:20260227T090000
DTEND;TZID=Pacific/Auckland:20260227T120000
DTSTAMP:20260420T184900
CREATED:20251126T214707Z
LAST-MODIFIED:20251126T214707Z
UID:10012559-1772182800-1772193600@taumarunui.co.nz
SUMMARY:Taumarunui Community Market
DESCRIPTION:Get along and support the community
URL:https://taumarunui.co.nz/event/taumarunui-community-market/2026-02-27/
LOCATION:Senior Citizens Hall\, Morero Street\, Taumarunui\, New Zealand
ATTACH;FMTTYPE=image/jpeg:https://taumarunui.co.nz/wp-content/uploads/2025/11/IMG_2481.jpeg
END:VEVENT
BEGIN:VEVENT
DTSTART;TZID=Pacific/Auckland:20260226T130000
DTEND;TZID=Pacific/Auckland:20260226T150000
DTSTAMP:20260420T184900
CREATED:20241015T065239Z
LAST-MODIFIED:20241015T065239Z
UID:10004744-1772110800-1772118000@taumarunui.co.nz
SUMMARY:Senior Citizens
DESCRIPTION:Aged 50+ years. \nJoin us every Thursday at our clubrooms in Morero Terrace for a social afternoon and afternoon tea.
URL:https://taumarunui.co.nz/event/senior-citizens/2026-02-26/
LOCATION:Senior Citizens Hall\, Morero Street\, Taumarunui\, New Zealand
CATEGORIES:Clubs
END:VEVENT
BEGIN:VEVENT
DTSTART;TZID=Pacific/Auckland:20260224T173000
DTEND;TZID=Pacific/Auckland:20260224T190000
DTSTAMP:20260420T184900
CREATED:20241015T062549Z
LAST-MODIFIED:20241015T062549Z
UID:10003901-1771954200-1771959600@taumarunui.co.nz
SUMMARY:Progressive Hatha Yoga for all
DESCRIPTION:On every Tuesday of school terms in Senior Citizen Hall\, Taumarunui. \nFirst class $10\, equipment available.
URL:https://taumarunui.co.nz/event/progressive-hatha-yoga-for-all/2026-02-24/
LOCATION:Senior Citizens Hall\, Morero Street\, Taumarunui\, New Zealand
CATEGORIES:Clubs,Sport
END:VEVENT
BEGIN:VEVENT
DTSTART;TZID=Pacific/Auckland:20260224T100000
DTEND;TZID=Pacific/Auckland:20260224T100000
DTSTAMP:20260420T184900
CREATED:20241028T201218Z
LAST-MODIFIED:20241028T201248Z
UID:10006258-1771927200-1771927200@taumarunui.co.nz
SUMMARY:Community Networking Hui
DESCRIPTION:On today 10am at the Senior Citizen Room Cnr of Morero and Miriama St\, Taumarunui.
URL:https://taumarunui.co.nz/event/community-networking-hui/2026-02-24/
LOCATION:Senior Citizens Hall\, Morero Street\, Taumarunui\, New Zealand
CATEGORIES:Event
ATTACH;FMTTYPE=image/jpeg:https://taumarunui.co.nz/wp-content/uploads/2024/10/IMG_8170.jpeg
END:VEVENT
BEGIN:VEVENT
DTSTART;TZID=Pacific/Auckland:20260220T090000
DTEND;TZID=Pacific/Auckland:20260220T120000
DTSTAMP:20260420T184900
CREATED:20251126T214707Z
LAST-MODIFIED:20251126T214707Z
UID:10012558-1771578000-1771588800@taumarunui.co.nz
SUMMARY:Taumarunui Community Market
DESCRIPTION:Get along and support the community
URL:https://taumarunui.co.nz/event/taumarunui-community-market/2026-02-20/
LOCATION:Senior Citizens Hall\, Morero Street\, Taumarunui\, New Zealand
ATTACH;FMTTYPE=image/jpeg:https://taumarunui.co.nz/wp-content/uploads/2025/11/IMG_2481.jpeg
END:VEVENT
BEGIN:VEVENT
DTSTART;TZID=Pacific/Auckland:20260219T130000
DTEND;TZID=Pacific/Auckland:20260219T150000
DTSTAMP:20260420T184900
CREATED:20241015T065239Z
LAST-MODIFIED:20241015T065239Z
UID:10004743-1771506000-1771513200@taumarunui.co.nz
SUMMARY:Senior Citizens
DESCRIPTION:Aged 50+ years. \nJoin us every Thursday at our clubrooms in Morero Terrace for a social afternoon and afternoon tea.
URL:https://taumarunui.co.nz/event/senior-citizens/2026-02-19/
LOCATION:Senior Citizens Hall\, Morero Street\, Taumarunui\, New Zealand
CATEGORIES:Clubs
END:VEVENT
BEGIN:VEVENT
DTSTART;TZID=Pacific/Auckland:20260217T173000
DTEND;TZID=Pacific/Auckland:20260217T190000
DTSTAMP:20260420T184900
CREATED:20241015T062549Z
LAST-MODIFIED:20241015T062549Z
UID:10003900-1771349400-1771354800@taumarunui.co.nz
SUMMARY:Progressive Hatha Yoga for all
DESCRIPTION:On every Tuesday of school terms in Senior Citizen Hall\, Taumarunui. \nFirst class $10\, equipment available.
URL:https://taumarunui.co.nz/event/progressive-hatha-yoga-for-all/2026-02-17/
LOCATION:Senior Citizens Hall\, Morero Street\, Taumarunui\, New Zealand
CATEGORIES:Clubs,Sport
END:VEVENT
BEGIN:VEVENT
DTSTART;TZID=Pacific/Auckland:20260213T090000
DTEND;TZID=Pacific/Auckland:20260213T120000
DTSTAMP:20260420T184900
CREATED:20251126T214707Z
LAST-MODIFIED:20251126T214707Z
UID:10012557-1770973200-1770984000@taumarunui.co.nz
SUMMARY:Taumarunui Community Market
DESCRIPTION:Get along and support the community
URL:https://taumarunui.co.nz/event/taumarunui-community-market/2026-02-13/
LOCATION:Senior Citizens Hall\, Morero Street\, Taumarunui\, New Zealand
ATTACH;FMTTYPE=image/jpeg:https://taumarunui.co.nz/wp-content/uploads/2025/11/IMG_2481.jpeg
END:VEVENT
BEGIN:VEVENT
DTSTART;TZID=Pacific/Auckland:20260212T130000
DTEND;TZID=Pacific/Auckland:20260212T150000
DTSTAMP:20260420T184900
CREATED:20241015T065239Z
LAST-MODIFIED:20241015T065239Z
UID:10004742-1770901200-1770908400@taumarunui.co.nz
SUMMARY:Senior Citizens
DESCRIPTION:Aged 50+ years. \nJoin us every Thursday at our clubrooms in Morero Terrace for a social afternoon and afternoon tea.
URL:https://taumarunui.co.nz/event/senior-citizens/2026-02-12/
LOCATION:Senior Citizens Hall\, Morero Street\, Taumarunui\, New Zealand
CATEGORIES:Clubs
END:VEVENT
BEGIN:VEVENT
DTSTART;TZID=Pacific/Auckland:20260210T173000
DTEND;TZID=Pacific/Auckland:20260210T190000
DTSTAMP:20260420T184900
CREATED:20241015T062549Z
LAST-MODIFIED:20241015T062549Z
UID:10003899-1770744600-1770750000@taumarunui.co.nz
SUMMARY:Progressive Hatha Yoga for all
DESCRIPTION:On every Tuesday of school terms in Senior Citizen Hall\, Taumarunui. \nFirst class $10\, equipment available.
URL:https://taumarunui.co.nz/event/progressive-hatha-yoga-for-all/2026-02-10/
LOCATION:Senior Citizens Hall\, Morero Street\, Taumarunui\, New Zealand
CATEGORIES:Clubs,Sport
END:VEVENT
BEGIN:VEVENT
DTSTART;TZID=Pacific/Auckland:20260206T090000
DTEND;TZID=Pacific/Auckland:20260206T120000
DTSTAMP:20260420T184900
CREATED:20251126T214707Z
LAST-MODIFIED:20251126T214707Z
UID:10012556-1770368400-1770379200@taumarunui.co.nz
SUMMARY:Taumarunui Community Market
DESCRIPTION:Get along and support the community
URL:https://taumarunui.co.nz/event/taumarunui-community-market/2026-02-06/
LOCATION:Senior Citizens Hall\, Morero Street\, Taumarunui\, New Zealand
ATTACH;FMTTYPE=image/jpeg:https://taumarunui.co.nz/wp-content/uploads/2025/11/IMG_2481.jpeg
END:VEVENT
BEGIN:VEVENT
DTSTART;TZID=Pacific/Auckland:20260205T130000
DTEND;TZID=Pacific/Auckland:20260205T150000
DTSTAMP:20260420T184900
CREATED:20241015T065239Z
LAST-MODIFIED:20241015T065239Z
UID:10004741-1770296400-1770303600@taumarunui.co.nz
SUMMARY:Senior Citizens
DESCRIPTION:Aged 50+ years. \nJoin us every Thursday at our clubrooms in Morero Terrace for a social afternoon and afternoon tea.
URL:https://taumarunui.co.nz/event/senior-citizens/2026-02-05/
LOCATION:Senior Citizens Hall\, Morero Street\, Taumarunui\, New Zealand
CATEGORIES:Clubs
END:VEVENT
BEGIN:VEVENT
DTSTART;TZID=Pacific/Auckland:20260203T173000
DTEND;TZID=Pacific/Auckland:20260203T190000
DTSTAMP:20260420T184900
CREATED:20241015T062549Z
LAST-MODIFIED:20241015T062549Z
UID:10003898-1770139800-1770145200@taumarunui.co.nz
SUMMARY:Progressive Hatha Yoga for all
DESCRIPTION:On every Tuesday of school terms in Senior Citizen Hall\, Taumarunui. \nFirst class $10\, equipment available.
URL:https://taumarunui.co.nz/event/progressive-hatha-yoga-for-all/2026-02-03/
LOCATION:Senior Citizens Hall\, Morero Street\, Taumarunui\, New Zealand
CATEGORIES:Clubs,Sport
END:VEVENT
BEGIN:VEVENT
DTSTART;TZID=Pacific/Auckland:20260130T130000
DTEND;TZID=Pacific/Auckland:20260130T150000
DTSTAMP:20260420T184900
CREATED:20250122T180717Z
LAST-MODIFIED:20250122T180717Z
UID:10010730-1769778000-1769785200@taumarunui.co.nz
SUMMARY:Cheerful Seniors Taumarunui
DESCRIPTION:Hi everyone\, we are offering a new social connection group for seniors (anyone aged 50 years plus – or thereabouts). Join our page for the up to date news and events. last Friday of every month – Senior Citizens Hall\, Taumarunui. Gold coin donation from 1pm – 3pm
URL:https://taumarunui.co.nz/event/cheerful-seniors-taumarunui/2026-01-30/
LOCATION:Senior Citizens Hall\, Morero Street\, Taumarunui\, New Zealand
CATEGORIES:Clubs,Wellness
ATTACH;FMTTYPE=image/jpeg:https://taumarunui.co.nz/wp-content/uploads/2025/01/IMG_0476.jpeg
END:VEVENT
BEGIN:VEVENT
DTSTART;TZID=Pacific/Auckland:20260130T090000
DTEND;TZID=Pacific/Auckland:20260130T120000
DTSTAMP:20260420T184900
CREATED:20251126T214707Z
LAST-MODIFIED:20251126T214707Z
UID:10012555-1769763600-1769774400@taumarunui.co.nz
SUMMARY:Taumarunui Community Market
DESCRIPTION:Get along and support the community
URL:https://taumarunui.co.nz/event/taumarunui-community-market/2026-01-30/
LOCATION:Senior Citizens Hall\, Morero Street\, Taumarunui\, New Zealand
ATTACH;FMTTYPE=image/jpeg:https://taumarunui.co.nz/wp-content/uploads/2025/11/IMG_2481.jpeg
END:VEVENT
BEGIN:VEVENT
DTSTART;TZID=Pacific/Auckland:20260129T130000
DTEND;TZID=Pacific/Auckland:20260129T150000
DTSTAMP:20260420T184900
CREATED:20241015T065239Z
LAST-MODIFIED:20241015T065239Z
UID:10004740-1769691600-1769698800@taumarunui.co.nz
SUMMARY:Senior Citizens
DESCRIPTION:Aged 50+ years. \nJoin us every Thursday at our clubrooms in Morero Terrace for a social afternoon and afternoon tea.
URL:https://taumarunui.co.nz/event/senior-citizens/2026-01-29/
LOCATION:Senior Citizens Hall\, Morero Street\, Taumarunui\, New Zealand
CATEGORIES:Clubs
END:VEVENT
BEGIN:VEVENT
DTSTART;TZID=Pacific/Auckland:20260127T173000
DTEND;TZID=Pacific/Auckland:20260127T190000
DTSTAMP:20260420T184900
CREATED:20241015T062549Z
LAST-MODIFIED:20241015T062549Z
UID:10003897-1769535000-1769540400@taumarunui.co.nz
SUMMARY:Progressive Hatha Yoga for all
DESCRIPTION:On every Tuesday of school terms in Senior Citizen Hall\, Taumarunui. \nFirst class $10\, equipment available.
URL:https://taumarunui.co.nz/event/progressive-hatha-yoga-for-all/2026-01-27/
LOCATION:Senior Citizens Hall\, Morero Street\, Taumarunui\, New Zealand
CATEGORIES:Clubs,Sport
END:VEVENT
BEGIN:VEVENT
DTSTART;TZID=Pacific/Auckland:20260127T100000
DTEND;TZID=Pacific/Auckland:20260127T100000
DTSTAMP:20260420T184900
CREATED:20241028T201218Z
LAST-MODIFIED:20241028T201248Z
UID:10006257-1769508000-1769508000@taumarunui.co.nz
SUMMARY:Community Networking Hui
DESCRIPTION:On today 10am at the Senior Citizen Room Cnr of Morero and Miriama St\, Taumarunui.
URL:https://taumarunui.co.nz/event/community-networking-hui/2026-01-27/
LOCATION:Senior Citizens Hall\, Morero Street\, Taumarunui\, New Zealand
CATEGORIES:Event
ATTACH;FMTTYPE=image/jpeg:https://taumarunui.co.nz/wp-content/uploads/2024/10/IMG_8170.jpeg
END:VEVENT
BEGIN:VEVENT
DTSTART;TZID=Pacific/Auckland:20260124T130000
DTEND;TZID=Pacific/Auckland:20260124T130000
DTSTAMP:20260420T184900
CREATED:20241015T062915Z
LAST-MODIFIED:20241015T063023Z
UID:10004104-1769259600-1769259600@taumarunui.co.nz
SUMMARY:Taumarunui Genealogy Interest Group
DESCRIPTION:Meetings held monthly on fourth Saturday of the month
URL:https://taumarunui.co.nz/event/taumarunui-genealogy-interest-group/2026-01-24/
LOCATION:Senior Citizens Hall\, Morero Street\, Taumarunui\, New Zealand
CATEGORIES:Clubs
END:VEVENT
BEGIN:VEVENT
DTSTART;TZID=Pacific/Auckland:20260123T090000
DTEND;TZID=Pacific/Auckland:20260123T120000
DTSTAMP:20260420T184900
CREATED:20251126T214707Z
LAST-MODIFIED:20251126T214707Z
UID:10012554-1769158800-1769169600@taumarunui.co.nz
SUMMARY:Taumarunui Community Market
DESCRIPTION:Get along and support the community
URL:https://taumarunui.co.nz/event/taumarunui-community-market/2026-01-23/
LOCATION:Senior Citizens Hall\, Morero Street\, Taumarunui\, New Zealand
ATTACH;FMTTYPE=image/jpeg:https://taumarunui.co.nz/wp-content/uploads/2025/11/IMG_2481.jpeg
END:VEVENT
BEGIN:VEVENT
DTSTART;TZID=Pacific/Auckland:20260122T130000
DTEND;TZID=Pacific/Auckland:20260122T150000
DTSTAMP:20260420T184900
CREATED:20241015T065239Z
LAST-MODIFIED:20241015T065239Z
UID:10004739-1769086800-1769094000@taumarunui.co.nz
SUMMARY:Senior Citizens
DESCRIPTION:Aged 50+ years. \nJoin us every Thursday at our clubrooms in Morero Terrace for a social afternoon and afternoon tea.
URL:https://taumarunui.co.nz/event/senior-citizens/2026-01-22/
LOCATION:Senior Citizens Hall\, Morero Street\, Taumarunui\, New Zealand
CATEGORIES:Clubs
END:VEVENT
BEGIN:VEVENT
DTSTART;TZID=Pacific/Auckland:20260120T173000
DTEND;TZID=Pacific/Auckland:20260120T190000
DTSTAMP:20260420T184900
CREATED:20241015T062549Z
LAST-MODIFIED:20241015T062549Z
UID:10003896-1768930200-1768935600@taumarunui.co.nz
SUMMARY:Progressive Hatha Yoga for all
DESCRIPTION:On every Tuesday of school terms in Senior Citizen Hall\, Taumarunui. \nFirst class $10\, equipment available.
URL:https://taumarunui.co.nz/event/progressive-hatha-yoga-for-all/2026-01-20/
LOCATION:Senior Citizens Hall\, Morero Street\, Taumarunui\, New Zealand
CATEGORIES:Clubs,Sport
END:VEVENT
BEGIN:VEVENT
DTSTART;TZID=Pacific/Auckland:20260116T090000
DTEND;TZID=Pacific/Auckland:20260116T120000
DTSTAMP:20260420T184900
CREATED:20251126T214707Z
LAST-MODIFIED:20251126T214707Z
UID:10012553-1768554000-1768564800@taumarunui.co.nz
SUMMARY:Taumarunui Community Market
DESCRIPTION:Get along and support the community
URL:https://taumarunui.co.nz/event/taumarunui-community-market/2026-01-16/
LOCATION:Senior Citizens Hall\, Morero Street\, Taumarunui\, New Zealand
ATTACH;FMTTYPE=image/jpeg:https://taumarunui.co.nz/wp-content/uploads/2025/11/IMG_2481.jpeg
END:VEVENT
BEGIN:VEVENT
DTSTART;TZID=Pacific/Auckland:20260115T130000
DTEND;TZID=Pacific/Auckland:20260115T150000
DTSTAMP:20260420T184900
CREATED:20241015T065239Z
LAST-MODIFIED:20241015T065239Z
UID:10004738-1768482000-1768489200@taumarunui.co.nz
SUMMARY:Senior Citizens
DESCRIPTION:Aged 50+ years. \nJoin us every Thursday at our clubrooms in Morero Terrace for a social afternoon and afternoon tea.
URL:https://taumarunui.co.nz/event/senior-citizens/2026-01-15/
LOCATION:Senior Citizens Hall\, Morero Street\, Taumarunui\, New Zealand
CATEGORIES:Clubs
END:VEVENT
BEGIN:VEVENT
DTSTART;TZID=Pacific/Auckland:20260113T173000
DTEND;TZID=Pacific/Auckland:20260113T190000
DTSTAMP:20260420T184900
CREATED:20241015T062549Z
LAST-MODIFIED:20241015T062549Z
UID:10003895-1768325400-1768330800@taumarunui.co.nz
SUMMARY:Progressive Hatha Yoga for all
DESCRIPTION:On every Tuesday of school terms in Senior Citizen Hall\, Taumarunui. \nFirst class $10\, equipment available.
URL:https://taumarunui.co.nz/event/progressive-hatha-yoga-for-all/2026-01-13/
LOCATION:Senior Citizens Hall\, Morero Street\, Taumarunui\, New Zealand
CATEGORIES:Clubs,Sport
END:VEVENT
BEGIN:VEVENT
DTSTART;TZID=Pacific/Auckland:20260109T090000
DTEND;TZID=Pacific/Auckland:20260109T120000
DTSTAMP:20260420T184900
CREATED:20251126T214707Z
LAST-MODIFIED:20251126T214707Z
UID:10012552-1767949200-1767960000@taumarunui.co.nz
SUMMARY:Taumarunui Community Market
DESCRIPTION:Get along and support the community
URL:https://taumarunui.co.nz/event/taumarunui-community-market/2026-01-09/
LOCATION:Senior Citizens Hall\, Morero Street\, Taumarunui\, New Zealand
ATTACH;FMTTYPE=image/jpeg:https://taumarunui.co.nz/wp-content/uploads/2025/11/IMG_2481.jpeg
END:VEVENT
BEGIN:VEVENT
DTSTART;TZID=Pacific/Auckland:20260108T130000
DTEND;TZID=Pacific/Auckland:20260108T150000
DTSTAMP:20260420T184900
CREATED:20241015T065239Z
LAST-MODIFIED:20241015T065239Z
UID:10004737-1767877200-1767884400@taumarunui.co.nz
SUMMARY:Senior Citizens
DESCRIPTION:Aged 50+ years. \nJoin us every Thursday at our clubrooms in Morero Terrace for a social afternoon and afternoon tea.
URL:https://taumarunui.co.nz/event/senior-citizens/2026-01-08/
LOCATION:Senior Citizens Hall\, Morero Street\, Taumarunui\, New Zealand
CATEGORIES:Clubs
END:VEVENT
BEGIN:VEVENT
DTSTART;TZID=Pacific/Auckland:20260106T173000
DTEND;TZID=Pacific/Auckland:20260106T190000
DTSTAMP:20260420T184900
CREATED:20241015T062549Z
LAST-MODIFIED:20241015T062549Z
UID:10003894-1767720600-1767726000@taumarunui.co.nz
SUMMARY:Progressive Hatha Yoga for all
DESCRIPTION:On every Tuesday of school terms in Senior Citizen Hall\, Taumarunui. \nFirst class $10\, equipment available.
URL:https://taumarunui.co.nz/event/progressive-hatha-yoga-for-all/2026-01-06/
LOCATION:Senior Citizens Hall\, Morero Street\, Taumarunui\, New Zealand
CATEGORIES:Clubs,Sport
END:VEVENT
END:VCALENDAR