BEGIN:VCALENDAR
VERSION:2.0
PRODID:-//Taumarunui - ECPv6.15.16//NONSGML v1.0//EN
CALSCALE:GREGORIAN
METHOD:PUBLISH
X-ORIGINAL-URL:https://taumarunui.co.nz
X-WR-CALDESC:Events for Taumarunui
REFRESH-INTERVAL;VALUE=DURATION:PT1H
X-Robots-Tag:noindex
X-PUBLISHED-TTL:PT1H
BEGIN:VTIMEZONE
TZID:Pacific/Auckland
BEGIN:STANDARD
TZOFFSETFROM:+1300
TZOFFSETTO:+1200
TZNAME:NZST
DTSTART:20250405T140000
END:STANDARD
BEGIN:DAYLIGHT
TZOFFSETFROM:+1200
TZOFFSETTO:+1300
TZNAME:NZDT
DTSTART:20250927T140000
END:DAYLIGHT
BEGIN:STANDARD
TZOFFSETFROM:+1300
TZOFFSETTO:+1200
TZNAME:NZST
DTSTART:20260404T140000
END:STANDARD
BEGIN:DAYLIGHT
TZOFFSETFROM:+1200
TZOFFSETTO:+1300
TZNAME:NZDT
DTSTART:20260926T140000
END:DAYLIGHT
BEGIN:STANDARD
TZOFFSETFROM:+1300
TZOFFSETTO:+1200
TZNAME:NZST
DTSTART:20270403T140000
END:STANDARD
BEGIN:DAYLIGHT
TZOFFSETFROM:+1200
TZOFFSETTO:+1300
TZNAME:NZDT
DTSTART:20270925T140000
END:DAYLIGHT
BEGIN:STANDARD
TZOFFSETFROM:+1300
TZOFFSETTO:+1200
TZNAME:NZST
DTSTART:20280401T140000
END:STANDARD
BEGIN:DAYLIGHT
TZOFFSETFROM:+1200
TZOFFSETTO:+1300
TZNAME:NZDT
DTSTART:20280923T140000
END:DAYLIGHT
END:VTIMEZONE
BEGIN:VEVENT
DTSTART;TZID=Pacific/Auckland:20260716T153000
DTEND;TZID=Pacific/Auckland:20260716T170000
DTSTAMP:20260420T164303
CREATED:20240922T233142Z
LAST-MODIFIED:20241027T233413Z
UID:10001725-1784215800-1784221200@taumarunui.co.nz
SUMMARY:King Country Scout Group
DESCRIPTION:Meeting every Thursday at Scout Hall\, O’Reilly Crescent\, Matapuna \nOutdoor and water activities\, games\, crafts\, camps\, hikes and fun! \nKeas aged 5-8 years\, Cubs 8-11 years\, Scouts 11-14 years \nLeader volunteers welcome \nContact: kingcountry@group.scouts.nz
URL:https://taumarunui.co.nz/event/king-country-scout-group/2026-07-16/
LOCATION:Scout Hall\, Taupo Road\, Taumarunui\, 3920\, New Zealand
CATEGORIES:Children,Clubs
GEO:-38.883687;175.298651
X-APPLE-STRUCTURED-LOCATION;VALUE=URI;X-ADDRESS=Scout Hall Taupo Road Taumarunui 3920 New Zealand;X-APPLE-RADIUS=500;X-TITLE=Taupo Road:geo:175.298651,-38.883687
END:VEVENT
BEGIN:VEVENT
DTSTART;TZID=Pacific/Auckland:20260723T153000
DTEND;TZID=Pacific/Auckland:20260723T170000
DTSTAMP:20260420T164303
CREATED:20240922T233142Z
LAST-MODIFIED:20241027T233413Z
UID:10001726-1784820600-1784826000@taumarunui.co.nz
SUMMARY:King Country Scout Group
DESCRIPTION:Meeting every Thursday at Scout Hall\, O’Reilly Crescent\, Matapuna \nOutdoor and water activities\, games\, crafts\, camps\, hikes and fun! \nKeas aged 5-8 years\, Cubs 8-11 years\, Scouts 11-14 years \nLeader volunteers welcome \nContact: kingcountry@group.scouts.nz
URL:https://taumarunui.co.nz/event/king-country-scout-group/2026-07-23/
LOCATION:Scout Hall\, Taupo Road\, Taumarunui\, 3920\, New Zealand
CATEGORIES:Children,Clubs
GEO:-38.883687;175.298651
X-APPLE-STRUCTURED-LOCATION;VALUE=URI;X-ADDRESS=Scout Hall Taupo Road Taumarunui 3920 New Zealand;X-APPLE-RADIUS=500;X-TITLE=Taupo Road:geo:175.298651,-38.883687
END:VEVENT
BEGIN:VEVENT
DTSTART;TZID=Pacific/Auckland:20260730T153000
DTEND;TZID=Pacific/Auckland:20260730T170000
DTSTAMP:20260420T164303
CREATED:20240922T233142Z
LAST-MODIFIED:20241027T233413Z
UID:10001727-1785425400-1785430800@taumarunui.co.nz
SUMMARY:King Country Scout Group
DESCRIPTION:Meeting every Thursday at Scout Hall\, O’Reilly Crescent\, Matapuna \nOutdoor and water activities\, games\, crafts\, camps\, hikes and fun! \nKeas aged 5-8 years\, Cubs 8-11 years\, Scouts 11-14 years \nLeader volunteers welcome \nContact: kingcountry@group.scouts.nz
URL:https://taumarunui.co.nz/event/king-country-scout-group/2026-07-30/
LOCATION:Scout Hall\, Taupo Road\, Taumarunui\, 3920\, New Zealand
CATEGORIES:Children,Clubs
GEO:-38.883687;175.298651
X-APPLE-STRUCTURED-LOCATION;VALUE=URI;X-ADDRESS=Scout Hall Taupo Road Taumarunui 3920 New Zealand;X-APPLE-RADIUS=500;X-TITLE=Taupo Road:geo:175.298651,-38.883687
END:VEVENT
BEGIN:VEVENT
DTSTART;TZID=Pacific/Auckland:20260806T153000
DTEND;TZID=Pacific/Auckland:20260806T170000
DTSTAMP:20260420T164303
CREATED:20240922T233142Z
LAST-MODIFIED:20241027T233413Z
UID:10001728-1786030200-1786035600@taumarunui.co.nz
SUMMARY:King Country Scout Group
DESCRIPTION:Meeting every Thursday at Scout Hall\, O’Reilly Crescent\, Matapuna \nOutdoor and water activities\, games\, crafts\, camps\, hikes and fun! \nKeas aged 5-8 years\, Cubs 8-11 years\, Scouts 11-14 years \nLeader volunteers welcome \nContact: kingcountry@group.scouts.nz
URL:https://taumarunui.co.nz/event/king-country-scout-group/2026-08-06/
LOCATION:Scout Hall\, Taupo Road\, Taumarunui\, 3920\, New Zealand
CATEGORIES:Children,Clubs
GEO:-38.883687;175.298651
X-APPLE-STRUCTURED-LOCATION;VALUE=URI;X-ADDRESS=Scout Hall Taupo Road Taumarunui 3920 New Zealand;X-APPLE-RADIUS=500;X-TITLE=Taupo Road:geo:175.298651,-38.883687
END:VEVENT
BEGIN:VEVENT
DTSTART;TZID=Pacific/Auckland:20260813T153000
DTEND;TZID=Pacific/Auckland:20260813T170000
DTSTAMP:20260420T164303
CREATED:20240922T233142Z
LAST-MODIFIED:20241027T233413Z
UID:10001729-1786635000-1786640400@taumarunui.co.nz
SUMMARY:King Country Scout Group
DESCRIPTION:Meeting every Thursday at Scout Hall\, O’Reilly Crescent\, Matapuna \nOutdoor and water activities\, games\, crafts\, camps\, hikes and fun! \nKeas aged 5-8 years\, Cubs 8-11 years\, Scouts 11-14 years \nLeader volunteers welcome \nContact: kingcountry@group.scouts.nz
URL:https://taumarunui.co.nz/event/king-country-scout-group/2026-08-13/
LOCATION:Scout Hall\, Taupo Road\, Taumarunui\, 3920\, New Zealand
CATEGORIES:Children,Clubs
GEO:-38.883687;175.298651
X-APPLE-STRUCTURED-LOCATION;VALUE=URI;X-ADDRESS=Scout Hall Taupo Road Taumarunui 3920 New Zealand;X-APPLE-RADIUS=500;X-TITLE=Taupo Road:geo:175.298651,-38.883687
END:VEVENT
BEGIN:VEVENT
DTSTART;TZID=Pacific/Auckland:20260820T153000
DTEND;TZID=Pacific/Auckland:20260820T170000
DTSTAMP:20260420T164303
CREATED:20240922T233142Z
LAST-MODIFIED:20241027T233413Z
UID:10001730-1787239800-1787245200@taumarunui.co.nz
SUMMARY:King Country Scout Group
DESCRIPTION:Meeting every Thursday at Scout Hall\, O’Reilly Crescent\, Matapuna \nOutdoor and water activities\, games\, crafts\, camps\, hikes and fun! \nKeas aged 5-8 years\, Cubs 8-11 years\, Scouts 11-14 years \nLeader volunteers welcome \nContact: kingcountry@group.scouts.nz
URL:https://taumarunui.co.nz/event/king-country-scout-group/2026-08-20/
LOCATION:Scout Hall\, Taupo Road\, Taumarunui\, 3920\, New Zealand
CATEGORIES:Children,Clubs
GEO:-38.883687;175.298651
X-APPLE-STRUCTURED-LOCATION;VALUE=URI;X-ADDRESS=Scout Hall Taupo Road Taumarunui 3920 New Zealand;X-APPLE-RADIUS=500;X-TITLE=Taupo Road:geo:175.298651,-38.883687
END:VEVENT
BEGIN:VEVENT
DTSTART;TZID=Pacific/Auckland:20260827T153000
DTEND;TZID=Pacific/Auckland:20260827T170000
DTSTAMP:20260420T164303
CREATED:20240922T233142Z
LAST-MODIFIED:20241027T233413Z
UID:10001731-1787844600-1787850000@taumarunui.co.nz
SUMMARY:King Country Scout Group
DESCRIPTION:Meeting every Thursday at Scout Hall\, O’Reilly Crescent\, Matapuna \nOutdoor and water activities\, games\, crafts\, camps\, hikes and fun! \nKeas aged 5-8 years\, Cubs 8-11 years\, Scouts 11-14 years \nLeader volunteers welcome \nContact: kingcountry@group.scouts.nz
URL:https://taumarunui.co.nz/event/king-country-scout-group/2026-08-27/
LOCATION:Scout Hall\, Taupo Road\, Taumarunui\, 3920\, New Zealand
CATEGORIES:Children,Clubs
GEO:-38.883687;175.298651
X-APPLE-STRUCTURED-LOCATION;VALUE=URI;X-ADDRESS=Scout Hall Taupo Road Taumarunui 3920 New Zealand;X-APPLE-RADIUS=500;X-TITLE=Taupo Road:geo:175.298651,-38.883687
END:VEVENT
BEGIN:VEVENT
DTSTART;TZID=Pacific/Auckland:20260903T153000
DTEND;TZID=Pacific/Auckland:20260903T170000
DTSTAMP:20260420T164303
CREATED:20240922T233142Z
LAST-MODIFIED:20241027T233413Z
UID:10001732-1788449400-1788454800@taumarunui.co.nz
SUMMARY:King Country Scout Group
DESCRIPTION:Meeting every Thursday at Scout Hall\, O’Reilly Crescent\, Matapuna \nOutdoor and water activities\, games\, crafts\, camps\, hikes and fun! \nKeas aged 5-8 years\, Cubs 8-11 years\, Scouts 11-14 years \nLeader volunteers welcome \nContact: kingcountry@group.scouts.nz
URL:https://taumarunui.co.nz/event/king-country-scout-group/2026-09-03/
LOCATION:Scout Hall\, Taupo Road\, Taumarunui\, 3920\, New Zealand
CATEGORIES:Children,Clubs
GEO:-38.883687;175.298651
X-APPLE-STRUCTURED-LOCATION;VALUE=URI;X-ADDRESS=Scout Hall Taupo Road Taumarunui 3920 New Zealand;X-APPLE-RADIUS=500;X-TITLE=Taupo Road:geo:175.298651,-38.883687
END:VEVENT
BEGIN:VEVENT
DTSTART;TZID=Pacific/Auckland:20260910T153000
DTEND;TZID=Pacific/Auckland:20260910T170000
DTSTAMP:20260420T164303
CREATED:20240922T233142Z
LAST-MODIFIED:20241027T233413Z
UID:10001733-1789054200-1789059600@taumarunui.co.nz
SUMMARY:King Country Scout Group
DESCRIPTION:Meeting every Thursday at Scout Hall\, O’Reilly Crescent\, Matapuna \nOutdoor and water activities\, games\, crafts\, camps\, hikes and fun! \nKeas aged 5-8 years\, Cubs 8-11 years\, Scouts 11-14 years \nLeader volunteers welcome \nContact: kingcountry@group.scouts.nz
URL:https://taumarunui.co.nz/event/king-country-scout-group/2026-09-10/
LOCATION:Scout Hall\, Taupo Road\, Taumarunui\, 3920\, New Zealand
CATEGORIES:Children,Clubs
GEO:-38.883687;175.298651
X-APPLE-STRUCTURED-LOCATION;VALUE=URI;X-ADDRESS=Scout Hall Taupo Road Taumarunui 3920 New Zealand;X-APPLE-RADIUS=500;X-TITLE=Taupo Road:geo:175.298651,-38.883687
END:VEVENT
BEGIN:VEVENT
DTSTART;TZID=Pacific/Auckland:20260917T153000
DTEND;TZID=Pacific/Auckland:20260917T170000
DTSTAMP:20260420T164303
CREATED:20240922T233142Z
LAST-MODIFIED:20241027T233413Z
UID:10001734-1789659000-1789664400@taumarunui.co.nz
SUMMARY:King Country Scout Group
DESCRIPTION:Meeting every Thursday at Scout Hall\, O’Reilly Crescent\, Matapuna \nOutdoor and water activities\, games\, crafts\, camps\, hikes and fun! \nKeas aged 5-8 years\, Cubs 8-11 years\, Scouts 11-14 years \nLeader volunteers welcome \nContact: kingcountry@group.scouts.nz
URL:https://taumarunui.co.nz/event/king-country-scout-group/2026-09-17/
LOCATION:Scout Hall\, Taupo Road\, Taumarunui\, 3920\, New Zealand
CATEGORIES:Children,Clubs
GEO:-38.883687;175.298651
X-APPLE-STRUCTURED-LOCATION;VALUE=URI;X-ADDRESS=Scout Hall Taupo Road Taumarunui 3920 New Zealand;X-APPLE-RADIUS=500;X-TITLE=Taupo Road:geo:175.298651,-38.883687
END:VEVENT
BEGIN:VEVENT
DTSTART;TZID=Pacific/Auckland:20260924T153000
DTEND;TZID=Pacific/Auckland:20260924T170000
DTSTAMP:20260420T164303
CREATED:20240922T233142Z
LAST-MODIFIED:20241027T233413Z
UID:10001735-1790263800-1790269200@taumarunui.co.nz
SUMMARY:King Country Scout Group
DESCRIPTION:Meeting every Thursday at Scout Hall\, O’Reilly Crescent\, Matapuna \nOutdoor and water activities\, games\, crafts\, camps\, hikes and fun! \nKeas aged 5-8 years\, Cubs 8-11 years\, Scouts 11-14 years \nLeader volunteers welcome \nContact: kingcountry@group.scouts.nz
URL:https://taumarunui.co.nz/event/king-country-scout-group/2026-09-24/
LOCATION:Scout Hall\, Taupo Road\, Taumarunui\, 3920\, New Zealand
CATEGORIES:Children,Clubs
GEO:-38.883687;175.298651
X-APPLE-STRUCTURED-LOCATION;VALUE=URI;X-ADDRESS=Scout Hall Taupo Road Taumarunui 3920 New Zealand;X-APPLE-RADIUS=500;X-TITLE=Taupo Road:geo:175.298651,-38.883687
END:VEVENT
BEGIN:VEVENT
DTSTART;TZID=Pacific/Auckland:20261001T153000
DTEND;TZID=Pacific/Auckland:20261001T170000
DTSTAMP:20260420T164303
CREATED:20240922T233142Z
LAST-MODIFIED:20241027T233413Z
UID:10001736-1790868600-1790874000@taumarunui.co.nz
SUMMARY:King Country Scout Group
DESCRIPTION:Meeting every Thursday at Scout Hall\, O’Reilly Crescent\, Matapuna \nOutdoor and water activities\, games\, crafts\, camps\, hikes and fun! \nKeas aged 5-8 years\, Cubs 8-11 years\, Scouts 11-14 years \nLeader volunteers welcome \nContact: kingcountry@group.scouts.nz
URL:https://taumarunui.co.nz/event/king-country-scout-group/2026-10-01/
LOCATION:Scout Hall\, Taupo Road\, Taumarunui\, 3920\, New Zealand
CATEGORIES:Children,Clubs
GEO:-38.883687;175.298651
X-APPLE-STRUCTURED-LOCATION;VALUE=URI;X-ADDRESS=Scout Hall Taupo Road Taumarunui 3920 New Zealand;X-APPLE-RADIUS=500;X-TITLE=Taupo Road:geo:175.298651,-38.883687
END:VEVENT
BEGIN:VEVENT
DTSTART;TZID=Pacific/Auckland:20261008T153000
DTEND;TZID=Pacific/Auckland:20261008T170000
DTSTAMP:20260420T164303
CREATED:20240922T233142Z
LAST-MODIFIED:20241027T233413Z
UID:10001737-1791473400-1791478800@taumarunui.co.nz
SUMMARY:King Country Scout Group
DESCRIPTION:Meeting every Thursday at Scout Hall\, O’Reilly Crescent\, Matapuna \nOutdoor and water activities\, games\, crafts\, camps\, hikes and fun! \nKeas aged 5-8 years\, Cubs 8-11 years\, Scouts 11-14 years \nLeader volunteers welcome \nContact: kingcountry@group.scouts.nz
URL:https://taumarunui.co.nz/event/king-country-scout-group/2026-10-08/
LOCATION:Scout Hall\, Taupo Road\, Taumarunui\, 3920\, New Zealand
CATEGORIES:Children,Clubs
GEO:-38.883687;175.298651
X-APPLE-STRUCTURED-LOCATION;VALUE=URI;X-ADDRESS=Scout Hall Taupo Road Taumarunui 3920 New Zealand;X-APPLE-RADIUS=500;X-TITLE=Taupo Road:geo:175.298651,-38.883687
END:VEVENT
BEGIN:VEVENT
DTSTART;TZID=Pacific/Auckland:20261015T153000
DTEND;TZID=Pacific/Auckland:20261015T170000
DTSTAMP:20260420T164303
CREATED:20240922T233142Z
LAST-MODIFIED:20241027T233413Z
UID:10001738-1792078200-1792083600@taumarunui.co.nz
SUMMARY:King Country Scout Group
DESCRIPTION:Meeting every Thursday at Scout Hall\, O’Reilly Crescent\, Matapuna \nOutdoor and water activities\, games\, crafts\, camps\, hikes and fun! \nKeas aged 5-8 years\, Cubs 8-11 years\, Scouts 11-14 years \nLeader volunteers welcome \nContact: kingcountry@group.scouts.nz
URL:https://taumarunui.co.nz/event/king-country-scout-group/2026-10-15/
LOCATION:Scout Hall\, Taupo Road\, Taumarunui\, 3920\, New Zealand
CATEGORIES:Children,Clubs
GEO:-38.883687;175.298651
X-APPLE-STRUCTURED-LOCATION;VALUE=URI;X-ADDRESS=Scout Hall Taupo Road Taumarunui 3920 New Zealand;X-APPLE-RADIUS=500;X-TITLE=Taupo Road:geo:175.298651,-38.883687
END:VEVENT
BEGIN:VEVENT
DTSTART;TZID=Pacific/Auckland:20261022T153000
DTEND;TZID=Pacific/Auckland:20261022T170000
DTSTAMP:20260420T164303
CREATED:20240922T233142Z
LAST-MODIFIED:20241027T233413Z
UID:10001739-1792683000-1792688400@taumarunui.co.nz
SUMMARY:King Country Scout Group
DESCRIPTION:Meeting every Thursday at Scout Hall\, O’Reilly Crescent\, Matapuna \nOutdoor and water activities\, games\, crafts\, camps\, hikes and fun! \nKeas aged 5-8 years\, Cubs 8-11 years\, Scouts 11-14 years \nLeader volunteers welcome \nContact: kingcountry@group.scouts.nz
URL:https://taumarunui.co.nz/event/king-country-scout-group/2026-10-22/
LOCATION:Scout Hall\, Taupo Road\, Taumarunui\, 3920\, New Zealand
CATEGORIES:Children,Clubs
GEO:-38.883687;175.298651
X-APPLE-STRUCTURED-LOCATION;VALUE=URI;X-ADDRESS=Scout Hall Taupo Road Taumarunui 3920 New Zealand;X-APPLE-RADIUS=500;X-TITLE=Taupo Road:geo:175.298651,-38.883687
END:VEVENT
BEGIN:VEVENT
DTSTART;TZID=Pacific/Auckland:20261029T153000
DTEND;TZID=Pacific/Auckland:20261029T170000
DTSTAMP:20260420T164303
CREATED:20240922T233142Z
LAST-MODIFIED:20241027T233413Z
UID:10001740-1793287800-1793293200@taumarunui.co.nz
SUMMARY:King Country Scout Group
DESCRIPTION:Meeting every Thursday at Scout Hall\, O’Reilly Crescent\, Matapuna \nOutdoor and water activities\, games\, crafts\, camps\, hikes and fun! \nKeas aged 5-8 years\, Cubs 8-11 years\, Scouts 11-14 years \nLeader volunteers welcome \nContact: kingcountry@group.scouts.nz
URL:https://taumarunui.co.nz/event/king-country-scout-group/2026-10-29/
LOCATION:Scout Hall\, Taupo Road\, Taumarunui\, 3920\, New Zealand
CATEGORIES:Children,Clubs
GEO:-38.883687;175.298651
X-APPLE-STRUCTURED-LOCATION;VALUE=URI;X-ADDRESS=Scout Hall Taupo Road Taumarunui 3920 New Zealand;X-APPLE-RADIUS=500;X-TITLE=Taupo Road:geo:175.298651,-38.883687
END:VEVENT
BEGIN:VEVENT
DTSTART;TZID=Pacific/Auckland:20261105T153000
DTEND;TZID=Pacific/Auckland:20261105T170000
DTSTAMP:20260420T164303
CREATED:20240922T233142Z
LAST-MODIFIED:20241027T233413Z
UID:10001741-1793892600-1793898000@taumarunui.co.nz
SUMMARY:King Country Scout Group
DESCRIPTION:Meeting every Thursday at Scout Hall\, O’Reilly Crescent\, Matapuna \nOutdoor and water activities\, games\, crafts\, camps\, hikes and fun! \nKeas aged 5-8 years\, Cubs 8-11 years\, Scouts 11-14 years \nLeader volunteers welcome \nContact: kingcountry@group.scouts.nz
URL:https://taumarunui.co.nz/event/king-country-scout-group/2026-11-05/
LOCATION:Scout Hall\, Taupo Road\, Taumarunui\, 3920\, New Zealand
CATEGORIES:Children,Clubs
GEO:-38.883687;175.298651
X-APPLE-STRUCTURED-LOCATION;VALUE=URI;X-ADDRESS=Scout Hall Taupo Road Taumarunui 3920 New Zealand;X-APPLE-RADIUS=500;X-TITLE=Taupo Road:geo:175.298651,-38.883687
END:VEVENT
BEGIN:VEVENT
DTSTART;TZID=Pacific/Auckland:20261112T153000
DTEND;TZID=Pacific/Auckland:20261112T170000
DTSTAMP:20260420T164303
CREATED:20240922T233142Z
LAST-MODIFIED:20241027T233413Z
UID:10001742-1794497400-1794502800@taumarunui.co.nz
SUMMARY:King Country Scout Group
DESCRIPTION:Meeting every Thursday at Scout Hall\, O’Reilly Crescent\, Matapuna \nOutdoor and water activities\, games\, crafts\, camps\, hikes and fun! \nKeas aged 5-8 years\, Cubs 8-11 years\, Scouts 11-14 years \nLeader volunteers welcome \nContact: kingcountry@group.scouts.nz
URL:https://taumarunui.co.nz/event/king-country-scout-group/2026-11-12/
LOCATION:Scout Hall\, Taupo Road\, Taumarunui\, 3920\, New Zealand
CATEGORIES:Children,Clubs
GEO:-38.883687;175.298651
X-APPLE-STRUCTURED-LOCATION;VALUE=URI;X-ADDRESS=Scout Hall Taupo Road Taumarunui 3920 New Zealand;X-APPLE-RADIUS=500;X-TITLE=Taupo Road:geo:175.298651,-38.883687
END:VEVENT
BEGIN:VEVENT
DTSTART;TZID=Pacific/Auckland:20261119T153000
DTEND;TZID=Pacific/Auckland:20261119T170000
DTSTAMP:20260420T164303
CREATED:20240922T233142Z
LAST-MODIFIED:20241027T233413Z
UID:10001743-1795102200-1795107600@taumarunui.co.nz
SUMMARY:King Country Scout Group
DESCRIPTION:Meeting every Thursday at Scout Hall\, O’Reilly Crescent\, Matapuna \nOutdoor and water activities\, games\, crafts\, camps\, hikes and fun! \nKeas aged 5-8 years\, Cubs 8-11 years\, Scouts 11-14 years \nLeader volunteers welcome \nContact: kingcountry@group.scouts.nz
URL:https://taumarunui.co.nz/event/king-country-scout-group/2026-11-19/
LOCATION:Scout Hall\, Taupo Road\, Taumarunui\, 3920\, New Zealand
CATEGORIES:Children,Clubs
GEO:-38.883687;175.298651
X-APPLE-STRUCTURED-LOCATION;VALUE=URI;X-ADDRESS=Scout Hall Taupo Road Taumarunui 3920 New Zealand;X-APPLE-RADIUS=500;X-TITLE=Taupo Road:geo:175.298651,-38.883687
END:VEVENT
BEGIN:VEVENT
DTSTART;TZID=Pacific/Auckland:20261126T153000
DTEND;TZID=Pacific/Auckland:20261126T170000
DTSTAMP:20260420T164303
CREATED:20240922T233142Z
LAST-MODIFIED:20241027T233413Z
UID:10001744-1795707000-1795712400@taumarunui.co.nz
SUMMARY:King Country Scout Group
DESCRIPTION:Meeting every Thursday at Scout Hall\, O’Reilly Crescent\, Matapuna \nOutdoor and water activities\, games\, crafts\, camps\, hikes and fun! \nKeas aged 5-8 years\, Cubs 8-11 years\, Scouts 11-14 years \nLeader volunteers welcome \nContact: kingcountry@group.scouts.nz
URL:https://taumarunui.co.nz/event/king-country-scout-group/2026-11-26/
LOCATION:Scout Hall\, Taupo Road\, Taumarunui\, 3920\, New Zealand
CATEGORIES:Children,Clubs
GEO:-38.883687;175.298651
X-APPLE-STRUCTURED-LOCATION;VALUE=URI;X-ADDRESS=Scout Hall Taupo Road Taumarunui 3920 New Zealand;X-APPLE-RADIUS=500;X-TITLE=Taupo Road:geo:175.298651,-38.883687
END:VEVENT
BEGIN:VEVENT
DTSTART;TZID=Pacific/Auckland:20261203T153000
DTEND;TZID=Pacific/Auckland:20261203T170000
DTSTAMP:20260420T164303
CREATED:20240922T233142Z
LAST-MODIFIED:20241027T233413Z
UID:10001745-1796311800-1796317200@taumarunui.co.nz
SUMMARY:King Country Scout Group
DESCRIPTION:Meeting every Thursday at Scout Hall\, O’Reilly Crescent\, Matapuna \nOutdoor and water activities\, games\, crafts\, camps\, hikes and fun! \nKeas aged 5-8 years\, Cubs 8-11 years\, Scouts 11-14 years \nLeader volunteers welcome \nContact: kingcountry@group.scouts.nz
URL:https://taumarunui.co.nz/event/king-country-scout-group/2026-12-03/
LOCATION:Scout Hall\, Taupo Road\, Taumarunui\, 3920\, New Zealand
CATEGORIES:Children,Clubs
GEO:-38.883687;175.298651
X-APPLE-STRUCTURED-LOCATION;VALUE=URI;X-ADDRESS=Scout Hall Taupo Road Taumarunui 3920 New Zealand;X-APPLE-RADIUS=500;X-TITLE=Taupo Road:geo:175.298651,-38.883687
END:VEVENT
BEGIN:VEVENT
DTSTART;TZID=Pacific/Auckland:20261210T153000
DTEND;TZID=Pacific/Auckland:20261210T170000
DTSTAMP:20260420T164303
CREATED:20240922T233142Z
LAST-MODIFIED:20241027T233413Z
UID:10001746-1796916600-1796922000@taumarunui.co.nz
SUMMARY:King Country Scout Group
DESCRIPTION:Meeting every Thursday at Scout Hall\, O’Reilly Crescent\, Matapuna \nOutdoor and water activities\, games\, crafts\, camps\, hikes and fun! \nKeas aged 5-8 years\, Cubs 8-11 years\, Scouts 11-14 years \nLeader volunteers welcome \nContact: kingcountry@group.scouts.nz
URL:https://taumarunui.co.nz/event/king-country-scout-group/2026-12-10/
LOCATION:Scout Hall\, Taupo Road\, Taumarunui\, 3920\, New Zealand
CATEGORIES:Children,Clubs
GEO:-38.883687;175.298651
X-APPLE-STRUCTURED-LOCATION;VALUE=URI;X-ADDRESS=Scout Hall Taupo Road Taumarunui 3920 New Zealand;X-APPLE-RADIUS=500;X-TITLE=Taupo Road:geo:175.298651,-38.883687
END:VEVENT
BEGIN:VEVENT
DTSTART;TZID=Pacific/Auckland:20261217T153000
DTEND;TZID=Pacific/Auckland:20261217T170000
DTSTAMP:20260420T164303
CREATED:20240922T233142Z
LAST-MODIFIED:20241027T233413Z
UID:10001747-1797521400-1797526800@taumarunui.co.nz
SUMMARY:King Country Scout Group
DESCRIPTION:Meeting every Thursday at Scout Hall\, O’Reilly Crescent\, Matapuna \nOutdoor and water activities\, games\, crafts\, camps\, hikes and fun! \nKeas aged 5-8 years\, Cubs 8-11 years\, Scouts 11-14 years \nLeader volunteers welcome \nContact: kingcountry@group.scouts.nz
URL:https://taumarunui.co.nz/event/king-country-scout-group/2026-12-17/
LOCATION:Scout Hall\, Taupo Road\, Taumarunui\, 3920\, New Zealand
CATEGORIES:Children,Clubs
GEO:-38.883687;175.298651
X-APPLE-STRUCTURED-LOCATION;VALUE=URI;X-ADDRESS=Scout Hall Taupo Road Taumarunui 3920 New Zealand;X-APPLE-RADIUS=500;X-TITLE=Taupo Road:geo:175.298651,-38.883687
END:VEVENT
BEGIN:VEVENT
DTSTART;TZID=Pacific/Auckland:20261224T153000
DTEND;TZID=Pacific/Auckland:20261224T170000
DTSTAMP:20260420T164303
CREATED:20240922T233142Z
LAST-MODIFIED:20241027T233413Z
UID:10001748-1798126200-1798131600@taumarunui.co.nz
SUMMARY:King Country Scout Group
DESCRIPTION:Meeting every Thursday at Scout Hall\, O’Reilly Crescent\, Matapuna \nOutdoor and water activities\, games\, crafts\, camps\, hikes and fun! \nKeas aged 5-8 years\, Cubs 8-11 years\, Scouts 11-14 years \nLeader volunteers welcome \nContact: kingcountry@group.scouts.nz
URL:https://taumarunui.co.nz/event/king-country-scout-group/2026-12-24/
LOCATION:Scout Hall\, Taupo Road\, Taumarunui\, 3920\, New Zealand
CATEGORIES:Children,Clubs
GEO:-38.883687;175.298651
X-APPLE-STRUCTURED-LOCATION;VALUE=URI;X-ADDRESS=Scout Hall Taupo Road Taumarunui 3920 New Zealand;X-APPLE-RADIUS=500;X-TITLE=Taupo Road:geo:175.298651,-38.883687
END:VEVENT
BEGIN:VEVENT
DTSTART;TZID=Pacific/Auckland:20261231T153000
DTEND;TZID=Pacific/Auckland:20261231T170000
DTSTAMP:20260420T164303
CREATED:20240922T233142Z
LAST-MODIFIED:20241027T233413Z
UID:10001749-1798731000-1798736400@taumarunui.co.nz
SUMMARY:King Country Scout Group
DESCRIPTION:Meeting every Thursday at Scout Hall\, O’Reilly Crescent\, Matapuna \nOutdoor and water activities\, games\, crafts\, camps\, hikes and fun! \nKeas aged 5-8 years\, Cubs 8-11 years\, Scouts 11-14 years \nLeader volunteers welcome \nContact: kingcountry@group.scouts.nz
URL:https://taumarunui.co.nz/event/king-country-scout-group/2026-12-31/
LOCATION:Scout Hall\, Taupo Road\, Taumarunui\, 3920\, New Zealand
CATEGORIES:Children,Clubs
GEO:-38.883687;175.298651
X-APPLE-STRUCTURED-LOCATION;VALUE=URI;X-ADDRESS=Scout Hall Taupo Road Taumarunui 3920 New Zealand;X-APPLE-RADIUS=500;X-TITLE=Taupo Road:geo:175.298651,-38.883687
END:VEVENT
BEGIN:VEVENT
DTSTART;TZID=Pacific/Auckland:20270107T153000
DTEND;TZID=Pacific/Auckland:20270107T170000
DTSTAMP:20260420T164303
CREATED:20240922T233142Z
LAST-MODIFIED:20241027T233413Z
UID:10001750-1799335800-1799341200@taumarunui.co.nz
SUMMARY:King Country Scout Group
DESCRIPTION:Meeting every Thursday at Scout Hall\, O’Reilly Crescent\, Matapuna \nOutdoor and water activities\, games\, crafts\, camps\, hikes and fun! \nKeas aged 5-8 years\, Cubs 8-11 years\, Scouts 11-14 years \nLeader volunteers welcome \nContact: kingcountry@group.scouts.nz
URL:https://taumarunui.co.nz/event/king-country-scout-group/2027-01-07/
LOCATION:Scout Hall\, Taupo Road\, Taumarunui\, 3920\, New Zealand
CATEGORIES:Children,Clubs
GEO:-38.883687;175.298651
X-APPLE-STRUCTURED-LOCATION;VALUE=URI;X-ADDRESS=Scout Hall Taupo Road Taumarunui 3920 New Zealand;X-APPLE-RADIUS=500;X-TITLE=Taupo Road:geo:175.298651,-38.883687
END:VEVENT
BEGIN:VEVENT
DTSTART;TZID=Pacific/Auckland:20270114T153000
DTEND;TZID=Pacific/Auckland:20270114T170000
DTSTAMP:20260420T164303
CREATED:20240922T233142Z
LAST-MODIFIED:20241027T233413Z
UID:10001751-1799940600-1799946000@taumarunui.co.nz
SUMMARY:King Country Scout Group
DESCRIPTION:Meeting every Thursday at Scout Hall\, O’Reilly Crescent\, Matapuna \nOutdoor and water activities\, games\, crafts\, camps\, hikes and fun! \nKeas aged 5-8 years\, Cubs 8-11 years\, Scouts 11-14 years \nLeader volunteers welcome \nContact: kingcountry@group.scouts.nz
URL:https://taumarunui.co.nz/event/king-country-scout-group/2027-01-14/
LOCATION:Scout Hall\, Taupo Road\, Taumarunui\, 3920\, New Zealand
CATEGORIES:Children,Clubs
GEO:-38.883687;175.298651
X-APPLE-STRUCTURED-LOCATION;VALUE=URI;X-ADDRESS=Scout Hall Taupo Road Taumarunui 3920 New Zealand;X-APPLE-RADIUS=500;X-TITLE=Taupo Road:geo:175.298651,-38.883687
END:VEVENT
BEGIN:VEVENT
DTSTART;TZID=Pacific/Auckland:20270121T153000
DTEND;TZID=Pacific/Auckland:20270121T170000
DTSTAMP:20260420T164303
CREATED:20240922T233142Z
LAST-MODIFIED:20241027T233413Z
UID:10001752-1800545400-1800550800@taumarunui.co.nz
SUMMARY:King Country Scout Group
DESCRIPTION:Meeting every Thursday at Scout Hall\, O’Reilly Crescent\, Matapuna \nOutdoor and water activities\, games\, crafts\, camps\, hikes and fun! \nKeas aged 5-8 years\, Cubs 8-11 years\, Scouts 11-14 years \nLeader volunteers welcome \nContact: kingcountry@group.scouts.nz
URL:https://taumarunui.co.nz/event/king-country-scout-group/2027-01-21/
LOCATION:Scout Hall\, Taupo Road\, Taumarunui\, 3920\, New Zealand
CATEGORIES:Children,Clubs
GEO:-38.883687;175.298651
X-APPLE-STRUCTURED-LOCATION;VALUE=URI;X-ADDRESS=Scout Hall Taupo Road Taumarunui 3920 New Zealand;X-APPLE-RADIUS=500;X-TITLE=Taupo Road:geo:175.298651,-38.883687
END:VEVENT
BEGIN:VEVENT
DTSTART;TZID=Pacific/Auckland:20270128T153000
DTEND;TZID=Pacific/Auckland:20270128T170000
DTSTAMP:20260420T164303
CREATED:20240922T233142Z
LAST-MODIFIED:20241027T233413Z
UID:10001753-1801150200-1801155600@taumarunui.co.nz
SUMMARY:King Country Scout Group
DESCRIPTION:Meeting every Thursday at Scout Hall\, O’Reilly Crescent\, Matapuna \nOutdoor and water activities\, games\, crafts\, camps\, hikes and fun! \nKeas aged 5-8 years\, Cubs 8-11 years\, Scouts 11-14 years \nLeader volunteers welcome \nContact: kingcountry@group.scouts.nz
URL:https://taumarunui.co.nz/event/king-country-scout-group/2027-01-28/
LOCATION:Scout Hall\, Taupo Road\, Taumarunui\, 3920\, New Zealand
CATEGORIES:Children,Clubs
GEO:-38.883687;175.298651
X-APPLE-STRUCTURED-LOCATION;VALUE=URI;X-ADDRESS=Scout Hall Taupo Road Taumarunui 3920 New Zealand;X-APPLE-RADIUS=500;X-TITLE=Taupo Road:geo:175.298651,-38.883687
END:VEVENT
BEGIN:VEVENT
DTSTART;TZID=Pacific/Auckland:20270204T153000
DTEND;TZID=Pacific/Auckland:20270204T170000
DTSTAMP:20260420T164303
CREATED:20240922T233142Z
LAST-MODIFIED:20241027T233413Z
UID:10001754-1801755000-1801760400@taumarunui.co.nz
SUMMARY:King Country Scout Group
DESCRIPTION:Meeting every Thursday at Scout Hall\, O’Reilly Crescent\, Matapuna \nOutdoor and water activities\, games\, crafts\, camps\, hikes and fun! \nKeas aged 5-8 years\, Cubs 8-11 years\, Scouts 11-14 years \nLeader volunteers welcome \nContact: kingcountry@group.scouts.nz
URL:https://taumarunui.co.nz/event/king-country-scout-group/2027-02-04/
LOCATION:Scout Hall\, Taupo Road\, Taumarunui\, 3920\, New Zealand
CATEGORIES:Children,Clubs
GEO:-38.883687;175.298651
X-APPLE-STRUCTURED-LOCATION;VALUE=URI;X-ADDRESS=Scout Hall Taupo Road Taumarunui 3920 New Zealand;X-APPLE-RADIUS=500;X-TITLE=Taupo Road:geo:175.298651,-38.883687
END:VEVENT
END:VCALENDAR