BEGIN:VCALENDAR
VERSION:2.0
PRODID:-//Taumarunui - ECPv6.15.20//NONSGML v1.0//EN
CALSCALE:GREGORIAN
METHOD:PUBLISH
X-WR-CALNAME:Taumarunui
X-ORIGINAL-URL:https://taumarunui.co.nz
X-WR-CALDESC:Events for Taumarunui
REFRESH-INTERVAL;VALUE=DURATION:PT1H
X-Robots-Tag:noindex
X-PUBLISHED-TTL:PT1H
BEGIN:VTIMEZONE
TZID:Pacific/Auckland
BEGIN:STANDARD
TZOFFSETFROM:+1300
TZOFFSETTO:+1200
TZNAME:NZST
DTSTART:20250405T140000
END:STANDARD
BEGIN:DAYLIGHT
TZOFFSETFROM:+1200
TZOFFSETTO:+1300
TZNAME:NZDT
DTSTART:20250927T140000
END:DAYLIGHT
BEGIN:STANDARD
TZOFFSETFROM:+1300
TZOFFSETTO:+1200
TZNAME:NZST
DTSTART:20260404T140000
END:STANDARD
BEGIN:DAYLIGHT
TZOFFSETFROM:+1200
TZOFFSETTO:+1300
TZNAME:NZDT
DTSTART:20260926T140000
END:DAYLIGHT
BEGIN:STANDARD
TZOFFSETFROM:+1300
TZOFFSETTO:+1200
TZNAME:NZST
DTSTART:20270403T140000
END:STANDARD
BEGIN:DAYLIGHT
TZOFFSETFROM:+1200
TZOFFSETTO:+1300
TZNAME:NZDT
DTSTART:20270925T140000
END:DAYLIGHT
BEGIN:STANDARD
TZOFFSETFROM:+1300
TZOFFSETTO:+1200
TZNAME:NZST
DTSTART:20280401T140000
END:STANDARD
BEGIN:DAYLIGHT
TZOFFSETFROM:+1200
TZOFFSETTO:+1300
TZNAME:NZDT
DTSTART:20280923T140000
END:DAYLIGHT
END:VTIMEZONE
BEGIN:VEVENT
DTSTART;TZID=Pacific/Auckland:20260907T173000
DTEND;TZID=Pacific/Auckland:20260907T193000
DTSTAMP:20260426T094339
CREATED:20240922T225946Z
LAST-MODIFIED:20240922T225946Z
UID:10000680-1788802200-1788809400@taumarunui.co.nz
SUMMARY:Taumarunui Rotary Club
DESCRIPTION:1st and 3rd Monday of month\, 5.30pm\, upstairs lounge at the RSA. \nJoin us for interesting speakers and involvement in community activities. 
URL:https://taumarunui.co.nz/event/taumarunui-rotary-club-2/2026-09-07/
LOCATION:RSA\, 10 Marae Street\, Taumarunui\, New Zealand
CATEGORIES:Clubs
GEO:-38.8851355;175.2614527
X-APPLE-STRUCTURED-LOCATION;VALUE=URI;X-ADDRESS=RSA 10 Marae Street Taumarunui New Zealand;X-APPLE-RADIUS=500;X-TITLE=10 Marae Street:geo:175.2614527,-38.8851355
END:VEVENT
BEGIN:VEVENT
DTSTART;TZID=Pacific/Auckland:20260921T173000
DTEND;TZID=Pacific/Auckland:20260921T193000
DTSTAMP:20260426T094339
CREATED:20240922T225808Z
LAST-MODIFIED:20241015T053932Z
UID:10000620-1790011800-1790019000@taumarunui.co.nz
SUMMARY:Taumarunui Rotary Club
DESCRIPTION:1st and 3rd Monday of month\, 5.30pm\, upstairs lounge at the RSA. \nJoin us for interesting speakers and involvement in community activities.
URL:https://taumarunui.co.nz/event/taumarunui-rotary-club/2026-09-21/
LOCATION:RSA\, 10 Marae Street\, Taumarunui\, New Zealand
CATEGORIES:Clubs
ATTACH;FMTTYPE=image/png:https://taumarunui.co.nz/wp-content/uploads/2024/09/IMG_8086.png
GEO:-38.8851355;175.2614527
X-APPLE-STRUCTURED-LOCATION;VALUE=URI;X-ADDRESS=RSA 10 Marae Street Taumarunui New Zealand;X-APPLE-RADIUS=500;X-TITLE=10 Marae Street:geo:175.2614527,-38.8851355
END:VEVENT
BEGIN:VEVENT
DTSTART;TZID=Pacific/Auckland:20260925T130000
DTEND;TZID=Pacific/Auckland:20260925T150000
DTSTAMP:20260426T094339
CREATED:20240922T232709Z
LAST-MODIFIED:20241015T054028Z
UID:10001594-1790341200-1790348400@taumarunui.co.nz
SUMMARY:Grey Power Ruapehu
DESCRIPTION:Social connection events for everyone aged 50 years plus. \nLast Friday every month in upstairs room at RSA \nContact Alan on 027 814 2279 or Chanelle on 027 264 3135
URL:https://taumarunui.co.nz/event/grey-power-ruapehu/2026-09-25/
LOCATION:RSA\, 10 Marae Street\, Taumarunui\, New Zealand
CATEGORIES:Clubs
ATTACH;FMTTYPE=image/jpeg:https://taumarunui.co.nz/wp-content/uploads/2024/09/IMG_8082.jpg
GEO:-38.8851355;175.2614527
X-APPLE-STRUCTURED-LOCATION;VALUE=URI;X-ADDRESS=RSA 10 Marae Street Taumarunui New Zealand;X-APPLE-RADIUS=500;X-TITLE=10 Marae Street:geo:175.2614527,-38.8851355
END:VEVENT
BEGIN:VEVENT
DTSTART;TZID=Pacific/Auckland:20261005T173000
DTEND;TZID=Pacific/Auckland:20261005T193000
DTSTAMP:20260426T094339
CREATED:20240922T225946Z
LAST-MODIFIED:20240922T225946Z
UID:10000681-1791221400-1791228600@taumarunui.co.nz
SUMMARY:Taumarunui Rotary Club
DESCRIPTION:1st and 3rd Monday of month\, 5.30pm\, upstairs lounge at the RSA. \nJoin us for interesting speakers and involvement in community activities. 
URL:https://taumarunui.co.nz/event/taumarunui-rotary-club-2/2026-10-05/
LOCATION:RSA\, 10 Marae Street\, Taumarunui\, New Zealand
CATEGORIES:Clubs
GEO:-38.8851355;175.2614527
X-APPLE-STRUCTURED-LOCATION;VALUE=URI;X-ADDRESS=RSA 10 Marae Street Taumarunui New Zealand;X-APPLE-RADIUS=500;X-TITLE=10 Marae Street:geo:175.2614527,-38.8851355
END:VEVENT
BEGIN:VEVENT
DTSTART;TZID=Pacific/Auckland:20261019T173000
DTEND;TZID=Pacific/Auckland:20261019T193000
DTSTAMP:20260426T094339
CREATED:20240922T225808Z
LAST-MODIFIED:20241015T053932Z
UID:10000621-1792431000-1792438200@taumarunui.co.nz
SUMMARY:Taumarunui Rotary Club
DESCRIPTION:1st and 3rd Monday of month\, 5.30pm\, upstairs lounge at the RSA. \nJoin us for interesting speakers and involvement in community activities.
URL:https://taumarunui.co.nz/event/taumarunui-rotary-club/2026-10-19/
LOCATION:RSA\, 10 Marae Street\, Taumarunui\, New Zealand
CATEGORIES:Clubs
ATTACH;FMTTYPE=image/png:https://taumarunui.co.nz/wp-content/uploads/2024/09/IMG_8086.png
GEO:-38.8851355;175.2614527
X-APPLE-STRUCTURED-LOCATION;VALUE=URI;X-ADDRESS=RSA 10 Marae Street Taumarunui New Zealand;X-APPLE-RADIUS=500;X-TITLE=10 Marae Street:geo:175.2614527,-38.8851355
END:VEVENT
BEGIN:VEVENT
DTSTART;TZID=Pacific/Auckland:20261023T130000
DTEND;TZID=Pacific/Auckland:20261023T150000
DTSTAMP:20260426T094339
CREATED:20240922T232709Z
LAST-MODIFIED:20241015T054028Z
UID:10001595-1792760400-1792767600@taumarunui.co.nz
SUMMARY:Grey Power Ruapehu
DESCRIPTION:Social connection events for everyone aged 50 years plus. \nLast Friday every month in upstairs room at RSA \nContact Alan on 027 814 2279 or Chanelle on 027 264 3135
URL:https://taumarunui.co.nz/event/grey-power-ruapehu/2026-10-23/
LOCATION:RSA\, 10 Marae Street\, Taumarunui\, New Zealand
CATEGORIES:Clubs
ATTACH;FMTTYPE=image/jpeg:https://taumarunui.co.nz/wp-content/uploads/2024/09/IMG_8082.jpg
GEO:-38.8851355;175.2614527
X-APPLE-STRUCTURED-LOCATION;VALUE=URI;X-ADDRESS=RSA 10 Marae Street Taumarunui New Zealand;X-APPLE-RADIUS=500;X-TITLE=10 Marae Street:geo:175.2614527,-38.8851355
END:VEVENT
BEGIN:VEVENT
DTSTART;TZID=Pacific/Auckland:20261102T173000
DTEND;TZID=Pacific/Auckland:20261102T193000
DTSTAMP:20260426T094339
CREATED:20240922T225946Z
LAST-MODIFIED:20240922T225946Z
UID:10000682-1793640600-1793647800@taumarunui.co.nz
SUMMARY:Taumarunui Rotary Club
DESCRIPTION:1st and 3rd Monday of month\, 5.30pm\, upstairs lounge at the RSA. \nJoin us for interesting speakers and involvement in community activities. 
URL:https://taumarunui.co.nz/event/taumarunui-rotary-club-2/2026-11-02/
LOCATION:RSA\, 10 Marae Street\, Taumarunui\, New Zealand
CATEGORIES:Clubs
GEO:-38.8851355;175.2614527
X-APPLE-STRUCTURED-LOCATION;VALUE=URI;X-ADDRESS=RSA 10 Marae Street Taumarunui New Zealand;X-APPLE-RADIUS=500;X-TITLE=10 Marae Street:geo:175.2614527,-38.8851355
END:VEVENT
BEGIN:VEVENT
DTSTART;TZID=Pacific/Auckland:20261116T173000
DTEND;TZID=Pacific/Auckland:20261116T193000
DTSTAMP:20260426T094339
CREATED:20240922T225808Z
LAST-MODIFIED:20241015T053932Z
UID:10000622-1794850200-1794857400@taumarunui.co.nz
SUMMARY:Taumarunui Rotary Club
DESCRIPTION:1st and 3rd Monday of month\, 5.30pm\, upstairs lounge at the RSA. \nJoin us for interesting speakers and involvement in community activities.
URL:https://taumarunui.co.nz/event/taumarunui-rotary-club/2026-11-16/
LOCATION:RSA\, 10 Marae Street\, Taumarunui\, New Zealand
CATEGORIES:Clubs
ATTACH;FMTTYPE=image/png:https://taumarunui.co.nz/wp-content/uploads/2024/09/IMG_8086.png
GEO:-38.8851355;175.2614527
X-APPLE-STRUCTURED-LOCATION;VALUE=URI;X-ADDRESS=RSA 10 Marae Street Taumarunui New Zealand;X-APPLE-RADIUS=500;X-TITLE=10 Marae Street:geo:175.2614527,-38.8851355
END:VEVENT
BEGIN:VEVENT
DTSTART;TZID=Pacific/Auckland:20261127T130000
DTEND;TZID=Pacific/Auckland:20261127T150000
DTSTAMP:20260426T094339
CREATED:20240922T232709Z
LAST-MODIFIED:20241015T054028Z
UID:10001596-1795784400-1795791600@taumarunui.co.nz
SUMMARY:Grey Power Ruapehu
DESCRIPTION:Social connection events for everyone aged 50 years plus. \nLast Friday every month in upstairs room at RSA \nContact Alan on 027 814 2279 or Chanelle on 027 264 3135
URL:https://taumarunui.co.nz/event/grey-power-ruapehu/2026-11-27/
LOCATION:RSA\, 10 Marae Street\, Taumarunui\, New Zealand
CATEGORIES:Clubs
ATTACH;FMTTYPE=image/jpeg:https://taumarunui.co.nz/wp-content/uploads/2024/09/IMG_8082.jpg
GEO:-38.8851355;175.2614527
X-APPLE-STRUCTURED-LOCATION;VALUE=URI;X-ADDRESS=RSA 10 Marae Street Taumarunui New Zealand;X-APPLE-RADIUS=500;X-TITLE=10 Marae Street:geo:175.2614527,-38.8851355
END:VEVENT
BEGIN:VEVENT
DTSTART;TZID=Pacific/Auckland:20261207T173000
DTEND;TZID=Pacific/Auckland:20261207T193000
DTSTAMP:20260426T094339
CREATED:20240922T225946Z
LAST-MODIFIED:20240922T225946Z
UID:10000683-1796664600-1796671800@taumarunui.co.nz
SUMMARY:Taumarunui Rotary Club
DESCRIPTION:1st and 3rd Monday of month\, 5.30pm\, upstairs lounge at the RSA. \nJoin us for interesting speakers and involvement in community activities. 
URL:https://taumarunui.co.nz/event/taumarunui-rotary-club-2/2026-12-07/
LOCATION:RSA\, 10 Marae Street\, Taumarunui\, New Zealand
CATEGORIES:Clubs
GEO:-38.8851355;175.2614527
X-APPLE-STRUCTURED-LOCATION;VALUE=URI;X-ADDRESS=RSA 10 Marae Street Taumarunui New Zealand;X-APPLE-RADIUS=500;X-TITLE=10 Marae Street:geo:175.2614527,-38.8851355
END:VEVENT
BEGIN:VEVENT
DTSTART;TZID=Pacific/Auckland:20261221T173000
DTEND;TZID=Pacific/Auckland:20261221T193000
DTSTAMP:20260426T094339
CREATED:20240922T225808Z
LAST-MODIFIED:20241015T053932Z
UID:10000623-1797874200-1797881400@taumarunui.co.nz
SUMMARY:Taumarunui Rotary Club
DESCRIPTION:1st and 3rd Monday of month\, 5.30pm\, upstairs lounge at the RSA. \nJoin us for interesting speakers and involvement in community activities.
URL:https://taumarunui.co.nz/event/taumarunui-rotary-club/2026-12-21/
LOCATION:RSA\, 10 Marae Street\, Taumarunui\, New Zealand
CATEGORIES:Clubs
ATTACH;FMTTYPE=image/png:https://taumarunui.co.nz/wp-content/uploads/2024/09/IMG_8086.png
GEO:-38.8851355;175.2614527
X-APPLE-STRUCTURED-LOCATION;VALUE=URI;X-ADDRESS=RSA 10 Marae Street Taumarunui New Zealand;X-APPLE-RADIUS=500;X-TITLE=10 Marae Street:geo:175.2614527,-38.8851355
END:VEVENT
BEGIN:VEVENT
DTSTART;TZID=Pacific/Auckland:20261225T130000
DTEND;TZID=Pacific/Auckland:20261225T150000
DTSTAMP:20260426T094339
CREATED:20240922T232709Z
LAST-MODIFIED:20241015T054028Z
UID:10001597-1798203600-1798210800@taumarunui.co.nz
SUMMARY:Grey Power Ruapehu
DESCRIPTION:Social connection events for everyone aged 50 years plus. \nLast Friday every month in upstairs room at RSA \nContact Alan on 027 814 2279 or Chanelle on 027 264 3135
URL:https://taumarunui.co.nz/event/grey-power-ruapehu/2026-12-25/
LOCATION:RSA\, 10 Marae Street\, Taumarunui\, New Zealand
CATEGORIES:Clubs
ATTACH;FMTTYPE=image/jpeg:https://taumarunui.co.nz/wp-content/uploads/2024/09/IMG_8082.jpg
GEO:-38.8851355;175.2614527
X-APPLE-STRUCTURED-LOCATION;VALUE=URI;X-ADDRESS=RSA 10 Marae Street Taumarunui New Zealand;X-APPLE-RADIUS=500;X-TITLE=10 Marae Street:geo:175.2614527,-38.8851355
END:VEVENT
BEGIN:VEVENT
DTSTART;TZID=Pacific/Auckland:20270104T173000
DTEND;TZID=Pacific/Auckland:20270104T193000
DTSTAMP:20260426T094339
CREATED:20240922T225946Z
LAST-MODIFIED:20240922T225946Z
UID:10000684-1799083800-1799091000@taumarunui.co.nz
SUMMARY:Taumarunui Rotary Club
DESCRIPTION:1st and 3rd Monday of month\, 5.30pm\, upstairs lounge at the RSA. \nJoin us for interesting speakers and involvement in community activities. 
URL:https://taumarunui.co.nz/event/taumarunui-rotary-club-2/2027-01-04/
LOCATION:RSA\, 10 Marae Street\, Taumarunui\, New Zealand
CATEGORIES:Clubs
GEO:-38.8851355;175.2614527
X-APPLE-STRUCTURED-LOCATION;VALUE=URI;X-ADDRESS=RSA 10 Marae Street Taumarunui New Zealand;X-APPLE-RADIUS=500;X-TITLE=10 Marae Street:geo:175.2614527,-38.8851355
END:VEVENT
BEGIN:VEVENT
DTSTART;TZID=Pacific/Auckland:20270118T173000
DTEND;TZID=Pacific/Auckland:20270118T193000
DTSTAMP:20260426T094339
CREATED:20240922T225808Z
LAST-MODIFIED:20241015T053932Z
UID:10000624-1800293400-1800300600@taumarunui.co.nz
SUMMARY:Taumarunui Rotary Club
DESCRIPTION:1st and 3rd Monday of month\, 5.30pm\, upstairs lounge at the RSA. \nJoin us for interesting speakers and involvement in community activities.
URL:https://taumarunui.co.nz/event/taumarunui-rotary-club/2027-01-18/
LOCATION:RSA\, 10 Marae Street\, Taumarunui\, New Zealand
CATEGORIES:Clubs
ATTACH;FMTTYPE=image/png:https://taumarunui.co.nz/wp-content/uploads/2024/09/IMG_8086.png
GEO:-38.8851355;175.2614527
X-APPLE-STRUCTURED-LOCATION;VALUE=URI;X-ADDRESS=RSA 10 Marae Street Taumarunui New Zealand;X-APPLE-RADIUS=500;X-TITLE=10 Marae Street:geo:175.2614527,-38.8851355
END:VEVENT
BEGIN:VEVENT
DTSTART;TZID=Pacific/Auckland:20270122T130000
DTEND;TZID=Pacific/Auckland:20270122T150000
DTSTAMP:20260426T094339
CREATED:20240922T232709Z
LAST-MODIFIED:20241015T054028Z
UID:10001598-1800622800-1800630000@taumarunui.co.nz
SUMMARY:Grey Power Ruapehu
DESCRIPTION:Social connection events for everyone aged 50 years plus. \nLast Friday every month in upstairs room at RSA \nContact Alan on 027 814 2279 or Chanelle on 027 264 3135
URL:https://taumarunui.co.nz/event/grey-power-ruapehu/2027-01-22/
LOCATION:RSA\, 10 Marae Street\, Taumarunui\, New Zealand
CATEGORIES:Clubs
ATTACH;FMTTYPE=image/jpeg:https://taumarunui.co.nz/wp-content/uploads/2024/09/IMG_8082.jpg
GEO:-38.8851355;175.2614527
X-APPLE-STRUCTURED-LOCATION;VALUE=URI;X-ADDRESS=RSA 10 Marae Street Taumarunui New Zealand;X-APPLE-RADIUS=500;X-TITLE=10 Marae Street:geo:175.2614527,-38.8851355
END:VEVENT
BEGIN:VEVENT
DTSTART;TZID=Pacific/Auckland:20270201T173000
DTEND;TZID=Pacific/Auckland:20270201T193000
DTSTAMP:20260426T094339
CREATED:20240922T225946Z
LAST-MODIFIED:20240922T225946Z
UID:10000685-1801503000-1801510200@taumarunui.co.nz
SUMMARY:Taumarunui Rotary Club
DESCRIPTION:1st and 3rd Monday of month\, 5.30pm\, upstairs lounge at the RSA. \nJoin us for interesting speakers and involvement in community activities. 
URL:https://taumarunui.co.nz/event/taumarunui-rotary-club-2/2027-02-01/
LOCATION:RSA\, 10 Marae Street\, Taumarunui\, New Zealand
CATEGORIES:Clubs
GEO:-38.8851355;175.2614527
X-APPLE-STRUCTURED-LOCATION;VALUE=URI;X-ADDRESS=RSA 10 Marae Street Taumarunui New Zealand;X-APPLE-RADIUS=500;X-TITLE=10 Marae Street:geo:175.2614527,-38.8851355
END:VEVENT
BEGIN:VEVENT
DTSTART;TZID=Pacific/Auckland:20270215T173000
DTEND;TZID=Pacific/Auckland:20270215T193000
DTSTAMP:20260426T094339
CREATED:20240922T225808Z
LAST-MODIFIED:20241015T053932Z
UID:10000625-1802712600-1802719800@taumarunui.co.nz
SUMMARY:Taumarunui Rotary Club
DESCRIPTION:1st and 3rd Monday of month\, 5.30pm\, upstairs lounge at the RSA. \nJoin us for interesting speakers and involvement in community activities.
URL:https://taumarunui.co.nz/event/taumarunui-rotary-club/2027-02-15/
LOCATION:RSA\, 10 Marae Street\, Taumarunui\, New Zealand
CATEGORIES:Clubs
ATTACH;FMTTYPE=image/png:https://taumarunui.co.nz/wp-content/uploads/2024/09/IMG_8086.png
GEO:-38.8851355;175.2614527
X-APPLE-STRUCTURED-LOCATION;VALUE=URI;X-ADDRESS=RSA 10 Marae Street Taumarunui New Zealand;X-APPLE-RADIUS=500;X-TITLE=10 Marae Street:geo:175.2614527,-38.8851355
END:VEVENT
BEGIN:VEVENT
DTSTART;TZID=Pacific/Auckland:20270226T130000
DTEND;TZID=Pacific/Auckland:20270226T150000
DTSTAMP:20260426T094339
CREATED:20240922T232709Z
LAST-MODIFIED:20241015T054028Z
UID:10001599-1803646800-1803654000@taumarunui.co.nz
SUMMARY:Grey Power Ruapehu
DESCRIPTION:Social connection events for everyone aged 50 years plus. \nLast Friday every month in upstairs room at RSA \nContact Alan on 027 814 2279 or Chanelle on 027 264 3135
URL:https://taumarunui.co.nz/event/grey-power-ruapehu/2027-02-26/
LOCATION:RSA\, 10 Marae Street\, Taumarunui\, New Zealand
CATEGORIES:Clubs
ATTACH;FMTTYPE=image/jpeg:https://taumarunui.co.nz/wp-content/uploads/2024/09/IMG_8082.jpg
GEO:-38.8851355;175.2614527
X-APPLE-STRUCTURED-LOCATION;VALUE=URI;X-ADDRESS=RSA 10 Marae Street Taumarunui New Zealand;X-APPLE-RADIUS=500;X-TITLE=10 Marae Street:geo:175.2614527,-38.8851355
END:VEVENT
BEGIN:VEVENT
DTSTART;TZID=Pacific/Auckland:20270301T173000
DTEND;TZID=Pacific/Auckland:20270301T193000
DTSTAMP:20260426T094339
CREATED:20240922T225946Z
LAST-MODIFIED:20240922T225946Z
UID:10000686-1803922200-1803929400@taumarunui.co.nz
SUMMARY:Taumarunui Rotary Club
DESCRIPTION:1st and 3rd Monday of month\, 5.30pm\, upstairs lounge at the RSA. \nJoin us for interesting speakers and involvement in community activities. 
URL:https://taumarunui.co.nz/event/taumarunui-rotary-club-2/2027-03-01/
LOCATION:RSA\, 10 Marae Street\, Taumarunui\, New Zealand
CATEGORIES:Clubs
GEO:-38.8851355;175.2614527
X-APPLE-STRUCTURED-LOCATION;VALUE=URI;X-ADDRESS=RSA 10 Marae Street Taumarunui New Zealand;X-APPLE-RADIUS=500;X-TITLE=10 Marae Street:geo:175.2614527,-38.8851355
END:VEVENT
BEGIN:VEVENT
DTSTART;TZID=Pacific/Auckland:20270315T173000
DTEND;TZID=Pacific/Auckland:20270315T193000
DTSTAMP:20260426T094339
CREATED:20240922T225808Z
LAST-MODIFIED:20241015T053932Z
UID:10000626-1805131800-1805139000@taumarunui.co.nz
SUMMARY:Taumarunui Rotary Club
DESCRIPTION:1st and 3rd Monday of month\, 5.30pm\, upstairs lounge at the RSA. \nJoin us for interesting speakers and involvement in community activities.
URL:https://taumarunui.co.nz/event/taumarunui-rotary-club/2027-03-15/
LOCATION:RSA\, 10 Marae Street\, Taumarunui\, New Zealand
CATEGORIES:Clubs
ATTACH;FMTTYPE=image/png:https://taumarunui.co.nz/wp-content/uploads/2024/09/IMG_8086.png
GEO:-38.8851355;175.2614527
X-APPLE-STRUCTURED-LOCATION;VALUE=URI;X-ADDRESS=RSA 10 Marae Street Taumarunui New Zealand;X-APPLE-RADIUS=500;X-TITLE=10 Marae Street:geo:175.2614527,-38.8851355
END:VEVENT
BEGIN:VEVENT
DTSTART;TZID=Pacific/Auckland:20270326T130000
DTEND;TZID=Pacific/Auckland:20270326T150000
DTSTAMP:20260426T094339
CREATED:20240922T232709Z
LAST-MODIFIED:20241015T054028Z
UID:10001600-1806066000-1806073200@taumarunui.co.nz
SUMMARY:Grey Power Ruapehu
DESCRIPTION:Social connection events for everyone aged 50 years plus. \nLast Friday every month in upstairs room at RSA \nContact Alan on 027 814 2279 or Chanelle on 027 264 3135
URL:https://taumarunui.co.nz/event/grey-power-ruapehu/2027-03-26/
LOCATION:RSA\, 10 Marae Street\, Taumarunui\, New Zealand
CATEGORIES:Clubs
ATTACH;FMTTYPE=image/jpeg:https://taumarunui.co.nz/wp-content/uploads/2024/09/IMG_8082.jpg
GEO:-38.8851355;175.2614527
X-APPLE-STRUCTURED-LOCATION;VALUE=URI;X-ADDRESS=RSA 10 Marae Street Taumarunui New Zealand;X-APPLE-RADIUS=500;X-TITLE=10 Marae Street:geo:175.2614527,-38.8851355
END:VEVENT
BEGIN:VEVENT
DTSTART;TZID=Pacific/Auckland:20270405T173000
DTEND;TZID=Pacific/Auckland:20270405T193000
DTSTAMP:20260426T094339
CREATED:20240922T225946Z
LAST-MODIFIED:20240922T225946Z
UID:10000687-1806946200-1806953400@taumarunui.co.nz
SUMMARY:Taumarunui Rotary Club
DESCRIPTION:1st and 3rd Monday of month\, 5.30pm\, upstairs lounge at the RSA. \nJoin us for interesting speakers and involvement in community activities. 
URL:https://taumarunui.co.nz/event/taumarunui-rotary-club-2/2027-04-05/
LOCATION:RSA\, 10 Marae Street\, Taumarunui\, New Zealand
CATEGORIES:Clubs
GEO:-38.8851355;175.2614527
X-APPLE-STRUCTURED-LOCATION;VALUE=URI;X-ADDRESS=RSA 10 Marae Street Taumarunui New Zealand;X-APPLE-RADIUS=500;X-TITLE=10 Marae Street:geo:175.2614527,-38.8851355
END:VEVENT
BEGIN:VEVENT
DTSTART;TZID=Pacific/Auckland:20270419T173000
DTEND;TZID=Pacific/Auckland:20270419T193000
DTSTAMP:20260426T094339
CREATED:20240922T225808Z
LAST-MODIFIED:20241015T053932Z
UID:10000627-1808155800-1808163000@taumarunui.co.nz
SUMMARY:Taumarunui Rotary Club
DESCRIPTION:1st and 3rd Monday of month\, 5.30pm\, upstairs lounge at the RSA. \nJoin us for interesting speakers and involvement in community activities.
URL:https://taumarunui.co.nz/event/taumarunui-rotary-club/2027-04-19/
LOCATION:RSA\, 10 Marae Street\, Taumarunui\, New Zealand
CATEGORIES:Clubs
ATTACH;FMTTYPE=image/png:https://taumarunui.co.nz/wp-content/uploads/2024/09/IMG_8086.png
GEO:-38.8851355;175.2614527
X-APPLE-STRUCTURED-LOCATION;VALUE=URI;X-ADDRESS=RSA 10 Marae Street Taumarunui New Zealand;X-APPLE-RADIUS=500;X-TITLE=10 Marae Street:geo:175.2614527,-38.8851355
END:VEVENT
BEGIN:VEVENT
DTSTART;TZID=Pacific/Auckland:20270423T130000
DTEND;TZID=Pacific/Auckland:20270423T150000
DTSTAMP:20260426T094339
CREATED:20240922T232709Z
LAST-MODIFIED:20241015T054028Z
UID:10001601-1808485200-1808492400@taumarunui.co.nz
SUMMARY:Grey Power Ruapehu
DESCRIPTION:Social connection events for everyone aged 50 years plus. \nLast Friday every month in upstairs room at RSA \nContact Alan on 027 814 2279 or Chanelle on 027 264 3135
URL:https://taumarunui.co.nz/event/grey-power-ruapehu/2027-04-23/
LOCATION:RSA\, 10 Marae Street\, Taumarunui\, New Zealand
CATEGORIES:Clubs
ATTACH;FMTTYPE=image/jpeg:https://taumarunui.co.nz/wp-content/uploads/2024/09/IMG_8082.jpg
GEO:-38.8851355;175.2614527
X-APPLE-STRUCTURED-LOCATION;VALUE=URI;X-ADDRESS=RSA 10 Marae Street Taumarunui New Zealand;X-APPLE-RADIUS=500;X-TITLE=10 Marae Street:geo:175.2614527,-38.8851355
END:VEVENT
BEGIN:VEVENT
DTSTART;TZID=Pacific/Auckland:20270503T173000
DTEND;TZID=Pacific/Auckland:20270503T193000
DTSTAMP:20260426T094339
CREATED:20240922T225946Z
LAST-MODIFIED:20240922T225946Z
UID:10000688-1809365400-1809372600@taumarunui.co.nz
SUMMARY:Taumarunui Rotary Club
DESCRIPTION:1st and 3rd Monday of month\, 5.30pm\, upstairs lounge at the RSA. \nJoin us for interesting speakers and involvement in community activities. 
URL:https://taumarunui.co.nz/event/taumarunui-rotary-club-2/2027-05-03/
LOCATION:RSA\, 10 Marae Street\, Taumarunui\, New Zealand
CATEGORIES:Clubs
GEO:-38.8851355;175.2614527
X-APPLE-STRUCTURED-LOCATION;VALUE=URI;X-ADDRESS=RSA 10 Marae Street Taumarunui New Zealand;X-APPLE-RADIUS=500;X-TITLE=10 Marae Street:geo:175.2614527,-38.8851355
END:VEVENT
BEGIN:VEVENT
DTSTART;TZID=Pacific/Auckland:20270517T173000
DTEND;TZID=Pacific/Auckland:20270517T193000
DTSTAMP:20260426T094339
CREATED:20240922T225808Z
LAST-MODIFIED:20241015T053932Z
UID:10000628-1810575000-1810582200@taumarunui.co.nz
SUMMARY:Taumarunui Rotary Club
DESCRIPTION:1st and 3rd Monday of month\, 5.30pm\, upstairs lounge at the RSA. \nJoin us for interesting speakers and involvement in community activities.
URL:https://taumarunui.co.nz/event/taumarunui-rotary-club/2027-05-17/
LOCATION:RSA\, 10 Marae Street\, Taumarunui\, New Zealand
CATEGORIES:Clubs
ATTACH;FMTTYPE=image/png:https://taumarunui.co.nz/wp-content/uploads/2024/09/IMG_8086.png
GEO:-38.8851355;175.2614527
X-APPLE-STRUCTURED-LOCATION;VALUE=URI;X-ADDRESS=RSA 10 Marae Street Taumarunui New Zealand;X-APPLE-RADIUS=500;X-TITLE=10 Marae Street:geo:175.2614527,-38.8851355
END:VEVENT
BEGIN:VEVENT
DTSTART;TZID=Pacific/Auckland:20270528T130000
DTEND;TZID=Pacific/Auckland:20270528T150000
DTSTAMP:20260426T094339
CREATED:20240922T232709Z
LAST-MODIFIED:20241015T054028Z
UID:10001602-1811509200-1811516400@taumarunui.co.nz
SUMMARY:Grey Power Ruapehu
DESCRIPTION:Social connection events for everyone aged 50 years plus. \nLast Friday every month in upstairs room at RSA \nContact Alan on 027 814 2279 or Chanelle on 027 264 3135
URL:https://taumarunui.co.nz/event/grey-power-ruapehu/2027-05-28/
LOCATION:RSA\, 10 Marae Street\, Taumarunui\, New Zealand
CATEGORIES:Clubs
ATTACH;FMTTYPE=image/jpeg:https://taumarunui.co.nz/wp-content/uploads/2024/09/IMG_8082.jpg
GEO:-38.8851355;175.2614527
X-APPLE-STRUCTURED-LOCATION;VALUE=URI;X-ADDRESS=RSA 10 Marae Street Taumarunui New Zealand;X-APPLE-RADIUS=500;X-TITLE=10 Marae Street:geo:175.2614527,-38.8851355
END:VEVENT
BEGIN:VEVENT
DTSTART;TZID=Pacific/Auckland:20270607T173000
DTEND;TZID=Pacific/Auckland:20270607T193000
DTSTAMP:20260426T094339
CREATED:20240922T225946Z
LAST-MODIFIED:20240922T225946Z
UID:10000689-1812389400-1812396600@taumarunui.co.nz
SUMMARY:Taumarunui Rotary Club
DESCRIPTION:1st and 3rd Monday of month\, 5.30pm\, upstairs lounge at the RSA. \nJoin us for interesting speakers and involvement in community activities. 
URL:https://taumarunui.co.nz/event/taumarunui-rotary-club-2/2027-06-07/
LOCATION:RSA\, 10 Marae Street\, Taumarunui\, New Zealand
CATEGORIES:Clubs
GEO:-38.8851355;175.2614527
X-APPLE-STRUCTURED-LOCATION;VALUE=URI;X-ADDRESS=RSA 10 Marae Street Taumarunui New Zealand;X-APPLE-RADIUS=500;X-TITLE=10 Marae Street:geo:175.2614527,-38.8851355
END:VEVENT
BEGIN:VEVENT
DTSTART;TZID=Pacific/Auckland:20270621T173000
DTEND;TZID=Pacific/Auckland:20270621T193000
DTSTAMP:20260426T094339
CREATED:20240922T225808Z
LAST-MODIFIED:20241015T053932Z
UID:10000629-1813599000-1813606200@taumarunui.co.nz
SUMMARY:Taumarunui Rotary Club
DESCRIPTION:1st and 3rd Monday of month\, 5.30pm\, upstairs lounge at the RSA. \nJoin us for interesting speakers and involvement in community activities.
URL:https://taumarunui.co.nz/event/taumarunui-rotary-club/2027-06-21/
LOCATION:RSA\, 10 Marae Street\, Taumarunui\, New Zealand
CATEGORIES:Clubs
ATTACH;FMTTYPE=image/png:https://taumarunui.co.nz/wp-content/uploads/2024/09/IMG_8086.png
GEO:-38.8851355;175.2614527
X-APPLE-STRUCTURED-LOCATION;VALUE=URI;X-ADDRESS=RSA 10 Marae Street Taumarunui New Zealand;X-APPLE-RADIUS=500;X-TITLE=10 Marae Street:geo:175.2614527,-38.8851355
END:VEVENT
BEGIN:VEVENT
DTSTART;TZID=Pacific/Auckland:20270625T130000
DTEND;TZID=Pacific/Auckland:20270625T150000
DTSTAMP:20260426T094339
CREATED:20240922T232709Z
LAST-MODIFIED:20241015T054028Z
UID:10001603-1813928400-1813935600@taumarunui.co.nz
SUMMARY:Grey Power Ruapehu
DESCRIPTION:Social connection events for everyone aged 50 years plus. \nLast Friday every month in upstairs room at RSA \nContact Alan on 027 814 2279 or Chanelle on 027 264 3135
URL:https://taumarunui.co.nz/event/grey-power-ruapehu/2027-06-25/
LOCATION:RSA\, 10 Marae Street\, Taumarunui\, New Zealand
CATEGORIES:Clubs
ATTACH;FMTTYPE=image/jpeg:https://taumarunui.co.nz/wp-content/uploads/2024/09/IMG_8082.jpg
GEO:-38.8851355;175.2614527
X-APPLE-STRUCTURED-LOCATION;VALUE=URI;X-ADDRESS=RSA 10 Marae Street Taumarunui New Zealand;X-APPLE-RADIUS=500;X-TITLE=10 Marae Street:geo:175.2614527,-38.8851355
END:VEVENT
END:VCALENDAR