BEGIN:VCALENDAR
VERSION:2.0
PRODID:-//Taumarunui - ECPv6.15.20//NONSGML v1.0//EN
CALSCALE:GREGORIAN
METHOD:PUBLISH
X-ORIGINAL-URL:https://taumarunui.co.nz
X-WR-CALDESC:Events for Taumarunui
REFRESH-INTERVAL;VALUE=DURATION:PT1H
X-Robots-Tag:noindex
X-PUBLISHED-TTL:PT1H
BEGIN:VTIMEZONE
TZID:Pacific/Auckland
BEGIN:STANDARD
TZOFFSETFROM:+1300
TZOFFSETTO:+1200
TZNAME:NZST
DTSTART:20230401T140000
END:STANDARD
BEGIN:DAYLIGHT
TZOFFSETFROM:+1200
TZOFFSETTO:+1300
TZNAME:NZDT
DTSTART:20230923T140000
END:DAYLIGHT
BEGIN:STANDARD
TZOFFSETFROM:+1300
TZOFFSETTO:+1200
TZNAME:NZST
DTSTART:20240406T140000
END:STANDARD
BEGIN:DAYLIGHT
TZOFFSETFROM:+1200
TZOFFSETTO:+1300
TZNAME:NZDT
DTSTART:20240928T140000
END:DAYLIGHT
BEGIN:STANDARD
TZOFFSETFROM:+1300
TZOFFSETTO:+1200
TZNAME:NZST
DTSTART:20250405T140000
END:STANDARD
BEGIN:DAYLIGHT
TZOFFSETFROM:+1200
TZOFFSETTO:+1300
TZNAME:NZDT
DTSTART:20250927T140000
END:DAYLIGHT
BEGIN:STANDARD
TZOFFSETFROM:+1300
TZOFFSETTO:+1200
TZNAME:NZST
DTSTART:20260404T140000
END:STANDARD
BEGIN:DAYLIGHT
TZOFFSETFROM:+1200
TZOFFSETTO:+1300
TZNAME:NZDT
DTSTART:20260926T140000
END:DAYLIGHT
END:VTIMEZONE
BEGIN:VEVENT
DTSTART;TZID=Pacific/Auckland:20250520T193000
DTEND;TZID=Pacific/Auckland:20250520T193000
DTSTAMP:20260423T160249
CREATED:20240922T231106Z
LAST-MODIFIED:20240922T231106Z
UID:10001016-1747769400-1747769400@taumarunui.co.nz
SUMMARY:Alcoholics Anonymous
DESCRIPTION:Meeting every Tuesday at the old Bowling Club\, Manunui
URL:https://taumarunui.co.nz/event/alcoholics-anonymous/2025-05-20/
LOCATION:Old Bowling Club\, Valley Road\, Manunui\, 3924\, New Zealand
CATEGORIES:Clubs
GEO:-38.8926094;175.3279306
X-APPLE-STRUCTURED-LOCATION;VALUE=URI;X-ADDRESS=Old Bowling Club Valley Road Manunui 3924 New Zealand;X-APPLE-RADIUS=500;X-TITLE=Valley Road:geo:175.3279306,-38.8926094
END:VEVENT
BEGIN:VEVENT
DTSTART;TZID=Pacific/Auckland:20250513T193000
DTEND;TZID=Pacific/Auckland:20250513T193000
DTSTAMP:20260423T160249
CREATED:20240922T231106Z
LAST-MODIFIED:20240922T231106Z
UID:10001015-1747164600-1747164600@taumarunui.co.nz
SUMMARY:Alcoholics Anonymous
DESCRIPTION:Meeting every Tuesday at the old Bowling Club\, Manunui
URL:https://taumarunui.co.nz/event/alcoholics-anonymous/2025-05-13/
LOCATION:Old Bowling Club\, Valley Road\, Manunui\, 3924\, New Zealand
CATEGORIES:Clubs
GEO:-38.8926094;175.3279306
X-APPLE-STRUCTURED-LOCATION;VALUE=URI;X-ADDRESS=Old Bowling Club Valley Road Manunui 3924 New Zealand;X-APPLE-RADIUS=500;X-TITLE=Valley Road:geo:175.3279306,-38.8926094
END:VEVENT
BEGIN:VEVENT
DTSTART;TZID=Pacific/Auckland:20250506T193000
DTEND;TZID=Pacific/Auckland:20250506T193000
DTSTAMP:20260423T160249
CREATED:20240922T231106Z
LAST-MODIFIED:20240922T231106Z
UID:10001014-1746559800-1746559800@taumarunui.co.nz
SUMMARY:Alcoholics Anonymous
DESCRIPTION:Meeting every Tuesday at the old Bowling Club\, Manunui
URL:https://taumarunui.co.nz/event/alcoholics-anonymous/2025-05-06/
LOCATION:Old Bowling Club\, Valley Road\, Manunui\, 3924\, New Zealand
CATEGORIES:Clubs
GEO:-38.8926094;175.3279306
X-APPLE-STRUCTURED-LOCATION;VALUE=URI;X-ADDRESS=Old Bowling Club Valley Road Manunui 3924 New Zealand;X-APPLE-RADIUS=500;X-TITLE=Valley Road:geo:175.3279306,-38.8926094
END:VEVENT
BEGIN:VEVENT
DTSTART;TZID=Pacific/Auckland:20250429T193000
DTEND;TZID=Pacific/Auckland:20250429T193000
DTSTAMP:20260423T160249
CREATED:20240922T231106Z
LAST-MODIFIED:20240922T231106Z
UID:10001013-1745955000-1745955000@taumarunui.co.nz
SUMMARY:Alcoholics Anonymous
DESCRIPTION:Meeting every Tuesday at the old Bowling Club\, Manunui
URL:https://taumarunui.co.nz/event/alcoholics-anonymous/2025-04-29/
LOCATION:Old Bowling Club\, Valley Road\, Manunui\, 3924\, New Zealand
CATEGORIES:Clubs
GEO:-38.8926094;175.3279306
X-APPLE-STRUCTURED-LOCATION;VALUE=URI;X-ADDRESS=Old Bowling Club Valley Road Manunui 3924 New Zealand;X-APPLE-RADIUS=500;X-TITLE=Valley Road:geo:175.3279306,-38.8926094
END:VEVENT
BEGIN:VEVENT
DTSTART;TZID=Pacific/Auckland:20250422T193000
DTEND;TZID=Pacific/Auckland:20250422T193000
DTSTAMP:20260423T160249
CREATED:20240922T231106Z
LAST-MODIFIED:20240922T231106Z
UID:10001012-1745350200-1745350200@taumarunui.co.nz
SUMMARY:Alcoholics Anonymous
DESCRIPTION:Meeting every Tuesday at the old Bowling Club\, Manunui
URL:https://taumarunui.co.nz/event/alcoholics-anonymous/2025-04-22/
LOCATION:Old Bowling Club\, Valley Road\, Manunui\, 3924\, New Zealand
CATEGORIES:Clubs
GEO:-38.8926094;175.3279306
X-APPLE-STRUCTURED-LOCATION;VALUE=URI;X-ADDRESS=Old Bowling Club Valley Road Manunui 3924 New Zealand;X-APPLE-RADIUS=500;X-TITLE=Valley Road:geo:175.3279306,-38.8926094
END:VEVENT
BEGIN:VEVENT
DTSTART;TZID=Pacific/Auckland:20250415T193000
DTEND;TZID=Pacific/Auckland:20250415T193000
DTSTAMP:20260423T160249
CREATED:20240922T231106Z
LAST-MODIFIED:20240922T231106Z
UID:10001011-1744745400-1744745400@taumarunui.co.nz
SUMMARY:Alcoholics Anonymous
DESCRIPTION:Meeting every Tuesday at the old Bowling Club\, Manunui
URL:https://taumarunui.co.nz/event/alcoholics-anonymous/2025-04-15/
LOCATION:Old Bowling Club\, Valley Road\, Manunui\, 3924\, New Zealand
CATEGORIES:Clubs
GEO:-38.8926094;175.3279306
X-APPLE-STRUCTURED-LOCATION;VALUE=URI;X-ADDRESS=Old Bowling Club Valley Road Manunui 3924 New Zealand;X-APPLE-RADIUS=500;X-TITLE=Valley Road:geo:175.3279306,-38.8926094
END:VEVENT
BEGIN:VEVENT
DTSTART;TZID=Pacific/Auckland:20250408T193000
DTEND;TZID=Pacific/Auckland:20250408T193000
DTSTAMP:20260423T160249
CREATED:20240922T231106Z
LAST-MODIFIED:20240922T231106Z
UID:10001010-1744140600-1744140600@taumarunui.co.nz
SUMMARY:Alcoholics Anonymous
DESCRIPTION:Meeting every Tuesday at the old Bowling Club\, Manunui
URL:https://taumarunui.co.nz/event/alcoholics-anonymous/2025-04-08/
LOCATION:Old Bowling Club\, Valley Road\, Manunui\, 3924\, New Zealand
CATEGORIES:Clubs
GEO:-38.8926094;175.3279306
X-APPLE-STRUCTURED-LOCATION;VALUE=URI;X-ADDRESS=Old Bowling Club Valley Road Manunui 3924 New Zealand;X-APPLE-RADIUS=500;X-TITLE=Valley Road:geo:175.3279306,-38.8926094
END:VEVENT
BEGIN:VEVENT
DTSTART;TZID=Pacific/Auckland:20250401T193000
DTEND;TZID=Pacific/Auckland:20250401T193000
DTSTAMP:20260423T160249
CREATED:20240922T231106Z
LAST-MODIFIED:20240922T231106Z
UID:10001009-1743535800-1743535800@taumarunui.co.nz
SUMMARY:Alcoholics Anonymous
DESCRIPTION:Meeting every Tuesday at the old Bowling Club\, Manunui
URL:https://taumarunui.co.nz/event/alcoholics-anonymous/2025-04-01/
LOCATION:Old Bowling Club\, Valley Road\, Manunui\, 3924\, New Zealand
CATEGORIES:Clubs
GEO:-38.8926094;175.3279306
X-APPLE-STRUCTURED-LOCATION;VALUE=URI;X-ADDRESS=Old Bowling Club Valley Road Manunui 3924 New Zealand;X-APPLE-RADIUS=500;X-TITLE=Valley Road:geo:175.3279306,-38.8926094
END:VEVENT
BEGIN:VEVENT
DTSTART;TZID=Pacific/Auckland:20250325T193000
DTEND;TZID=Pacific/Auckland:20250325T193000
DTSTAMP:20260423T160249
CREATED:20240922T231106Z
LAST-MODIFIED:20240922T231106Z
UID:10001008-1742931000-1742931000@taumarunui.co.nz
SUMMARY:Alcoholics Anonymous
DESCRIPTION:Meeting every Tuesday at the old Bowling Club\, Manunui
URL:https://taumarunui.co.nz/event/alcoholics-anonymous/2025-03-25/
LOCATION:Old Bowling Club\, Valley Road\, Manunui\, 3924\, New Zealand
CATEGORIES:Clubs
GEO:-38.8926094;175.3279306
X-APPLE-STRUCTURED-LOCATION;VALUE=URI;X-ADDRESS=Old Bowling Club Valley Road Manunui 3924 New Zealand;X-APPLE-RADIUS=500;X-TITLE=Valley Road:geo:175.3279306,-38.8926094
END:VEVENT
BEGIN:VEVENT
DTSTART;TZID=Pacific/Auckland:20250318T193000
DTEND;TZID=Pacific/Auckland:20250318T193000
DTSTAMP:20260423T160249
CREATED:20240922T231106Z
LAST-MODIFIED:20240922T231106Z
UID:10001007-1742326200-1742326200@taumarunui.co.nz
SUMMARY:Alcoholics Anonymous
DESCRIPTION:Meeting every Tuesday at the old Bowling Club\, Manunui
URL:https://taumarunui.co.nz/event/alcoholics-anonymous/2025-03-18/
LOCATION:Old Bowling Club\, Valley Road\, Manunui\, 3924\, New Zealand
CATEGORIES:Clubs
GEO:-38.8926094;175.3279306
X-APPLE-STRUCTURED-LOCATION;VALUE=URI;X-ADDRESS=Old Bowling Club Valley Road Manunui 3924 New Zealand;X-APPLE-RADIUS=500;X-TITLE=Valley Road:geo:175.3279306,-38.8926094
END:VEVENT
BEGIN:VEVENT
DTSTART;TZID=Pacific/Auckland:20250311T193000
DTEND;TZID=Pacific/Auckland:20250311T193000
DTSTAMP:20260423T160249
CREATED:20240922T231106Z
LAST-MODIFIED:20240922T231106Z
UID:10001006-1741721400-1741721400@taumarunui.co.nz
SUMMARY:Alcoholics Anonymous
DESCRIPTION:Meeting every Tuesday at the old Bowling Club\, Manunui
URL:https://taumarunui.co.nz/event/alcoholics-anonymous/2025-03-11/
LOCATION:Old Bowling Club\, Valley Road\, Manunui\, 3924\, New Zealand
CATEGORIES:Clubs
GEO:-38.8926094;175.3279306
X-APPLE-STRUCTURED-LOCATION;VALUE=URI;X-ADDRESS=Old Bowling Club Valley Road Manunui 3924 New Zealand;X-APPLE-RADIUS=500;X-TITLE=Valley Road:geo:175.3279306,-38.8926094
END:VEVENT
BEGIN:VEVENT
DTSTART;TZID=Pacific/Auckland:20250304T193000
DTEND;TZID=Pacific/Auckland:20250304T193000
DTSTAMP:20260423T160249
CREATED:20240922T231106Z
LAST-MODIFIED:20240922T231106Z
UID:10001005-1741116600-1741116600@taumarunui.co.nz
SUMMARY:Alcoholics Anonymous
DESCRIPTION:Meeting every Tuesday at the old Bowling Club\, Manunui
URL:https://taumarunui.co.nz/event/alcoholics-anonymous/2025-03-04/
LOCATION:Old Bowling Club\, Valley Road\, Manunui\, 3924\, New Zealand
CATEGORIES:Clubs
GEO:-38.8926094;175.3279306
X-APPLE-STRUCTURED-LOCATION;VALUE=URI;X-ADDRESS=Old Bowling Club Valley Road Manunui 3924 New Zealand;X-APPLE-RADIUS=500;X-TITLE=Valley Road:geo:175.3279306,-38.8926094
END:VEVENT
BEGIN:VEVENT
DTSTART;TZID=Pacific/Auckland:20250225T193000
DTEND;TZID=Pacific/Auckland:20250225T193000
DTSTAMP:20260423T160249
CREATED:20240922T231106Z
LAST-MODIFIED:20240922T231106Z
UID:10001004-1740511800-1740511800@taumarunui.co.nz
SUMMARY:Alcoholics Anonymous
DESCRIPTION:Meeting every Tuesday at the old Bowling Club\, Manunui
URL:https://taumarunui.co.nz/event/alcoholics-anonymous/2025-02-25/
LOCATION:Old Bowling Club\, Valley Road\, Manunui\, 3924\, New Zealand
CATEGORIES:Clubs
GEO:-38.8926094;175.3279306
X-APPLE-STRUCTURED-LOCATION;VALUE=URI;X-ADDRESS=Old Bowling Club Valley Road Manunui 3924 New Zealand;X-APPLE-RADIUS=500;X-TITLE=Valley Road:geo:175.3279306,-38.8926094
END:VEVENT
BEGIN:VEVENT
DTSTART;TZID=Pacific/Auckland:20250218T193000
DTEND;TZID=Pacific/Auckland:20250218T193000
DTSTAMP:20260423T160249
CREATED:20240922T231106Z
LAST-MODIFIED:20240922T231106Z
UID:10001003-1739907000-1739907000@taumarunui.co.nz
SUMMARY:Alcoholics Anonymous
DESCRIPTION:Meeting every Tuesday at the old Bowling Club\, Manunui
URL:https://taumarunui.co.nz/event/alcoholics-anonymous/2025-02-18/
LOCATION:Old Bowling Club\, Valley Road\, Manunui\, 3924\, New Zealand
CATEGORIES:Clubs
GEO:-38.8926094;175.3279306
X-APPLE-STRUCTURED-LOCATION;VALUE=URI;X-ADDRESS=Old Bowling Club Valley Road Manunui 3924 New Zealand;X-APPLE-RADIUS=500;X-TITLE=Valley Road:geo:175.3279306,-38.8926094
END:VEVENT
BEGIN:VEVENT
DTSTART;TZID=Pacific/Auckland:20250211T193000
DTEND;TZID=Pacific/Auckland:20250211T193000
DTSTAMP:20260423T160249
CREATED:20240922T231106Z
LAST-MODIFIED:20240922T231106Z
UID:10001002-1739302200-1739302200@taumarunui.co.nz
SUMMARY:Alcoholics Anonymous
DESCRIPTION:Meeting every Tuesday at the old Bowling Club\, Manunui
URL:https://taumarunui.co.nz/event/alcoholics-anonymous/2025-02-11/
LOCATION:Old Bowling Club\, Valley Road\, Manunui\, 3924\, New Zealand
CATEGORIES:Clubs
GEO:-38.8926094;175.3279306
X-APPLE-STRUCTURED-LOCATION;VALUE=URI;X-ADDRESS=Old Bowling Club Valley Road Manunui 3924 New Zealand;X-APPLE-RADIUS=500;X-TITLE=Valley Road:geo:175.3279306,-38.8926094
END:VEVENT
BEGIN:VEVENT
DTSTART;TZID=Pacific/Auckland:20250204T193000
DTEND;TZID=Pacific/Auckland:20250204T193000
DTSTAMP:20260423T160249
CREATED:20240922T231106Z
LAST-MODIFIED:20240922T231106Z
UID:10001001-1738697400-1738697400@taumarunui.co.nz
SUMMARY:Alcoholics Anonymous
DESCRIPTION:Meeting every Tuesday at the old Bowling Club\, Manunui
URL:https://taumarunui.co.nz/event/alcoholics-anonymous/2025-02-04/
LOCATION:Old Bowling Club\, Valley Road\, Manunui\, 3924\, New Zealand
CATEGORIES:Clubs
GEO:-38.8926094;175.3279306
X-APPLE-STRUCTURED-LOCATION;VALUE=URI;X-ADDRESS=Old Bowling Club Valley Road Manunui 3924 New Zealand;X-APPLE-RADIUS=500;X-TITLE=Valley Road:geo:175.3279306,-38.8926094
END:VEVENT
BEGIN:VEVENT
DTSTART;TZID=Pacific/Auckland:20250128T193000
DTEND;TZID=Pacific/Auckland:20250128T193000
DTSTAMP:20260423T160249
CREATED:20240922T231106Z
LAST-MODIFIED:20240922T231106Z
UID:10001000-1738092600-1738092600@taumarunui.co.nz
SUMMARY:Alcoholics Anonymous
DESCRIPTION:Meeting every Tuesday at the old Bowling Club\, Manunui
URL:https://taumarunui.co.nz/event/alcoholics-anonymous/2025-01-28/
LOCATION:Old Bowling Club\, Valley Road\, Manunui\, 3924\, New Zealand
CATEGORIES:Clubs
GEO:-38.8926094;175.3279306
X-APPLE-STRUCTURED-LOCATION;VALUE=URI;X-ADDRESS=Old Bowling Club Valley Road Manunui 3924 New Zealand;X-APPLE-RADIUS=500;X-TITLE=Valley Road:geo:175.3279306,-38.8926094
END:VEVENT
BEGIN:VEVENT
DTSTART;TZID=Pacific/Auckland:20250121T193000
DTEND;TZID=Pacific/Auckland:20250121T193000
DTSTAMP:20260423T160249
CREATED:20240922T231106Z
LAST-MODIFIED:20240922T231106Z
UID:10000999-1737487800-1737487800@taumarunui.co.nz
SUMMARY:Alcoholics Anonymous
DESCRIPTION:Meeting every Tuesday at the old Bowling Club\, Manunui
URL:https://taumarunui.co.nz/event/alcoholics-anonymous/2025-01-21/
LOCATION:Old Bowling Club\, Valley Road\, Manunui\, 3924\, New Zealand
CATEGORIES:Clubs
GEO:-38.8926094;175.3279306
X-APPLE-STRUCTURED-LOCATION;VALUE=URI;X-ADDRESS=Old Bowling Club Valley Road Manunui 3924 New Zealand;X-APPLE-RADIUS=500;X-TITLE=Valley Road:geo:175.3279306,-38.8926094
END:VEVENT
BEGIN:VEVENT
DTSTART;TZID=Pacific/Auckland:20250114T193000
DTEND;TZID=Pacific/Auckland:20250114T193000
DTSTAMP:20260423T160249
CREATED:20240922T231106Z
LAST-MODIFIED:20240922T231106Z
UID:10000998-1736883000-1736883000@taumarunui.co.nz
SUMMARY:Alcoholics Anonymous
DESCRIPTION:Meeting every Tuesday at the old Bowling Club\, Manunui
URL:https://taumarunui.co.nz/event/alcoholics-anonymous/2025-01-14/
LOCATION:Old Bowling Club\, Valley Road\, Manunui\, 3924\, New Zealand
CATEGORIES:Clubs
GEO:-38.8926094;175.3279306
X-APPLE-STRUCTURED-LOCATION;VALUE=URI;X-ADDRESS=Old Bowling Club Valley Road Manunui 3924 New Zealand;X-APPLE-RADIUS=500;X-TITLE=Valley Road:geo:175.3279306,-38.8926094
END:VEVENT
BEGIN:VEVENT
DTSTART;TZID=Pacific/Auckland:20250107T193000
DTEND;TZID=Pacific/Auckland:20250107T193000
DTSTAMP:20260423T160249
CREATED:20240922T231106Z
LAST-MODIFIED:20240922T231106Z
UID:10000997-1736278200-1736278200@taumarunui.co.nz
SUMMARY:Alcoholics Anonymous
DESCRIPTION:Meeting every Tuesday at the old Bowling Club\, Manunui
URL:https://taumarunui.co.nz/event/alcoholics-anonymous/2025-01-07/
LOCATION:Old Bowling Club\, Valley Road\, Manunui\, 3924\, New Zealand
CATEGORIES:Clubs
GEO:-38.8926094;175.3279306
X-APPLE-STRUCTURED-LOCATION;VALUE=URI;X-ADDRESS=Old Bowling Club Valley Road Manunui 3924 New Zealand;X-APPLE-RADIUS=500;X-TITLE=Valley Road:geo:175.3279306,-38.8926094
END:VEVENT
BEGIN:VEVENT
DTSTART;TZID=Pacific/Auckland:20241231T193000
DTEND;TZID=Pacific/Auckland:20241231T193000
DTSTAMP:20260423T160249
CREATED:20240922T231106Z
LAST-MODIFIED:20240922T231106Z
UID:10000996-1735673400-1735673400@taumarunui.co.nz
SUMMARY:Alcoholics Anonymous
DESCRIPTION:Meeting every Tuesday at the old Bowling Club\, Manunui
URL:https://taumarunui.co.nz/event/alcoholics-anonymous/2024-12-31/
LOCATION:Old Bowling Club\, Valley Road\, Manunui\, 3924\, New Zealand
CATEGORIES:Clubs
GEO:-38.8926094;175.3279306
X-APPLE-STRUCTURED-LOCATION;VALUE=URI;X-ADDRESS=Old Bowling Club Valley Road Manunui 3924 New Zealand;X-APPLE-RADIUS=500;X-TITLE=Valley Road:geo:175.3279306,-38.8926094
END:VEVENT
BEGIN:VEVENT
DTSTART;TZID=Pacific/Auckland:20241224T193000
DTEND;TZID=Pacific/Auckland:20241224T193000
DTSTAMP:20260423T160249
CREATED:20240922T231106Z
LAST-MODIFIED:20240922T231106Z
UID:10000995-1735068600-1735068600@taumarunui.co.nz
SUMMARY:Alcoholics Anonymous
DESCRIPTION:Meeting every Tuesday at the old Bowling Club\, Manunui
URL:https://taumarunui.co.nz/event/alcoholics-anonymous/2024-12-24/
LOCATION:Old Bowling Club\, Valley Road\, Manunui\, 3924\, New Zealand
CATEGORIES:Clubs
GEO:-38.8926094;175.3279306
X-APPLE-STRUCTURED-LOCATION;VALUE=URI;X-ADDRESS=Old Bowling Club Valley Road Manunui 3924 New Zealand;X-APPLE-RADIUS=500;X-TITLE=Valley Road:geo:175.3279306,-38.8926094
END:VEVENT
BEGIN:VEVENT
DTSTART;TZID=Pacific/Auckland:20241217T193000
DTEND;TZID=Pacific/Auckland:20241217T193000
DTSTAMP:20260423T160249
CREATED:20240922T231106Z
LAST-MODIFIED:20240922T231106Z
UID:10000994-1734463800-1734463800@taumarunui.co.nz
SUMMARY:Alcoholics Anonymous
DESCRIPTION:Meeting every Tuesday at the old Bowling Club\, Manunui
URL:https://taumarunui.co.nz/event/alcoholics-anonymous/2024-12-17/
LOCATION:Old Bowling Club\, Valley Road\, Manunui\, 3924\, New Zealand
CATEGORIES:Clubs
GEO:-38.8926094;175.3279306
X-APPLE-STRUCTURED-LOCATION;VALUE=URI;X-ADDRESS=Old Bowling Club Valley Road Manunui 3924 New Zealand;X-APPLE-RADIUS=500;X-TITLE=Valley Road:geo:175.3279306,-38.8926094
END:VEVENT
BEGIN:VEVENT
DTSTART;TZID=Pacific/Auckland:20241210T193000
DTEND;TZID=Pacific/Auckland:20241210T193000
DTSTAMP:20260423T160249
CREATED:20240922T231106Z
LAST-MODIFIED:20240922T231106Z
UID:10000993-1733859000-1733859000@taumarunui.co.nz
SUMMARY:Alcoholics Anonymous
DESCRIPTION:Meeting every Tuesday at the old Bowling Club\, Manunui
URL:https://taumarunui.co.nz/event/alcoholics-anonymous/2024-12-10/
LOCATION:Old Bowling Club\, Valley Road\, Manunui\, 3924\, New Zealand
CATEGORIES:Clubs
GEO:-38.8926094;175.3279306
X-APPLE-STRUCTURED-LOCATION;VALUE=URI;X-ADDRESS=Old Bowling Club Valley Road Manunui 3924 New Zealand;X-APPLE-RADIUS=500;X-TITLE=Valley Road:geo:175.3279306,-38.8926094
END:VEVENT
BEGIN:VEVENT
DTSTART;TZID=Pacific/Auckland:20241203T193000
DTEND;TZID=Pacific/Auckland:20241203T193000
DTSTAMP:20260423T160249
CREATED:20240922T231106Z
LAST-MODIFIED:20240922T231106Z
UID:10000992-1733254200-1733254200@taumarunui.co.nz
SUMMARY:Alcoholics Anonymous
DESCRIPTION:Meeting every Tuesday at the old Bowling Club\, Manunui
URL:https://taumarunui.co.nz/event/alcoholics-anonymous/2024-12-03/
LOCATION:Old Bowling Club\, Valley Road\, Manunui\, 3924\, New Zealand
CATEGORIES:Clubs
GEO:-38.8926094;175.3279306
X-APPLE-STRUCTURED-LOCATION;VALUE=URI;X-ADDRESS=Old Bowling Club Valley Road Manunui 3924 New Zealand;X-APPLE-RADIUS=500;X-TITLE=Valley Road:geo:175.3279306,-38.8926094
END:VEVENT
BEGIN:VEVENT
DTSTART;TZID=Pacific/Auckland:20241126T193000
DTEND;TZID=Pacific/Auckland:20241126T193000
DTSTAMP:20260423T160249
CREATED:20240922T231106Z
LAST-MODIFIED:20240922T231106Z
UID:10000991-1732649400-1732649400@taumarunui.co.nz
SUMMARY:Alcoholics Anonymous
DESCRIPTION:Meeting every Tuesday at the old Bowling Club\, Manunui
URL:https://taumarunui.co.nz/event/alcoholics-anonymous/2024-11-26/
LOCATION:Old Bowling Club\, Valley Road\, Manunui\, 3924\, New Zealand
CATEGORIES:Clubs
GEO:-38.8926094;175.3279306
X-APPLE-STRUCTURED-LOCATION;VALUE=URI;X-ADDRESS=Old Bowling Club Valley Road Manunui 3924 New Zealand;X-APPLE-RADIUS=500;X-TITLE=Valley Road:geo:175.3279306,-38.8926094
END:VEVENT
BEGIN:VEVENT
DTSTART;TZID=Pacific/Auckland:20241119T193000
DTEND;TZID=Pacific/Auckland:20241119T193000
DTSTAMP:20260423T160249
CREATED:20240922T231106Z
LAST-MODIFIED:20240922T231106Z
UID:10000990-1732044600-1732044600@taumarunui.co.nz
SUMMARY:Alcoholics Anonymous
DESCRIPTION:Meeting every Tuesday at the old Bowling Club\, Manunui
URL:https://taumarunui.co.nz/event/alcoholics-anonymous/2024-11-19/
LOCATION:Old Bowling Club\, Valley Road\, Manunui\, 3924\, New Zealand
CATEGORIES:Clubs
GEO:-38.8926094;175.3279306
X-APPLE-STRUCTURED-LOCATION;VALUE=URI;X-ADDRESS=Old Bowling Club Valley Road Manunui 3924 New Zealand;X-APPLE-RADIUS=500;X-TITLE=Valley Road:geo:175.3279306,-38.8926094
END:VEVENT
BEGIN:VEVENT
DTSTART;TZID=Pacific/Auckland:20241112T193000
DTEND;TZID=Pacific/Auckland:20241112T193000
DTSTAMP:20260423T160249
CREATED:20240922T231106Z
LAST-MODIFIED:20240922T231106Z
UID:10000989-1731439800-1731439800@taumarunui.co.nz
SUMMARY:Alcoholics Anonymous
DESCRIPTION:Meeting every Tuesday at the old Bowling Club\, Manunui
URL:https://taumarunui.co.nz/event/alcoholics-anonymous/2024-11-12/
LOCATION:Old Bowling Club\, Valley Road\, Manunui\, 3924\, New Zealand
CATEGORIES:Clubs
GEO:-38.8926094;175.3279306
X-APPLE-STRUCTURED-LOCATION;VALUE=URI;X-ADDRESS=Old Bowling Club Valley Road Manunui 3924 New Zealand;X-APPLE-RADIUS=500;X-TITLE=Valley Road:geo:175.3279306,-38.8926094
END:VEVENT
BEGIN:VEVENT
DTSTART;TZID=Pacific/Auckland:20241105T193000
DTEND;TZID=Pacific/Auckland:20241105T193000
DTSTAMP:20260423T160249
CREATED:20240922T231106Z
LAST-MODIFIED:20240922T231106Z
UID:10000988-1730835000-1730835000@taumarunui.co.nz
SUMMARY:Alcoholics Anonymous
DESCRIPTION:Meeting every Tuesday at the old Bowling Club\, Manunui
URL:https://taumarunui.co.nz/event/alcoholics-anonymous/2024-11-05/
LOCATION:Old Bowling Club\, Valley Road\, Manunui\, 3924\, New Zealand
CATEGORIES:Clubs
GEO:-38.8926094;175.3279306
X-APPLE-STRUCTURED-LOCATION;VALUE=URI;X-ADDRESS=Old Bowling Club Valley Road Manunui 3924 New Zealand;X-APPLE-RADIUS=500;X-TITLE=Valley Road:geo:175.3279306,-38.8926094
END:VEVENT
BEGIN:VEVENT
DTSTART;TZID=Pacific/Auckland:20241029T193000
DTEND;TZID=Pacific/Auckland:20241029T193000
DTSTAMP:20260423T160249
CREATED:20240922T231106Z
LAST-MODIFIED:20240922T231106Z
UID:10000987-1730230200-1730230200@taumarunui.co.nz
SUMMARY:Alcoholics Anonymous
DESCRIPTION:Meeting every Tuesday at the old Bowling Club\, Manunui
URL:https://taumarunui.co.nz/event/alcoholics-anonymous/2024-10-29/
LOCATION:Old Bowling Club\, Valley Road\, Manunui\, 3924\, New Zealand
CATEGORIES:Clubs
GEO:-38.8926094;175.3279306
X-APPLE-STRUCTURED-LOCATION;VALUE=URI;X-ADDRESS=Old Bowling Club Valley Road Manunui 3924 New Zealand;X-APPLE-RADIUS=500;X-TITLE=Valley Road:geo:175.3279306,-38.8926094
END:VEVENT
END:VCALENDAR