BEGIN:VCALENDAR
VERSION:2.0
PRODID:-//Taumarunui - ECPv6.15.20//NONSGML v1.0//EN
CALSCALE:GREGORIAN
METHOD:PUBLISH
X-WR-CALNAME:Taumarunui
X-ORIGINAL-URL:https://taumarunui.co.nz
X-WR-CALDESC:Events for Taumarunui
REFRESH-INTERVAL;VALUE=DURATION:PT1H
X-Robots-Tag:noindex
X-PUBLISHED-TTL:PT1H
BEGIN:VTIMEZONE
TZID:Pacific/Auckland
BEGIN:STANDARD
TZOFFSETFROM:+1300
TZOFFSETTO:+1200
TZNAME:NZST
DTSTART:20250405T140000
END:STANDARD
BEGIN:DAYLIGHT
TZOFFSETFROM:+1200
TZOFFSETTO:+1300
TZNAME:NZDT
DTSTART:20250927T140000
END:DAYLIGHT
BEGIN:STANDARD
TZOFFSETFROM:+1300
TZOFFSETTO:+1200
TZNAME:NZST
DTSTART:20260404T140000
END:STANDARD
BEGIN:DAYLIGHT
TZOFFSETFROM:+1200
TZOFFSETTO:+1300
TZNAME:NZDT
DTSTART:20260926T140000
END:DAYLIGHT
BEGIN:STANDARD
TZOFFSETFROM:+1300
TZOFFSETTO:+1200
TZNAME:NZST
DTSTART:20270403T140000
END:STANDARD
BEGIN:DAYLIGHT
TZOFFSETFROM:+1200
TZOFFSETTO:+1300
TZNAME:NZDT
DTSTART:20270925T140000
END:DAYLIGHT
BEGIN:STANDARD
TZOFFSETFROM:+1300
TZOFFSETTO:+1200
TZNAME:NZST
DTSTART:20280401T140000
END:STANDARD
BEGIN:DAYLIGHT
TZOFFSETFROM:+1200
TZOFFSETTO:+1300
TZNAME:NZDT
DTSTART:20280923T140000
END:DAYLIGHT
END:VTIMEZONE
BEGIN:VEVENT
DTSTART;TZID=Pacific/Auckland:20261013T193000
DTEND;TZID=Pacific/Auckland:20261013T193000
DTSTAMP:20260423T134001
CREATED:20240922T231106Z
LAST-MODIFIED:20240922T231106Z
UID:10001089-1791919800-1791919800@taumarunui.co.nz
SUMMARY:Alcoholics Anonymous
DESCRIPTION:Meeting every Tuesday at the old Bowling Club\, Manunui
URL:https://taumarunui.co.nz/event/alcoholics-anonymous/2026-10-13/
LOCATION:Old Bowling Club\, Valley Road\, Manunui\, 3924\, New Zealand
CATEGORIES:Clubs
GEO:-38.8926094;175.3279306
X-APPLE-STRUCTURED-LOCATION;VALUE=URI;X-ADDRESS=Old Bowling Club Valley Road Manunui 3924 New Zealand;X-APPLE-RADIUS=500;X-TITLE=Valley Road:geo:175.3279306,-38.8926094
END:VEVENT
BEGIN:VEVENT
DTSTART;TZID=Pacific/Auckland:20261020T193000
DTEND;TZID=Pacific/Auckland:20261020T193000
DTSTAMP:20260423T134001
CREATED:20240922T231106Z
LAST-MODIFIED:20240922T231106Z
UID:10001090-1792524600-1792524600@taumarunui.co.nz
SUMMARY:Alcoholics Anonymous
DESCRIPTION:Meeting every Tuesday at the old Bowling Club\, Manunui
URL:https://taumarunui.co.nz/event/alcoholics-anonymous/2026-10-20/
LOCATION:Old Bowling Club\, Valley Road\, Manunui\, 3924\, New Zealand
CATEGORIES:Clubs
GEO:-38.8926094;175.3279306
X-APPLE-STRUCTURED-LOCATION;VALUE=URI;X-ADDRESS=Old Bowling Club Valley Road Manunui 3924 New Zealand;X-APPLE-RADIUS=500;X-TITLE=Valley Road:geo:175.3279306,-38.8926094
END:VEVENT
BEGIN:VEVENT
DTSTART;TZID=Pacific/Auckland:20261027T193000
DTEND;TZID=Pacific/Auckland:20261027T193000
DTSTAMP:20260423T134001
CREATED:20240922T231106Z
LAST-MODIFIED:20240922T231106Z
UID:10001091-1793129400-1793129400@taumarunui.co.nz
SUMMARY:Alcoholics Anonymous
DESCRIPTION:Meeting every Tuesday at the old Bowling Club\, Manunui
URL:https://taumarunui.co.nz/event/alcoholics-anonymous/2026-10-27/
LOCATION:Old Bowling Club\, Valley Road\, Manunui\, 3924\, New Zealand
CATEGORIES:Clubs
GEO:-38.8926094;175.3279306
X-APPLE-STRUCTURED-LOCATION;VALUE=URI;X-ADDRESS=Old Bowling Club Valley Road Manunui 3924 New Zealand;X-APPLE-RADIUS=500;X-TITLE=Valley Road:geo:175.3279306,-38.8926094
END:VEVENT
BEGIN:VEVENT
DTSTART;TZID=Pacific/Auckland:20261103T193000
DTEND;TZID=Pacific/Auckland:20261103T193000
DTSTAMP:20260423T134001
CREATED:20240922T231106Z
LAST-MODIFIED:20240922T231106Z
UID:10001092-1793734200-1793734200@taumarunui.co.nz
SUMMARY:Alcoholics Anonymous
DESCRIPTION:Meeting every Tuesday at the old Bowling Club\, Manunui
URL:https://taumarunui.co.nz/event/alcoholics-anonymous/2026-11-03/
LOCATION:Old Bowling Club\, Valley Road\, Manunui\, 3924\, New Zealand
CATEGORIES:Clubs
GEO:-38.8926094;175.3279306
X-APPLE-STRUCTURED-LOCATION;VALUE=URI;X-ADDRESS=Old Bowling Club Valley Road Manunui 3924 New Zealand;X-APPLE-RADIUS=500;X-TITLE=Valley Road:geo:175.3279306,-38.8926094
END:VEVENT
BEGIN:VEVENT
DTSTART;TZID=Pacific/Auckland:20261110T193000
DTEND;TZID=Pacific/Auckland:20261110T193000
DTSTAMP:20260423T134001
CREATED:20240922T231106Z
LAST-MODIFIED:20240922T231106Z
UID:10001093-1794339000-1794339000@taumarunui.co.nz
SUMMARY:Alcoholics Anonymous
DESCRIPTION:Meeting every Tuesday at the old Bowling Club\, Manunui
URL:https://taumarunui.co.nz/event/alcoholics-anonymous/2026-11-10/
LOCATION:Old Bowling Club\, Valley Road\, Manunui\, 3924\, New Zealand
CATEGORIES:Clubs
GEO:-38.8926094;175.3279306
X-APPLE-STRUCTURED-LOCATION;VALUE=URI;X-ADDRESS=Old Bowling Club Valley Road Manunui 3924 New Zealand;X-APPLE-RADIUS=500;X-TITLE=Valley Road:geo:175.3279306,-38.8926094
END:VEVENT
BEGIN:VEVENT
DTSTART;TZID=Pacific/Auckland:20261117T193000
DTEND;TZID=Pacific/Auckland:20261117T193000
DTSTAMP:20260423T134001
CREATED:20240922T231106Z
LAST-MODIFIED:20240922T231106Z
UID:10001094-1794943800-1794943800@taumarunui.co.nz
SUMMARY:Alcoholics Anonymous
DESCRIPTION:Meeting every Tuesday at the old Bowling Club\, Manunui
URL:https://taumarunui.co.nz/event/alcoholics-anonymous/2026-11-17/
LOCATION:Old Bowling Club\, Valley Road\, Manunui\, 3924\, New Zealand
CATEGORIES:Clubs
GEO:-38.8926094;175.3279306
X-APPLE-STRUCTURED-LOCATION;VALUE=URI;X-ADDRESS=Old Bowling Club Valley Road Manunui 3924 New Zealand;X-APPLE-RADIUS=500;X-TITLE=Valley Road:geo:175.3279306,-38.8926094
END:VEVENT
BEGIN:VEVENT
DTSTART;TZID=Pacific/Auckland:20261124T193000
DTEND;TZID=Pacific/Auckland:20261124T193000
DTSTAMP:20260423T134001
CREATED:20240922T231106Z
LAST-MODIFIED:20240922T231106Z
UID:10001095-1795548600-1795548600@taumarunui.co.nz
SUMMARY:Alcoholics Anonymous
DESCRIPTION:Meeting every Tuesday at the old Bowling Club\, Manunui
URL:https://taumarunui.co.nz/event/alcoholics-anonymous/2026-11-24/
LOCATION:Old Bowling Club\, Valley Road\, Manunui\, 3924\, New Zealand
CATEGORIES:Clubs
GEO:-38.8926094;175.3279306
X-APPLE-STRUCTURED-LOCATION;VALUE=URI;X-ADDRESS=Old Bowling Club Valley Road Manunui 3924 New Zealand;X-APPLE-RADIUS=500;X-TITLE=Valley Road:geo:175.3279306,-38.8926094
END:VEVENT
BEGIN:VEVENT
DTSTART;TZID=Pacific/Auckland:20261201T193000
DTEND;TZID=Pacific/Auckland:20261201T193000
DTSTAMP:20260423T134001
CREATED:20240922T231106Z
LAST-MODIFIED:20240922T231106Z
UID:10001096-1796153400-1796153400@taumarunui.co.nz
SUMMARY:Alcoholics Anonymous
DESCRIPTION:Meeting every Tuesday at the old Bowling Club\, Manunui
URL:https://taumarunui.co.nz/event/alcoholics-anonymous/2026-12-01/
LOCATION:Old Bowling Club\, Valley Road\, Manunui\, 3924\, New Zealand
CATEGORIES:Clubs
GEO:-38.8926094;175.3279306
X-APPLE-STRUCTURED-LOCATION;VALUE=URI;X-ADDRESS=Old Bowling Club Valley Road Manunui 3924 New Zealand;X-APPLE-RADIUS=500;X-TITLE=Valley Road:geo:175.3279306,-38.8926094
END:VEVENT
BEGIN:VEVENT
DTSTART;TZID=Pacific/Auckland:20261208T193000
DTEND;TZID=Pacific/Auckland:20261208T193000
DTSTAMP:20260423T134001
CREATED:20240922T231106Z
LAST-MODIFIED:20240922T231106Z
UID:10001097-1796758200-1796758200@taumarunui.co.nz
SUMMARY:Alcoholics Anonymous
DESCRIPTION:Meeting every Tuesday at the old Bowling Club\, Manunui
URL:https://taumarunui.co.nz/event/alcoholics-anonymous/2026-12-08/
LOCATION:Old Bowling Club\, Valley Road\, Manunui\, 3924\, New Zealand
CATEGORIES:Clubs
GEO:-38.8926094;175.3279306
X-APPLE-STRUCTURED-LOCATION;VALUE=URI;X-ADDRESS=Old Bowling Club Valley Road Manunui 3924 New Zealand;X-APPLE-RADIUS=500;X-TITLE=Valley Road:geo:175.3279306,-38.8926094
END:VEVENT
BEGIN:VEVENT
DTSTART;TZID=Pacific/Auckland:20261215T193000
DTEND;TZID=Pacific/Auckland:20261215T193000
DTSTAMP:20260423T134001
CREATED:20240922T231106Z
LAST-MODIFIED:20240922T231106Z
UID:10001098-1797363000-1797363000@taumarunui.co.nz
SUMMARY:Alcoholics Anonymous
DESCRIPTION:Meeting every Tuesday at the old Bowling Club\, Manunui
URL:https://taumarunui.co.nz/event/alcoholics-anonymous/2026-12-15/
LOCATION:Old Bowling Club\, Valley Road\, Manunui\, 3924\, New Zealand
CATEGORIES:Clubs
GEO:-38.8926094;175.3279306
X-APPLE-STRUCTURED-LOCATION;VALUE=URI;X-ADDRESS=Old Bowling Club Valley Road Manunui 3924 New Zealand;X-APPLE-RADIUS=500;X-TITLE=Valley Road:geo:175.3279306,-38.8926094
END:VEVENT
BEGIN:VEVENT
DTSTART;TZID=Pacific/Auckland:20261222T193000
DTEND;TZID=Pacific/Auckland:20261222T193000
DTSTAMP:20260423T134001
CREATED:20240922T231106Z
LAST-MODIFIED:20240922T231106Z
UID:10001099-1797967800-1797967800@taumarunui.co.nz
SUMMARY:Alcoholics Anonymous
DESCRIPTION:Meeting every Tuesday at the old Bowling Club\, Manunui
URL:https://taumarunui.co.nz/event/alcoholics-anonymous/2026-12-22/
LOCATION:Old Bowling Club\, Valley Road\, Manunui\, 3924\, New Zealand
CATEGORIES:Clubs
GEO:-38.8926094;175.3279306
X-APPLE-STRUCTURED-LOCATION;VALUE=URI;X-ADDRESS=Old Bowling Club Valley Road Manunui 3924 New Zealand;X-APPLE-RADIUS=500;X-TITLE=Valley Road:geo:175.3279306,-38.8926094
END:VEVENT
BEGIN:VEVENT
DTSTART;TZID=Pacific/Auckland:20261229T193000
DTEND;TZID=Pacific/Auckland:20261229T193000
DTSTAMP:20260423T134001
CREATED:20240922T231106Z
LAST-MODIFIED:20240922T231106Z
UID:10001100-1798572600-1798572600@taumarunui.co.nz
SUMMARY:Alcoholics Anonymous
DESCRIPTION:Meeting every Tuesday at the old Bowling Club\, Manunui
URL:https://taumarunui.co.nz/event/alcoholics-anonymous/2026-12-29/
LOCATION:Old Bowling Club\, Valley Road\, Manunui\, 3924\, New Zealand
CATEGORIES:Clubs
GEO:-38.8926094;175.3279306
X-APPLE-STRUCTURED-LOCATION;VALUE=URI;X-ADDRESS=Old Bowling Club Valley Road Manunui 3924 New Zealand;X-APPLE-RADIUS=500;X-TITLE=Valley Road:geo:175.3279306,-38.8926094
END:VEVENT
BEGIN:VEVENT
DTSTART;TZID=Pacific/Auckland:20270105T193000
DTEND;TZID=Pacific/Auckland:20270105T193000
DTSTAMP:20260423T134001
CREATED:20240922T231106Z
LAST-MODIFIED:20240922T231106Z
UID:10001101-1799177400-1799177400@taumarunui.co.nz
SUMMARY:Alcoholics Anonymous
DESCRIPTION:Meeting every Tuesday at the old Bowling Club\, Manunui
URL:https://taumarunui.co.nz/event/alcoholics-anonymous/2027-01-05/
LOCATION:Old Bowling Club\, Valley Road\, Manunui\, 3924\, New Zealand
CATEGORIES:Clubs
GEO:-38.8926094;175.3279306
X-APPLE-STRUCTURED-LOCATION;VALUE=URI;X-ADDRESS=Old Bowling Club Valley Road Manunui 3924 New Zealand;X-APPLE-RADIUS=500;X-TITLE=Valley Road:geo:175.3279306,-38.8926094
END:VEVENT
BEGIN:VEVENT
DTSTART;TZID=Pacific/Auckland:20270112T193000
DTEND;TZID=Pacific/Auckland:20270112T193000
DTSTAMP:20260423T134001
CREATED:20240922T231106Z
LAST-MODIFIED:20240922T231106Z
UID:10001102-1799782200-1799782200@taumarunui.co.nz
SUMMARY:Alcoholics Anonymous
DESCRIPTION:Meeting every Tuesday at the old Bowling Club\, Manunui
URL:https://taumarunui.co.nz/event/alcoholics-anonymous/2027-01-12/
LOCATION:Old Bowling Club\, Valley Road\, Manunui\, 3924\, New Zealand
CATEGORIES:Clubs
GEO:-38.8926094;175.3279306
X-APPLE-STRUCTURED-LOCATION;VALUE=URI;X-ADDRESS=Old Bowling Club Valley Road Manunui 3924 New Zealand;X-APPLE-RADIUS=500;X-TITLE=Valley Road:geo:175.3279306,-38.8926094
END:VEVENT
BEGIN:VEVENT
DTSTART;TZID=Pacific/Auckland:20270119T193000
DTEND;TZID=Pacific/Auckland:20270119T193000
DTSTAMP:20260423T134001
CREATED:20240922T231106Z
LAST-MODIFIED:20240922T231106Z
UID:10001103-1800387000-1800387000@taumarunui.co.nz
SUMMARY:Alcoholics Anonymous
DESCRIPTION:Meeting every Tuesday at the old Bowling Club\, Manunui
URL:https://taumarunui.co.nz/event/alcoholics-anonymous/2027-01-19/
LOCATION:Old Bowling Club\, Valley Road\, Manunui\, 3924\, New Zealand
CATEGORIES:Clubs
GEO:-38.8926094;175.3279306
X-APPLE-STRUCTURED-LOCATION;VALUE=URI;X-ADDRESS=Old Bowling Club Valley Road Manunui 3924 New Zealand;X-APPLE-RADIUS=500;X-TITLE=Valley Road:geo:175.3279306,-38.8926094
END:VEVENT
BEGIN:VEVENT
DTSTART;TZID=Pacific/Auckland:20270126T193000
DTEND;TZID=Pacific/Auckland:20270126T193000
DTSTAMP:20260423T134001
CREATED:20240922T231106Z
LAST-MODIFIED:20240922T231106Z
UID:10001104-1800991800-1800991800@taumarunui.co.nz
SUMMARY:Alcoholics Anonymous
DESCRIPTION:Meeting every Tuesday at the old Bowling Club\, Manunui
URL:https://taumarunui.co.nz/event/alcoholics-anonymous/2027-01-26/
LOCATION:Old Bowling Club\, Valley Road\, Manunui\, 3924\, New Zealand
CATEGORIES:Clubs
GEO:-38.8926094;175.3279306
X-APPLE-STRUCTURED-LOCATION;VALUE=URI;X-ADDRESS=Old Bowling Club Valley Road Manunui 3924 New Zealand;X-APPLE-RADIUS=500;X-TITLE=Valley Road:geo:175.3279306,-38.8926094
END:VEVENT
BEGIN:VEVENT
DTSTART;TZID=Pacific/Auckland:20270202T193000
DTEND;TZID=Pacific/Auckland:20270202T193000
DTSTAMP:20260423T134001
CREATED:20240922T231106Z
LAST-MODIFIED:20240922T231106Z
UID:10001105-1801596600-1801596600@taumarunui.co.nz
SUMMARY:Alcoholics Anonymous
DESCRIPTION:Meeting every Tuesday at the old Bowling Club\, Manunui
URL:https://taumarunui.co.nz/event/alcoholics-anonymous/2027-02-02/
LOCATION:Old Bowling Club\, Valley Road\, Manunui\, 3924\, New Zealand
CATEGORIES:Clubs
GEO:-38.8926094;175.3279306
X-APPLE-STRUCTURED-LOCATION;VALUE=URI;X-ADDRESS=Old Bowling Club Valley Road Manunui 3924 New Zealand;X-APPLE-RADIUS=500;X-TITLE=Valley Road:geo:175.3279306,-38.8926094
END:VEVENT
BEGIN:VEVENT
DTSTART;TZID=Pacific/Auckland:20270209T193000
DTEND;TZID=Pacific/Auckland:20270209T193000
DTSTAMP:20260423T134001
CREATED:20240922T231106Z
LAST-MODIFIED:20240922T231106Z
UID:10001106-1802201400-1802201400@taumarunui.co.nz
SUMMARY:Alcoholics Anonymous
DESCRIPTION:Meeting every Tuesday at the old Bowling Club\, Manunui
URL:https://taumarunui.co.nz/event/alcoholics-anonymous/2027-02-09/
LOCATION:Old Bowling Club\, Valley Road\, Manunui\, 3924\, New Zealand
CATEGORIES:Clubs
GEO:-38.8926094;175.3279306
X-APPLE-STRUCTURED-LOCATION;VALUE=URI;X-ADDRESS=Old Bowling Club Valley Road Manunui 3924 New Zealand;X-APPLE-RADIUS=500;X-TITLE=Valley Road:geo:175.3279306,-38.8926094
END:VEVENT
BEGIN:VEVENT
DTSTART;TZID=Pacific/Auckland:20270216T193000
DTEND;TZID=Pacific/Auckland:20270216T193000
DTSTAMP:20260423T134001
CREATED:20240922T231106Z
LAST-MODIFIED:20240922T231106Z
UID:10001107-1802806200-1802806200@taumarunui.co.nz
SUMMARY:Alcoholics Anonymous
DESCRIPTION:Meeting every Tuesday at the old Bowling Club\, Manunui
URL:https://taumarunui.co.nz/event/alcoholics-anonymous/2027-02-16/
LOCATION:Old Bowling Club\, Valley Road\, Manunui\, 3924\, New Zealand
CATEGORIES:Clubs
GEO:-38.8926094;175.3279306
X-APPLE-STRUCTURED-LOCATION;VALUE=URI;X-ADDRESS=Old Bowling Club Valley Road Manunui 3924 New Zealand;X-APPLE-RADIUS=500;X-TITLE=Valley Road:geo:175.3279306,-38.8926094
END:VEVENT
BEGIN:VEVENT
DTSTART;TZID=Pacific/Auckland:20270223T193000
DTEND;TZID=Pacific/Auckland:20270223T193000
DTSTAMP:20260423T134001
CREATED:20240922T231106Z
LAST-MODIFIED:20240922T231106Z
UID:10001108-1803411000-1803411000@taumarunui.co.nz
SUMMARY:Alcoholics Anonymous
DESCRIPTION:Meeting every Tuesday at the old Bowling Club\, Manunui
URL:https://taumarunui.co.nz/event/alcoholics-anonymous/2027-02-23/
LOCATION:Old Bowling Club\, Valley Road\, Manunui\, 3924\, New Zealand
CATEGORIES:Clubs
GEO:-38.8926094;175.3279306
X-APPLE-STRUCTURED-LOCATION;VALUE=URI;X-ADDRESS=Old Bowling Club Valley Road Manunui 3924 New Zealand;X-APPLE-RADIUS=500;X-TITLE=Valley Road:geo:175.3279306,-38.8926094
END:VEVENT
BEGIN:VEVENT
DTSTART;TZID=Pacific/Auckland:20270302T193000
DTEND;TZID=Pacific/Auckland:20270302T193000
DTSTAMP:20260423T134001
CREATED:20240922T231106Z
LAST-MODIFIED:20240922T231106Z
UID:10001109-1804015800-1804015800@taumarunui.co.nz
SUMMARY:Alcoholics Anonymous
DESCRIPTION:Meeting every Tuesday at the old Bowling Club\, Manunui
URL:https://taumarunui.co.nz/event/alcoholics-anonymous/2027-03-02/
LOCATION:Old Bowling Club\, Valley Road\, Manunui\, 3924\, New Zealand
CATEGORIES:Clubs
GEO:-38.8926094;175.3279306
X-APPLE-STRUCTURED-LOCATION;VALUE=URI;X-ADDRESS=Old Bowling Club Valley Road Manunui 3924 New Zealand;X-APPLE-RADIUS=500;X-TITLE=Valley Road:geo:175.3279306,-38.8926094
END:VEVENT
BEGIN:VEVENT
DTSTART;TZID=Pacific/Auckland:20270309T193000
DTEND;TZID=Pacific/Auckland:20270309T193000
DTSTAMP:20260423T134001
CREATED:20240922T231106Z
LAST-MODIFIED:20240922T231106Z
UID:10001110-1804620600-1804620600@taumarunui.co.nz
SUMMARY:Alcoholics Anonymous
DESCRIPTION:Meeting every Tuesday at the old Bowling Club\, Manunui
URL:https://taumarunui.co.nz/event/alcoholics-anonymous/2027-03-09/
LOCATION:Old Bowling Club\, Valley Road\, Manunui\, 3924\, New Zealand
CATEGORIES:Clubs
GEO:-38.8926094;175.3279306
X-APPLE-STRUCTURED-LOCATION;VALUE=URI;X-ADDRESS=Old Bowling Club Valley Road Manunui 3924 New Zealand;X-APPLE-RADIUS=500;X-TITLE=Valley Road:geo:175.3279306,-38.8926094
END:VEVENT
BEGIN:VEVENT
DTSTART;TZID=Pacific/Auckland:20270316T193000
DTEND;TZID=Pacific/Auckland:20270316T193000
DTSTAMP:20260423T134001
CREATED:20240922T231106Z
LAST-MODIFIED:20240922T231106Z
UID:10001111-1805225400-1805225400@taumarunui.co.nz
SUMMARY:Alcoholics Anonymous
DESCRIPTION:Meeting every Tuesday at the old Bowling Club\, Manunui
URL:https://taumarunui.co.nz/event/alcoholics-anonymous/2027-03-16/
LOCATION:Old Bowling Club\, Valley Road\, Manunui\, 3924\, New Zealand
CATEGORIES:Clubs
GEO:-38.8926094;175.3279306
X-APPLE-STRUCTURED-LOCATION;VALUE=URI;X-ADDRESS=Old Bowling Club Valley Road Manunui 3924 New Zealand;X-APPLE-RADIUS=500;X-TITLE=Valley Road:geo:175.3279306,-38.8926094
END:VEVENT
BEGIN:VEVENT
DTSTART;TZID=Pacific/Auckland:20270323T193000
DTEND;TZID=Pacific/Auckland:20270323T193000
DTSTAMP:20260423T134001
CREATED:20240922T231106Z
LAST-MODIFIED:20240922T231106Z
UID:10001112-1805830200-1805830200@taumarunui.co.nz
SUMMARY:Alcoholics Anonymous
DESCRIPTION:Meeting every Tuesday at the old Bowling Club\, Manunui
URL:https://taumarunui.co.nz/event/alcoholics-anonymous/2027-03-23/
LOCATION:Old Bowling Club\, Valley Road\, Manunui\, 3924\, New Zealand
CATEGORIES:Clubs
GEO:-38.8926094;175.3279306
X-APPLE-STRUCTURED-LOCATION;VALUE=URI;X-ADDRESS=Old Bowling Club Valley Road Manunui 3924 New Zealand;X-APPLE-RADIUS=500;X-TITLE=Valley Road:geo:175.3279306,-38.8926094
END:VEVENT
BEGIN:VEVENT
DTSTART;TZID=Pacific/Auckland:20270330T193000
DTEND;TZID=Pacific/Auckland:20270330T193000
DTSTAMP:20260423T134001
CREATED:20240922T231106Z
LAST-MODIFIED:20240922T231106Z
UID:10001113-1806435000-1806435000@taumarunui.co.nz
SUMMARY:Alcoholics Anonymous
DESCRIPTION:Meeting every Tuesday at the old Bowling Club\, Manunui
URL:https://taumarunui.co.nz/event/alcoholics-anonymous/2027-03-30/
LOCATION:Old Bowling Club\, Valley Road\, Manunui\, 3924\, New Zealand
CATEGORIES:Clubs
GEO:-38.8926094;175.3279306
X-APPLE-STRUCTURED-LOCATION;VALUE=URI;X-ADDRESS=Old Bowling Club Valley Road Manunui 3924 New Zealand;X-APPLE-RADIUS=500;X-TITLE=Valley Road:geo:175.3279306,-38.8926094
END:VEVENT
BEGIN:VEVENT
DTSTART;TZID=Pacific/Auckland:20270406T193000
DTEND;TZID=Pacific/Auckland:20270406T193000
DTSTAMP:20260423T134001
CREATED:20240922T231106Z
LAST-MODIFIED:20240922T231106Z
UID:10001114-1807039800-1807039800@taumarunui.co.nz
SUMMARY:Alcoholics Anonymous
DESCRIPTION:Meeting every Tuesday at the old Bowling Club\, Manunui
URL:https://taumarunui.co.nz/event/alcoholics-anonymous/2027-04-06/
LOCATION:Old Bowling Club\, Valley Road\, Manunui\, 3924\, New Zealand
CATEGORIES:Clubs
GEO:-38.8926094;175.3279306
X-APPLE-STRUCTURED-LOCATION;VALUE=URI;X-ADDRESS=Old Bowling Club Valley Road Manunui 3924 New Zealand;X-APPLE-RADIUS=500;X-TITLE=Valley Road:geo:175.3279306,-38.8926094
END:VEVENT
BEGIN:VEVENT
DTSTART;TZID=Pacific/Auckland:20270413T193000
DTEND;TZID=Pacific/Auckland:20270413T193000
DTSTAMP:20260423T134001
CREATED:20240922T231106Z
LAST-MODIFIED:20240922T231106Z
UID:10001115-1807644600-1807644600@taumarunui.co.nz
SUMMARY:Alcoholics Anonymous
DESCRIPTION:Meeting every Tuesday at the old Bowling Club\, Manunui
URL:https://taumarunui.co.nz/event/alcoholics-anonymous/2027-04-13/
LOCATION:Old Bowling Club\, Valley Road\, Manunui\, 3924\, New Zealand
CATEGORIES:Clubs
GEO:-38.8926094;175.3279306
X-APPLE-STRUCTURED-LOCATION;VALUE=URI;X-ADDRESS=Old Bowling Club Valley Road Manunui 3924 New Zealand;X-APPLE-RADIUS=500;X-TITLE=Valley Road:geo:175.3279306,-38.8926094
END:VEVENT
BEGIN:VEVENT
DTSTART;TZID=Pacific/Auckland:20270420T193000
DTEND;TZID=Pacific/Auckland:20270420T193000
DTSTAMP:20260423T134001
CREATED:20240922T231106Z
LAST-MODIFIED:20240922T231106Z
UID:10001116-1808249400-1808249400@taumarunui.co.nz
SUMMARY:Alcoholics Anonymous
DESCRIPTION:Meeting every Tuesday at the old Bowling Club\, Manunui
URL:https://taumarunui.co.nz/event/alcoholics-anonymous/2027-04-20/
LOCATION:Old Bowling Club\, Valley Road\, Manunui\, 3924\, New Zealand
CATEGORIES:Clubs
GEO:-38.8926094;175.3279306
X-APPLE-STRUCTURED-LOCATION;VALUE=URI;X-ADDRESS=Old Bowling Club Valley Road Manunui 3924 New Zealand;X-APPLE-RADIUS=500;X-TITLE=Valley Road:geo:175.3279306,-38.8926094
END:VEVENT
BEGIN:VEVENT
DTSTART;TZID=Pacific/Auckland:20270427T193000
DTEND;TZID=Pacific/Auckland:20270427T193000
DTSTAMP:20260423T134001
CREATED:20240922T231106Z
LAST-MODIFIED:20240922T231106Z
UID:10001117-1808854200-1808854200@taumarunui.co.nz
SUMMARY:Alcoholics Anonymous
DESCRIPTION:Meeting every Tuesday at the old Bowling Club\, Manunui
URL:https://taumarunui.co.nz/event/alcoholics-anonymous/2027-04-27/
LOCATION:Old Bowling Club\, Valley Road\, Manunui\, 3924\, New Zealand
CATEGORIES:Clubs
GEO:-38.8926094;175.3279306
X-APPLE-STRUCTURED-LOCATION;VALUE=URI;X-ADDRESS=Old Bowling Club Valley Road Manunui 3924 New Zealand;X-APPLE-RADIUS=500;X-TITLE=Valley Road:geo:175.3279306,-38.8926094
END:VEVENT
BEGIN:VEVENT
DTSTART;TZID=Pacific/Auckland:20270504T193000
DTEND;TZID=Pacific/Auckland:20270504T193000
DTSTAMP:20260423T134001
CREATED:20240922T231106Z
LAST-MODIFIED:20240922T231106Z
UID:10001118-1809459000-1809459000@taumarunui.co.nz
SUMMARY:Alcoholics Anonymous
DESCRIPTION:Meeting every Tuesday at the old Bowling Club\, Manunui
URL:https://taumarunui.co.nz/event/alcoholics-anonymous/2027-05-04/
LOCATION:Old Bowling Club\, Valley Road\, Manunui\, 3924\, New Zealand
CATEGORIES:Clubs
GEO:-38.8926094;175.3279306
X-APPLE-STRUCTURED-LOCATION;VALUE=URI;X-ADDRESS=Old Bowling Club Valley Road Manunui 3924 New Zealand;X-APPLE-RADIUS=500;X-TITLE=Valley Road:geo:175.3279306,-38.8926094
END:VEVENT
END:VCALENDAR