BEGIN:VCALENDAR
VERSION:2.0
PRODID:-//Taumarunui - ECPv6.15.16//NONSGML v1.0//EN
CALSCALE:GREGORIAN
METHOD:PUBLISH
X-WR-CALNAME:Taumarunui
X-ORIGINAL-URL:https://taumarunui.co.nz
X-WR-CALDESC:Events for Taumarunui
REFRESH-INTERVAL;VALUE=DURATION:PT1H
X-Robots-Tag:noindex
X-PUBLISHED-TTL:PT1H
BEGIN:VTIMEZONE
TZID:Pacific/Auckland
BEGIN:STANDARD
TZOFFSETFROM:+1300
TZOFFSETTO:+1200
TZNAME:NZST
DTSTART:20240406T140000
END:STANDARD
BEGIN:DAYLIGHT
TZOFFSETFROM:+1200
TZOFFSETTO:+1300
TZNAME:NZDT
DTSTART:20240928T140000
END:DAYLIGHT
BEGIN:STANDARD
TZOFFSETFROM:+1300
TZOFFSETTO:+1200
TZNAME:NZST
DTSTART:20250405T140000
END:STANDARD
BEGIN:DAYLIGHT
TZOFFSETFROM:+1200
TZOFFSETTO:+1300
TZNAME:NZDT
DTSTART:20250927T140000
END:DAYLIGHT
BEGIN:STANDARD
TZOFFSETFROM:+1300
TZOFFSETTO:+1200
TZNAME:NZST
DTSTART:20260404T140000
END:STANDARD
BEGIN:DAYLIGHT
TZOFFSETFROM:+1200
TZOFFSETTO:+1300
TZNAME:NZDT
DTSTART:20260926T140000
END:DAYLIGHT
END:VTIMEZONE
BEGIN:VEVENT
DTSTART;TZID=Pacific/Auckland:20251104T193000
DTEND;TZID=Pacific/Auckland:20251104T193000
DTSTAMP:20260422T203533
CREATED:20240922T231106Z
LAST-MODIFIED:20240922T231106Z
UID:10001040-1762284600-1762284600@taumarunui.co.nz
SUMMARY:Alcoholics Anonymous
DESCRIPTION:Meeting every Tuesday at the old Bowling Club\, Manunui
URL:https://taumarunui.co.nz/event/alcoholics-anonymous/2025-11-04/
LOCATION:Old Bowling Club\, Valley Road\, Manunui\, 3924\, New Zealand
CATEGORIES:Clubs
GEO:-38.8926094;175.3279306
X-APPLE-STRUCTURED-LOCATION;VALUE=URI;X-ADDRESS=Old Bowling Club Valley Road Manunui 3924 New Zealand;X-APPLE-RADIUS=500;X-TITLE=Valley Road:geo:175.3279306,-38.8926094
END:VEVENT
BEGIN:VEVENT
DTSTART;TZID=Pacific/Auckland:20251028T193000
DTEND;TZID=Pacific/Auckland:20251028T193000
DTSTAMP:20260422T203533
CREATED:20240922T231106Z
LAST-MODIFIED:20240922T231106Z
UID:10001039-1761679800-1761679800@taumarunui.co.nz
SUMMARY:Alcoholics Anonymous
DESCRIPTION:Meeting every Tuesday at the old Bowling Club\, Manunui
URL:https://taumarunui.co.nz/event/alcoholics-anonymous/2025-10-28/
LOCATION:Old Bowling Club\, Valley Road\, Manunui\, 3924\, New Zealand
CATEGORIES:Clubs
GEO:-38.8926094;175.3279306
X-APPLE-STRUCTURED-LOCATION;VALUE=URI;X-ADDRESS=Old Bowling Club Valley Road Manunui 3924 New Zealand;X-APPLE-RADIUS=500;X-TITLE=Valley Road:geo:175.3279306,-38.8926094
END:VEVENT
BEGIN:VEVENT
DTSTART;TZID=Pacific/Auckland:20251021T193000
DTEND;TZID=Pacific/Auckland:20251021T193000
DTSTAMP:20260422T203533
CREATED:20240922T231106Z
LAST-MODIFIED:20240922T231106Z
UID:10001038-1761075000-1761075000@taumarunui.co.nz
SUMMARY:Alcoholics Anonymous
DESCRIPTION:Meeting every Tuesday at the old Bowling Club\, Manunui
URL:https://taumarunui.co.nz/event/alcoholics-anonymous/2025-10-21/
LOCATION:Old Bowling Club\, Valley Road\, Manunui\, 3924\, New Zealand
CATEGORIES:Clubs
GEO:-38.8926094;175.3279306
X-APPLE-STRUCTURED-LOCATION;VALUE=URI;X-ADDRESS=Old Bowling Club Valley Road Manunui 3924 New Zealand;X-APPLE-RADIUS=500;X-TITLE=Valley Road:geo:175.3279306,-38.8926094
END:VEVENT
BEGIN:VEVENT
DTSTART;TZID=Pacific/Auckland:20251014T193000
DTEND;TZID=Pacific/Auckland:20251014T193000
DTSTAMP:20260422T203533
CREATED:20240922T231106Z
LAST-MODIFIED:20240922T231106Z
UID:10001037-1760470200-1760470200@taumarunui.co.nz
SUMMARY:Alcoholics Anonymous
DESCRIPTION:Meeting every Tuesday at the old Bowling Club\, Manunui
URL:https://taumarunui.co.nz/event/alcoholics-anonymous/2025-10-14/
LOCATION:Old Bowling Club\, Valley Road\, Manunui\, 3924\, New Zealand
CATEGORIES:Clubs
GEO:-38.8926094;175.3279306
X-APPLE-STRUCTURED-LOCATION;VALUE=URI;X-ADDRESS=Old Bowling Club Valley Road Manunui 3924 New Zealand;X-APPLE-RADIUS=500;X-TITLE=Valley Road:geo:175.3279306,-38.8926094
END:VEVENT
BEGIN:VEVENT
DTSTART;TZID=Pacific/Auckland:20251007T193000
DTEND;TZID=Pacific/Auckland:20251007T193000
DTSTAMP:20260422T203533
CREATED:20240922T231106Z
LAST-MODIFIED:20240922T231106Z
UID:10001036-1759865400-1759865400@taumarunui.co.nz
SUMMARY:Alcoholics Anonymous
DESCRIPTION:Meeting every Tuesday at the old Bowling Club\, Manunui
URL:https://taumarunui.co.nz/event/alcoholics-anonymous/2025-10-07/
LOCATION:Old Bowling Club\, Valley Road\, Manunui\, 3924\, New Zealand
CATEGORIES:Clubs
GEO:-38.8926094;175.3279306
X-APPLE-STRUCTURED-LOCATION;VALUE=URI;X-ADDRESS=Old Bowling Club Valley Road Manunui 3924 New Zealand;X-APPLE-RADIUS=500;X-TITLE=Valley Road:geo:175.3279306,-38.8926094
END:VEVENT
BEGIN:VEVENT
DTSTART;TZID=Pacific/Auckland:20250930T193000
DTEND;TZID=Pacific/Auckland:20250930T193000
DTSTAMP:20260422T203533
CREATED:20240922T231106Z
LAST-MODIFIED:20240922T231106Z
UID:10001035-1759260600-1759260600@taumarunui.co.nz
SUMMARY:Alcoholics Anonymous
DESCRIPTION:Meeting every Tuesday at the old Bowling Club\, Manunui
URL:https://taumarunui.co.nz/event/alcoholics-anonymous/2025-09-30/
LOCATION:Old Bowling Club\, Valley Road\, Manunui\, 3924\, New Zealand
CATEGORIES:Clubs
GEO:-38.8926094;175.3279306
X-APPLE-STRUCTURED-LOCATION;VALUE=URI;X-ADDRESS=Old Bowling Club Valley Road Manunui 3924 New Zealand;X-APPLE-RADIUS=500;X-TITLE=Valley Road:geo:175.3279306,-38.8926094
END:VEVENT
BEGIN:VEVENT
DTSTART;TZID=Pacific/Auckland:20250923T193000
DTEND;TZID=Pacific/Auckland:20250923T193000
DTSTAMP:20260422T203533
CREATED:20240922T231106Z
LAST-MODIFIED:20240922T231106Z
UID:10001034-1758655800-1758655800@taumarunui.co.nz
SUMMARY:Alcoholics Anonymous
DESCRIPTION:Meeting every Tuesday at the old Bowling Club\, Manunui
URL:https://taumarunui.co.nz/event/alcoholics-anonymous/2025-09-23/
LOCATION:Old Bowling Club\, Valley Road\, Manunui\, 3924\, New Zealand
CATEGORIES:Clubs
GEO:-38.8926094;175.3279306
X-APPLE-STRUCTURED-LOCATION;VALUE=URI;X-ADDRESS=Old Bowling Club Valley Road Manunui 3924 New Zealand;X-APPLE-RADIUS=500;X-TITLE=Valley Road:geo:175.3279306,-38.8926094
END:VEVENT
BEGIN:VEVENT
DTSTART;TZID=Pacific/Auckland:20250916T193000
DTEND;TZID=Pacific/Auckland:20250916T193000
DTSTAMP:20260422T203533
CREATED:20240922T231106Z
LAST-MODIFIED:20240922T231106Z
UID:10001033-1758051000-1758051000@taumarunui.co.nz
SUMMARY:Alcoholics Anonymous
DESCRIPTION:Meeting every Tuesday at the old Bowling Club\, Manunui
URL:https://taumarunui.co.nz/event/alcoholics-anonymous/2025-09-16/
LOCATION:Old Bowling Club\, Valley Road\, Manunui\, 3924\, New Zealand
CATEGORIES:Clubs
GEO:-38.8926094;175.3279306
X-APPLE-STRUCTURED-LOCATION;VALUE=URI;X-ADDRESS=Old Bowling Club Valley Road Manunui 3924 New Zealand;X-APPLE-RADIUS=500;X-TITLE=Valley Road:geo:175.3279306,-38.8926094
END:VEVENT
BEGIN:VEVENT
DTSTART;TZID=Pacific/Auckland:20250909T193000
DTEND;TZID=Pacific/Auckland:20250909T193000
DTSTAMP:20260422T203533
CREATED:20240922T231106Z
LAST-MODIFIED:20240922T231106Z
UID:10001032-1757446200-1757446200@taumarunui.co.nz
SUMMARY:Alcoholics Anonymous
DESCRIPTION:Meeting every Tuesday at the old Bowling Club\, Manunui
URL:https://taumarunui.co.nz/event/alcoholics-anonymous/2025-09-09/
LOCATION:Old Bowling Club\, Valley Road\, Manunui\, 3924\, New Zealand
CATEGORIES:Clubs
GEO:-38.8926094;175.3279306
X-APPLE-STRUCTURED-LOCATION;VALUE=URI;X-ADDRESS=Old Bowling Club Valley Road Manunui 3924 New Zealand;X-APPLE-RADIUS=500;X-TITLE=Valley Road:geo:175.3279306,-38.8926094
END:VEVENT
BEGIN:VEVENT
DTSTART;TZID=Pacific/Auckland:20250902T193000
DTEND;TZID=Pacific/Auckland:20250902T193000
DTSTAMP:20260422T203533
CREATED:20240922T231106Z
LAST-MODIFIED:20240922T231106Z
UID:10001031-1756841400-1756841400@taumarunui.co.nz
SUMMARY:Alcoholics Anonymous
DESCRIPTION:Meeting every Tuesday at the old Bowling Club\, Manunui
URL:https://taumarunui.co.nz/event/alcoholics-anonymous/2025-09-02/
LOCATION:Old Bowling Club\, Valley Road\, Manunui\, 3924\, New Zealand
CATEGORIES:Clubs
GEO:-38.8926094;175.3279306
X-APPLE-STRUCTURED-LOCATION;VALUE=URI;X-ADDRESS=Old Bowling Club Valley Road Manunui 3924 New Zealand;X-APPLE-RADIUS=500;X-TITLE=Valley Road:geo:175.3279306,-38.8926094
END:VEVENT
BEGIN:VEVENT
DTSTART;TZID=Pacific/Auckland:20250826T193000
DTEND;TZID=Pacific/Auckland:20250826T193000
DTSTAMP:20260422T203533
CREATED:20240922T231106Z
LAST-MODIFIED:20240922T231106Z
UID:10001030-1756236600-1756236600@taumarunui.co.nz
SUMMARY:Alcoholics Anonymous
DESCRIPTION:Meeting every Tuesday at the old Bowling Club\, Manunui
URL:https://taumarunui.co.nz/event/alcoholics-anonymous/2025-08-26/
LOCATION:Old Bowling Club\, Valley Road\, Manunui\, 3924\, New Zealand
CATEGORIES:Clubs
GEO:-38.8926094;175.3279306
X-APPLE-STRUCTURED-LOCATION;VALUE=URI;X-ADDRESS=Old Bowling Club Valley Road Manunui 3924 New Zealand;X-APPLE-RADIUS=500;X-TITLE=Valley Road:geo:175.3279306,-38.8926094
END:VEVENT
BEGIN:VEVENT
DTSTART;TZID=Pacific/Auckland:20250819T193000
DTEND;TZID=Pacific/Auckland:20250819T193000
DTSTAMP:20260422T203533
CREATED:20240922T231106Z
LAST-MODIFIED:20240922T231106Z
UID:10001029-1755631800-1755631800@taumarunui.co.nz
SUMMARY:Alcoholics Anonymous
DESCRIPTION:Meeting every Tuesday at the old Bowling Club\, Manunui
URL:https://taumarunui.co.nz/event/alcoholics-anonymous/2025-08-19/
LOCATION:Old Bowling Club\, Valley Road\, Manunui\, 3924\, New Zealand
CATEGORIES:Clubs
GEO:-38.8926094;175.3279306
X-APPLE-STRUCTURED-LOCATION;VALUE=URI;X-ADDRESS=Old Bowling Club Valley Road Manunui 3924 New Zealand;X-APPLE-RADIUS=500;X-TITLE=Valley Road:geo:175.3279306,-38.8926094
END:VEVENT
BEGIN:VEVENT
DTSTART;TZID=Pacific/Auckland:20250812T193000
DTEND;TZID=Pacific/Auckland:20250812T193000
DTSTAMP:20260422T203533
CREATED:20240922T231106Z
LAST-MODIFIED:20240922T231106Z
UID:10001028-1755027000-1755027000@taumarunui.co.nz
SUMMARY:Alcoholics Anonymous
DESCRIPTION:Meeting every Tuesday at the old Bowling Club\, Manunui
URL:https://taumarunui.co.nz/event/alcoholics-anonymous/2025-08-12/
LOCATION:Old Bowling Club\, Valley Road\, Manunui\, 3924\, New Zealand
CATEGORIES:Clubs
GEO:-38.8926094;175.3279306
X-APPLE-STRUCTURED-LOCATION;VALUE=URI;X-ADDRESS=Old Bowling Club Valley Road Manunui 3924 New Zealand;X-APPLE-RADIUS=500;X-TITLE=Valley Road:geo:175.3279306,-38.8926094
END:VEVENT
BEGIN:VEVENT
DTSTART;TZID=Pacific/Auckland:20250805T193000
DTEND;TZID=Pacific/Auckland:20250805T193000
DTSTAMP:20260422T203533
CREATED:20240922T231106Z
LAST-MODIFIED:20240922T231106Z
UID:10001027-1754422200-1754422200@taumarunui.co.nz
SUMMARY:Alcoholics Anonymous
DESCRIPTION:Meeting every Tuesday at the old Bowling Club\, Manunui
URL:https://taumarunui.co.nz/event/alcoholics-anonymous/2025-08-05/
LOCATION:Old Bowling Club\, Valley Road\, Manunui\, 3924\, New Zealand
CATEGORIES:Clubs
GEO:-38.8926094;175.3279306
X-APPLE-STRUCTURED-LOCATION;VALUE=URI;X-ADDRESS=Old Bowling Club Valley Road Manunui 3924 New Zealand;X-APPLE-RADIUS=500;X-TITLE=Valley Road:geo:175.3279306,-38.8926094
END:VEVENT
BEGIN:VEVENT
DTSTART;TZID=Pacific/Auckland:20250729T193000
DTEND;TZID=Pacific/Auckland:20250729T193000
DTSTAMP:20260422T203533
CREATED:20240922T231106Z
LAST-MODIFIED:20240922T231106Z
UID:10001026-1753817400-1753817400@taumarunui.co.nz
SUMMARY:Alcoholics Anonymous
DESCRIPTION:Meeting every Tuesday at the old Bowling Club\, Manunui
URL:https://taumarunui.co.nz/event/alcoholics-anonymous/2025-07-29/
LOCATION:Old Bowling Club\, Valley Road\, Manunui\, 3924\, New Zealand
CATEGORIES:Clubs
GEO:-38.8926094;175.3279306
X-APPLE-STRUCTURED-LOCATION;VALUE=URI;X-ADDRESS=Old Bowling Club Valley Road Manunui 3924 New Zealand;X-APPLE-RADIUS=500;X-TITLE=Valley Road:geo:175.3279306,-38.8926094
END:VEVENT
BEGIN:VEVENT
DTSTART;TZID=Pacific/Auckland:20250722T193000
DTEND;TZID=Pacific/Auckland:20250722T193000
DTSTAMP:20260422T203533
CREATED:20240922T231106Z
LAST-MODIFIED:20240922T231106Z
UID:10001025-1753212600-1753212600@taumarunui.co.nz
SUMMARY:Alcoholics Anonymous
DESCRIPTION:Meeting every Tuesday at the old Bowling Club\, Manunui
URL:https://taumarunui.co.nz/event/alcoholics-anonymous/2025-07-22/
LOCATION:Old Bowling Club\, Valley Road\, Manunui\, 3924\, New Zealand
CATEGORIES:Clubs
GEO:-38.8926094;175.3279306
X-APPLE-STRUCTURED-LOCATION;VALUE=URI;X-ADDRESS=Old Bowling Club Valley Road Manunui 3924 New Zealand;X-APPLE-RADIUS=500;X-TITLE=Valley Road:geo:175.3279306,-38.8926094
END:VEVENT
BEGIN:VEVENT
DTSTART;TZID=Pacific/Auckland:20250715T193000
DTEND;TZID=Pacific/Auckland:20250715T193000
DTSTAMP:20260422T203533
CREATED:20240922T231106Z
LAST-MODIFIED:20240922T231106Z
UID:10001024-1752607800-1752607800@taumarunui.co.nz
SUMMARY:Alcoholics Anonymous
DESCRIPTION:Meeting every Tuesday at the old Bowling Club\, Manunui
URL:https://taumarunui.co.nz/event/alcoholics-anonymous/2025-07-15/
LOCATION:Old Bowling Club\, Valley Road\, Manunui\, 3924\, New Zealand
CATEGORIES:Clubs
GEO:-38.8926094;175.3279306
X-APPLE-STRUCTURED-LOCATION;VALUE=URI;X-ADDRESS=Old Bowling Club Valley Road Manunui 3924 New Zealand;X-APPLE-RADIUS=500;X-TITLE=Valley Road:geo:175.3279306,-38.8926094
END:VEVENT
BEGIN:VEVENT
DTSTART;TZID=Pacific/Auckland:20250708T193000
DTEND;TZID=Pacific/Auckland:20250708T193000
DTSTAMP:20260422T203533
CREATED:20240922T231106Z
LAST-MODIFIED:20240922T231106Z
UID:10001023-1752003000-1752003000@taumarunui.co.nz
SUMMARY:Alcoholics Anonymous
DESCRIPTION:Meeting every Tuesday at the old Bowling Club\, Manunui
URL:https://taumarunui.co.nz/event/alcoholics-anonymous/2025-07-08/
LOCATION:Old Bowling Club\, Valley Road\, Manunui\, 3924\, New Zealand
CATEGORIES:Clubs
GEO:-38.8926094;175.3279306
X-APPLE-STRUCTURED-LOCATION;VALUE=URI;X-ADDRESS=Old Bowling Club Valley Road Manunui 3924 New Zealand;X-APPLE-RADIUS=500;X-TITLE=Valley Road:geo:175.3279306,-38.8926094
END:VEVENT
BEGIN:VEVENT
DTSTART;TZID=Pacific/Auckland:20250701T193000
DTEND;TZID=Pacific/Auckland:20250701T193000
DTSTAMP:20260422T203533
CREATED:20240922T231106Z
LAST-MODIFIED:20240922T231106Z
UID:10001022-1751398200-1751398200@taumarunui.co.nz
SUMMARY:Alcoholics Anonymous
DESCRIPTION:Meeting every Tuesday at the old Bowling Club\, Manunui
URL:https://taumarunui.co.nz/event/alcoholics-anonymous/2025-07-01/
LOCATION:Old Bowling Club\, Valley Road\, Manunui\, 3924\, New Zealand
CATEGORIES:Clubs
GEO:-38.8926094;175.3279306
X-APPLE-STRUCTURED-LOCATION;VALUE=URI;X-ADDRESS=Old Bowling Club Valley Road Manunui 3924 New Zealand;X-APPLE-RADIUS=500;X-TITLE=Valley Road:geo:175.3279306,-38.8926094
END:VEVENT
BEGIN:VEVENT
DTSTART;TZID=Pacific/Auckland:20250624T193000
DTEND;TZID=Pacific/Auckland:20250624T193000
DTSTAMP:20260422T203533
CREATED:20240922T231106Z
LAST-MODIFIED:20240922T231106Z
UID:10001021-1750793400-1750793400@taumarunui.co.nz
SUMMARY:Alcoholics Anonymous
DESCRIPTION:Meeting every Tuesday at the old Bowling Club\, Manunui
URL:https://taumarunui.co.nz/event/alcoholics-anonymous/2025-06-24/
LOCATION:Old Bowling Club\, Valley Road\, Manunui\, 3924\, New Zealand
CATEGORIES:Clubs
GEO:-38.8926094;175.3279306
X-APPLE-STRUCTURED-LOCATION;VALUE=URI;X-ADDRESS=Old Bowling Club Valley Road Manunui 3924 New Zealand;X-APPLE-RADIUS=500;X-TITLE=Valley Road:geo:175.3279306,-38.8926094
END:VEVENT
BEGIN:VEVENT
DTSTART;TZID=Pacific/Auckland:20250617T193000
DTEND;TZID=Pacific/Auckland:20250617T193000
DTSTAMP:20260422T203533
CREATED:20240922T231106Z
LAST-MODIFIED:20240922T231106Z
UID:10001020-1750188600-1750188600@taumarunui.co.nz
SUMMARY:Alcoholics Anonymous
DESCRIPTION:Meeting every Tuesday at the old Bowling Club\, Manunui
URL:https://taumarunui.co.nz/event/alcoholics-anonymous/2025-06-17/
LOCATION:Old Bowling Club\, Valley Road\, Manunui\, 3924\, New Zealand
CATEGORIES:Clubs
GEO:-38.8926094;175.3279306
X-APPLE-STRUCTURED-LOCATION;VALUE=URI;X-ADDRESS=Old Bowling Club Valley Road Manunui 3924 New Zealand;X-APPLE-RADIUS=500;X-TITLE=Valley Road:geo:175.3279306,-38.8926094
END:VEVENT
BEGIN:VEVENT
DTSTART;TZID=Pacific/Auckland:20250610T193000
DTEND;TZID=Pacific/Auckland:20250610T193000
DTSTAMP:20260422T203533
CREATED:20240922T231106Z
LAST-MODIFIED:20240922T231106Z
UID:10001019-1749583800-1749583800@taumarunui.co.nz
SUMMARY:Alcoholics Anonymous
DESCRIPTION:Meeting every Tuesday at the old Bowling Club\, Manunui
URL:https://taumarunui.co.nz/event/alcoholics-anonymous/2025-06-10/
LOCATION:Old Bowling Club\, Valley Road\, Manunui\, 3924\, New Zealand
CATEGORIES:Clubs
GEO:-38.8926094;175.3279306
X-APPLE-STRUCTURED-LOCATION;VALUE=URI;X-ADDRESS=Old Bowling Club Valley Road Manunui 3924 New Zealand;X-APPLE-RADIUS=500;X-TITLE=Valley Road:geo:175.3279306,-38.8926094
END:VEVENT
BEGIN:VEVENT
DTSTART;TZID=Pacific/Auckland:20250603T193000
DTEND;TZID=Pacific/Auckland:20250603T193000
DTSTAMP:20260422T203533
CREATED:20240922T231106Z
LAST-MODIFIED:20240922T231106Z
UID:10001018-1748979000-1748979000@taumarunui.co.nz
SUMMARY:Alcoholics Anonymous
DESCRIPTION:Meeting every Tuesday at the old Bowling Club\, Manunui
URL:https://taumarunui.co.nz/event/alcoholics-anonymous/2025-06-03/
LOCATION:Old Bowling Club\, Valley Road\, Manunui\, 3924\, New Zealand
CATEGORIES:Clubs
GEO:-38.8926094;175.3279306
X-APPLE-STRUCTURED-LOCATION;VALUE=URI;X-ADDRESS=Old Bowling Club Valley Road Manunui 3924 New Zealand;X-APPLE-RADIUS=500;X-TITLE=Valley Road:geo:175.3279306,-38.8926094
END:VEVENT
BEGIN:VEVENT
DTSTART;TZID=Pacific/Auckland:20250527T193000
DTEND;TZID=Pacific/Auckland:20250527T193000
DTSTAMP:20260422T203533
CREATED:20240922T231106Z
LAST-MODIFIED:20240922T231106Z
UID:10001017-1748374200-1748374200@taumarunui.co.nz
SUMMARY:Alcoholics Anonymous
DESCRIPTION:Meeting every Tuesday at the old Bowling Club\, Manunui
URL:https://taumarunui.co.nz/event/alcoholics-anonymous/2025-05-27/
LOCATION:Old Bowling Club\, Valley Road\, Manunui\, 3924\, New Zealand
CATEGORIES:Clubs
GEO:-38.8926094;175.3279306
X-APPLE-STRUCTURED-LOCATION;VALUE=URI;X-ADDRESS=Old Bowling Club Valley Road Manunui 3924 New Zealand;X-APPLE-RADIUS=500;X-TITLE=Valley Road:geo:175.3279306,-38.8926094
END:VEVENT
BEGIN:VEVENT
DTSTART;TZID=Pacific/Auckland:20250520T193000
DTEND;TZID=Pacific/Auckland:20250520T193000
DTSTAMP:20260422T203533
CREATED:20240922T231106Z
LAST-MODIFIED:20240922T231106Z
UID:10001016-1747769400-1747769400@taumarunui.co.nz
SUMMARY:Alcoholics Anonymous
DESCRIPTION:Meeting every Tuesday at the old Bowling Club\, Manunui
URL:https://taumarunui.co.nz/event/alcoholics-anonymous/2025-05-20/
LOCATION:Old Bowling Club\, Valley Road\, Manunui\, 3924\, New Zealand
CATEGORIES:Clubs
GEO:-38.8926094;175.3279306
X-APPLE-STRUCTURED-LOCATION;VALUE=URI;X-ADDRESS=Old Bowling Club Valley Road Manunui 3924 New Zealand;X-APPLE-RADIUS=500;X-TITLE=Valley Road:geo:175.3279306,-38.8926094
END:VEVENT
BEGIN:VEVENT
DTSTART;TZID=Pacific/Auckland:20250513T193000
DTEND;TZID=Pacific/Auckland:20250513T193000
DTSTAMP:20260422T203533
CREATED:20240922T231106Z
LAST-MODIFIED:20240922T231106Z
UID:10001015-1747164600-1747164600@taumarunui.co.nz
SUMMARY:Alcoholics Anonymous
DESCRIPTION:Meeting every Tuesday at the old Bowling Club\, Manunui
URL:https://taumarunui.co.nz/event/alcoholics-anonymous/2025-05-13/
LOCATION:Old Bowling Club\, Valley Road\, Manunui\, 3924\, New Zealand
CATEGORIES:Clubs
GEO:-38.8926094;175.3279306
X-APPLE-STRUCTURED-LOCATION;VALUE=URI;X-ADDRESS=Old Bowling Club Valley Road Manunui 3924 New Zealand;X-APPLE-RADIUS=500;X-TITLE=Valley Road:geo:175.3279306,-38.8926094
END:VEVENT
BEGIN:VEVENT
DTSTART;TZID=Pacific/Auckland:20250506T193000
DTEND;TZID=Pacific/Auckland:20250506T193000
DTSTAMP:20260422T203533
CREATED:20240922T231106Z
LAST-MODIFIED:20240922T231106Z
UID:10001014-1746559800-1746559800@taumarunui.co.nz
SUMMARY:Alcoholics Anonymous
DESCRIPTION:Meeting every Tuesday at the old Bowling Club\, Manunui
URL:https://taumarunui.co.nz/event/alcoholics-anonymous/2025-05-06/
LOCATION:Old Bowling Club\, Valley Road\, Manunui\, 3924\, New Zealand
CATEGORIES:Clubs
GEO:-38.8926094;175.3279306
X-APPLE-STRUCTURED-LOCATION;VALUE=URI;X-ADDRESS=Old Bowling Club Valley Road Manunui 3924 New Zealand;X-APPLE-RADIUS=500;X-TITLE=Valley Road:geo:175.3279306,-38.8926094
END:VEVENT
BEGIN:VEVENT
DTSTART;TZID=Pacific/Auckland:20250429T193000
DTEND;TZID=Pacific/Auckland:20250429T193000
DTSTAMP:20260422T203533
CREATED:20240922T231106Z
LAST-MODIFIED:20240922T231106Z
UID:10001013-1745955000-1745955000@taumarunui.co.nz
SUMMARY:Alcoholics Anonymous
DESCRIPTION:Meeting every Tuesday at the old Bowling Club\, Manunui
URL:https://taumarunui.co.nz/event/alcoholics-anonymous/2025-04-29/
LOCATION:Old Bowling Club\, Valley Road\, Manunui\, 3924\, New Zealand
CATEGORIES:Clubs
GEO:-38.8926094;175.3279306
X-APPLE-STRUCTURED-LOCATION;VALUE=URI;X-ADDRESS=Old Bowling Club Valley Road Manunui 3924 New Zealand;X-APPLE-RADIUS=500;X-TITLE=Valley Road:geo:175.3279306,-38.8926094
END:VEVENT
BEGIN:VEVENT
DTSTART;TZID=Pacific/Auckland:20250422T193000
DTEND;TZID=Pacific/Auckland:20250422T193000
DTSTAMP:20260422T203533
CREATED:20240922T231106Z
LAST-MODIFIED:20240922T231106Z
UID:10001012-1745350200-1745350200@taumarunui.co.nz
SUMMARY:Alcoholics Anonymous
DESCRIPTION:Meeting every Tuesday at the old Bowling Club\, Manunui
URL:https://taumarunui.co.nz/event/alcoholics-anonymous/2025-04-22/
LOCATION:Old Bowling Club\, Valley Road\, Manunui\, 3924\, New Zealand
CATEGORIES:Clubs
GEO:-38.8926094;175.3279306
X-APPLE-STRUCTURED-LOCATION;VALUE=URI;X-ADDRESS=Old Bowling Club Valley Road Manunui 3924 New Zealand;X-APPLE-RADIUS=500;X-TITLE=Valley Road:geo:175.3279306,-38.8926094
END:VEVENT
BEGIN:VEVENT
DTSTART;TZID=Pacific/Auckland:20250415T193000
DTEND;TZID=Pacific/Auckland:20250415T193000
DTSTAMP:20260422T203533
CREATED:20240922T231106Z
LAST-MODIFIED:20240922T231106Z
UID:10001011-1744745400-1744745400@taumarunui.co.nz
SUMMARY:Alcoholics Anonymous
DESCRIPTION:Meeting every Tuesday at the old Bowling Club\, Manunui
URL:https://taumarunui.co.nz/event/alcoholics-anonymous/2025-04-15/
LOCATION:Old Bowling Club\, Valley Road\, Manunui\, 3924\, New Zealand
CATEGORIES:Clubs
GEO:-38.8926094;175.3279306
X-APPLE-STRUCTURED-LOCATION;VALUE=URI;X-ADDRESS=Old Bowling Club Valley Road Manunui 3924 New Zealand;X-APPLE-RADIUS=500;X-TITLE=Valley Road:geo:175.3279306,-38.8926094
END:VEVENT
END:VCALENDAR