BEGIN:VCALENDAR
VERSION:2.0
PRODID:-//Taumarunui - ECPv6.15.16//NONSGML v1.0//EN
CALSCALE:GREGORIAN
METHOD:PUBLISH
X-ORIGINAL-URL:https://taumarunui.co.nz
X-WR-CALDESC:Events for Taumarunui
REFRESH-INTERVAL;VALUE=DURATION:PT1H
X-Robots-Tag:noindex
X-PUBLISHED-TTL:PT1H
BEGIN:VTIMEZONE
TZID:Pacific/Auckland
BEGIN:STANDARD
TZOFFSETFROM:+1300
TZOFFSETTO:+1200
TZNAME:NZST
DTSTART:20250405T140000
END:STANDARD
BEGIN:DAYLIGHT
TZOFFSETFROM:+1200
TZOFFSETTO:+1300
TZNAME:NZDT
DTSTART:20250927T140000
END:DAYLIGHT
BEGIN:STANDARD
TZOFFSETFROM:+1300
TZOFFSETTO:+1200
TZNAME:NZST
DTSTART:20260404T140000
END:STANDARD
BEGIN:DAYLIGHT
TZOFFSETFROM:+1200
TZOFFSETTO:+1300
TZNAME:NZDT
DTSTART:20260926T140000
END:DAYLIGHT
BEGIN:STANDARD
TZOFFSETFROM:+1300
TZOFFSETTO:+1200
TZNAME:NZST
DTSTART:20270403T140000
END:STANDARD
BEGIN:DAYLIGHT
TZOFFSETFROM:+1200
TZOFFSETTO:+1300
TZNAME:NZDT
DTSTART:20270925T140000
END:DAYLIGHT
BEGIN:STANDARD
TZOFFSETFROM:+1300
TZOFFSETTO:+1200
TZNAME:NZST
DTSTART:20280401T140000
END:STANDARD
BEGIN:DAYLIGHT
TZOFFSETFROM:+1200
TZOFFSETTO:+1300
TZNAME:NZDT
DTSTART:20280923T140000
END:DAYLIGHT
END:VTIMEZONE
BEGIN:VEVENT
DTSTART;TZID=Pacific/Auckland:20261231T120000
DTEND;TZID=Pacific/Auckland:20261231T130000
DTSTAMP:20260420T101925
CREATED:20240922T231421Z
LAST-MODIFIED:20240922T231421Z
UID:10001364-1798718400-1798722000@taumarunui.co.nz
SUMMARY:Alcoholics Anonymous
DESCRIPTION:Step meeting every Thursday lunchtime
URL:https://taumarunui.co.nz/event/alcoholics-anonymous-2/2026-12-31/
LOCATION:250 Taupo Road\, Taupo Road\, Taumarunui\, 3920\, New Zealand
CATEGORIES:Clubs
GEO:-38.8844708;175.290787
X-APPLE-STRUCTURED-LOCATION;VALUE=URI;X-ADDRESS=250 Taupo Road Taupo Road Taumarunui 3920 New Zealand;X-APPLE-RADIUS=500;X-TITLE=Taupo Road:geo:175.290787,-38.8844708
END:VEVENT
BEGIN:VEVENT
DTSTART;TZID=Pacific/Auckland:20270107T120000
DTEND;TZID=Pacific/Auckland:20270107T130000
DTSTAMP:20260420T101925
CREATED:20240922T231421Z
LAST-MODIFIED:20240922T231421Z
UID:10001365-1799323200-1799326800@taumarunui.co.nz
SUMMARY:Alcoholics Anonymous
DESCRIPTION:Step meeting every Thursday lunchtime
URL:https://taumarunui.co.nz/event/alcoholics-anonymous-2/2027-01-07/
LOCATION:250 Taupo Road\, Taupo Road\, Taumarunui\, 3920\, New Zealand
CATEGORIES:Clubs
GEO:-38.8844708;175.290787
X-APPLE-STRUCTURED-LOCATION;VALUE=URI;X-ADDRESS=250 Taupo Road Taupo Road Taumarunui 3920 New Zealand;X-APPLE-RADIUS=500;X-TITLE=Taupo Road:geo:175.290787,-38.8844708
END:VEVENT
BEGIN:VEVENT
DTSTART;TZID=Pacific/Auckland:20270114T120000
DTEND;TZID=Pacific/Auckland:20270114T130000
DTSTAMP:20260420T101925
CREATED:20240922T231421Z
LAST-MODIFIED:20240922T231421Z
UID:10001366-1799928000-1799931600@taumarunui.co.nz
SUMMARY:Alcoholics Anonymous
DESCRIPTION:Step meeting every Thursday lunchtime
URL:https://taumarunui.co.nz/event/alcoholics-anonymous-2/2027-01-14/
LOCATION:250 Taupo Road\, Taupo Road\, Taumarunui\, 3920\, New Zealand
CATEGORIES:Clubs
GEO:-38.8844708;175.290787
X-APPLE-STRUCTURED-LOCATION;VALUE=URI;X-ADDRESS=250 Taupo Road Taupo Road Taumarunui 3920 New Zealand;X-APPLE-RADIUS=500;X-TITLE=Taupo Road:geo:175.290787,-38.8844708
END:VEVENT
BEGIN:VEVENT
DTSTART;TZID=Pacific/Auckland:20270121T120000
DTEND;TZID=Pacific/Auckland:20270121T130000
DTSTAMP:20260420T101925
CREATED:20240922T231421Z
LAST-MODIFIED:20240922T231421Z
UID:10001367-1800532800-1800536400@taumarunui.co.nz
SUMMARY:Alcoholics Anonymous
DESCRIPTION:Step meeting every Thursday lunchtime
URL:https://taumarunui.co.nz/event/alcoholics-anonymous-2/2027-01-21/
LOCATION:250 Taupo Road\, Taupo Road\, Taumarunui\, 3920\, New Zealand
CATEGORIES:Clubs
GEO:-38.8844708;175.290787
X-APPLE-STRUCTURED-LOCATION;VALUE=URI;X-ADDRESS=250 Taupo Road Taupo Road Taumarunui 3920 New Zealand;X-APPLE-RADIUS=500;X-TITLE=Taupo Road:geo:175.290787,-38.8844708
END:VEVENT
BEGIN:VEVENT
DTSTART;TZID=Pacific/Auckland:20270128T120000
DTEND;TZID=Pacific/Auckland:20270128T130000
DTSTAMP:20260420T101925
CREATED:20240922T231421Z
LAST-MODIFIED:20240922T231421Z
UID:10001368-1801137600-1801141200@taumarunui.co.nz
SUMMARY:Alcoholics Anonymous
DESCRIPTION:Step meeting every Thursday lunchtime
URL:https://taumarunui.co.nz/event/alcoholics-anonymous-2/2027-01-28/
LOCATION:250 Taupo Road\, Taupo Road\, Taumarunui\, 3920\, New Zealand
CATEGORIES:Clubs
GEO:-38.8844708;175.290787
X-APPLE-STRUCTURED-LOCATION;VALUE=URI;X-ADDRESS=250 Taupo Road Taupo Road Taumarunui 3920 New Zealand;X-APPLE-RADIUS=500;X-TITLE=Taupo Road:geo:175.290787,-38.8844708
END:VEVENT
BEGIN:VEVENT
DTSTART;TZID=Pacific/Auckland:20270204T120000
DTEND;TZID=Pacific/Auckland:20270204T130000
DTSTAMP:20260420T101925
CREATED:20240922T231421Z
LAST-MODIFIED:20240922T231421Z
UID:10001369-1801742400-1801746000@taumarunui.co.nz
SUMMARY:Alcoholics Anonymous
DESCRIPTION:Step meeting every Thursday lunchtime
URL:https://taumarunui.co.nz/event/alcoholics-anonymous-2/2027-02-04/
LOCATION:250 Taupo Road\, Taupo Road\, Taumarunui\, 3920\, New Zealand
CATEGORIES:Clubs
GEO:-38.8844708;175.290787
X-APPLE-STRUCTURED-LOCATION;VALUE=URI;X-ADDRESS=250 Taupo Road Taupo Road Taumarunui 3920 New Zealand;X-APPLE-RADIUS=500;X-TITLE=Taupo Road:geo:175.290787,-38.8844708
END:VEVENT
BEGIN:VEVENT
DTSTART;TZID=Pacific/Auckland:20270211T120000
DTEND;TZID=Pacific/Auckland:20270211T130000
DTSTAMP:20260420T101925
CREATED:20240922T231421Z
LAST-MODIFIED:20240922T231421Z
UID:10001370-1802347200-1802350800@taumarunui.co.nz
SUMMARY:Alcoholics Anonymous
DESCRIPTION:Step meeting every Thursday lunchtime
URL:https://taumarunui.co.nz/event/alcoholics-anonymous-2/2027-02-11/
LOCATION:250 Taupo Road\, Taupo Road\, Taumarunui\, 3920\, New Zealand
CATEGORIES:Clubs
GEO:-38.8844708;175.290787
X-APPLE-STRUCTURED-LOCATION;VALUE=URI;X-ADDRESS=250 Taupo Road Taupo Road Taumarunui 3920 New Zealand;X-APPLE-RADIUS=500;X-TITLE=Taupo Road:geo:175.290787,-38.8844708
END:VEVENT
BEGIN:VEVENT
DTSTART;TZID=Pacific/Auckland:20270218T120000
DTEND;TZID=Pacific/Auckland:20270218T130000
DTSTAMP:20260420T101925
CREATED:20240922T231421Z
LAST-MODIFIED:20240922T231421Z
UID:10001371-1802952000-1802955600@taumarunui.co.nz
SUMMARY:Alcoholics Anonymous
DESCRIPTION:Step meeting every Thursday lunchtime
URL:https://taumarunui.co.nz/event/alcoholics-anonymous-2/2027-02-18/
LOCATION:250 Taupo Road\, Taupo Road\, Taumarunui\, 3920\, New Zealand
CATEGORIES:Clubs
GEO:-38.8844708;175.290787
X-APPLE-STRUCTURED-LOCATION;VALUE=URI;X-ADDRESS=250 Taupo Road Taupo Road Taumarunui 3920 New Zealand;X-APPLE-RADIUS=500;X-TITLE=Taupo Road:geo:175.290787,-38.8844708
END:VEVENT
BEGIN:VEVENT
DTSTART;TZID=Pacific/Auckland:20270225T120000
DTEND;TZID=Pacific/Auckland:20270225T130000
DTSTAMP:20260420T101925
CREATED:20240922T231421Z
LAST-MODIFIED:20240922T231421Z
UID:10001372-1803556800-1803560400@taumarunui.co.nz
SUMMARY:Alcoholics Anonymous
DESCRIPTION:Step meeting every Thursday lunchtime
URL:https://taumarunui.co.nz/event/alcoholics-anonymous-2/2027-02-25/
LOCATION:250 Taupo Road\, Taupo Road\, Taumarunui\, 3920\, New Zealand
CATEGORIES:Clubs
GEO:-38.8844708;175.290787
X-APPLE-STRUCTURED-LOCATION;VALUE=URI;X-ADDRESS=250 Taupo Road Taupo Road Taumarunui 3920 New Zealand;X-APPLE-RADIUS=500;X-TITLE=Taupo Road:geo:175.290787,-38.8844708
END:VEVENT
BEGIN:VEVENT
DTSTART;TZID=Pacific/Auckland:20270304T120000
DTEND;TZID=Pacific/Auckland:20270304T130000
DTSTAMP:20260420T101925
CREATED:20240922T231421Z
LAST-MODIFIED:20240922T231421Z
UID:10001373-1804161600-1804165200@taumarunui.co.nz
SUMMARY:Alcoholics Anonymous
DESCRIPTION:Step meeting every Thursday lunchtime
URL:https://taumarunui.co.nz/event/alcoholics-anonymous-2/2027-03-04/
LOCATION:250 Taupo Road\, Taupo Road\, Taumarunui\, 3920\, New Zealand
CATEGORIES:Clubs
GEO:-38.8844708;175.290787
X-APPLE-STRUCTURED-LOCATION;VALUE=URI;X-ADDRESS=250 Taupo Road Taupo Road Taumarunui 3920 New Zealand;X-APPLE-RADIUS=500;X-TITLE=Taupo Road:geo:175.290787,-38.8844708
END:VEVENT
BEGIN:VEVENT
DTSTART;TZID=Pacific/Auckland:20270311T120000
DTEND;TZID=Pacific/Auckland:20270311T130000
DTSTAMP:20260420T101925
CREATED:20240922T231421Z
LAST-MODIFIED:20240922T231421Z
UID:10001374-1804766400-1804770000@taumarunui.co.nz
SUMMARY:Alcoholics Anonymous
DESCRIPTION:Step meeting every Thursday lunchtime
URL:https://taumarunui.co.nz/event/alcoholics-anonymous-2/2027-03-11/
LOCATION:250 Taupo Road\, Taupo Road\, Taumarunui\, 3920\, New Zealand
CATEGORIES:Clubs
GEO:-38.8844708;175.290787
X-APPLE-STRUCTURED-LOCATION;VALUE=URI;X-ADDRESS=250 Taupo Road Taupo Road Taumarunui 3920 New Zealand;X-APPLE-RADIUS=500;X-TITLE=Taupo Road:geo:175.290787,-38.8844708
END:VEVENT
BEGIN:VEVENT
DTSTART;TZID=Pacific/Auckland:20270318T120000
DTEND;TZID=Pacific/Auckland:20270318T130000
DTSTAMP:20260420T101925
CREATED:20240922T231421Z
LAST-MODIFIED:20240922T231421Z
UID:10001375-1805371200-1805374800@taumarunui.co.nz
SUMMARY:Alcoholics Anonymous
DESCRIPTION:Step meeting every Thursday lunchtime
URL:https://taumarunui.co.nz/event/alcoholics-anonymous-2/2027-03-18/
LOCATION:250 Taupo Road\, Taupo Road\, Taumarunui\, 3920\, New Zealand
CATEGORIES:Clubs
GEO:-38.8844708;175.290787
X-APPLE-STRUCTURED-LOCATION;VALUE=URI;X-ADDRESS=250 Taupo Road Taupo Road Taumarunui 3920 New Zealand;X-APPLE-RADIUS=500;X-TITLE=Taupo Road:geo:175.290787,-38.8844708
END:VEVENT
BEGIN:VEVENT
DTSTART;TZID=Pacific/Auckland:20270325T120000
DTEND;TZID=Pacific/Auckland:20270325T130000
DTSTAMP:20260420T101925
CREATED:20240922T231421Z
LAST-MODIFIED:20240922T231421Z
UID:10001376-1805976000-1805979600@taumarunui.co.nz
SUMMARY:Alcoholics Anonymous
DESCRIPTION:Step meeting every Thursday lunchtime
URL:https://taumarunui.co.nz/event/alcoholics-anonymous-2/2027-03-25/
LOCATION:250 Taupo Road\, Taupo Road\, Taumarunui\, 3920\, New Zealand
CATEGORIES:Clubs
GEO:-38.8844708;175.290787
X-APPLE-STRUCTURED-LOCATION;VALUE=URI;X-ADDRESS=250 Taupo Road Taupo Road Taumarunui 3920 New Zealand;X-APPLE-RADIUS=500;X-TITLE=Taupo Road:geo:175.290787,-38.8844708
END:VEVENT
BEGIN:VEVENT
DTSTART;TZID=Pacific/Auckland:20270401T120000
DTEND;TZID=Pacific/Auckland:20270401T130000
DTSTAMP:20260420T101925
CREATED:20240922T231421Z
LAST-MODIFIED:20240922T231421Z
UID:10001377-1806580800-1806584400@taumarunui.co.nz
SUMMARY:Alcoholics Anonymous
DESCRIPTION:Step meeting every Thursday lunchtime
URL:https://taumarunui.co.nz/event/alcoholics-anonymous-2/2027-04-01/
LOCATION:250 Taupo Road\, Taupo Road\, Taumarunui\, 3920\, New Zealand
CATEGORIES:Clubs
GEO:-38.8844708;175.290787
X-APPLE-STRUCTURED-LOCATION;VALUE=URI;X-ADDRESS=250 Taupo Road Taupo Road Taumarunui 3920 New Zealand;X-APPLE-RADIUS=500;X-TITLE=Taupo Road:geo:175.290787,-38.8844708
END:VEVENT
BEGIN:VEVENT
DTSTART;TZID=Pacific/Auckland:20270408T120000
DTEND;TZID=Pacific/Auckland:20270408T130000
DTSTAMP:20260420T101925
CREATED:20240922T231421Z
LAST-MODIFIED:20240922T231421Z
UID:10001378-1807185600-1807189200@taumarunui.co.nz
SUMMARY:Alcoholics Anonymous
DESCRIPTION:Step meeting every Thursday lunchtime
URL:https://taumarunui.co.nz/event/alcoholics-anonymous-2/2027-04-08/
LOCATION:250 Taupo Road\, Taupo Road\, Taumarunui\, 3920\, New Zealand
CATEGORIES:Clubs
GEO:-38.8844708;175.290787
X-APPLE-STRUCTURED-LOCATION;VALUE=URI;X-ADDRESS=250 Taupo Road Taupo Road Taumarunui 3920 New Zealand;X-APPLE-RADIUS=500;X-TITLE=Taupo Road:geo:175.290787,-38.8844708
END:VEVENT
BEGIN:VEVENT
DTSTART;TZID=Pacific/Auckland:20270415T120000
DTEND;TZID=Pacific/Auckland:20270415T130000
DTSTAMP:20260420T101925
CREATED:20240922T231421Z
LAST-MODIFIED:20240922T231421Z
UID:10001379-1807790400-1807794000@taumarunui.co.nz
SUMMARY:Alcoholics Anonymous
DESCRIPTION:Step meeting every Thursday lunchtime
URL:https://taumarunui.co.nz/event/alcoholics-anonymous-2/2027-04-15/
LOCATION:250 Taupo Road\, Taupo Road\, Taumarunui\, 3920\, New Zealand
CATEGORIES:Clubs
GEO:-38.8844708;175.290787
X-APPLE-STRUCTURED-LOCATION;VALUE=URI;X-ADDRESS=250 Taupo Road Taupo Road Taumarunui 3920 New Zealand;X-APPLE-RADIUS=500;X-TITLE=Taupo Road:geo:175.290787,-38.8844708
END:VEVENT
BEGIN:VEVENT
DTSTART;TZID=Pacific/Auckland:20270422T120000
DTEND;TZID=Pacific/Auckland:20270422T130000
DTSTAMP:20260420T101925
CREATED:20240922T231421Z
LAST-MODIFIED:20240922T231421Z
UID:10001380-1808395200-1808398800@taumarunui.co.nz
SUMMARY:Alcoholics Anonymous
DESCRIPTION:Step meeting every Thursday lunchtime
URL:https://taumarunui.co.nz/event/alcoholics-anonymous-2/2027-04-22/
LOCATION:250 Taupo Road\, Taupo Road\, Taumarunui\, 3920\, New Zealand
CATEGORIES:Clubs
GEO:-38.8844708;175.290787
X-APPLE-STRUCTURED-LOCATION;VALUE=URI;X-ADDRESS=250 Taupo Road Taupo Road Taumarunui 3920 New Zealand;X-APPLE-RADIUS=500;X-TITLE=Taupo Road:geo:175.290787,-38.8844708
END:VEVENT
BEGIN:VEVENT
DTSTART;TZID=Pacific/Auckland:20270429T120000
DTEND;TZID=Pacific/Auckland:20270429T130000
DTSTAMP:20260420T101925
CREATED:20240922T231421Z
LAST-MODIFIED:20240922T231421Z
UID:10001381-1809000000-1809003600@taumarunui.co.nz
SUMMARY:Alcoholics Anonymous
DESCRIPTION:Step meeting every Thursday lunchtime
URL:https://taumarunui.co.nz/event/alcoholics-anonymous-2/2027-04-29/
LOCATION:250 Taupo Road\, Taupo Road\, Taumarunui\, 3920\, New Zealand
CATEGORIES:Clubs
GEO:-38.8844708;175.290787
X-APPLE-STRUCTURED-LOCATION;VALUE=URI;X-ADDRESS=250 Taupo Road Taupo Road Taumarunui 3920 New Zealand;X-APPLE-RADIUS=500;X-TITLE=Taupo Road:geo:175.290787,-38.8844708
END:VEVENT
BEGIN:VEVENT
DTSTART;TZID=Pacific/Auckland:20270506T120000
DTEND;TZID=Pacific/Auckland:20270506T130000
DTSTAMP:20260420T101925
CREATED:20240922T231421Z
LAST-MODIFIED:20240922T231421Z
UID:10001382-1809604800-1809608400@taumarunui.co.nz
SUMMARY:Alcoholics Anonymous
DESCRIPTION:Step meeting every Thursday lunchtime
URL:https://taumarunui.co.nz/event/alcoholics-anonymous-2/2027-05-06/
LOCATION:250 Taupo Road\, Taupo Road\, Taumarunui\, 3920\, New Zealand
CATEGORIES:Clubs
GEO:-38.8844708;175.290787
X-APPLE-STRUCTURED-LOCATION;VALUE=URI;X-ADDRESS=250 Taupo Road Taupo Road Taumarunui 3920 New Zealand;X-APPLE-RADIUS=500;X-TITLE=Taupo Road:geo:175.290787,-38.8844708
END:VEVENT
BEGIN:VEVENT
DTSTART;TZID=Pacific/Auckland:20270513T120000
DTEND;TZID=Pacific/Auckland:20270513T130000
DTSTAMP:20260420T101925
CREATED:20240922T231421Z
LAST-MODIFIED:20240922T231421Z
UID:10001383-1810209600-1810213200@taumarunui.co.nz
SUMMARY:Alcoholics Anonymous
DESCRIPTION:Step meeting every Thursday lunchtime
URL:https://taumarunui.co.nz/event/alcoholics-anonymous-2/2027-05-13/
LOCATION:250 Taupo Road\, Taupo Road\, Taumarunui\, 3920\, New Zealand
CATEGORIES:Clubs
GEO:-38.8844708;175.290787
X-APPLE-STRUCTURED-LOCATION;VALUE=URI;X-ADDRESS=250 Taupo Road Taupo Road Taumarunui 3920 New Zealand;X-APPLE-RADIUS=500;X-TITLE=Taupo Road:geo:175.290787,-38.8844708
END:VEVENT
BEGIN:VEVENT
DTSTART;TZID=Pacific/Auckland:20270520T120000
DTEND;TZID=Pacific/Auckland:20270520T130000
DTSTAMP:20260420T101925
CREATED:20240922T231421Z
LAST-MODIFIED:20240922T231421Z
UID:10001384-1810814400-1810818000@taumarunui.co.nz
SUMMARY:Alcoholics Anonymous
DESCRIPTION:Step meeting every Thursday lunchtime
URL:https://taumarunui.co.nz/event/alcoholics-anonymous-2/2027-05-20/
LOCATION:250 Taupo Road\, Taupo Road\, Taumarunui\, 3920\, New Zealand
CATEGORIES:Clubs
GEO:-38.8844708;175.290787
X-APPLE-STRUCTURED-LOCATION;VALUE=URI;X-ADDRESS=250 Taupo Road Taupo Road Taumarunui 3920 New Zealand;X-APPLE-RADIUS=500;X-TITLE=Taupo Road:geo:175.290787,-38.8844708
END:VEVENT
BEGIN:VEVENT
DTSTART;TZID=Pacific/Auckland:20270527T120000
DTEND;TZID=Pacific/Auckland:20270527T130000
DTSTAMP:20260420T101925
CREATED:20240922T231421Z
LAST-MODIFIED:20240922T231421Z
UID:10001385-1811419200-1811422800@taumarunui.co.nz
SUMMARY:Alcoholics Anonymous
DESCRIPTION:Step meeting every Thursday lunchtime
URL:https://taumarunui.co.nz/event/alcoholics-anonymous-2/2027-05-27/
LOCATION:250 Taupo Road\, Taupo Road\, Taumarunui\, 3920\, New Zealand
CATEGORIES:Clubs
GEO:-38.8844708;175.290787
X-APPLE-STRUCTURED-LOCATION;VALUE=URI;X-ADDRESS=250 Taupo Road Taupo Road Taumarunui 3920 New Zealand;X-APPLE-RADIUS=500;X-TITLE=Taupo Road:geo:175.290787,-38.8844708
END:VEVENT
BEGIN:VEVENT
DTSTART;TZID=Pacific/Auckland:20270603T120000
DTEND;TZID=Pacific/Auckland:20270603T130000
DTSTAMP:20260420T101925
CREATED:20240922T231421Z
LAST-MODIFIED:20240922T231421Z
UID:10001386-1812024000-1812027600@taumarunui.co.nz
SUMMARY:Alcoholics Anonymous
DESCRIPTION:Step meeting every Thursday lunchtime
URL:https://taumarunui.co.nz/event/alcoholics-anonymous-2/2027-06-03/
LOCATION:250 Taupo Road\, Taupo Road\, Taumarunui\, 3920\, New Zealand
CATEGORIES:Clubs
GEO:-38.8844708;175.290787
X-APPLE-STRUCTURED-LOCATION;VALUE=URI;X-ADDRESS=250 Taupo Road Taupo Road Taumarunui 3920 New Zealand;X-APPLE-RADIUS=500;X-TITLE=Taupo Road:geo:175.290787,-38.8844708
END:VEVENT
BEGIN:VEVENT
DTSTART;TZID=Pacific/Auckland:20270610T120000
DTEND;TZID=Pacific/Auckland:20270610T130000
DTSTAMP:20260420T101925
CREATED:20240922T231421Z
LAST-MODIFIED:20240922T231421Z
UID:10001387-1812628800-1812632400@taumarunui.co.nz
SUMMARY:Alcoholics Anonymous
DESCRIPTION:Step meeting every Thursday lunchtime
URL:https://taumarunui.co.nz/event/alcoholics-anonymous-2/2027-06-10/
LOCATION:250 Taupo Road\, Taupo Road\, Taumarunui\, 3920\, New Zealand
CATEGORIES:Clubs
GEO:-38.8844708;175.290787
X-APPLE-STRUCTURED-LOCATION;VALUE=URI;X-ADDRESS=250 Taupo Road Taupo Road Taumarunui 3920 New Zealand;X-APPLE-RADIUS=500;X-TITLE=Taupo Road:geo:175.290787,-38.8844708
END:VEVENT
BEGIN:VEVENT
DTSTART;TZID=Pacific/Auckland:20270617T120000
DTEND;TZID=Pacific/Auckland:20270617T130000
DTSTAMP:20260420T101925
CREATED:20240922T231421Z
LAST-MODIFIED:20240922T231421Z
UID:10001388-1813233600-1813237200@taumarunui.co.nz
SUMMARY:Alcoholics Anonymous
DESCRIPTION:Step meeting every Thursday lunchtime
URL:https://taumarunui.co.nz/event/alcoholics-anonymous-2/2027-06-17/
LOCATION:250 Taupo Road\, Taupo Road\, Taumarunui\, 3920\, New Zealand
CATEGORIES:Clubs
GEO:-38.8844708;175.290787
X-APPLE-STRUCTURED-LOCATION;VALUE=URI;X-ADDRESS=250 Taupo Road Taupo Road Taumarunui 3920 New Zealand;X-APPLE-RADIUS=500;X-TITLE=Taupo Road:geo:175.290787,-38.8844708
END:VEVENT
BEGIN:VEVENT
DTSTART;TZID=Pacific/Auckland:20270624T120000
DTEND;TZID=Pacific/Auckland:20270624T130000
DTSTAMP:20260420T101925
CREATED:20240922T231421Z
LAST-MODIFIED:20240922T231421Z
UID:10001389-1813838400-1813842000@taumarunui.co.nz
SUMMARY:Alcoholics Anonymous
DESCRIPTION:Step meeting every Thursday lunchtime
URL:https://taumarunui.co.nz/event/alcoholics-anonymous-2/2027-06-24/
LOCATION:250 Taupo Road\, Taupo Road\, Taumarunui\, 3920\, New Zealand
CATEGORIES:Clubs
GEO:-38.8844708;175.290787
X-APPLE-STRUCTURED-LOCATION;VALUE=URI;X-ADDRESS=250 Taupo Road Taupo Road Taumarunui 3920 New Zealand;X-APPLE-RADIUS=500;X-TITLE=Taupo Road:geo:175.290787,-38.8844708
END:VEVENT
BEGIN:VEVENT
DTSTART;TZID=Pacific/Auckland:20270701T120000
DTEND;TZID=Pacific/Auckland:20270701T130000
DTSTAMP:20260420T101925
CREATED:20240922T231421Z
LAST-MODIFIED:20240922T231421Z
UID:10001390-1814443200-1814446800@taumarunui.co.nz
SUMMARY:Alcoholics Anonymous
DESCRIPTION:Step meeting every Thursday lunchtime
URL:https://taumarunui.co.nz/event/alcoholics-anonymous-2/2027-07-01/
LOCATION:250 Taupo Road\, Taupo Road\, Taumarunui\, 3920\, New Zealand
CATEGORIES:Clubs
GEO:-38.8844708;175.290787
X-APPLE-STRUCTURED-LOCATION;VALUE=URI;X-ADDRESS=250 Taupo Road Taupo Road Taumarunui 3920 New Zealand;X-APPLE-RADIUS=500;X-TITLE=Taupo Road:geo:175.290787,-38.8844708
END:VEVENT
BEGIN:VEVENT
DTSTART;TZID=Pacific/Auckland:20270708T120000
DTEND;TZID=Pacific/Auckland:20270708T130000
DTSTAMP:20260420T101925
CREATED:20240922T231421Z
LAST-MODIFIED:20240922T231421Z
UID:10001391-1815048000-1815051600@taumarunui.co.nz
SUMMARY:Alcoholics Anonymous
DESCRIPTION:Step meeting every Thursday lunchtime
URL:https://taumarunui.co.nz/event/alcoholics-anonymous-2/2027-07-08/
LOCATION:250 Taupo Road\, Taupo Road\, Taumarunui\, 3920\, New Zealand
CATEGORIES:Clubs
GEO:-38.8844708;175.290787
X-APPLE-STRUCTURED-LOCATION;VALUE=URI;X-ADDRESS=250 Taupo Road Taupo Road Taumarunui 3920 New Zealand;X-APPLE-RADIUS=500;X-TITLE=Taupo Road:geo:175.290787,-38.8844708
END:VEVENT
BEGIN:VEVENT
DTSTART;TZID=Pacific/Auckland:20270715T120000
DTEND;TZID=Pacific/Auckland:20270715T130000
DTSTAMP:20260420T101925
CREATED:20240922T231421Z
LAST-MODIFIED:20240922T231421Z
UID:10001392-1815652800-1815656400@taumarunui.co.nz
SUMMARY:Alcoholics Anonymous
DESCRIPTION:Step meeting every Thursday lunchtime
URL:https://taumarunui.co.nz/event/alcoholics-anonymous-2/2027-07-15/
LOCATION:250 Taupo Road\, Taupo Road\, Taumarunui\, 3920\, New Zealand
CATEGORIES:Clubs
GEO:-38.8844708;175.290787
X-APPLE-STRUCTURED-LOCATION;VALUE=URI;X-ADDRESS=250 Taupo Road Taupo Road Taumarunui 3920 New Zealand;X-APPLE-RADIUS=500;X-TITLE=Taupo Road:geo:175.290787,-38.8844708
END:VEVENT
BEGIN:VEVENT
DTSTART;TZID=Pacific/Auckland:20270722T120000
DTEND;TZID=Pacific/Auckland:20270722T130000
DTSTAMP:20260420T101925
CREATED:20240922T231421Z
LAST-MODIFIED:20240922T231421Z
UID:10001393-1816257600-1816261200@taumarunui.co.nz
SUMMARY:Alcoholics Anonymous
DESCRIPTION:Step meeting every Thursday lunchtime
URL:https://taumarunui.co.nz/event/alcoholics-anonymous-2/2027-07-22/
LOCATION:250 Taupo Road\, Taupo Road\, Taumarunui\, 3920\, New Zealand
CATEGORIES:Clubs
GEO:-38.8844708;175.290787
X-APPLE-STRUCTURED-LOCATION;VALUE=URI;X-ADDRESS=250 Taupo Road Taupo Road Taumarunui 3920 New Zealand;X-APPLE-RADIUS=500;X-TITLE=Taupo Road:geo:175.290787,-38.8844708
END:VEVENT
END:VCALENDAR