BEGIN:VCALENDAR
VERSION:2.0
PRODID:-//Taumarunui - ECPv6.15.16//NONSGML v1.0//EN
CALSCALE:GREGORIAN
METHOD:PUBLISH
X-ORIGINAL-URL:https://taumarunui.co.nz
X-WR-CALDESC:Events for Taumarunui
REFRESH-INTERVAL;VALUE=DURATION:PT1H
X-Robots-Tag:noindex
X-PUBLISHED-TTL:PT1H
BEGIN:VTIMEZONE
TZID:Pacific/Auckland
BEGIN:STANDARD
TZOFFSETFROM:+1300
TZOFFSETTO:+1200
TZNAME:NZST
DTSTART:20240406T140000
END:STANDARD
BEGIN:DAYLIGHT
TZOFFSETFROM:+1200
TZOFFSETTO:+1300
TZNAME:NZDT
DTSTART:20240928T140000
END:DAYLIGHT
BEGIN:STANDARD
TZOFFSETFROM:+1300
TZOFFSETTO:+1200
TZNAME:NZST
DTSTART:20250405T140000
END:STANDARD
BEGIN:DAYLIGHT
TZOFFSETFROM:+1200
TZOFFSETTO:+1300
TZNAME:NZDT
DTSTART:20250927T140000
END:DAYLIGHT
BEGIN:STANDARD
TZOFFSETFROM:+1300
TZOFFSETTO:+1200
TZNAME:NZST
DTSTART:20260404T140000
END:STANDARD
BEGIN:DAYLIGHT
TZOFFSETFROM:+1200
TZOFFSETTO:+1300
TZNAME:NZDT
DTSTART:20260926T140000
END:DAYLIGHT
BEGIN:STANDARD
TZOFFSETFROM:+1300
TZOFFSETTO:+1200
TZNAME:NZST
DTSTART:20270403T140000
END:STANDARD
BEGIN:DAYLIGHT
TZOFFSETFROM:+1200
TZOFFSETTO:+1300
TZNAME:NZDT
DTSTART:20270925T140000
END:DAYLIGHT
END:VTIMEZONE
BEGIN:VEVENT
DTSTART;TZID=Pacific/Auckland:20260122T120000
DTEND;TZID=Pacific/Auckland:20260122T130000
DTSTAMP:20260420T120510
CREATED:20240922T231421Z
LAST-MODIFIED:20240922T231421Z
UID:10001315-1769083200-1769086800@taumarunui.co.nz
SUMMARY:Alcoholics Anonymous
DESCRIPTION:Step meeting every Thursday lunchtime
URL:https://taumarunui.co.nz/event/alcoholics-anonymous-2/2026-01-22/
LOCATION:250 Taupo Road\, Taupo Road\, Taumarunui\, 3920\, New Zealand
CATEGORIES:Clubs
GEO:-38.8844708;175.290787
X-APPLE-STRUCTURED-LOCATION;VALUE=URI;X-ADDRESS=250 Taupo Road Taupo Road Taumarunui 3920 New Zealand;X-APPLE-RADIUS=500;X-TITLE=Taupo Road:geo:175.290787,-38.8844708
END:VEVENT
BEGIN:VEVENT
DTSTART;TZID=Pacific/Auckland:20260115T120000
DTEND;TZID=Pacific/Auckland:20260115T130000
DTSTAMP:20260420T120510
CREATED:20240922T231421Z
LAST-MODIFIED:20240922T231421Z
UID:10001314-1768478400-1768482000@taumarunui.co.nz
SUMMARY:Alcoholics Anonymous
DESCRIPTION:Step meeting every Thursday lunchtime
URL:https://taumarunui.co.nz/event/alcoholics-anonymous-2/2026-01-15/
LOCATION:250 Taupo Road\, Taupo Road\, Taumarunui\, 3920\, New Zealand
CATEGORIES:Clubs
GEO:-38.8844708;175.290787
X-APPLE-STRUCTURED-LOCATION;VALUE=URI;X-ADDRESS=250 Taupo Road Taupo Road Taumarunui 3920 New Zealand;X-APPLE-RADIUS=500;X-TITLE=Taupo Road:geo:175.290787,-38.8844708
END:VEVENT
BEGIN:VEVENT
DTSTART;TZID=Pacific/Auckland:20260108T120000
DTEND;TZID=Pacific/Auckland:20260108T130000
DTSTAMP:20260420T120510
CREATED:20240922T231421Z
LAST-MODIFIED:20240922T231421Z
UID:10001313-1767873600-1767877200@taumarunui.co.nz
SUMMARY:Alcoholics Anonymous
DESCRIPTION:Step meeting every Thursday lunchtime
URL:https://taumarunui.co.nz/event/alcoholics-anonymous-2/2026-01-08/
LOCATION:250 Taupo Road\, Taupo Road\, Taumarunui\, 3920\, New Zealand
CATEGORIES:Clubs
GEO:-38.8844708;175.290787
X-APPLE-STRUCTURED-LOCATION;VALUE=URI;X-ADDRESS=250 Taupo Road Taupo Road Taumarunui 3920 New Zealand;X-APPLE-RADIUS=500;X-TITLE=Taupo Road:geo:175.290787,-38.8844708
END:VEVENT
BEGIN:VEVENT
DTSTART;TZID=Pacific/Auckland:20260101T120000
DTEND;TZID=Pacific/Auckland:20260101T130000
DTSTAMP:20260420T120510
CREATED:20240922T231421Z
LAST-MODIFIED:20240922T231421Z
UID:10001312-1767268800-1767272400@taumarunui.co.nz
SUMMARY:Alcoholics Anonymous
DESCRIPTION:Step meeting every Thursday lunchtime
URL:https://taumarunui.co.nz/event/alcoholics-anonymous-2/2026-01-01/
LOCATION:250 Taupo Road\, Taupo Road\, Taumarunui\, 3920\, New Zealand
CATEGORIES:Clubs
GEO:-38.8844708;175.290787
X-APPLE-STRUCTURED-LOCATION;VALUE=URI;X-ADDRESS=250 Taupo Road Taupo Road Taumarunui 3920 New Zealand;X-APPLE-RADIUS=500;X-TITLE=Taupo Road:geo:175.290787,-38.8844708
END:VEVENT
BEGIN:VEVENT
DTSTART;TZID=Pacific/Auckland:20251225T120000
DTEND;TZID=Pacific/Auckland:20251225T130000
DTSTAMP:20260420T120510
CREATED:20240922T231421Z
LAST-MODIFIED:20240922T231421Z
UID:10001311-1766664000-1766667600@taumarunui.co.nz
SUMMARY:Alcoholics Anonymous
DESCRIPTION:Step meeting every Thursday lunchtime
URL:https://taumarunui.co.nz/event/alcoholics-anonymous-2/2025-12-25/
LOCATION:250 Taupo Road\, Taupo Road\, Taumarunui\, 3920\, New Zealand
CATEGORIES:Clubs
GEO:-38.8844708;175.290787
X-APPLE-STRUCTURED-LOCATION;VALUE=URI;X-ADDRESS=250 Taupo Road Taupo Road Taumarunui 3920 New Zealand;X-APPLE-RADIUS=500;X-TITLE=Taupo Road:geo:175.290787,-38.8844708
END:VEVENT
BEGIN:VEVENT
DTSTART;TZID=Pacific/Auckland:20251218T120000
DTEND;TZID=Pacific/Auckland:20251218T130000
DTSTAMP:20260420T120510
CREATED:20240922T231421Z
LAST-MODIFIED:20240922T231421Z
UID:10001310-1766059200-1766062800@taumarunui.co.nz
SUMMARY:Alcoholics Anonymous
DESCRIPTION:Step meeting every Thursday lunchtime
URL:https://taumarunui.co.nz/event/alcoholics-anonymous-2/2025-12-18/
LOCATION:250 Taupo Road\, Taupo Road\, Taumarunui\, 3920\, New Zealand
CATEGORIES:Clubs
GEO:-38.8844708;175.290787
X-APPLE-STRUCTURED-LOCATION;VALUE=URI;X-ADDRESS=250 Taupo Road Taupo Road Taumarunui 3920 New Zealand;X-APPLE-RADIUS=500;X-TITLE=Taupo Road:geo:175.290787,-38.8844708
END:VEVENT
BEGIN:VEVENT
DTSTART;TZID=Pacific/Auckland:20251211T120000
DTEND;TZID=Pacific/Auckland:20251211T130000
DTSTAMP:20260420T120510
CREATED:20240922T231421Z
LAST-MODIFIED:20240922T231421Z
UID:10001309-1765454400-1765458000@taumarunui.co.nz
SUMMARY:Alcoholics Anonymous
DESCRIPTION:Step meeting every Thursday lunchtime
URL:https://taumarunui.co.nz/event/alcoholics-anonymous-2/2025-12-11/
LOCATION:250 Taupo Road\, Taupo Road\, Taumarunui\, 3920\, New Zealand
CATEGORIES:Clubs
GEO:-38.8844708;175.290787
X-APPLE-STRUCTURED-LOCATION;VALUE=URI;X-ADDRESS=250 Taupo Road Taupo Road Taumarunui 3920 New Zealand;X-APPLE-RADIUS=500;X-TITLE=Taupo Road:geo:175.290787,-38.8844708
END:VEVENT
BEGIN:VEVENT
DTSTART;TZID=Pacific/Auckland:20251204T120000
DTEND;TZID=Pacific/Auckland:20251204T130000
DTSTAMP:20260420T120510
CREATED:20240922T231421Z
LAST-MODIFIED:20240922T231421Z
UID:10001308-1764849600-1764853200@taumarunui.co.nz
SUMMARY:Alcoholics Anonymous
DESCRIPTION:Step meeting every Thursday lunchtime
URL:https://taumarunui.co.nz/event/alcoholics-anonymous-2/2025-12-04/
LOCATION:250 Taupo Road\, Taupo Road\, Taumarunui\, 3920\, New Zealand
CATEGORIES:Clubs
GEO:-38.8844708;175.290787
X-APPLE-STRUCTURED-LOCATION;VALUE=URI;X-ADDRESS=250 Taupo Road Taupo Road Taumarunui 3920 New Zealand;X-APPLE-RADIUS=500;X-TITLE=Taupo Road:geo:175.290787,-38.8844708
END:VEVENT
BEGIN:VEVENT
DTSTART;TZID=Pacific/Auckland:20251127T120000
DTEND;TZID=Pacific/Auckland:20251127T130000
DTSTAMP:20260420T120510
CREATED:20240922T231421Z
LAST-MODIFIED:20240922T231421Z
UID:10001307-1764244800-1764248400@taumarunui.co.nz
SUMMARY:Alcoholics Anonymous
DESCRIPTION:Step meeting every Thursday lunchtime
URL:https://taumarunui.co.nz/event/alcoholics-anonymous-2/2025-11-27/
LOCATION:250 Taupo Road\, Taupo Road\, Taumarunui\, 3920\, New Zealand
CATEGORIES:Clubs
GEO:-38.8844708;175.290787
X-APPLE-STRUCTURED-LOCATION;VALUE=URI;X-ADDRESS=250 Taupo Road Taupo Road Taumarunui 3920 New Zealand;X-APPLE-RADIUS=500;X-TITLE=Taupo Road:geo:175.290787,-38.8844708
END:VEVENT
BEGIN:VEVENT
DTSTART;TZID=Pacific/Auckland:20251120T120000
DTEND;TZID=Pacific/Auckland:20251120T130000
DTSTAMP:20260420T120510
CREATED:20240922T231421Z
LAST-MODIFIED:20240922T231421Z
UID:10001306-1763640000-1763643600@taumarunui.co.nz
SUMMARY:Alcoholics Anonymous
DESCRIPTION:Step meeting every Thursday lunchtime
URL:https://taumarunui.co.nz/event/alcoholics-anonymous-2/2025-11-20/
LOCATION:250 Taupo Road\, Taupo Road\, Taumarunui\, 3920\, New Zealand
CATEGORIES:Clubs
GEO:-38.8844708;175.290787
X-APPLE-STRUCTURED-LOCATION;VALUE=URI;X-ADDRESS=250 Taupo Road Taupo Road Taumarunui 3920 New Zealand;X-APPLE-RADIUS=500;X-TITLE=Taupo Road:geo:175.290787,-38.8844708
END:VEVENT
BEGIN:VEVENT
DTSTART;TZID=Pacific/Auckland:20251113T120000
DTEND;TZID=Pacific/Auckland:20251113T130000
DTSTAMP:20260420T120510
CREATED:20240922T231421Z
LAST-MODIFIED:20240922T231421Z
UID:10001305-1763035200-1763038800@taumarunui.co.nz
SUMMARY:Alcoholics Anonymous
DESCRIPTION:Step meeting every Thursday lunchtime
URL:https://taumarunui.co.nz/event/alcoholics-anonymous-2/2025-11-13/
LOCATION:250 Taupo Road\, Taupo Road\, Taumarunui\, 3920\, New Zealand
CATEGORIES:Clubs
GEO:-38.8844708;175.290787
X-APPLE-STRUCTURED-LOCATION;VALUE=URI;X-ADDRESS=250 Taupo Road Taupo Road Taumarunui 3920 New Zealand;X-APPLE-RADIUS=500;X-TITLE=Taupo Road:geo:175.290787,-38.8844708
END:VEVENT
BEGIN:VEVENT
DTSTART;TZID=Pacific/Auckland:20251106T120000
DTEND;TZID=Pacific/Auckland:20251106T130000
DTSTAMP:20260420T120510
CREATED:20240922T231421Z
LAST-MODIFIED:20240922T231421Z
UID:10001304-1762430400-1762434000@taumarunui.co.nz
SUMMARY:Alcoholics Anonymous
DESCRIPTION:Step meeting every Thursday lunchtime
URL:https://taumarunui.co.nz/event/alcoholics-anonymous-2/2025-11-06/
LOCATION:250 Taupo Road\, Taupo Road\, Taumarunui\, 3920\, New Zealand
CATEGORIES:Clubs
GEO:-38.8844708;175.290787
X-APPLE-STRUCTURED-LOCATION;VALUE=URI;X-ADDRESS=250 Taupo Road Taupo Road Taumarunui 3920 New Zealand;X-APPLE-RADIUS=500;X-TITLE=Taupo Road:geo:175.290787,-38.8844708
END:VEVENT
BEGIN:VEVENT
DTSTART;TZID=Pacific/Auckland:20251030T120000
DTEND;TZID=Pacific/Auckland:20251030T130000
DTSTAMP:20260420T120510
CREATED:20240922T231421Z
LAST-MODIFIED:20240922T231421Z
UID:10001303-1761825600-1761829200@taumarunui.co.nz
SUMMARY:Alcoholics Anonymous
DESCRIPTION:Step meeting every Thursday lunchtime
URL:https://taumarunui.co.nz/event/alcoholics-anonymous-2/2025-10-30/
LOCATION:250 Taupo Road\, Taupo Road\, Taumarunui\, 3920\, New Zealand
CATEGORIES:Clubs
GEO:-38.8844708;175.290787
X-APPLE-STRUCTURED-LOCATION;VALUE=URI;X-ADDRESS=250 Taupo Road Taupo Road Taumarunui 3920 New Zealand;X-APPLE-RADIUS=500;X-TITLE=Taupo Road:geo:175.290787,-38.8844708
END:VEVENT
BEGIN:VEVENT
DTSTART;TZID=Pacific/Auckland:20251023T120000
DTEND;TZID=Pacific/Auckland:20251023T130000
DTSTAMP:20260420T120510
CREATED:20240922T231421Z
LAST-MODIFIED:20240922T231421Z
UID:10001302-1761220800-1761224400@taumarunui.co.nz
SUMMARY:Alcoholics Anonymous
DESCRIPTION:Step meeting every Thursday lunchtime
URL:https://taumarunui.co.nz/event/alcoholics-anonymous-2/2025-10-23/
LOCATION:250 Taupo Road\, Taupo Road\, Taumarunui\, 3920\, New Zealand
CATEGORIES:Clubs
GEO:-38.8844708;175.290787
X-APPLE-STRUCTURED-LOCATION;VALUE=URI;X-ADDRESS=250 Taupo Road Taupo Road Taumarunui 3920 New Zealand;X-APPLE-RADIUS=500;X-TITLE=Taupo Road:geo:175.290787,-38.8844708
END:VEVENT
BEGIN:VEVENT
DTSTART;TZID=Pacific/Auckland:20251016T120000
DTEND;TZID=Pacific/Auckland:20251016T130000
DTSTAMP:20260420T120510
CREATED:20240922T231421Z
LAST-MODIFIED:20240922T231421Z
UID:10001301-1760616000-1760619600@taumarunui.co.nz
SUMMARY:Alcoholics Anonymous
DESCRIPTION:Step meeting every Thursday lunchtime
URL:https://taumarunui.co.nz/event/alcoholics-anonymous-2/2025-10-16/
LOCATION:250 Taupo Road\, Taupo Road\, Taumarunui\, 3920\, New Zealand
CATEGORIES:Clubs
GEO:-38.8844708;175.290787
X-APPLE-STRUCTURED-LOCATION;VALUE=URI;X-ADDRESS=250 Taupo Road Taupo Road Taumarunui 3920 New Zealand;X-APPLE-RADIUS=500;X-TITLE=Taupo Road:geo:175.290787,-38.8844708
END:VEVENT
BEGIN:VEVENT
DTSTART;TZID=Pacific/Auckland:20251009T120000
DTEND;TZID=Pacific/Auckland:20251009T130000
DTSTAMP:20260420T120510
CREATED:20240922T231421Z
LAST-MODIFIED:20240922T231421Z
UID:10001300-1760011200-1760014800@taumarunui.co.nz
SUMMARY:Alcoholics Anonymous
DESCRIPTION:Step meeting every Thursday lunchtime
URL:https://taumarunui.co.nz/event/alcoholics-anonymous-2/2025-10-09/
LOCATION:250 Taupo Road\, Taupo Road\, Taumarunui\, 3920\, New Zealand
CATEGORIES:Clubs
GEO:-38.8844708;175.290787
X-APPLE-STRUCTURED-LOCATION;VALUE=URI;X-ADDRESS=250 Taupo Road Taupo Road Taumarunui 3920 New Zealand;X-APPLE-RADIUS=500;X-TITLE=Taupo Road:geo:175.290787,-38.8844708
END:VEVENT
BEGIN:VEVENT
DTSTART;TZID=Pacific/Auckland:20251002T120000
DTEND;TZID=Pacific/Auckland:20251002T130000
DTSTAMP:20260420T120510
CREATED:20240922T231421Z
LAST-MODIFIED:20240922T231421Z
UID:10001299-1759406400-1759410000@taumarunui.co.nz
SUMMARY:Alcoholics Anonymous
DESCRIPTION:Step meeting every Thursday lunchtime
URL:https://taumarunui.co.nz/event/alcoholics-anonymous-2/2025-10-02/
LOCATION:250 Taupo Road\, Taupo Road\, Taumarunui\, 3920\, New Zealand
CATEGORIES:Clubs
GEO:-38.8844708;175.290787
X-APPLE-STRUCTURED-LOCATION;VALUE=URI;X-ADDRESS=250 Taupo Road Taupo Road Taumarunui 3920 New Zealand;X-APPLE-RADIUS=500;X-TITLE=Taupo Road:geo:175.290787,-38.8844708
END:VEVENT
BEGIN:VEVENT
DTSTART;TZID=Pacific/Auckland:20250925T120000
DTEND;TZID=Pacific/Auckland:20250925T130000
DTSTAMP:20260420T120510
CREATED:20240922T231421Z
LAST-MODIFIED:20240922T231421Z
UID:10001298-1758801600-1758805200@taumarunui.co.nz
SUMMARY:Alcoholics Anonymous
DESCRIPTION:Step meeting every Thursday lunchtime
URL:https://taumarunui.co.nz/event/alcoholics-anonymous-2/2025-09-25/
LOCATION:250 Taupo Road\, Taupo Road\, Taumarunui\, 3920\, New Zealand
CATEGORIES:Clubs
GEO:-38.8844708;175.290787
X-APPLE-STRUCTURED-LOCATION;VALUE=URI;X-ADDRESS=250 Taupo Road Taupo Road Taumarunui 3920 New Zealand;X-APPLE-RADIUS=500;X-TITLE=Taupo Road:geo:175.290787,-38.8844708
END:VEVENT
BEGIN:VEVENT
DTSTART;TZID=Pacific/Auckland:20250918T120000
DTEND;TZID=Pacific/Auckland:20250918T130000
DTSTAMP:20260420T120510
CREATED:20240922T231421Z
LAST-MODIFIED:20240922T231421Z
UID:10001297-1758196800-1758200400@taumarunui.co.nz
SUMMARY:Alcoholics Anonymous
DESCRIPTION:Step meeting every Thursday lunchtime
URL:https://taumarunui.co.nz/event/alcoholics-anonymous-2/2025-09-18/
LOCATION:250 Taupo Road\, Taupo Road\, Taumarunui\, 3920\, New Zealand
CATEGORIES:Clubs
GEO:-38.8844708;175.290787
X-APPLE-STRUCTURED-LOCATION;VALUE=URI;X-ADDRESS=250 Taupo Road Taupo Road Taumarunui 3920 New Zealand;X-APPLE-RADIUS=500;X-TITLE=Taupo Road:geo:175.290787,-38.8844708
END:VEVENT
BEGIN:VEVENT
DTSTART;TZID=Pacific/Auckland:20250911T120000
DTEND;TZID=Pacific/Auckland:20250911T130000
DTSTAMP:20260420T120510
CREATED:20240922T231421Z
LAST-MODIFIED:20240922T231421Z
UID:10001296-1757592000-1757595600@taumarunui.co.nz
SUMMARY:Alcoholics Anonymous
DESCRIPTION:Step meeting every Thursday lunchtime
URL:https://taumarunui.co.nz/event/alcoholics-anonymous-2/2025-09-11/
LOCATION:250 Taupo Road\, Taupo Road\, Taumarunui\, 3920\, New Zealand
CATEGORIES:Clubs
GEO:-38.8844708;175.290787
X-APPLE-STRUCTURED-LOCATION;VALUE=URI;X-ADDRESS=250 Taupo Road Taupo Road Taumarunui 3920 New Zealand;X-APPLE-RADIUS=500;X-TITLE=Taupo Road:geo:175.290787,-38.8844708
END:VEVENT
BEGIN:VEVENT
DTSTART;TZID=Pacific/Auckland:20250904T120000
DTEND;TZID=Pacific/Auckland:20250904T130000
DTSTAMP:20260420T120510
CREATED:20240922T231421Z
LAST-MODIFIED:20240922T231421Z
UID:10001295-1756987200-1756990800@taumarunui.co.nz
SUMMARY:Alcoholics Anonymous
DESCRIPTION:Step meeting every Thursday lunchtime
URL:https://taumarunui.co.nz/event/alcoholics-anonymous-2/2025-09-04/
LOCATION:250 Taupo Road\, Taupo Road\, Taumarunui\, 3920\, New Zealand
CATEGORIES:Clubs
GEO:-38.8844708;175.290787
X-APPLE-STRUCTURED-LOCATION;VALUE=URI;X-ADDRESS=250 Taupo Road Taupo Road Taumarunui 3920 New Zealand;X-APPLE-RADIUS=500;X-TITLE=Taupo Road:geo:175.290787,-38.8844708
END:VEVENT
BEGIN:VEVENT
DTSTART;TZID=Pacific/Auckland:20250828T120000
DTEND;TZID=Pacific/Auckland:20250828T130000
DTSTAMP:20260420T120510
CREATED:20240922T231421Z
LAST-MODIFIED:20240922T231421Z
UID:10001294-1756382400-1756386000@taumarunui.co.nz
SUMMARY:Alcoholics Anonymous
DESCRIPTION:Step meeting every Thursday lunchtime
URL:https://taumarunui.co.nz/event/alcoholics-anonymous-2/2025-08-28/
LOCATION:250 Taupo Road\, Taupo Road\, Taumarunui\, 3920\, New Zealand
CATEGORIES:Clubs
GEO:-38.8844708;175.290787
X-APPLE-STRUCTURED-LOCATION;VALUE=URI;X-ADDRESS=250 Taupo Road Taupo Road Taumarunui 3920 New Zealand;X-APPLE-RADIUS=500;X-TITLE=Taupo Road:geo:175.290787,-38.8844708
END:VEVENT
BEGIN:VEVENT
DTSTART;TZID=Pacific/Auckland:20250821T120000
DTEND;TZID=Pacific/Auckland:20250821T130000
DTSTAMP:20260420T120510
CREATED:20240922T231421Z
LAST-MODIFIED:20240922T231421Z
UID:10001293-1755777600-1755781200@taumarunui.co.nz
SUMMARY:Alcoholics Anonymous
DESCRIPTION:Step meeting every Thursday lunchtime
URL:https://taumarunui.co.nz/event/alcoholics-anonymous-2/2025-08-21/
LOCATION:250 Taupo Road\, Taupo Road\, Taumarunui\, 3920\, New Zealand
CATEGORIES:Clubs
GEO:-38.8844708;175.290787
X-APPLE-STRUCTURED-LOCATION;VALUE=URI;X-ADDRESS=250 Taupo Road Taupo Road Taumarunui 3920 New Zealand;X-APPLE-RADIUS=500;X-TITLE=Taupo Road:geo:175.290787,-38.8844708
END:VEVENT
BEGIN:VEVENT
DTSTART;TZID=Pacific/Auckland:20250814T120000
DTEND;TZID=Pacific/Auckland:20250814T130000
DTSTAMP:20260420T120510
CREATED:20240922T231421Z
LAST-MODIFIED:20240922T231421Z
UID:10001292-1755172800-1755176400@taumarunui.co.nz
SUMMARY:Alcoholics Anonymous
DESCRIPTION:Step meeting every Thursday lunchtime
URL:https://taumarunui.co.nz/event/alcoholics-anonymous-2/2025-08-14/
LOCATION:250 Taupo Road\, Taupo Road\, Taumarunui\, 3920\, New Zealand
CATEGORIES:Clubs
GEO:-38.8844708;175.290787
X-APPLE-STRUCTURED-LOCATION;VALUE=URI;X-ADDRESS=250 Taupo Road Taupo Road Taumarunui 3920 New Zealand;X-APPLE-RADIUS=500;X-TITLE=Taupo Road:geo:175.290787,-38.8844708
END:VEVENT
BEGIN:VEVENT
DTSTART;TZID=Pacific/Auckland:20250807T120000
DTEND;TZID=Pacific/Auckland:20250807T130000
DTSTAMP:20260420T120510
CREATED:20240922T231421Z
LAST-MODIFIED:20240922T231421Z
UID:10001291-1754568000-1754571600@taumarunui.co.nz
SUMMARY:Alcoholics Anonymous
DESCRIPTION:Step meeting every Thursday lunchtime
URL:https://taumarunui.co.nz/event/alcoholics-anonymous-2/2025-08-07/
LOCATION:250 Taupo Road\, Taupo Road\, Taumarunui\, 3920\, New Zealand
CATEGORIES:Clubs
GEO:-38.8844708;175.290787
X-APPLE-STRUCTURED-LOCATION;VALUE=URI;X-ADDRESS=250 Taupo Road Taupo Road Taumarunui 3920 New Zealand;X-APPLE-RADIUS=500;X-TITLE=Taupo Road:geo:175.290787,-38.8844708
END:VEVENT
BEGIN:VEVENT
DTSTART;TZID=Pacific/Auckland:20250731T120000
DTEND;TZID=Pacific/Auckland:20250731T130000
DTSTAMP:20260420T120510
CREATED:20240922T231421Z
LAST-MODIFIED:20240922T231421Z
UID:10001290-1753963200-1753966800@taumarunui.co.nz
SUMMARY:Alcoholics Anonymous
DESCRIPTION:Step meeting every Thursday lunchtime
URL:https://taumarunui.co.nz/event/alcoholics-anonymous-2/2025-07-31/
LOCATION:250 Taupo Road\, Taupo Road\, Taumarunui\, 3920\, New Zealand
CATEGORIES:Clubs
GEO:-38.8844708;175.290787
X-APPLE-STRUCTURED-LOCATION;VALUE=URI;X-ADDRESS=250 Taupo Road Taupo Road Taumarunui 3920 New Zealand;X-APPLE-RADIUS=500;X-TITLE=Taupo Road:geo:175.290787,-38.8844708
END:VEVENT
BEGIN:VEVENT
DTSTART;TZID=Pacific/Auckland:20250724T120000
DTEND;TZID=Pacific/Auckland:20250724T130000
DTSTAMP:20260420T120510
CREATED:20240922T231421Z
LAST-MODIFIED:20240922T231421Z
UID:10001289-1753358400-1753362000@taumarunui.co.nz
SUMMARY:Alcoholics Anonymous
DESCRIPTION:Step meeting every Thursday lunchtime
URL:https://taumarunui.co.nz/event/alcoholics-anonymous-2/2025-07-24/
LOCATION:250 Taupo Road\, Taupo Road\, Taumarunui\, 3920\, New Zealand
CATEGORIES:Clubs
GEO:-38.8844708;175.290787
X-APPLE-STRUCTURED-LOCATION;VALUE=URI;X-ADDRESS=250 Taupo Road Taupo Road Taumarunui 3920 New Zealand;X-APPLE-RADIUS=500;X-TITLE=Taupo Road:geo:175.290787,-38.8844708
END:VEVENT
BEGIN:VEVENT
DTSTART;TZID=Pacific/Auckland:20250717T120000
DTEND;TZID=Pacific/Auckland:20250717T130000
DTSTAMP:20260420T120510
CREATED:20240922T231421Z
LAST-MODIFIED:20240922T231421Z
UID:10001288-1752753600-1752757200@taumarunui.co.nz
SUMMARY:Alcoholics Anonymous
DESCRIPTION:Step meeting every Thursday lunchtime
URL:https://taumarunui.co.nz/event/alcoholics-anonymous-2/2025-07-17/
LOCATION:250 Taupo Road\, Taupo Road\, Taumarunui\, 3920\, New Zealand
CATEGORIES:Clubs
GEO:-38.8844708;175.290787
X-APPLE-STRUCTURED-LOCATION;VALUE=URI;X-ADDRESS=250 Taupo Road Taupo Road Taumarunui 3920 New Zealand;X-APPLE-RADIUS=500;X-TITLE=Taupo Road:geo:175.290787,-38.8844708
END:VEVENT
BEGIN:VEVENT
DTSTART;TZID=Pacific/Auckland:20250710T120000
DTEND;TZID=Pacific/Auckland:20250710T130000
DTSTAMP:20260420T120510
CREATED:20240922T231421Z
LAST-MODIFIED:20240922T231421Z
UID:10001287-1752148800-1752152400@taumarunui.co.nz
SUMMARY:Alcoholics Anonymous
DESCRIPTION:Step meeting every Thursday lunchtime
URL:https://taumarunui.co.nz/event/alcoholics-anonymous-2/2025-07-10/
LOCATION:250 Taupo Road\, Taupo Road\, Taumarunui\, 3920\, New Zealand
CATEGORIES:Clubs
GEO:-38.8844708;175.290787
X-APPLE-STRUCTURED-LOCATION;VALUE=URI;X-ADDRESS=250 Taupo Road Taupo Road Taumarunui 3920 New Zealand;X-APPLE-RADIUS=500;X-TITLE=Taupo Road:geo:175.290787,-38.8844708
END:VEVENT
BEGIN:VEVENT
DTSTART;TZID=Pacific/Auckland:20250703T120000
DTEND;TZID=Pacific/Auckland:20250703T130000
DTSTAMP:20260420T120510
CREATED:20240922T231421Z
LAST-MODIFIED:20240922T231421Z
UID:10001286-1751544000-1751547600@taumarunui.co.nz
SUMMARY:Alcoholics Anonymous
DESCRIPTION:Step meeting every Thursday lunchtime
URL:https://taumarunui.co.nz/event/alcoholics-anonymous-2/2025-07-03/
LOCATION:250 Taupo Road\, Taupo Road\, Taumarunui\, 3920\, New Zealand
CATEGORIES:Clubs
GEO:-38.8844708;175.290787
X-APPLE-STRUCTURED-LOCATION;VALUE=URI;X-ADDRESS=250 Taupo Road Taupo Road Taumarunui 3920 New Zealand;X-APPLE-RADIUS=500;X-TITLE=Taupo Road:geo:175.290787,-38.8844708
END:VEVENT
END:VCALENDAR