BEGIN:VCALENDAR
VERSION:2.0
PRODID:-//Taumarunui - ECPv6.15.20//NONSGML v1.0//EN
CALSCALE:GREGORIAN
METHOD:PUBLISH
X-ORIGINAL-URL:https://taumarunui.co.nz
X-WR-CALDESC:Events for Taumarunui
REFRESH-INTERVAL;VALUE=DURATION:PT1H
X-Robots-Tag:noindex
X-PUBLISHED-TTL:PT1H
BEGIN:VTIMEZONE
TZID:Pacific/Auckland
BEGIN:STANDARD
TZOFFSETFROM:+1300
TZOFFSETTO:+1200
TZNAME:NZST
DTSTART:20270403T140000
END:STANDARD
BEGIN:DAYLIGHT
TZOFFSETFROM:+1200
TZOFFSETTO:+1300
TZNAME:NZDT
DTSTART:20270925T140000
END:DAYLIGHT
BEGIN:STANDARD
TZOFFSETFROM:+1300
TZOFFSETTO:+1200
TZNAME:NZST
DTSTART:20280401T140000
END:STANDARD
BEGIN:DAYLIGHT
TZOFFSETFROM:+1200
TZOFFSETTO:+1300
TZNAME:NZDT
DTSTART:20280923T140000
END:DAYLIGHT
BEGIN:STANDARD
TZOFFSETFROM:+1300
TZOFFSETTO:+1200
TZNAME:NZST
DTSTART:20290331T140000
END:STANDARD
BEGIN:DAYLIGHT
TZOFFSETFROM:+1200
TZOFFSETTO:+1300
TZNAME:NZDT
DTSTART:20290929T140000
END:DAYLIGHT
BEGIN:STANDARD
TZOFFSETFROM:+1300
TZOFFSETTO:+1200
TZNAME:NZST
DTSTART:20300406T140000
END:STANDARD
BEGIN:DAYLIGHT
TZOFFSETFROM:+1200
TZOFFSETTO:+1300
TZNAME:NZDT
DTSTART:20300928T140000
END:DAYLIGHT
END:VTIMEZONE
BEGIN:VEVENT
DTSTART;TZID=Pacific/Auckland:20281109T120000
DTEND;TZID=Pacific/Auckland:20281109T130000
DTSTAMP:20260423T194832
CREATED:20240922T231421Z
LAST-MODIFIED:20240922T231421Z
UID:10001461-1857384000-1857387600@taumarunui.co.nz
SUMMARY:Alcoholics Anonymous
DESCRIPTION:Step meeting every Thursday lunchtime
URL:https://taumarunui.co.nz/event/alcoholics-anonymous-2/2028-11-09/
LOCATION:250 Taupo Road\, Taupo Road\, Taumarunui\, 3920\, New Zealand
CATEGORIES:Clubs
GEO:-38.8844708;175.290787
X-APPLE-STRUCTURED-LOCATION;VALUE=URI;X-ADDRESS=250 Taupo Road Taupo Road Taumarunui 3920 New Zealand;X-APPLE-RADIUS=500;X-TITLE=Taupo Road:geo:175.290787,-38.8844708
END:VEVENT
BEGIN:VEVENT
DTSTART;TZID=Pacific/Auckland:20281116T120000
DTEND;TZID=Pacific/Auckland:20281116T130000
DTSTAMP:20260423T194832
CREATED:20240922T231421Z
LAST-MODIFIED:20240922T231421Z
UID:10001462-1857988800-1857992400@taumarunui.co.nz
SUMMARY:Alcoholics Anonymous
DESCRIPTION:Step meeting every Thursday lunchtime
URL:https://taumarunui.co.nz/event/alcoholics-anonymous-2/2028-11-16/
LOCATION:250 Taupo Road\, Taupo Road\, Taumarunui\, 3920\, New Zealand
CATEGORIES:Clubs
GEO:-38.8844708;175.290787
X-APPLE-STRUCTURED-LOCATION;VALUE=URI;X-ADDRESS=250 Taupo Road Taupo Road Taumarunui 3920 New Zealand;X-APPLE-RADIUS=500;X-TITLE=Taupo Road:geo:175.290787,-38.8844708
END:VEVENT
BEGIN:VEVENT
DTSTART;TZID=Pacific/Auckland:20281123T120000
DTEND;TZID=Pacific/Auckland:20281123T130000
DTSTAMP:20260423T194832
CREATED:20240922T231421Z
LAST-MODIFIED:20240922T231421Z
UID:10001463-1858593600-1858597200@taumarunui.co.nz
SUMMARY:Alcoholics Anonymous
DESCRIPTION:Step meeting every Thursday lunchtime
URL:https://taumarunui.co.nz/event/alcoholics-anonymous-2/2028-11-23/
LOCATION:250 Taupo Road\, Taupo Road\, Taumarunui\, 3920\, New Zealand
CATEGORIES:Clubs
GEO:-38.8844708;175.290787
X-APPLE-STRUCTURED-LOCATION;VALUE=URI;X-ADDRESS=250 Taupo Road Taupo Road Taumarunui 3920 New Zealand;X-APPLE-RADIUS=500;X-TITLE=Taupo Road:geo:175.290787,-38.8844708
END:VEVENT
BEGIN:VEVENT
DTSTART;TZID=Pacific/Auckland:20281130T120000
DTEND;TZID=Pacific/Auckland:20281130T130000
DTSTAMP:20260423T194832
CREATED:20240922T231421Z
LAST-MODIFIED:20240922T231421Z
UID:10001464-1859198400-1859202000@taumarunui.co.nz
SUMMARY:Alcoholics Anonymous
DESCRIPTION:Step meeting every Thursday lunchtime
URL:https://taumarunui.co.nz/event/alcoholics-anonymous-2/2028-11-30/
LOCATION:250 Taupo Road\, Taupo Road\, Taumarunui\, 3920\, New Zealand
CATEGORIES:Clubs
GEO:-38.8844708;175.290787
X-APPLE-STRUCTURED-LOCATION;VALUE=URI;X-ADDRESS=250 Taupo Road Taupo Road Taumarunui 3920 New Zealand;X-APPLE-RADIUS=500;X-TITLE=Taupo Road:geo:175.290787,-38.8844708
END:VEVENT
BEGIN:VEVENT
DTSTART;TZID=Pacific/Auckland:20281207T120000
DTEND;TZID=Pacific/Auckland:20281207T130000
DTSTAMP:20260423T194832
CREATED:20240922T231421Z
LAST-MODIFIED:20240922T231421Z
UID:10001465-1859803200-1859806800@taumarunui.co.nz
SUMMARY:Alcoholics Anonymous
DESCRIPTION:Step meeting every Thursday lunchtime
URL:https://taumarunui.co.nz/event/alcoholics-anonymous-2/2028-12-07/
LOCATION:250 Taupo Road\, Taupo Road\, Taumarunui\, 3920\, New Zealand
CATEGORIES:Clubs
GEO:-38.8844708;175.290787
X-APPLE-STRUCTURED-LOCATION;VALUE=URI;X-ADDRESS=250 Taupo Road Taupo Road Taumarunui 3920 New Zealand;X-APPLE-RADIUS=500;X-TITLE=Taupo Road:geo:175.290787,-38.8844708
END:VEVENT
BEGIN:VEVENT
DTSTART;TZID=Pacific/Auckland:20281214T120000
DTEND;TZID=Pacific/Auckland:20281214T130000
DTSTAMP:20260423T194832
CREATED:20240922T231421Z
LAST-MODIFIED:20240922T231421Z
UID:10001466-1860408000-1860411600@taumarunui.co.nz
SUMMARY:Alcoholics Anonymous
DESCRIPTION:Step meeting every Thursday lunchtime
URL:https://taumarunui.co.nz/event/alcoholics-anonymous-2/2028-12-14/
LOCATION:250 Taupo Road\, Taupo Road\, Taumarunui\, 3920\, New Zealand
CATEGORIES:Clubs
GEO:-38.8844708;175.290787
X-APPLE-STRUCTURED-LOCATION;VALUE=URI;X-ADDRESS=250 Taupo Road Taupo Road Taumarunui 3920 New Zealand;X-APPLE-RADIUS=500;X-TITLE=Taupo Road:geo:175.290787,-38.8844708
END:VEVENT
BEGIN:VEVENT
DTSTART;TZID=Pacific/Auckland:20281221T120000
DTEND;TZID=Pacific/Auckland:20281221T130000
DTSTAMP:20260423T194832
CREATED:20240922T231421Z
LAST-MODIFIED:20240922T231421Z
UID:10001467-1861012800-1861016400@taumarunui.co.nz
SUMMARY:Alcoholics Anonymous
DESCRIPTION:Step meeting every Thursday lunchtime
URL:https://taumarunui.co.nz/event/alcoholics-anonymous-2/2028-12-21/
LOCATION:250 Taupo Road\, Taupo Road\, Taumarunui\, 3920\, New Zealand
CATEGORIES:Clubs
GEO:-38.8844708;175.290787
X-APPLE-STRUCTURED-LOCATION;VALUE=URI;X-ADDRESS=250 Taupo Road Taupo Road Taumarunui 3920 New Zealand;X-APPLE-RADIUS=500;X-TITLE=Taupo Road:geo:175.290787,-38.8844708
END:VEVENT
BEGIN:VEVENT
DTSTART;TZID=Pacific/Auckland:20281228T120000
DTEND;TZID=Pacific/Auckland:20281228T130000
DTSTAMP:20260423T194832
CREATED:20240922T231421Z
LAST-MODIFIED:20240922T231421Z
UID:10001468-1861617600-1861621200@taumarunui.co.nz
SUMMARY:Alcoholics Anonymous
DESCRIPTION:Step meeting every Thursday lunchtime
URL:https://taumarunui.co.nz/event/alcoholics-anonymous-2/2028-12-28/
LOCATION:250 Taupo Road\, Taupo Road\, Taumarunui\, 3920\, New Zealand
CATEGORIES:Clubs
GEO:-38.8844708;175.290787
X-APPLE-STRUCTURED-LOCATION;VALUE=URI;X-ADDRESS=250 Taupo Road Taupo Road Taumarunui 3920 New Zealand;X-APPLE-RADIUS=500;X-TITLE=Taupo Road:geo:175.290787,-38.8844708
END:VEVENT
BEGIN:VEVENT
DTSTART;TZID=Pacific/Auckland:20290104T120000
DTEND;TZID=Pacific/Auckland:20290104T130000
DTSTAMP:20260423T194832
CREATED:20240922T231421Z
LAST-MODIFIED:20240922T231421Z
UID:10001469-1862222400-1862226000@taumarunui.co.nz
SUMMARY:Alcoholics Anonymous
DESCRIPTION:Step meeting every Thursday lunchtime
URL:https://taumarunui.co.nz/event/alcoholics-anonymous-2/2029-01-04/
LOCATION:250 Taupo Road\, Taupo Road\, Taumarunui\, 3920\, New Zealand
CATEGORIES:Clubs
GEO:-38.8844708;175.290787
X-APPLE-STRUCTURED-LOCATION;VALUE=URI;X-ADDRESS=250 Taupo Road Taupo Road Taumarunui 3920 New Zealand;X-APPLE-RADIUS=500;X-TITLE=Taupo Road:geo:175.290787,-38.8844708
END:VEVENT
BEGIN:VEVENT
DTSTART;TZID=Pacific/Auckland:20290111T120000
DTEND;TZID=Pacific/Auckland:20290111T130000
DTSTAMP:20260423T194832
CREATED:20240922T231421Z
LAST-MODIFIED:20240922T231421Z
UID:10001470-1862827200-1862830800@taumarunui.co.nz
SUMMARY:Alcoholics Anonymous
DESCRIPTION:Step meeting every Thursday lunchtime
URL:https://taumarunui.co.nz/event/alcoholics-anonymous-2/2029-01-11/
LOCATION:250 Taupo Road\, Taupo Road\, Taumarunui\, 3920\, New Zealand
CATEGORIES:Clubs
GEO:-38.8844708;175.290787
X-APPLE-STRUCTURED-LOCATION;VALUE=URI;X-ADDRESS=250 Taupo Road Taupo Road Taumarunui 3920 New Zealand;X-APPLE-RADIUS=500;X-TITLE=Taupo Road:geo:175.290787,-38.8844708
END:VEVENT
BEGIN:VEVENT
DTSTART;TZID=Pacific/Auckland:20290118T120000
DTEND;TZID=Pacific/Auckland:20290118T130000
DTSTAMP:20260423T194832
CREATED:20240922T231421Z
LAST-MODIFIED:20240922T231421Z
UID:10001471-1863432000-1863435600@taumarunui.co.nz
SUMMARY:Alcoholics Anonymous
DESCRIPTION:Step meeting every Thursday lunchtime
URL:https://taumarunui.co.nz/event/alcoholics-anonymous-2/2029-01-18/
LOCATION:250 Taupo Road\, Taupo Road\, Taumarunui\, 3920\, New Zealand
CATEGORIES:Clubs
GEO:-38.8844708;175.290787
X-APPLE-STRUCTURED-LOCATION;VALUE=URI;X-ADDRESS=250 Taupo Road Taupo Road Taumarunui 3920 New Zealand;X-APPLE-RADIUS=500;X-TITLE=Taupo Road:geo:175.290787,-38.8844708
END:VEVENT
BEGIN:VEVENT
DTSTART;TZID=Pacific/Auckland:20290125T120000
DTEND;TZID=Pacific/Auckland:20290125T130000
DTSTAMP:20260423T194832
CREATED:20240922T231421Z
LAST-MODIFIED:20240922T231421Z
UID:10001472-1864036800-1864040400@taumarunui.co.nz
SUMMARY:Alcoholics Anonymous
DESCRIPTION:Step meeting every Thursday lunchtime
URL:https://taumarunui.co.nz/event/alcoholics-anonymous-2/2029-01-25/
LOCATION:250 Taupo Road\, Taupo Road\, Taumarunui\, 3920\, New Zealand
CATEGORIES:Clubs
GEO:-38.8844708;175.290787
X-APPLE-STRUCTURED-LOCATION;VALUE=URI;X-ADDRESS=250 Taupo Road Taupo Road Taumarunui 3920 New Zealand;X-APPLE-RADIUS=500;X-TITLE=Taupo Road:geo:175.290787,-38.8844708
END:VEVENT
BEGIN:VEVENT
DTSTART;TZID=Pacific/Auckland:20290201T120000
DTEND;TZID=Pacific/Auckland:20290201T130000
DTSTAMP:20260423T194832
CREATED:20240922T231421Z
LAST-MODIFIED:20240922T231421Z
UID:10001473-1864641600-1864645200@taumarunui.co.nz
SUMMARY:Alcoholics Anonymous
DESCRIPTION:Step meeting every Thursday lunchtime
URL:https://taumarunui.co.nz/event/alcoholics-anonymous-2/2029-02-01/
LOCATION:250 Taupo Road\, Taupo Road\, Taumarunui\, 3920\, New Zealand
CATEGORIES:Clubs
GEO:-38.8844708;175.290787
X-APPLE-STRUCTURED-LOCATION;VALUE=URI;X-ADDRESS=250 Taupo Road Taupo Road Taumarunui 3920 New Zealand;X-APPLE-RADIUS=500;X-TITLE=Taupo Road:geo:175.290787,-38.8844708
END:VEVENT
BEGIN:VEVENT
DTSTART;TZID=Pacific/Auckland:20290208T120000
DTEND;TZID=Pacific/Auckland:20290208T130000
DTSTAMP:20260423T194832
CREATED:20240922T231421Z
LAST-MODIFIED:20240922T231421Z
UID:10001474-1865246400-1865250000@taumarunui.co.nz
SUMMARY:Alcoholics Anonymous
DESCRIPTION:Step meeting every Thursday lunchtime
URL:https://taumarunui.co.nz/event/alcoholics-anonymous-2/2029-02-08/
LOCATION:250 Taupo Road\, Taupo Road\, Taumarunui\, 3920\, New Zealand
CATEGORIES:Clubs
GEO:-38.8844708;175.290787
X-APPLE-STRUCTURED-LOCATION;VALUE=URI;X-ADDRESS=250 Taupo Road Taupo Road Taumarunui 3920 New Zealand;X-APPLE-RADIUS=500;X-TITLE=Taupo Road:geo:175.290787,-38.8844708
END:VEVENT
BEGIN:VEVENT
DTSTART;TZID=Pacific/Auckland:20290215T120000
DTEND;TZID=Pacific/Auckland:20290215T130000
DTSTAMP:20260423T194832
CREATED:20240922T231421Z
LAST-MODIFIED:20240922T231421Z
UID:10001475-1865851200-1865854800@taumarunui.co.nz
SUMMARY:Alcoholics Anonymous
DESCRIPTION:Step meeting every Thursday lunchtime
URL:https://taumarunui.co.nz/event/alcoholics-anonymous-2/2029-02-15/
LOCATION:250 Taupo Road\, Taupo Road\, Taumarunui\, 3920\, New Zealand
CATEGORIES:Clubs
GEO:-38.8844708;175.290787
X-APPLE-STRUCTURED-LOCATION;VALUE=URI;X-ADDRESS=250 Taupo Road Taupo Road Taumarunui 3920 New Zealand;X-APPLE-RADIUS=500;X-TITLE=Taupo Road:geo:175.290787,-38.8844708
END:VEVENT
BEGIN:VEVENT
DTSTART;TZID=Pacific/Auckland:20290222T120000
DTEND;TZID=Pacific/Auckland:20290222T130000
DTSTAMP:20260423T194832
CREATED:20240922T231421Z
LAST-MODIFIED:20240922T231421Z
UID:10001476-1866456000-1866459600@taumarunui.co.nz
SUMMARY:Alcoholics Anonymous
DESCRIPTION:Step meeting every Thursday lunchtime
URL:https://taumarunui.co.nz/event/alcoholics-anonymous-2/2029-02-22/
LOCATION:250 Taupo Road\, Taupo Road\, Taumarunui\, 3920\, New Zealand
CATEGORIES:Clubs
GEO:-38.8844708;175.290787
X-APPLE-STRUCTURED-LOCATION;VALUE=URI;X-ADDRESS=250 Taupo Road Taupo Road Taumarunui 3920 New Zealand;X-APPLE-RADIUS=500;X-TITLE=Taupo Road:geo:175.290787,-38.8844708
END:VEVENT
BEGIN:VEVENT
DTSTART;TZID=Pacific/Auckland:20290301T120000
DTEND;TZID=Pacific/Auckland:20290301T130000
DTSTAMP:20260423T194832
CREATED:20240922T231421Z
LAST-MODIFIED:20240922T231421Z
UID:10001477-1867060800-1867064400@taumarunui.co.nz
SUMMARY:Alcoholics Anonymous
DESCRIPTION:Step meeting every Thursday lunchtime
URL:https://taumarunui.co.nz/event/alcoholics-anonymous-2/2029-03-01/
LOCATION:250 Taupo Road\, Taupo Road\, Taumarunui\, 3920\, New Zealand
CATEGORIES:Clubs
GEO:-38.8844708;175.290787
X-APPLE-STRUCTURED-LOCATION;VALUE=URI;X-ADDRESS=250 Taupo Road Taupo Road Taumarunui 3920 New Zealand;X-APPLE-RADIUS=500;X-TITLE=Taupo Road:geo:175.290787,-38.8844708
END:VEVENT
BEGIN:VEVENT
DTSTART;TZID=Pacific/Auckland:20290308T120000
DTEND;TZID=Pacific/Auckland:20290308T130000
DTSTAMP:20260423T194832
CREATED:20240922T231421Z
LAST-MODIFIED:20240922T231421Z
UID:10001478-1867665600-1867669200@taumarunui.co.nz
SUMMARY:Alcoholics Anonymous
DESCRIPTION:Step meeting every Thursday lunchtime
URL:https://taumarunui.co.nz/event/alcoholics-anonymous-2/2029-03-08/
LOCATION:250 Taupo Road\, Taupo Road\, Taumarunui\, 3920\, New Zealand
CATEGORIES:Clubs
GEO:-38.8844708;175.290787
X-APPLE-STRUCTURED-LOCATION;VALUE=URI;X-ADDRESS=250 Taupo Road Taupo Road Taumarunui 3920 New Zealand;X-APPLE-RADIUS=500;X-TITLE=Taupo Road:geo:175.290787,-38.8844708
END:VEVENT
BEGIN:VEVENT
DTSTART;TZID=Pacific/Auckland:20290315T120000
DTEND;TZID=Pacific/Auckland:20290315T130000
DTSTAMP:20260423T194832
CREATED:20240922T231421Z
LAST-MODIFIED:20240922T231421Z
UID:10001479-1868270400-1868274000@taumarunui.co.nz
SUMMARY:Alcoholics Anonymous
DESCRIPTION:Step meeting every Thursday lunchtime
URL:https://taumarunui.co.nz/event/alcoholics-anonymous-2/2029-03-15/
LOCATION:250 Taupo Road\, Taupo Road\, Taumarunui\, 3920\, New Zealand
CATEGORIES:Clubs
GEO:-38.8844708;175.290787
X-APPLE-STRUCTURED-LOCATION;VALUE=URI;X-ADDRESS=250 Taupo Road Taupo Road Taumarunui 3920 New Zealand;X-APPLE-RADIUS=500;X-TITLE=Taupo Road:geo:175.290787,-38.8844708
END:VEVENT
BEGIN:VEVENT
DTSTART;TZID=Pacific/Auckland:20290322T120000
DTEND;TZID=Pacific/Auckland:20290322T130000
DTSTAMP:20260423T194832
CREATED:20240922T231421Z
LAST-MODIFIED:20240922T231421Z
UID:10001480-1868875200-1868878800@taumarunui.co.nz
SUMMARY:Alcoholics Anonymous
DESCRIPTION:Step meeting every Thursday lunchtime
URL:https://taumarunui.co.nz/event/alcoholics-anonymous-2/2029-03-22/
LOCATION:250 Taupo Road\, Taupo Road\, Taumarunui\, 3920\, New Zealand
CATEGORIES:Clubs
GEO:-38.8844708;175.290787
X-APPLE-STRUCTURED-LOCATION;VALUE=URI;X-ADDRESS=250 Taupo Road Taupo Road Taumarunui 3920 New Zealand;X-APPLE-RADIUS=500;X-TITLE=Taupo Road:geo:175.290787,-38.8844708
END:VEVENT
BEGIN:VEVENT
DTSTART;TZID=Pacific/Auckland:20290329T120000
DTEND;TZID=Pacific/Auckland:20290329T130000
DTSTAMP:20260423T194832
CREATED:20240922T231421Z
LAST-MODIFIED:20240922T231421Z
UID:10001481-1869480000-1869483600@taumarunui.co.nz
SUMMARY:Alcoholics Anonymous
DESCRIPTION:Step meeting every Thursday lunchtime
URL:https://taumarunui.co.nz/event/alcoholics-anonymous-2/2029-03-29/
LOCATION:250 Taupo Road\, Taupo Road\, Taumarunui\, 3920\, New Zealand
CATEGORIES:Clubs
GEO:-38.8844708;175.290787
X-APPLE-STRUCTURED-LOCATION;VALUE=URI;X-ADDRESS=250 Taupo Road Taupo Road Taumarunui 3920 New Zealand;X-APPLE-RADIUS=500;X-TITLE=Taupo Road:geo:175.290787,-38.8844708
END:VEVENT
BEGIN:VEVENT
DTSTART;TZID=Pacific/Auckland:20290405T120000
DTEND;TZID=Pacific/Auckland:20290405T130000
DTSTAMP:20260423T194832
CREATED:20240922T231421Z
LAST-MODIFIED:20240922T231421Z
UID:10001482-1870084800-1870088400@taumarunui.co.nz
SUMMARY:Alcoholics Anonymous
DESCRIPTION:Step meeting every Thursday lunchtime
URL:https://taumarunui.co.nz/event/alcoholics-anonymous-2/2029-04-05/
LOCATION:250 Taupo Road\, Taupo Road\, Taumarunui\, 3920\, New Zealand
CATEGORIES:Clubs
GEO:-38.8844708;175.290787
X-APPLE-STRUCTURED-LOCATION;VALUE=URI;X-ADDRESS=250 Taupo Road Taupo Road Taumarunui 3920 New Zealand;X-APPLE-RADIUS=500;X-TITLE=Taupo Road:geo:175.290787,-38.8844708
END:VEVENT
BEGIN:VEVENT
DTSTART;TZID=Pacific/Auckland:20290412T120000
DTEND;TZID=Pacific/Auckland:20290412T130000
DTSTAMP:20260423T194832
CREATED:20240922T231421Z
LAST-MODIFIED:20240922T231421Z
UID:10001483-1870689600-1870693200@taumarunui.co.nz
SUMMARY:Alcoholics Anonymous
DESCRIPTION:Step meeting every Thursday lunchtime
URL:https://taumarunui.co.nz/event/alcoholics-anonymous-2/2029-04-12/
LOCATION:250 Taupo Road\, Taupo Road\, Taumarunui\, 3920\, New Zealand
CATEGORIES:Clubs
GEO:-38.8844708;175.290787
X-APPLE-STRUCTURED-LOCATION;VALUE=URI;X-ADDRESS=250 Taupo Road Taupo Road Taumarunui 3920 New Zealand;X-APPLE-RADIUS=500;X-TITLE=Taupo Road:geo:175.290787,-38.8844708
END:VEVENT
BEGIN:VEVENT
DTSTART;TZID=Pacific/Auckland:20290419T120000
DTEND;TZID=Pacific/Auckland:20290419T130000
DTSTAMP:20260423T194832
CREATED:20240922T231421Z
LAST-MODIFIED:20240922T231421Z
UID:10001484-1871294400-1871298000@taumarunui.co.nz
SUMMARY:Alcoholics Anonymous
DESCRIPTION:Step meeting every Thursday lunchtime
URL:https://taumarunui.co.nz/event/alcoholics-anonymous-2/2029-04-19/
LOCATION:250 Taupo Road\, Taupo Road\, Taumarunui\, 3920\, New Zealand
CATEGORIES:Clubs
GEO:-38.8844708;175.290787
X-APPLE-STRUCTURED-LOCATION;VALUE=URI;X-ADDRESS=250 Taupo Road Taupo Road Taumarunui 3920 New Zealand;X-APPLE-RADIUS=500;X-TITLE=Taupo Road:geo:175.290787,-38.8844708
END:VEVENT
BEGIN:VEVENT
DTSTART;TZID=Pacific/Auckland:20290426T120000
DTEND;TZID=Pacific/Auckland:20290426T130000
DTSTAMP:20260423T194832
CREATED:20240922T231421Z
LAST-MODIFIED:20240922T231421Z
UID:10001485-1871899200-1871902800@taumarunui.co.nz
SUMMARY:Alcoholics Anonymous
DESCRIPTION:Step meeting every Thursday lunchtime
URL:https://taumarunui.co.nz/event/alcoholics-anonymous-2/2029-04-26/
LOCATION:250 Taupo Road\, Taupo Road\, Taumarunui\, 3920\, New Zealand
CATEGORIES:Clubs
GEO:-38.8844708;175.290787
X-APPLE-STRUCTURED-LOCATION;VALUE=URI;X-ADDRESS=250 Taupo Road Taupo Road Taumarunui 3920 New Zealand;X-APPLE-RADIUS=500;X-TITLE=Taupo Road:geo:175.290787,-38.8844708
END:VEVENT
BEGIN:VEVENT
DTSTART;TZID=Pacific/Auckland:20290503T120000
DTEND;TZID=Pacific/Auckland:20290503T130000
DTSTAMP:20260423T194832
CREATED:20240922T231421Z
LAST-MODIFIED:20240922T231421Z
UID:10001486-1872504000-1872507600@taumarunui.co.nz
SUMMARY:Alcoholics Anonymous
DESCRIPTION:Step meeting every Thursday lunchtime
URL:https://taumarunui.co.nz/event/alcoholics-anonymous-2/2029-05-03/
LOCATION:250 Taupo Road\, Taupo Road\, Taumarunui\, 3920\, New Zealand
CATEGORIES:Clubs
GEO:-38.8844708;175.290787
X-APPLE-STRUCTURED-LOCATION;VALUE=URI;X-ADDRESS=250 Taupo Road Taupo Road Taumarunui 3920 New Zealand;X-APPLE-RADIUS=500;X-TITLE=Taupo Road:geo:175.290787,-38.8844708
END:VEVENT
BEGIN:VEVENT
DTSTART;TZID=Pacific/Auckland:20290510T120000
DTEND;TZID=Pacific/Auckland:20290510T130000
DTSTAMP:20260423T194832
CREATED:20240922T231421Z
LAST-MODIFIED:20240922T231421Z
UID:10001487-1873108800-1873112400@taumarunui.co.nz
SUMMARY:Alcoholics Anonymous
DESCRIPTION:Step meeting every Thursday lunchtime
URL:https://taumarunui.co.nz/event/alcoholics-anonymous-2/2029-05-10/
LOCATION:250 Taupo Road\, Taupo Road\, Taumarunui\, 3920\, New Zealand
CATEGORIES:Clubs
GEO:-38.8844708;175.290787
X-APPLE-STRUCTURED-LOCATION;VALUE=URI;X-ADDRESS=250 Taupo Road Taupo Road Taumarunui 3920 New Zealand;X-APPLE-RADIUS=500;X-TITLE=Taupo Road:geo:175.290787,-38.8844708
END:VEVENT
BEGIN:VEVENT
DTSTART;TZID=Pacific/Auckland:20290517T120000
DTEND;TZID=Pacific/Auckland:20290517T130000
DTSTAMP:20260423T194832
CREATED:20240922T231421Z
LAST-MODIFIED:20240922T231421Z
UID:10001488-1873713600-1873717200@taumarunui.co.nz
SUMMARY:Alcoholics Anonymous
DESCRIPTION:Step meeting every Thursday lunchtime
URL:https://taumarunui.co.nz/event/alcoholics-anonymous-2/2029-05-17/
LOCATION:250 Taupo Road\, Taupo Road\, Taumarunui\, 3920\, New Zealand
CATEGORIES:Clubs
GEO:-38.8844708;175.290787
X-APPLE-STRUCTURED-LOCATION;VALUE=URI;X-ADDRESS=250 Taupo Road Taupo Road Taumarunui 3920 New Zealand;X-APPLE-RADIUS=500;X-TITLE=Taupo Road:geo:175.290787,-38.8844708
END:VEVENT
BEGIN:VEVENT
DTSTART;TZID=Pacific/Auckland:20290524T120000
DTEND;TZID=Pacific/Auckland:20290524T130000
DTSTAMP:20260423T194832
CREATED:20240922T231421Z
LAST-MODIFIED:20240922T231421Z
UID:10001489-1874318400-1874322000@taumarunui.co.nz
SUMMARY:Alcoholics Anonymous
DESCRIPTION:Step meeting every Thursday lunchtime
URL:https://taumarunui.co.nz/event/alcoholics-anonymous-2/2029-05-24/
LOCATION:250 Taupo Road\, Taupo Road\, Taumarunui\, 3920\, New Zealand
CATEGORIES:Clubs
GEO:-38.8844708;175.290787
X-APPLE-STRUCTURED-LOCATION;VALUE=URI;X-ADDRESS=250 Taupo Road Taupo Road Taumarunui 3920 New Zealand;X-APPLE-RADIUS=500;X-TITLE=Taupo Road:geo:175.290787,-38.8844708
END:VEVENT
BEGIN:VEVENT
DTSTART;TZID=Pacific/Auckland:20290531T120000
DTEND;TZID=Pacific/Auckland:20290531T130000
DTSTAMP:20260423T194832
CREATED:20240922T231421Z
LAST-MODIFIED:20240922T231421Z
UID:10001490-1874923200-1874926800@taumarunui.co.nz
SUMMARY:Alcoholics Anonymous
DESCRIPTION:Step meeting every Thursday lunchtime
URL:https://taumarunui.co.nz/event/alcoholics-anonymous-2/2029-05-31/
LOCATION:250 Taupo Road\, Taupo Road\, Taumarunui\, 3920\, New Zealand
CATEGORIES:Clubs
GEO:-38.8844708;175.290787
X-APPLE-STRUCTURED-LOCATION;VALUE=URI;X-ADDRESS=250 Taupo Road Taupo Road Taumarunui 3920 New Zealand;X-APPLE-RADIUS=500;X-TITLE=Taupo Road:geo:175.290787,-38.8844708
END:VEVENT
END:VCALENDAR