BEGIN:VCALENDAR
VERSION:2.0
PRODID:-//Taumarunui - ECPv6.15.16//NONSGML v1.0//EN
CALSCALE:GREGORIAN
METHOD:PUBLISH
X-WR-CALNAME:Taumarunui
X-ORIGINAL-URL:https://taumarunui.co.nz
X-WR-CALDESC:Events for Taumarunui
REFRESH-INTERVAL;VALUE=DURATION:PT1H
X-Robots-Tag:noindex
X-PUBLISHED-TTL:PT1H
BEGIN:VTIMEZONE
TZID:Pacific/Auckland
BEGIN:STANDARD
TZOFFSETFROM:+1300
TZOFFSETTO:+1200
TZNAME:NZST
DTSTART:20270403T140000
END:STANDARD
BEGIN:DAYLIGHT
TZOFFSETFROM:+1200
TZOFFSETTO:+1300
TZNAME:NZDT
DTSTART:20270925T140000
END:DAYLIGHT
BEGIN:STANDARD
TZOFFSETFROM:+1300
TZOFFSETTO:+1200
TZNAME:NZST
DTSTART:20280401T140000
END:STANDARD
BEGIN:DAYLIGHT
TZOFFSETFROM:+1200
TZOFFSETTO:+1300
TZNAME:NZDT
DTSTART:20280923T140000
END:DAYLIGHT
BEGIN:STANDARD
TZOFFSETFROM:+1300
TZOFFSETTO:+1200
TZNAME:NZST
DTSTART:20290331T140000
END:STANDARD
BEGIN:DAYLIGHT
TZOFFSETFROM:+1200
TZOFFSETTO:+1300
TZNAME:NZDT
DTSTART:20290929T140000
END:DAYLIGHT
END:VTIMEZONE
BEGIN:VEVENT
DTSTART;TZID=Pacific/Auckland:20280518T120000
DTEND;TZID=Pacific/Auckland:20280518T130000
DTSTAMP:20260422T203535
CREATED:20240922T231421Z
LAST-MODIFIED:20240922T231421Z
UID:10001436-1842264000-1842267600@taumarunui.co.nz
SUMMARY:Alcoholics Anonymous
DESCRIPTION:Step meeting every Thursday lunchtime
URL:https://taumarunui.co.nz/event/alcoholics-anonymous-2/2028-05-18/
LOCATION:250 Taupo Road\, Taupo Road\, Taumarunui\, 3920\, New Zealand
CATEGORIES:Clubs
GEO:-38.8844708;175.290787
X-APPLE-STRUCTURED-LOCATION;VALUE=URI;X-ADDRESS=250 Taupo Road Taupo Road Taumarunui 3920 New Zealand;X-APPLE-RADIUS=500;X-TITLE=Taupo Road:geo:175.290787,-38.8844708
END:VEVENT
BEGIN:VEVENT
DTSTART;TZID=Pacific/Auckland:20280525T120000
DTEND;TZID=Pacific/Auckland:20280525T130000
DTSTAMP:20260422T203535
CREATED:20240922T231421Z
LAST-MODIFIED:20240922T231421Z
UID:10001437-1842868800-1842872400@taumarunui.co.nz
SUMMARY:Alcoholics Anonymous
DESCRIPTION:Step meeting every Thursday lunchtime
URL:https://taumarunui.co.nz/event/alcoholics-anonymous-2/2028-05-25/
LOCATION:250 Taupo Road\, Taupo Road\, Taumarunui\, 3920\, New Zealand
CATEGORIES:Clubs
GEO:-38.8844708;175.290787
X-APPLE-STRUCTURED-LOCATION;VALUE=URI;X-ADDRESS=250 Taupo Road Taupo Road Taumarunui 3920 New Zealand;X-APPLE-RADIUS=500;X-TITLE=Taupo Road:geo:175.290787,-38.8844708
END:VEVENT
BEGIN:VEVENT
DTSTART;TZID=Pacific/Auckland:20280601T120000
DTEND;TZID=Pacific/Auckland:20280601T130000
DTSTAMP:20260422T203535
CREATED:20240922T231421Z
LAST-MODIFIED:20240922T231421Z
UID:10001438-1843473600-1843477200@taumarunui.co.nz
SUMMARY:Alcoholics Anonymous
DESCRIPTION:Step meeting every Thursday lunchtime
URL:https://taumarunui.co.nz/event/alcoholics-anonymous-2/2028-06-01/
LOCATION:250 Taupo Road\, Taupo Road\, Taumarunui\, 3920\, New Zealand
CATEGORIES:Clubs
GEO:-38.8844708;175.290787
X-APPLE-STRUCTURED-LOCATION;VALUE=URI;X-ADDRESS=250 Taupo Road Taupo Road Taumarunui 3920 New Zealand;X-APPLE-RADIUS=500;X-TITLE=Taupo Road:geo:175.290787,-38.8844708
END:VEVENT
BEGIN:VEVENT
DTSTART;TZID=Pacific/Auckland:20280608T120000
DTEND;TZID=Pacific/Auckland:20280608T130000
DTSTAMP:20260422T203535
CREATED:20240922T231421Z
LAST-MODIFIED:20240922T231421Z
UID:10001439-1844078400-1844082000@taumarunui.co.nz
SUMMARY:Alcoholics Anonymous
DESCRIPTION:Step meeting every Thursday lunchtime
URL:https://taumarunui.co.nz/event/alcoholics-anonymous-2/2028-06-08/
LOCATION:250 Taupo Road\, Taupo Road\, Taumarunui\, 3920\, New Zealand
CATEGORIES:Clubs
GEO:-38.8844708;175.290787
X-APPLE-STRUCTURED-LOCATION;VALUE=URI;X-ADDRESS=250 Taupo Road Taupo Road Taumarunui 3920 New Zealand;X-APPLE-RADIUS=500;X-TITLE=Taupo Road:geo:175.290787,-38.8844708
END:VEVENT
BEGIN:VEVENT
DTSTART;TZID=Pacific/Auckland:20280615T120000
DTEND;TZID=Pacific/Auckland:20280615T130000
DTSTAMP:20260422T203535
CREATED:20240922T231421Z
LAST-MODIFIED:20240922T231421Z
UID:10001440-1844683200-1844686800@taumarunui.co.nz
SUMMARY:Alcoholics Anonymous
DESCRIPTION:Step meeting every Thursday lunchtime
URL:https://taumarunui.co.nz/event/alcoholics-anonymous-2/2028-06-15/
LOCATION:250 Taupo Road\, Taupo Road\, Taumarunui\, 3920\, New Zealand
CATEGORIES:Clubs
GEO:-38.8844708;175.290787
X-APPLE-STRUCTURED-LOCATION;VALUE=URI;X-ADDRESS=250 Taupo Road Taupo Road Taumarunui 3920 New Zealand;X-APPLE-RADIUS=500;X-TITLE=Taupo Road:geo:175.290787,-38.8844708
END:VEVENT
BEGIN:VEVENT
DTSTART;TZID=Pacific/Auckland:20280622T120000
DTEND;TZID=Pacific/Auckland:20280622T130000
DTSTAMP:20260422T203535
CREATED:20240922T231421Z
LAST-MODIFIED:20240922T231421Z
UID:10001441-1845288000-1845291600@taumarunui.co.nz
SUMMARY:Alcoholics Anonymous
DESCRIPTION:Step meeting every Thursday lunchtime
URL:https://taumarunui.co.nz/event/alcoholics-anonymous-2/2028-06-22/
LOCATION:250 Taupo Road\, Taupo Road\, Taumarunui\, 3920\, New Zealand
CATEGORIES:Clubs
GEO:-38.8844708;175.290787
X-APPLE-STRUCTURED-LOCATION;VALUE=URI;X-ADDRESS=250 Taupo Road Taupo Road Taumarunui 3920 New Zealand;X-APPLE-RADIUS=500;X-TITLE=Taupo Road:geo:175.290787,-38.8844708
END:VEVENT
BEGIN:VEVENT
DTSTART;TZID=Pacific/Auckland:20280629T120000
DTEND;TZID=Pacific/Auckland:20280629T130000
DTSTAMP:20260422T203535
CREATED:20240922T231421Z
LAST-MODIFIED:20240922T231421Z
UID:10001442-1845892800-1845896400@taumarunui.co.nz
SUMMARY:Alcoholics Anonymous
DESCRIPTION:Step meeting every Thursday lunchtime
URL:https://taumarunui.co.nz/event/alcoholics-anonymous-2/2028-06-29/
LOCATION:250 Taupo Road\, Taupo Road\, Taumarunui\, 3920\, New Zealand
CATEGORIES:Clubs
GEO:-38.8844708;175.290787
X-APPLE-STRUCTURED-LOCATION;VALUE=URI;X-ADDRESS=250 Taupo Road Taupo Road Taumarunui 3920 New Zealand;X-APPLE-RADIUS=500;X-TITLE=Taupo Road:geo:175.290787,-38.8844708
END:VEVENT
BEGIN:VEVENT
DTSTART;TZID=Pacific/Auckland:20280706T120000
DTEND;TZID=Pacific/Auckland:20280706T130000
DTSTAMP:20260422T203535
CREATED:20240922T231421Z
LAST-MODIFIED:20240922T231421Z
UID:10001443-1846497600-1846501200@taumarunui.co.nz
SUMMARY:Alcoholics Anonymous
DESCRIPTION:Step meeting every Thursday lunchtime
URL:https://taumarunui.co.nz/event/alcoholics-anonymous-2/2028-07-06/
LOCATION:250 Taupo Road\, Taupo Road\, Taumarunui\, 3920\, New Zealand
CATEGORIES:Clubs
GEO:-38.8844708;175.290787
X-APPLE-STRUCTURED-LOCATION;VALUE=URI;X-ADDRESS=250 Taupo Road Taupo Road Taumarunui 3920 New Zealand;X-APPLE-RADIUS=500;X-TITLE=Taupo Road:geo:175.290787,-38.8844708
END:VEVENT
BEGIN:VEVENT
DTSTART;TZID=Pacific/Auckland:20280713T120000
DTEND;TZID=Pacific/Auckland:20280713T130000
DTSTAMP:20260422T203535
CREATED:20240922T231421Z
LAST-MODIFIED:20240922T231421Z
UID:10001444-1847102400-1847106000@taumarunui.co.nz
SUMMARY:Alcoholics Anonymous
DESCRIPTION:Step meeting every Thursday lunchtime
URL:https://taumarunui.co.nz/event/alcoholics-anonymous-2/2028-07-13/
LOCATION:250 Taupo Road\, Taupo Road\, Taumarunui\, 3920\, New Zealand
CATEGORIES:Clubs
GEO:-38.8844708;175.290787
X-APPLE-STRUCTURED-LOCATION;VALUE=URI;X-ADDRESS=250 Taupo Road Taupo Road Taumarunui 3920 New Zealand;X-APPLE-RADIUS=500;X-TITLE=Taupo Road:geo:175.290787,-38.8844708
END:VEVENT
BEGIN:VEVENT
DTSTART;TZID=Pacific/Auckland:20280720T120000
DTEND;TZID=Pacific/Auckland:20280720T130000
DTSTAMP:20260422T203535
CREATED:20240922T231421Z
LAST-MODIFIED:20240922T231421Z
UID:10001445-1847707200-1847710800@taumarunui.co.nz
SUMMARY:Alcoholics Anonymous
DESCRIPTION:Step meeting every Thursday lunchtime
URL:https://taumarunui.co.nz/event/alcoholics-anonymous-2/2028-07-20/
LOCATION:250 Taupo Road\, Taupo Road\, Taumarunui\, 3920\, New Zealand
CATEGORIES:Clubs
GEO:-38.8844708;175.290787
X-APPLE-STRUCTURED-LOCATION;VALUE=URI;X-ADDRESS=250 Taupo Road Taupo Road Taumarunui 3920 New Zealand;X-APPLE-RADIUS=500;X-TITLE=Taupo Road:geo:175.290787,-38.8844708
END:VEVENT
BEGIN:VEVENT
DTSTART;TZID=Pacific/Auckland:20280727T120000
DTEND;TZID=Pacific/Auckland:20280727T130000
DTSTAMP:20260422T203535
CREATED:20240922T231421Z
LAST-MODIFIED:20240922T231421Z
UID:10001446-1848312000-1848315600@taumarunui.co.nz
SUMMARY:Alcoholics Anonymous
DESCRIPTION:Step meeting every Thursday lunchtime
URL:https://taumarunui.co.nz/event/alcoholics-anonymous-2/2028-07-27/
LOCATION:250 Taupo Road\, Taupo Road\, Taumarunui\, 3920\, New Zealand
CATEGORIES:Clubs
GEO:-38.8844708;175.290787
X-APPLE-STRUCTURED-LOCATION;VALUE=URI;X-ADDRESS=250 Taupo Road Taupo Road Taumarunui 3920 New Zealand;X-APPLE-RADIUS=500;X-TITLE=Taupo Road:geo:175.290787,-38.8844708
END:VEVENT
BEGIN:VEVENT
DTSTART;TZID=Pacific/Auckland:20280803T120000
DTEND;TZID=Pacific/Auckland:20280803T130000
DTSTAMP:20260422T203535
CREATED:20240922T231421Z
LAST-MODIFIED:20240922T231421Z
UID:10001447-1848916800-1848920400@taumarunui.co.nz
SUMMARY:Alcoholics Anonymous
DESCRIPTION:Step meeting every Thursday lunchtime
URL:https://taumarunui.co.nz/event/alcoholics-anonymous-2/2028-08-03/
LOCATION:250 Taupo Road\, Taupo Road\, Taumarunui\, 3920\, New Zealand
CATEGORIES:Clubs
GEO:-38.8844708;175.290787
X-APPLE-STRUCTURED-LOCATION;VALUE=URI;X-ADDRESS=250 Taupo Road Taupo Road Taumarunui 3920 New Zealand;X-APPLE-RADIUS=500;X-TITLE=Taupo Road:geo:175.290787,-38.8844708
END:VEVENT
BEGIN:VEVENT
DTSTART;TZID=Pacific/Auckland:20280810T120000
DTEND;TZID=Pacific/Auckland:20280810T130000
DTSTAMP:20260422T203535
CREATED:20240922T231421Z
LAST-MODIFIED:20240922T231421Z
UID:10001448-1849521600-1849525200@taumarunui.co.nz
SUMMARY:Alcoholics Anonymous
DESCRIPTION:Step meeting every Thursday lunchtime
URL:https://taumarunui.co.nz/event/alcoholics-anonymous-2/2028-08-10/
LOCATION:250 Taupo Road\, Taupo Road\, Taumarunui\, 3920\, New Zealand
CATEGORIES:Clubs
GEO:-38.8844708;175.290787
X-APPLE-STRUCTURED-LOCATION;VALUE=URI;X-ADDRESS=250 Taupo Road Taupo Road Taumarunui 3920 New Zealand;X-APPLE-RADIUS=500;X-TITLE=Taupo Road:geo:175.290787,-38.8844708
END:VEVENT
BEGIN:VEVENT
DTSTART;TZID=Pacific/Auckland:20280817T120000
DTEND;TZID=Pacific/Auckland:20280817T130000
DTSTAMP:20260422T203535
CREATED:20240922T231421Z
LAST-MODIFIED:20240922T231421Z
UID:10001449-1850126400-1850130000@taumarunui.co.nz
SUMMARY:Alcoholics Anonymous
DESCRIPTION:Step meeting every Thursday lunchtime
URL:https://taumarunui.co.nz/event/alcoholics-anonymous-2/2028-08-17/
LOCATION:250 Taupo Road\, Taupo Road\, Taumarunui\, 3920\, New Zealand
CATEGORIES:Clubs
GEO:-38.8844708;175.290787
X-APPLE-STRUCTURED-LOCATION;VALUE=URI;X-ADDRESS=250 Taupo Road Taupo Road Taumarunui 3920 New Zealand;X-APPLE-RADIUS=500;X-TITLE=Taupo Road:geo:175.290787,-38.8844708
END:VEVENT
BEGIN:VEVENT
DTSTART;TZID=Pacific/Auckland:20280824T120000
DTEND;TZID=Pacific/Auckland:20280824T130000
DTSTAMP:20260422T203535
CREATED:20240922T231421Z
LAST-MODIFIED:20240922T231421Z
UID:10001450-1850731200-1850734800@taumarunui.co.nz
SUMMARY:Alcoholics Anonymous
DESCRIPTION:Step meeting every Thursday lunchtime
URL:https://taumarunui.co.nz/event/alcoholics-anonymous-2/2028-08-24/
LOCATION:250 Taupo Road\, Taupo Road\, Taumarunui\, 3920\, New Zealand
CATEGORIES:Clubs
GEO:-38.8844708;175.290787
X-APPLE-STRUCTURED-LOCATION;VALUE=URI;X-ADDRESS=250 Taupo Road Taupo Road Taumarunui 3920 New Zealand;X-APPLE-RADIUS=500;X-TITLE=Taupo Road:geo:175.290787,-38.8844708
END:VEVENT
BEGIN:VEVENT
DTSTART;TZID=Pacific/Auckland:20280831T120000
DTEND;TZID=Pacific/Auckland:20280831T130000
DTSTAMP:20260422T203535
CREATED:20240922T231421Z
LAST-MODIFIED:20240922T231421Z
UID:10001451-1851336000-1851339600@taumarunui.co.nz
SUMMARY:Alcoholics Anonymous
DESCRIPTION:Step meeting every Thursday lunchtime
URL:https://taumarunui.co.nz/event/alcoholics-anonymous-2/2028-08-31/
LOCATION:250 Taupo Road\, Taupo Road\, Taumarunui\, 3920\, New Zealand
CATEGORIES:Clubs
GEO:-38.8844708;175.290787
X-APPLE-STRUCTURED-LOCATION;VALUE=URI;X-ADDRESS=250 Taupo Road Taupo Road Taumarunui 3920 New Zealand;X-APPLE-RADIUS=500;X-TITLE=Taupo Road:geo:175.290787,-38.8844708
END:VEVENT
BEGIN:VEVENT
DTSTART;TZID=Pacific/Auckland:20280907T120000
DTEND;TZID=Pacific/Auckland:20280907T130000
DTSTAMP:20260422T203535
CREATED:20240922T231421Z
LAST-MODIFIED:20240922T231421Z
UID:10001452-1851940800-1851944400@taumarunui.co.nz
SUMMARY:Alcoholics Anonymous
DESCRIPTION:Step meeting every Thursday lunchtime
URL:https://taumarunui.co.nz/event/alcoholics-anonymous-2/2028-09-07/
LOCATION:250 Taupo Road\, Taupo Road\, Taumarunui\, 3920\, New Zealand
CATEGORIES:Clubs
GEO:-38.8844708;175.290787
X-APPLE-STRUCTURED-LOCATION;VALUE=URI;X-ADDRESS=250 Taupo Road Taupo Road Taumarunui 3920 New Zealand;X-APPLE-RADIUS=500;X-TITLE=Taupo Road:geo:175.290787,-38.8844708
END:VEVENT
BEGIN:VEVENT
DTSTART;TZID=Pacific/Auckland:20280914T120000
DTEND;TZID=Pacific/Auckland:20280914T130000
DTSTAMP:20260422T203535
CREATED:20240922T231421Z
LAST-MODIFIED:20240922T231421Z
UID:10001453-1852545600-1852549200@taumarunui.co.nz
SUMMARY:Alcoholics Anonymous
DESCRIPTION:Step meeting every Thursday lunchtime
URL:https://taumarunui.co.nz/event/alcoholics-anonymous-2/2028-09-14/
LOCATION:250 Taupo Road\, Taupo Road\, Taumarunui\, 3920\, New Zealand
CATEGORIES:Clubs
GEO:-38.8844708;175.290787
X-APPLE-STRUCTURED-LOCATION;VALUE=URI;X-ADDRESS=250 Taupo Road Taupo Road Taumarunui 3920 New Zealand;X-APPLE-RADIUS=500;X-TITLE=Taupo Road:geo:175.290787,-38.8844708
END:VEVENT
BEGIN:VEVENT
DTSTART;TZID=Pacific/Auckland:20280921T120000
DTEND;TZID=Pacific/Auckland:20280921T130000
DTSTAMP:20260422T203535
CREATED:20240922T231421Z
LAST-MODIFIED:20240922T231421Z
UID:10001454-1853150400-1853154000@taumarunui.co.nz
SUMMARY:Alcoholics Anonymous
DESCRIPTION:Step meeting every Thursday lunchtime
URL:https://taumarunui.co.nz/event/alcoholics-anonymous-2/2028-09-21/
LOCATION:250 Taupo Road\, Taupo Road\, Taumarunui\, 3920\, New Zealand
CATEGORIES:Clubs
GEO:-38.8844708;175.290787
X-APPLE-STRUCTURED-LOCATION;VALUE=URI;X-ADDRESS=250 Taupo Road Taupo Road Taumarunui 3920 New Zealand;X-APPLE-RADIUS=500;X-TITLE=Taupo Road:geo:175.290787,-38.8844708
END:VEVENT
BEGIN:VEVENT
DTSTART;TZID=Pacific/Auckland:20280928T120000
DTEND;TZID=Pacific/Auckland:20280928T130000
DTSTAMP:20260422T203535
CREATED:20240922T231421Z
LAST-MODIFIED:20240922T231421Z
UID:10001455-1853755200-1853758800@taumarunui.co.nz
SUMMARY:Alcoholics Anonymous
DESCRIPTION:Step meeting every Thursday lunchtime
URL:https://taumarunui.co.nz/event/alcoholics-anonymous-2/2028-09-28/
LOCATION:250 Taupo Road\, Taupo Road\, Taumarunui\, 3920\, New Zealand
CATEGORIES:Clubs
GEO:-38.8844708;175.290787
X-APPLE-STRUCTURED-LOCATION;VALUE=URI;X-ADDRESS=250 Taupo Road Taupo Road Taumarunui 3920 New Zealand;X-APPLE-RADIUS=500;X-TITLE=Taupo Road:geo:175.290787,-38.8844708
END:VEVENT
BEGIN:VEVENT
DTSTART;TZID=Pacific/Auckland:20281005T120000
DTEND;TZID=Pacific/Auckland:20281005T130000
DTSTAMP:20260422T203535
CREATED:20240922T231421Z
LAST-MODIFIED:20240922T231421Z
UID:10001456-1854360000-1854363600@taumarunui.co.nz
SUMMARY:Alcoholics Anonymous
DESCRIPTION:Step meeting every Thursday lunchtime
URL:https://taumarunui.co.nz/event/alcoholics-anonymous-2/2028-10-05/
LOCATION:250 Taupo Road\, Taupo Road\, Taumarunui\, 3920\, New Zealand
CATEGORIES:Clubs
GEO:-38.8844708;175.290787
X-APPLE-STRUCTURED-LOCATION;VALUE=URI;X-ADDRESS=250 Taupo Road Taupo Road Taumarunui 3920 New Zealand;X-APPLE-RADIUS=500;X-TITLE=Taupo Road:geo:175.290787,-38.8844708
END:VEVENT
BEGIN:VEVENT
DTSTART;TZID=Pacific/Auckland:20281012T120000
DTEND;TZID=Pacific/Auckland:20281012T130000
DTSTAMP:20260422T203535
CREATED:20240922T231421Z
LAST-MODIFIED:20240922T231421Z
UID:10001457-1854964800-1854968400@taumarunui.co.nz
SUMMARY:Alcoholics Anonymous
DESCRIPTION:Step meeting every Thursday lunchtime
URL:https://taumarunui.co.nz/event/alcoholics-anonymous-2/2028-10-12/
LOCATION:250 Taupo Road\, Taupo Road\, Taumarunui\, 3920\, New Zealand
CATEGORIES:Clubs
GEO:-38.8844708;175.290787
X-APPLE-STRUCTURED-LOCATION;VALUE=URI;X-ADDRESS=250 Taupo Road Taupo Road Taumarunui 3920 New Zealand;X-APPLE-RADIUS=500;X-TITLE=Taupo Road:geo:175.290787,-38.8844708
END:VEVENT
BEGIN:VEVENT
DTSTART;TZID=Pacific/Auckland:20281019T120000
DTEND;TZID=Pacific/Auckland:20281019T130000
DTSTAMP:20260422T203535
CREATED:20240922T231421Z
LAST-MODIFIED:20240922T231421Z
UID:10001458-1855569600-1855573200@taumarunui.co.nz
SUMMARY:Alcoholics Anonymous
DESCRIPTION:Step meeting every Thursday lunchtime
URL:https://taumarunui.co.nz/event/alcoholics-anonymous-2/2028-10-19/
LOCATION:250 Taupo Road\, Taupo Road\, Taumarunui\, 3920\, New Zealand
CATEGORIES:Clubs
GEO:-38.8844708;175.290787
X-APPLE-STRUCTURED-LOCATION;VALUE=URI;X-ADDRESS=250 Taupo Road Taupo Road Taumarunui 3920 New Zealand;X-APPLE-RADIUS=500;X-TITLE=Taupo Road:geo:175.290787,-38.8844708
END:VEVENT
BEGIN:VEVENT
DTSTART;TZID=Pacific/Auckland:20281026T120000
DTEND;TZID=Pacific/Auckland:20281026T130000
DTSTAMP:20260422T203535
CREATED:20240922T231421Z
LAST-MODIFIED:20240922T231421Z
UID:10001459-1856174400-1856178000@taumarunui.co.nz
SUMMARY:Alcoholics Anonymous
DESCRIPTION:Step meeting every Thursday lunchtime
URL:https://taumarunui.co.nz/event/alcoholics-anonymous-2/2028-10-26/
LOCATION:250 Taupo Road\, Taupo Road\, Taumarunui\, 3920\, New Zealand
CATEGORIES:Clubs
GEO:-38.8844708;175.290787
X-APPLE-STRUCTURED-LOCATION;VALUE=URI;X-ADDRESS=250 Taupo Road Taupo Road Taumarunui 3920 New Zealand;X-APPLE-RADIUS=500;X-TITLE=Taupo Road:geo:175.290787,-38.8844708
END:VEVENT
BEGIN:VEVENT
DTSTART;TZID=Pacific/Auckland:20281102T120000
DTEND;TZID=Pacific/Auckland:20281102T130000
DTSTAMP:20260422T203535
CREATED:20240922T231421Z
LAST-MODIFIED:20240922T231421Z
UID:10001460-1856779200-1856782800@taumarunui.co.nz
SUMMARY:Alcoholics Anonymous
DESCRIPTION:Step meeting every Thursday lunchtime
URL:https://taumarunui.co.nz/event/alcoholics-anonymous-2/2028-11-02/
LOCATION:250 Taupo Road\, Taupo Road\, Taumarunui\, 3920\, New Zealand
CATEGORIES:Clubs
GEO:-38.8844708;175.290787
X-APPLE-STRUCTURED-LOCATION;VALUE=URI;X-ADDRESS=250 Taupo Road Taupo Road Taumarunui 3920 New Zealand;X-APPLE-RADIUS=500;X-TITLE=Taupo Road:geo:175.290787,-38.8844708
END:VEVENT
BEGIN:VEVENT
DTSTART;TZID=Pacific/Auckland:20281109T120000
DTEND;TZID=Pacific/Auckland:20281109T130000
DTSTAMP:20260422T203535
CREATED:20240922T231421Z
LAST-MODIFIED:20240922T231421Z
UID:10001461-1857384000-1857387600@taumarunui.co.nz
SUMMARY:Alcoholics Anonymous
DESCRIPTION:Step meeting every Thursday lunchtime
URL:https://taumarunui.co.nz/event/alcoholics-anonymous-2/2028-11-09/
LOCATION:250 Taupo Road\, Taupo Road\, Taumarunui\, 3920\, New Zealand
CATEGORIES:Clubs
GEO:-38.8844708;175.290787
X-APPLE-STRUCTURED-LOCATION;VALUE=URI;X-ADDRESS=250 Taupo Road Taupo Road Taumarunui 3920 New Zealand;X-APPLE-RADIUS=500;X-TITLE=Taupo Road:geo:175.290787,-38.8844708
END:VEVENT
BEGIN:VEVENT
DTSTART;TZID=Pacific/Auckland:20281116T120000
DTEND;TZID=Pacific/Auckland:20281116T130000
DTSTAMP:20260422T203535
CREATED:20240922T231421Z
LAST-MODIFIED:20240922T231421Z
UID:10001462-1857988800-1857992400@taumarunui.co.nz
SUMMARY:Alcoholics Anonymous
DESCRIPTION:Step meeting every Thursday lunchtime
URL:https://taumarunui.co.nz/event/alcoholics-anonymous-2/2028-11-16/
LOCATION:250 Taupo Road\, Taupo Road\, Taumarunui\, 3920\, New Zealand
CATEGORIES:Clubs
GEO:-38.8844708;175.290787
X-APPLE-STRUCTURED-LOCATION;VALUE=URI;X-ADDRESS=250 Taupo Road Taupo Road Taumarunui 3920 New Zealand;X-APPLE-RADIUS=500;X-TITLE=Taupo Road:geo:175.290787,-38.8844708
END:VEVENT
BEGIN:VEVENT
DTSTART;TZID=Pacific/Auckland:20281123T120000
DTEND;TZID=Pacific/Auckland:20281123T130000
DTSTAMP:20260422T203535
CREATED:20240922T231421Z
LAST-MODIFIED:20240922T231421Z
UID:10001463-1858593600-1858597200@taumarunui.co.nz
SUMMARY:Alcoholics Anonymous
DESCRIPTION:Step meeting every Thursday lunchtime
URL:https://taumarunui.co.nz/event/alcoholics-anonymous-2/2028-11-23/
LOCATION:250 Taupo Road\, Taupo Road\, Taumarunui\, 3920\, New Zealand
CATEGORIES:Clubs
GEO:-38.8844708;175.290787
X-APPLE-STRUCTURED-LOCATION;VALUE=URI;X-ADDRESS=250 Taupo Road Taupo Road Taumarunui 3920 New Zealand;X-APPLE-RADIUS=500;X-TITLE=Taupo Road:geo:175.290787,-38.8844708
END:VEVENT
BEGIN:VEVENT
DTSTART;TZID=Pacific/Auckland:20281130T120000
DTEND;TZID=Pacific/Auckland:20281130T130000
DTSTAMP:20260422T203535
CREATED:20240922T231421Z
LAST-MODIFIED:20240922T231421Z
UID:10001464-1859198400-1859202000@taumarunui.co.nz
SUMMARY:Alcoholics Anonymous
DESCRIPTION:Step meeting every Thursday lunchtime
URL:https://taumarunui.co.nz/event/alcoholics-anonymous-2/2028-11-30/
LOCATION:250 Taupo Road\, Taupo Road\, Taumarunui\, 3920\, New Zealand
CATEGORIES:Clubs
GEO:-38.8844708;175.290787
X-APPLE-STRUCTURED-LOCATION;VALUE=URI;X-ADDRESS=250 Taupo Road Taupo Road Taumarunui 3920 New Zealand;X-APPLE-RADIUS=500;X-TITLE=Taupo Road:geo:175.290787,-38.8844708
END:VEVENT
BEGIN:VEVENT
DTSTART;TZID=Pacific/Auckland:20281207T120000
DTEND;TZID=Pacific/Auckland:20281207T130000
DTSTAMP:20260422T203535
CREATED:20240922T231421Z
LAST-MODIFIED:20240922T231421Z
UID:10001465-1859803200-1859806800@taumarunui.co.nz
SUMMARY:Alcoholics Anonymous
DESCRIPTION:Step meeting every Thursday lunchtime
URL:https://taumarunui.co.nz/event/alcoholics-anonymous-2/2028-12-07/
LOCATION:250 Taupo Road\, Taupo Road\, Taumarunui\, 3920\, New Zealand
CATEGORIES:Clubs
GEO:-38.8844708;175.290787
X-APPLE-STRUCTURED-LOCATION;VALUE=URI;X-ADDRESS=250 Taupo Road Taupo Road Taumarunui 3920 New Zealand;X-APPLE-RADIUS=500;X-TITLE=Taupo Road:geo:175.290787,-38.8844708
END:VEVENT
END:VCALENDAR