BEGIN:VCALENDAR
VERSION:2.0
PRODID:-//Taumarunui - ECPv6.15.20//NONSGML v1.0//EN
CALSCALE:GREGORIAN
METHOD:PUBLISH
X-ORIGINAL-URL:https://taumarunui.co.nz
X-WR-CALDESC:Events for Taumarunui
REFRESH-INTERVAL;VALUE=DURATION:PT1H
X-Robots-Tag:noindex
X-PUBLISHED-TTL:PT1H
BEGIN:VTIMEZONE
TZID:Pacific/Auckland
BEGIN:STANDARD
TZOFFSETFROM:+1300
TZOFFSETTO:+1200
TZNAME:NZST
DTSTART:20240406T140000
END:STANDARD
BEGIN:DAYLIGHT
TZOFFSETFROM:+1200
TZOFFSETTO:+1300
TZNAME:NZDT
DTSTART:20240928T140000
END:DAYLIGHT
BEGIN:STANDARD
TZOFFSETFROM:+1300
TZOFFSETTO:+1200
TZNAME:NZST
DTSTART:20250405T140000
END:STANDARD
BEGIN:DAYLIGHT
TZOFFSETFROM:+1200
TZOFFSETTO:+1300
TZNAME:NZDT
DTSTART:20250927T140000
END:DAYLIGHT
BEGIN:STANDARD
TZOFFSETFROM:+1300
TZOFFSETTO:+1200
TZNAME:NZST
DTSTART:20260404T140000
END:STANDARD
BEGIN:DAYLIGHT
TZOFFSETFROM:+1200
TZOFFSETTO:+1300
TZNAME:NZDT
DTSTART:20260926T140000
END:DAYLIGHT
BEGIN:STANDARD
TZOFFSETFROM:+1300
TZOFFSETTO:+1200
TZNAME:NZST
DTSTART:20270403T140000
END:STANDARD
BEGIN:DAYLIGHT
TZOFFSETFROM:+1200
TZOFFSETTO:+1300
TZNAME:NZDT
DTSTART:20270925T140000
END:DAYLIGHT
END:VTIMEZONE
BEGIN:VEVENT
DTSTART;TZID=Pacific/Auckland:20260218T130000
DTEND;TZID=Pacific/Auckland:20260218T150000
DTSTAMP:20260425T072523
CREATED:20241105T044509Z
LAST-MODIFIED:20241105T045810Z
UID:10007919-1771419600-1771426800@taumarunui.co.nz
SUMMARY:Taumarunui & District Women’s Club Circles - Mah Jong
DESCRIPTION:Visitors & new members welcome
URL:https://taumarunui.co.nz/event/taumarunui-district-womens-club-circles-mah-jong/2026-02-18/
LOCATION:Taumarunui Women’s Refuge & Support Centre\, 57 Miriama Street\, Taumarunui\, New Zealand
CATEGORIES:Clubs
END:VEVENT
BEGIN:VEVENT
DTSTART;TZID=Pacific/Auckland:20260218T100000
DTEND;TZID=Pacific/Auckland:20260218T120000
DTSTAMP:20260425T072523
CREATED:20241105T045347Z
LAST-MODIFIED:20241105T045347Z
UID:10008569-1771408800-1771416000@taumarunui.co.nz
SUMMARY:Taumarunui & District Women’s Club Circles - Craft Circle
DESCRIPTION:Second Friday and third Wednesday each month \nVisitors and new members welcome
URL:https://taumarunui.co.nz/event/taumarunui-district-womens-club-circles-craft-circle-2/2026-02-18/
LOCATION:Taumarunui Women’s Refuge & Support Centre\, 57 Miriama Street\, Taumarunui\, New Zealand
CATEGORIES:Clubs
END:VEVENT
BEGIN:VEVENT
DTSTART;TZID=Pacific/Auckland:20260216T130000
DTEND;TZID=Pacific/Auckland:20260216T150000
DTSTAMP:20260425T072523
CREATED:20241105T043700Z
LAST-MODIFIED:20241105T050155Z
UID:10006756-1771246800-1771254000@taumarunui.co.nz
SUMMARY:Taumarunui & District Women’s Club Circles - Bolivia
DESCRIPTION:Every Monday \nVisitors & new members welcome
URL:https://taumarunui.co.nz/event/taumarunui-district-womens-club-circles-bolivia/2026-02-16/
LOCATION:Taumarunui Women’s Refuge & Support Centre\, 57 Miriama Street\, Taumarunui\, New Zealand
CATEGORIES:Clubs
END:VEVENT
BEGIN:VEVENT
DTSTART;TZID=Pacific/Auckland:20260213T130000
DTEND;TZID=Pacific/Auckland:20260213T150000
DTSTAMP:20260425T072523
CREATED:20241105T044854Z
LAST-MODIFIED:20241105T050015Z
UID:10008299-1770987600-1770994800@taumarunui.co.nz
SUMMARY:Taumarunui & District Women’s Club Circles - Bridge
DESCRIPTION:Visitors & new members welcome
URL:https://taumarunui.co.nz/event/taumarunui-district-womens-club-circles-bridge/2026-02-13/
LOCATION:Taumarunui Women’s Refuge & Support Centre\, 57 Miriama Street\, Taumarunui\, New Zealand
CATEGORIES:Clubs
END:VEVENT
BEGIN:VEVENT
DTSTART;TZID=Pacific/Auckland:20260213T100000
DTEND;TZID=Pacific/Auckland:20260213T120000
DTSTAMP:20260425T072523
CREATED:20241105T045155Z
LAST-MODIFIED:20241105T045155Z
UID:10008509-1770976800-1770984000@taumarunui.co.nz
SUMMARY:Taumarunui & District Women’s Club Circles - Craft Circle
DESCRIPTION:Second Friday and third Wednesday of month \nVisitors and new members welcome
URL:https://taumarunui.co.nz/event/taumarunui-district-womens-club-circles-craft-circle/2026-02-13/
LOCATION:Taumarunui Women’s Refuge & Support Centre\, 57 Miriama Street\, Taumarunui\, New Zealand
CATEGORIES:Clubs
END:VEVENT
BEGIN:VEVENT
DTSTART;TZID=Pacific/Auckland:20260212T133000
DTEND;TZID=Pacific/Auckland:20260212T153000
DTSTAMP:20260425T072523
CREATED:20241105T044633Z
LAST-MODIFIED:20241105T050506Z
UID:10008128-1770903000-1770910200@taumarunui.co.nz
SUMMARY:Taumarunui & District Women’s Club Circles - Garden Circle
DESCRIPTION:Visitors & new members welcome
URL:https://taumarunui.co.nz/event/taumarunui-district-womens-club-circles-garden-circle/2026-02-12/
LOCATION:Taumarunui Women’s Refuge & Support Centre\, 57 Miriama Street\, Taumarunui\, New Zealand
CATEGORIES:Clubs
END:VEVENT
BEGIN:VEVENT
DTSTART;TZID=Pacific/Auckland:20260211T130000
DTEND;TZID=Pacific/Auckland:20260211T150000
DTSTAMP:20260425T072523
CREATED:20241105T044509Z
LAST-MODIFIED:20241105T045810Z
UID:10007918-1770814800-1770822000@taumarunui.co.nz
SUMMARY:Taumarunui & District Women’s Club Circles - Mah Jong
DESCRIPTION:Visitors & new members welcome
URL:https://taumarunui.co.nz/event/taumarunui-district-womens-club-circles-mah-jong/2026-02-11/
LOCATION:Taumarunui Women’s Refuge & Support Centre\, 57 Miriama Street\, Taumarunui\, New Zealand
CATEGORIES:Clubs
END:VEVENT
BEGIN:VEVENT
DTSTART;TZID=Pacific/Auckland:20260210T100000
DTEND;TZID=Pacific/Auckland:20260210T120000
DTSTAMP:20260425T072523
CREATED:20241105T044227Z
LAST-MODIFIED:20241105T050259Z
UID:10007747-1770717600-1770724800@taumarunui.co.nz
SUMMARY:Taumarunui & District Women’s Club Circles - Embroidery
DESCRIPTION:Twice monthly 2nd and 4th Tuesdays \nVisitors & new members welcome
URL:https://taumarunui.co.nz/event/taumarunui-district-womens-club-circles-embroidery/2026-02-10/
LOCATION:Taumarunui Women’s Refuge & Support Centre\, 57 Miriama Street\, Taumarunui\, New Zealand
CATEGORIES:Clubs
END:VEVENT
BEGIN:VEVENT
DTSTART;TZID=Pacific/Auckland:20260209T130000
DTEND;TZID=Pacific/Auckland:20260209T150000
DTSTAMP:20260425T072523
CREATED:20241105T043700Z
LAST-MODIFIED:20241105T050155Z
UID:10006755-1770642000-1770649200@taumarunui.co.nz
SUMMARY:Taumarunui & District Women’s Club Circles - Bolivia
DESCRIPTION:Every Monday \nVisitors & new members welcome
URL:https://taumarunui.co.nz/event/taumarunui-district-womens-club-circles-bolivia/2026-02-09/
LOCATION:Taumarunui Women’s Refuge & Support Centre\, 57 Miriama Street\, Taumarunui\, New Zealand
CATEGORIES:Clubs
END:VEVENT
BEGIN:VEVENT
DTSTART;TZID=Pacific/Auckland:20260206T130000
DTEND;TZID=Pacific/Auckland:20260206T150000
DTSTAMP:20260425T072523
CREATED:20241105T044854Z
LAST-MODIFIED:20241105T050015Z
UID:10008298-1770382800-1770390000@taumarunui.co.nz
SUMMARY:Taumarunui & District Women’s Club Circles - Bridge
DESCRIPTION:Visitors & new members welcome
URL:https://taumarunui.co.nz/event/taumarunui-district-womens-club-circles-bridge/2026-02-06/
LOCATION:Taumarunui Women’s Refuge & Support Centre\, 57 Miriama Street\, Taumarunui\, New Zealand
CATEGORIES:Clubs
END:VEVENT
BEGIN:VEVENT
DTSTART;TZID=Pacific/Auckland:20260204T130000
DTEND;TZID=Pacific/Auckland:20260204T150000
DTSTAMP:20260425T072523
CREATED:20241105T044509Z
LAST-MODIFIED:20241105T045810Z
UID:10007917-1770210000-1770217200@taumarunui.co.nz
SUMMARY:Taumarunui & District Women’s Club Circles - Mah Jong
DESCRIPTION:Visitors & new members welcome
URL:https://taumarunui.co.nz/event/taumarunui-district-womens-club-circles-mah-jong/2026-02-04/
LOCATION:Taumarunui Women’s Refuge & Support Centre\, 57 Miriama Street\, Taumarunui\, New Zealand
CATEGORIES:Clubs
END:VEVENT
BEGIN:VEVENT
DTSTART;TZID=Pacific/Auckland:20260202T130000
DTEND;TZID=Pacific/Auckland:20260202T150000
DTSTAMP:20260425T072523
CREATED:20241105T043700Z
LAST-MODIFIED:20241105T050155Z
UID:10006754-1770037200-1770044400@taumarunui.co.nz
SUMMARY:Taumarunui & District Women’s Club Circles - Bolivia
DESCRIPTION:Every Monday \nVisitors & new members welcome
URL:https://taumarunui.co.nz/event/taumarunui-district-womens-club-circles-bolivia/2026-02-02/
LOCATION:Taumarunui Women’s Refuge & Support Centre\, 57 Miriama Street\, Taumarunui\, New Zealand
CATEGORIES:Clubs
END:VEVENT
BEGIN:VEVENT
DTSTART;TZID=Pacific/Auckland:20260130T130000
DTEND;TZID=Pacific/Auckland:20260130T150000
DTSTAMP:20260425T072523
CREATED:20241105T044854Z
LAST-MODIFIED:20241105T050015Z
UID:10008297-1769778000-1769785200@taumarunui.co.nz
SUMMARY:Taumarunui & District Women’s Club Circles - Bridge
DESCRIPTION:Visitors & new members welcome
URL:https://taumarunui.co.nz/event/taumarunui-district-womens-club-circles-bridge/2026-01-30/
LOCATION:Taumarunui Women’s Refuge & Support Centre\, 57 Miriama Street\, Taumarunui\, New Zealand
CATEGORIES:Clubs
END:VEVENT
BEGIN:VEVENT
DTSTART;TZID=Pacific/Auckland:20260128T130000
DTEND;TZID=Pacific/Auckland:20260128T150000
DTSTAMP:20260425T072523
CREATED:20241105T044509Z
LAST-MODIFIED:20241105T045810Z
UID:10007916-1769605200-1769612400@taumarunui.co.nz
SUMMARY:Taumarunui & District Women’s Club Circles - Mah Jong
DESCRIPTION:Visitors & new members welcome
URL:https://taumarunui.co.nz/event/taumarunui-district-womens-club-circles-mah-jong/2026-01-28/
LOCATION:Taumarunui Women’s Refuge & Support Centre\, 57 Miriama Street\, Taumarunui\, New Zealand
CATEGORIES:Clubs
END:VEVENT
BEGIN:VEVENT
DTSTART;TZID=Pacific/Auckland:20260126T130000
DTEND;TZID=Pacific/Auckland:20260126T150000
DTSTAMP:20260425T072523
CREATED:20241105T043700Z
LAST-MODIFIED:20241105T050155Z
UID:10006753-1769432400-1769439600@taumarunui.co.nz
SUMMARY:Taumarunui & District Women’s Club Circles - Bolivia
DESCRIPTION:Every Monday \nVisitors & new members welcome
URL:https://taumarunui.co.nz/event/taumarunui-district-womens-club-circles-bolivia/2026-01-26/
LOCATION:Taumarunui Women’s Refuge & Support Centre\, 57 Miriama Street\, Taumarunui\, New Zealand
CATEGORIES:Clubs
END:VEVENT
BEGIN:VEVENT
DTSTART;TZID=Pacific/Auckland:20260123T130000
DTEND;TZID=Pacific/Auckland:20260123T150000
DTSTAMP:20260425T072523
CREATED:20241105T044854Z
LAST-MODIFIED:20241105T050015Z
UID:10008296-1769173200-1769180400@taumarunui.co.nz
SUMMARY:Taumarunui & District Women’s Club Circles - Bridge
DESCRIPTION:Visitors & new members welcome
URL:https://taumarunui.co.nz/event/taumarunui-district-womens-club-circles-bridge/2026-01-23/
LOCATION:Taumarunui Women’s Refuge & Support Centre\, 57 Miriama Street\, Taumarunui\, New Zealand
CATEGORIES:Clubs
END:VEVENT
BEGIN:VEVENT
DTSTART;TZID=Pacific/Auckland:20260121T130000
DTEND;TZID=Pacific/Auckland:20260121T150000
DTSTAMP:20260425T072523
CREATED:20241105T044509Z
LAST-MODIFIED:20241105T045810Z
UID:10007915-1769000400-1769007600@taumarunui.co.nz
SUMMARY:Taumarunui & District Women’s Club Circles - Mah Jong
DESCRIPTION:Visitors & new members welcome
URL:https://taumarunui.co.nz/event/taumarunui-district-womens-club-circles-mah-jong/2026-01-21/
LOCATION:Taumarunui Women’s Refuge & Support Centre\, 57 Miriama Street\, Taumarunui\, New Zealand
CATEGORIES:Clubs
END:VEVENT
BEGIN:VEVENT
DTSTART;TZID=Pacific/Auckland:20260121T100000
DTEND;TZID=Pacific/Auckland:20260121T120000
DTSTAMP:20260425T072523
CREATED:20241105T045347Z
LAST-MODIFIED:20241105T045347Z
UID:10008568-1768989600-1768996800@taumarunui.co.nz
SUMMARY:Taumarunui & District Women’s Club Circles - Craft Circle
DESCRIPTION:Second Friday and third Wednesday each month \nVisitors and new members welcome
URL:https://taumarunui.co.nz/event/taumarunui-district-womens-club-circles-craft-circle-2/2026-01-21/
LOCATION:Taumarunui Women’s Refuge & Support Centre\, 57 Miriama Street\, Taumarunui\, New Zealand
CATEGORIES:Clubs
END:VEVENT
BEGIN:VEVENT
DTSTART;TZID=Pacific/Auckland:20260119T130000
DTEND;TZID=Pacific/Auckland:20260119T150000
DTSTAMP:20260425T072523
CREATED:20241105T043700Z
LAST-MODIFIED:20241105T050155Z
UID:10006752-1768827600-1768834800@taumarunui.co.nz
SUMMARY:Taumarunui & District Women’s Club Circles - Bolivia
DESCRIPTION:Every Monday \nVisitors & new members welcome
URL:https://taumarunui.co.nz/event/taumarunui-district-womens-club-circles-bolivia/2026-01-19/
LOCATION:Taumarunui Women’s Refuge & Support Centre\, 57 Miriama Street\, Taumarunui\, New Zealand
CATEGORIES:Clubs
END:VEVENT
BEGIN:VEVENT
DTSTART;TZID=Pacific/Auckland:20260116T130000
DTEND;TZID=Pacific/Auckland:20260116T150000
DTSTAMP:20260425T072523
CREATED:20241105T044854Z
LAST-MODIFIED:20241105T050015Z
UID:10008295-1768568400-1768575600@taumarunui.co.nz
SUMMARY:Taumarunui & District Women’s Club Circles - Bridge
DESCRIPTION:Visitors & new members welcome
URL:https://taumarunui.co.nz/event/taumarunui-district-womens-club-circles-bridge/2026-01-16/
LOCATION:Taumarunui Women’s Refuge & Support Centre\, 57 Miriama Street\, Taumarunui\, New Zealand
CATEGORIES:Clubs
END:VEVENT
BEGIN:VEVENT
DTSTART;TZID=Pacific/Auckland:20260114T130000
DTEND;TZID=Pacific/Auckland:20260114T150000
DTSTAMP:20260425T072523
CREATED:20241105T044509Z
LAST-MODIFIED:20241105T045810Z
UID:10007914-1768395600-1768402800@taumarunui.co.nz
SUMMARY:Taumarunui & District Women’s Club Circles - Mah Jong
DESCRIPTION:Visitors & new members welcome
URL:https://taumarunui.co.nz/event/taumarunui-district-womens-club-circles-mah-jong/2026-01-14/
LOCATION:Taumarunui Women’s Refuge & Support Centre\, 57 Miriama Street\, Taumarunui\, New Zealand
CATEGORIES:Clubs
END:VEVENT
BEGIN:VEVENT
DTSTART;TZID=Pacific/Auckland:20260113T100000
DTEND;TZID=Pacific/Auckland:20260113T120000
DTSTAMP:20260425T072523
CREATED:20241105T044227Z
LAST-MODIFIED:20241105T050259Z
UID:10007746-1768298400-1768305600@taumarunui.co.nz
SUMMARY:Taumarunui & District Women’s Club Circles - Embroidery
DESCRIPTION:Twice monthly 2nd and 4th Tuesdays \nVisitors & new members welcome
URL:https://taumarunui.co.nz/event/taumarunui-district-womens-club-circles-embroidery/2026-01-13/
LOCATION:Taumarunui Women’s Refuge & Support Centre\, 57 Miriama Street\, Taumarunui\, New Zealand
CATEGORIES:Clubs
END:VEVENT
BEGIN:VEVENT
DTSTART;TZID=Pacific/Auckland:20260112T130000
DTEND;TZID=Pacific/Auckland:20260112T150000
DTSTAMP:20260425T072523
CREATED:20241105T043700Z
LAST-MODIFIED:20241105T050155Z
UID:10006751-1768222800-1768230000@taumarunui.co.nz
SUMMARY:Taumarunui & District Women’s Club Circles - Bolivia
DESCRIPTION:Every Monday \nVisitors & new members welcome
URL:https://taumarunui.co.nz/event/taumarunui-district-womens-club-circles-bolivia/2026-01-12/
LOCATION:Taumarunui Women’s Refuge & Support Centre\, 57 Miriama Street\, Taumarunui\, New Zealand
CATEGORIES:Clubs
END:VEVENT
BEGIN:VEVENT
DTSTART;TZID=Pacific/Auckland:20260109T130000
DTEND;TZID=Pacific/Auckland:20260109T150000
DTSTAMP:20260425T072523
CREATED:20241105T044854Z
LAST-MODIFIED:20241105T050015Z
UID:10008294-1767963600-1767970800@taumarunui.co.nz
SUMMARY:Taumarunui & District Women’s Club Circles - Bridge
DESCRIPTION:Visitors & new members welcome
URL:https://taumarunui.co.nz/event/taumarunui-district-womens-club-circles-bridge/2026-01-09/
LOCATION:Taumarunui Women’s Refuge & Support Centre\, 57 Miriama Street\, Taumarunui\, New Zealand
CATEGORIES:Clubs
END:VEVENT
BEGIN:VEVENT
DTSTART;TZID=Pacific/Auckland:20260109T100000
DTEND;TZID=Pacific/Auckland:20260109T120000
DTSTAMP:20260425T072523
CREATED:20241105T045155Z
LAST-MODIFIED:20241105T045155Z
UID:10008508-1767952800-1767960000@taumarunui.co.nz
SUMMARY:Taumarunui & District Women’s Club Circles - Craft Circle
DESCRIPTION:Second Friday and third Wednesday of month \nVisitors and new members welcome
URL:https://taumarunui.co.nz/event/taumarunui-district-womens-club-circles-craft-circle/2026-01-09/
LOCATION:Taumarunui Women’s Refuge & Support Centre\, 57 Miriama Street\, Taumarunui\, New Zealand
CATEGORIES:Clubs
END:VEVENT
BEGIN:VEVENT
DTSTART;TZID=Pacific/Auckland:20260108T133000
DTEND;TZID=Pacific/Auckland:20260108T153000
DTSTAMP:20260425T072523
CREATED:20241105T044633Z
LAST-MODIFIED:20241105T050506Z
UID:10008127-1767879000-1767886200@taumarunui.co.nz
SUMMARY:Taumarunui & District Women’s Club Circles - Garden Circle
DESCRIPTION:Visitors & new members welcome
URL:https://taumarunui.co.nz/event/taumarunui-district-womens-club-circles-garden-circle/2026-01-08/
LOCATION:Taumarunui Women’s Refuge & Support Centre\, 57 Miriama Street\, Taumarunui\, New Zealand
CATEGORIES:Clubs
END:VEVENT
BEGIN:VEVENT
DTSTART;TZID=Pacific/Auckland:20260107T130000
DTEND;TZID=Pacific/Auckland:20260107T150000
DTSTAMP:20260425T072523
CREATED:20241105T044509Z
LAST-MODIFIED:20241105T045810Z
UID:10007913-1767790800-1767798000@taumarunui.co.nz
SUMMARY:Taumarunui & District Women’s Club Circles - Mah Jong
DESCRIPTION:Visitors & new members welcome
URL:https://taumarunui.co.nz/event/taumarunui-district-womens-club-circles-mah-jong/2026-01-07/
LOCATION:Taumarunui Women’s Refuge & Support Centre\, 57 Miriama Street\, Taumarunui\, New Zealand
CATEGORIES:Clubs
END:VEVENT
BEGIN:VEVENT
DTSTART;TZID=Pacific/Auckland:20260105T130000
DTEND;TZID=Pacific/Auckland:20260105T150000
DTSTAMP:20260425T072523
CREATED:20241105T043700Z
LAST-MODIFIED:20241105T050155Z
UID:10006750-1767618000-1767625200@taumarunui.co.nz
SUMMARY:Taumarunui & District Women’s Club Circles - Bolivia
DESCRIPTION:Every Monday \nVisitors & new members welcome
URL:https://taumarunui.co.nz/event/taumarunui-district-womens-club-circles-bolivia/2026-01-05/
LOCATION:Taumarunui Women’s Refuge & Support Centre\, 57 Miriama Street\, Taumarunui\, New Zealand
CATEGORIES:Clubs
END:VEVENT
BEGIN:VEVENT
DTSTART;TZID=Pacific/Auckland:20260102T130000
DTEND;TZID=Pacific/Auckland:20260102T150000
DTSTAMP:20260425T072523
CREATED:20241105T044854Z
LAST-MODIFIED:20241105T050015Z
UID:10008293-1767358800-1767366000@taumarunui.co.nz
SUMMARY:Taumarunui & District Women’s Club Circles - Bridge
DESCRIPTION:Visitors & new members welcome
URL:https://taumarunui.co.nz/event/taumarunui-district-womens-club-circles-bridge/2026-01-02/
LOCATION:Taumarunui Women’s Refuge & Support Centre\, 57 Miriama Street\, Taumarunui\, New Zealand
CATEGORIES:Clubs
END:VEVENT
BEGIN:VEVENT
DTSTART;TZID=Pacific/Auckland:20251231T130000
DTEND;TZID=Pacific/Auckland:20251231T150000
DTSTAMP:20260425T072523
CREATED:20241105T044509Z
LAST-MODIFIED:20241105T045810Z
UID:10007912-1767186000-1767193200@taumarunui.co.nz
SUMMARY:Taumarunui & District Women’s Club Circles - Mah Jong
DESCRIPTION:Visitors & new members welcome
URL:https://taumarunui.co.nz/event/taumarunui-district-womens-club-circles-mah-jong/2025-12-31/
LOCATION:Taumarunui Women’s Refuge & Support Centre\, 57 Miriama Street\, Taumarunui\, New Zealand
CATEGORIES:Clubs
END:VEVENT
END:VCALENDAR