BEGIN:VCALENDAR
VERSION:2.0
PRODID:-//Taumarunui - ECPv6.15.16//NONSGML v1.0//EN
CALSCALE:GREGORIAN
METHOD:PUBLISH
X-WR-CALNAME:Taumarunui
X-ORIGINAL-URL:https://taumarunui.co.nz
X-WR-CALDESC:Events for Taumarunui
REFRESH-INTERVAL;VALUE=DURATION:PT1H
X-Robots-Tag:noindex
X-PUBLISHED-TTL:PT1H
BEGIN:VTIMEZONE
TZID:Pacific/Auckland
BEGIN:STANDARD
TZOFFSETFROM:+1300
TZOFFSETTO:+1200
TZNAME:NZST
DTSTART:20250405T140000
END:STANDARD
BEGIN:DAYLIGHT
TZOFFSETFROM:+1200
TZOFFSETTO:+1300
TZNAME:NZDT
DTSTART:20250927T140000
END:DAYLIGHT
BEGIN:STANDARD
TZOFFSETFROM:+1300
TZOFFSETTO:+1200
TZNAME:NZST
DTSTART:20260404T140000
END:STANDARD
BEGIN:DAYLIGHT
TZOFFSETFROM:+1200
TZOFFSETTO:+1300
TZNAME:NZDT
DTSTART:20260926T140000
END:DAYLIGHT
BEGIN:STANDARD
TZOFFSETFROM:+1300
TZOFFSETTO:+1200
TZNAME:NZST
DTSTART:20270403T140000
END:STANDARD
BEGIN:DAYLIGHT
TZOFFSETFROM:+1200
TZOFFSETTO:+1300
TZNAME:NZDT
DTSTART:20270925T140000
END:DAYLIGHT
END:VTIMEZONE
BEGIN:VEVENT
DTSTART;TZID=Pacific/Auckland:20260424T130000
DTEND;TZID=Pacific/Auckland:20260424T150000
DTSTAMP:20260423T003940
CREATED:20241105T044854Z
LAST-MODIFIED:20241105T050015Z
UID:10008309-1777035600-1777042800@taumarunui.co.nz
SUMMARY:Taumarunui & District Women’s Club Circles - Bridge
DESCRIPTION:Visitors & new members welcome
URL:https://taumarunui.co.nz/event/taumarunui-district-womens-club-circles-bridge/2026-04-24/
LOCATION:Taumarunui Women’s Refuge & Support Centre\, 57 Miriama Street\, Taumarunui\, New Zealand
CATEGORIES:Clubs
END:VEVENT
BEGIN:VEVENT
DTSTART;TZID=Pacific/Auckland:20260427T130000
DTEND;TZID=Pacific/Auckland:20260427T150000
DTSTAMP:20260423T003940
CREATED:20241105T043700Z
LAST-MODIFIED:20241105T050155Z
UID:10006766-1777294800-1777302000@taumarunui.co.nz
SUMMARY:Taumarunui & District Women’s Club Circles - Bolivia
DESCRIPTION:Every Monday \nVisitors & new members welcome
URL:https://taumarunui.co.nz/event/taumarunui-district-womens-club-circles-bolivia/2026-04-27/
LOCATION:Taumarunui Women’s Refuge & Support Centre\, 57 Miriama Street\, Taumarunui\, New Zealand
CATEGORIES:Clubs
END:VEVENT
BEGIN:VEVENT
DTSTART;TZID=Pacific/Auckland:20260429T130000
DTEND;TZID=Pacific/Auckland:20260429T150000
DTSTAMP:20260423T003940
CREATED:20241105T044509Z
LAST-MODIFIED:20241105T045810Z
UID:10007929-1777467600-1777474800@taumarunui.co.nz
SUMMARY:Taumarunui & District Women’s Club Circles - Mah Jong
DESCRIPTION:Visitors & new members welcome
URL:https://taumarunui.co.nz/event/taumarunui-district-womens-club-circles-mah-jong/2026-04-29/
LOCATION:Taumarunui Women’s Refuge & Support Centre\, 57 Miriama Street\, Taumarunui\, New Zealand
CATEGORIES:Clubs
END:VEVENT
BEGIN:VEVENT
DTSTART;TZID=Pacific/Auckland:20260501T130000
DTEND;TZID=Pacific/Auckland:20260501T150000
DTSTAMP:20260423T003940
CREATED:20241105T044854Z
LAST-MODIFIED:20241105T050015Z
UID:10008310-1777640400-1777647600@taumarunui.co.nz
SUMMARY:Taumarunui & District Women’s Club Circles - Bridge
DESCRIPTION:Visitors & new members welcome
URL:https://taumarunui.co.nz/event/taumarunui-district-womens-club-circles-bridge/2026-05-01/
LOCATION:Taumarunui Women’s Refuge & Support Centre\, 57 Miriama Street\, Taumarunui\, New Zealand
CATEGORIES:Clubs
END:VEVENT
BEGIN:VEVENT
DTSTART;TZID=Pacific/Auckland:20260504T130000
DTEND;TZID=Pacific/Auckland:20260504T150000
DTSTAMP:20260423T003940
CREATED:20241105T043700Z
LAST-MODIFIED:20241105T050155Z
UID:10006767-1777899600-1777906800@taumarunui.co.nz
SUMMARY:Taumarunui & District Women’s Club Circles - Bolivia
DESCRIPTION:Every Monday \nVisitors & new members welcome
URL:https://taumarunui.co.nz/event/taumarunui-district-womens-club-circles-bolivia/2026-05-04/
LOCATION:Taumarunui Women’s Refuge & Support Centre\, 57 Miriama Street\, Taumarunui\, New Zealand
CATEGORIES:Clubs
END:VEVENT
BEGIN:VEVENT
DTSTART;TZID=Pacific/Auckland:20260506T130000
DTEND;TZID=Pacific/Auckland:20260506T150000
DTSTAMP:20260423T003940
CREATED:20241105T044509Z
LAST-MODIFIED:20241105T045810Z
UID:10007930-1778072400-1778079600@taumarunui.co.nz
SUMMARY:Taumarunui & District Women’s Club Circles - Mah Jong
DESCRIPTION:Visitors & new members welcome
URL:https://taumarunui.co.nz/event/taumarunui-district-womens-club-circles-mah-jong/2026-05-06/
LOCATION:Taumarunui Women’s Refuge & Support Centre\, 57 Miriama Street\, Taumarunui\, New Zealand
CATEGORIES:Clubs
END:VEVENT
BEGIN:VEVENT
DTSTART;TZID=Pacific/Auckland:20260508T100000
DTEND;TZID=Pacific/Auckland:20260508T120000
DTSTAMP:20260423T003940
CREATED:20241105T045155Z
LAST-MODIFIED:20241105T045155Z
UID:10008512-1778234400-1778241600@taumarunui.co.nz
SUMMARY:Taumarunui & District Women’s Club Circles - Craft Circle
DESCRIPTION:Second Friday and third Wednesday of month \nVisitors and new members welcome
URL:https://taumarunui.co.nz/event/taumarunui-district-womens-club-circles-craft-circle/2026-05-08/
LOCATION:Taumarunui Women’s Refuge & Support Centre\, 57 Miriama Street\, Taumarunui\, New Zealand
CATEGORIES:Clubs
END:VEVENT
BEGIN:VEVENT
DTSTART;TZID=Pacific/Auckland:20260508T130000
DTEND;TZID=Pacific/Auckland:20260508T150000
DTSTAMP:20260423T003940
CREATED:20241105T044854Z
LAST-MODIFIED:20241105T050015Z
UID:10008311-1778245200-1778252400@taumarunui.co.nz
SUMMARY:Taumarunui & District Women’s Club Circles - Bridge
DESCRIPTION:Visitors & new members welcome
URL:https://taumarunui.co.nz/event/taumarunui-district-womens-club-circles-bridge/2026-05-08/
LOCATION:Taumarunui Women’s Refuge & Support Centre\, 57 Miriama Street\, Taumarunui\, New Zealand
CATEGORIES:Clubs
END:VEVENT
BEGIN:VEVENT
DTSTART;TZID=Pacific/Auckland:20260511T130000
DTEND;TZID=Pacific/Auckland:20260511T150000
DTSTAMP:20260423T003940
CREATED:20241105T043700Z
LAST-MODIFIED:20241105T050155Z
UID:10006768-1778504400-1778511600@taumarunui.co.nz
SUMMARY:Taumarunui & District Women’s Club Circles - Bolivia
DESCRIPTION:Every Monday \nVisitors & new members welcome
URL:https://taumarunui.co.nz/event/taumarunui-district-womens-club-circles-bolivia/2026-05-11/
LOCATION:Taumarunui Women’s Refuge & Support Centre\, 57 Miriama Street\, Taumarunui\, New Zealand
CATEGORIES:Clubs
END:VEVENT
BEGIN:VEVENT
DTSTART;TZID=Pacific/Auckland:20260512T100000
DTEND;TZID=Pacific/Auckland:20260512T120000
DTSTAMP:20260423T003940
CREATED:20241105T044227Z
LAST-MODIFIED:20241105T050259Z
UID:10007750-1778580000-1778587200@taumarunui.co.nz
SUMMARY:Taumarunui & District Women’s Club Circles - Embroidery
DESCRIPTION:Twice monthly 2nd and 4th Tuesdays \nVisitors & new members welcome
URL:https://taumarunui.co.nz/event/taumarunui-district-womens-club-circles-embroidery/2026-05-12/
LOCATION:Taumarunui Women’s Refuge & Support Centre\, 57 Miriama Street\, Taumarunui\, New Zealand
CATEGORIES:Clubs
END:VEVENT
BEGIN:VEVENT
DTSTART;TZID=Pacific/Auckland:20260513T130000
DTEND;TZID=Pacific/Auckland:20260513T150000
DTSTAMP:20260423T003940
CREATED:20241105T044509Z
LAST-MODIFIED:20241105T045810Z
UID:10007931-1778677200-1778684400@taumarunui.co.nz
SUMMARY:Taumarunui & District Women’s Club Circles - Mah Jong
DESCRIPTION:Visitors & new members welcome
URL:https://taumarunui.co.nz/event/taumarunui-district-womens-club-circles-mah-jong/2026-05-13/
LOCATION:Taumarunui Women’s Refuge & Support Centre\, 57 Miriama Street\, Taumarunui\, New Zealand
CATEGORIES:Clubs
END:VEVENT
BEGIN:VEVENT
DTSTART;TZID=Pacific/Auckland:20260514T133000
DTEND;TZID=Pacific/Auckland:20260514T153000
DTSTAMP:20260423T003940
CREATED:20241105T044633Z
LAST-MODIFIED:20241105T050506Z
UID:10008131-1778765400-1778772600@taumarunui.co.nz
SUMMARY:Taumarunui & District Women’s Club Circles - Garden Circle
DESCRIPTION:Visitors & new members welcome
URL:https://taumarunui.co.nz/event/taumarunui-district-womens-club-circles-garden-circle/2026-05-14/
LOCATION:Taumarunui Women’s Refuge & Support Centre\, 57 Miriama Street\, Taumarunui\, New Zealand
CATEGORIES:Clubs
END:VEVENT
BEGIN:VEVENT
DTSTART;TZID=Pacific/Auckland:20260515T130000
DTEND;TZID=Pacific/Auckland:20260515T150000
DTSTAMP:20260423T003940
CREATED:20241105T044854Z
LAST-MODIFIED:20241105T050015Z
UID:10008312-1778850000-1778857200@taumarunui.co.nz
SUMMARY:Taumarunui & District Women’s Club Circles - Bridge
DESCRIPTION:Visitors & new members welcome
URL:https://taumarunui.co.nz/event/taumarunui-district-womens-club-circles-bridge/2026-05-15/
LOCATION:Taumarunui Women’s Refuge & Support Centre\, 57 Miriama Street\, Taumarunui\, New Zealand
CATEGORIES:Clubs
END:VEVENT
BEGIN:VEVENT
DTSTART;TZID=Pacific/Auckland:20260518T130000
DTEND;TZID=Pacific/Auckland:20260518T150000
DTSTAMP:20260423T003940
CREATED:20241105T043700Z
LAST-MODIFIED:20241105T050155Z
UID:10006769-1779109200-1779116400@taumarunui.co.nz
SUMMARY:Taumarunui & District Women’s Club Circles - Bolivia
DESCRIPTION:Every Monday \nVisitors & new members welcome
URL:https://taumarunui.co.nz/event/taumarunui-district-womens-club-circles-bolivia/2026-05-18/
LOCATION:Taumarunui Women’s Refuge & Support Centre\, 57 Miriama Street\, Taumarunui\, New Zealand
CATEGORIES:Clubs
END:VEVENT
BEGIN:VEVENT
DTSTART;TZID=Pacific/Auckland:20260520T100000
DTEND;TZID=Pacific/Auckland:20260520T120000
DTSTAMP:20260423T003940
CREATED:20241105T045347Z
LAST-MODIFIED:20241105T045347Z
UID:10008572-1779271200-1779278400@taumarunui.co.nz
SUMMARY:Taumarunui & District Women’s Club Circles - Craft Circle
DESCRIPTION:Second Friday and third Wednesday each month \nVisitors and new members welcome
URL:https://taumarunui.co.nz/event/taumarunui-district-womens-club-circles-craft-circle-2/2026-05-20/
LOCATION:Taumarunui Women’s Refuge & Support Centre\, 57 Miriama Street\, Taumarunui\, New Zealand
CATEGORIES:Clubs
END:VEVENT
BEGIN:VEVENT
DTSTART;TZID=Pacific/Auckland:20260520T130000
DTEND;TZID=Pacific/Auckland:20260520T150000
DTSTAMP:20260423T003940
CREATED:20241105T044509Z
LAST-MODIFIED:20241105T045810Z
UID:10007932-1779282000-1779289200@taumarunui.co.nz
SUMMARY:Taumarunui & District Women’s Club Circles - Mah Jong
DESCRIPTION:Visitors & new members welcome
URL:https://taumarunui.co.nz/event/taumarunui-district-womens-club-circles-mah-jong/2026-05-20/
LOCATION:Taumarunui Women’s Refuge & Support Centre\, 57 Miriama Street\, Taumarunui\, New Zealand
CATEGORIES:Clubs
END:VEVENT
BEGIN:VEVENT
DTSTART;TZID=Pacific/Auckland:20260522T130000
DTEND;TZID=Pacific/Auckland:20260522T150000
DTSTAMP:20260423T003940
CREATED:20241105T044854Z
LAST-MODIFIED:20241105T050015Z
UID:10008313-1779454800-1779462000@taumarunui.co.nz
SUMMARY:Taumarunui & District Women’s Club Circles - Bridge
DESCRIPTION:Visitors & new members welcome
URL:https://taumarunui.co.nz/event/taumarunui-district-womens-club-circles-bridge/2026-05-22/
LOCATION:Taumarunui Women’s Refuge & Support Centre\, 57 Miriama Street\, Taumarunui\, New Zealand
CATEGORIES:Clubs
END:VEVENT
BEGIN:VEVENT
DTSTART;TZID=Pacific/Auckland:20260525T130000
DTEND;TZID=Pacific/Auckland:20260525T150000
DTSTAMP:20260423T003940
CREATED:20241105T043700Z
LAST-MODIFIED:20241105T050155Z
UID:10006770-1779714000-1779721200@taumarunui.co.nz
SUMMARY:Taumarunui & District Women’s Club Circles - Bolivia
DESCRIPTION:Every Monday \nVisitors & new members welcome
URL:https://taumarunui.co.nz/event/taumarunui-district-womens-club-circles-bolivia/2026-05-25/
LOCATION:Taumarunui Women’s Refuge & Support Centre\, 57 Miriama Street\, Taumarunui\, New Zealand
CATEGORIES:Clubs
END:VEVENT
BEGIN:VEVENT
DTSTART;TZID=Pacific/Auckland:20260527T130000
DTEND;TZID=Pacific/Auckland:20260527T150000
DTSTAMP:20260423T003940
CREATED:20241105T044509Z
LAST-MODIFIED:20241105T045810Z
UID:10007933-1779886800-1779894000@taumarunui.co.nz
SUMMARY:Taumarunui & District Women’s Club Circles - Mah Jong
DESCRIPTION:Visitors & new members welcome
URL:https://taumarunui.co.nz/event/taumarunui-district-womens-club-circles-mah-jong/2026-05-27/
LOCATION:Taumarunui Women’s Refuge & Support Centre\, 57 Miriama Street\, Taumarunui\, New Zealand
CATEGORIES:Clubs
END:VEVENT
BEGIN:VEVENT
DTSTART;TZID=Pacific/Auckland:20260529T130000
DTEND;TZID=Pacific/Auckland:20260529T150000
DTSTAMP:20260423T003940
CREATED:20241105T044854Z
LAST-MODIFIED:20241105T050015Z
UID:10008314-1780059600-1780066800@taumarunui.co.nz
SUMMARY:Taumarunui & District Women’s Club Circles - Bridge
DESCRIPTION:Visitors & new members welcome
URL:https://taumarunui.co.nz/event/taumarunui-district-womens-club-circles-bridge/2026-05-29/
LOCATION:Taumarunui Women’s Refuge & Support Centre\, 57 Miriama Street\, Taumarunui\, New Zealand
CATEGORIES:Clubs
END:VEVENT
BEGIN:VEVENT
DTSTART;TZID=Pacific/Auckland:20260601T130000
DTEND;TZID=Pacific/Auckland:20260601T150000
DTSTAMP:20260423T003940
CREATED:20241105T043700Z
LAST-MODIFIED:20241105T050155Z
UID:10006771-1780318800-1780326000@taumarunui.co.nz
SUMMARY:Taumarunui & District Women’s Club Circles - Bolivia
DESCRIPTION:Every Monday \nVisitors & new members welcome
URL:https://taumarunui.co.nz/event/taumarunui-district-womens-club-circles-bolivia/2026-06-01/
LOCATION:Taumarunui Women’s Refuge & Support Centre\, 57 Miriama Street\, Taumarunui\, New Zealand
CATEGORIES:Clubs
END:VEVENT
BEGIN:VEVENT
DTSTART;TZID=Pacific/Auckland:20260603T130000
DTEND;TZID=Pacific/Auckland:20260603T150000
DTSTAMP:20260423T003940
CREATED:20241105T044509Z
LAST-MODIFIED:20241105T045810Z
UID:10007934-1780491600-1780498800@taumarunui.co.nz
SUMMARY:Taumarunui & District Women’s Club Circles - Mah Jong
DESCRIPTION:Visitors & new members welcome
URL:https://taumarunui.co.nz/event/taumarunui-district-womens-club-circles-mah-jong/2026-06-03/
LOCATION:Taumarunui Women’s Refuge & Support Centre\, 57 Miriama Street\, Taumarunui\, New Zealand
CATEGORIES:Clubs
END:VEVENT
BEGIN:VEVENT
DTSTART;TZID=Pacific/Auckland:20260605T130000
DTEND;TZID=Pacific/Auckland:20260605T150000
DTSTAMP:20260423T003940
CREATED:20241105T044854Z
LAST-MODIFIED:20241105T050015Z
UID:10008315-1780664400-1780671600@taumarunui.co.nz
SUMMARY:Taumarunui & District Women’s Club Circles - Bridge
DESCRIPTION:Visitors & new members welcome
URL:https://taumarunui.co.nz/event/taumarunui-district-womens-club-circles-bridge/2026-06-05/
LOCATION:Taumarunui Women’s Refuge & Support Centre\, 57 Miriama Street\, Taumarunui\, New Zealand
CATEGORIES:Clubs
END:VEVENT
BEGIN:VEVENT
DTSTART;TZID=Pacific/Auckland:20260608T130000
DTEND;TZID=Pacific/Auckland:20260608T150000
DTSTAMP:20260423T003940
CREATED:20241105T043700Z
LAST-MODIFIED:20241105T050155Z
UID:10006772-1780923600-1780930800@taumarunui.co.nz
SUMMARY:Taumarunui & District Women’s Club Circles - Bolivia
DESCRIPTION:Every Monday \nVisitors & new members welcome
URL:https://taumarunui.co.nz/event/taumarunui-district-womens-club-circles-bolivia/2026-06-08/
LOCATION:Taumarunui Women’s Refuge & Support Centre\, 57 Miriama Street\, Taumarunui\, New Zealand
CATEGORIES:Clubs
END:VEVENT
BEGIN:VEVENT
DTSTART;TZID=Pacific/Auckland:20260609T100000
DTEND;TZID=Pacific/Auckland:20260609T120000
DTSTAMP:20260423T003940
CREATED:20241105T044227Z
LAST-MODIFIED:20241105T050259Z
UID:10007751-1780999200-1781006400@taumarunui.co.nz
SUMMARY:Taumarunui & District Women’s Club Circles - Embroidery
DESCRIPTION:Twice monthly 2nd and 4th Tuesdays \nVisitors & new members welcome
URL:https://taumarunui.co.nz/event/taumarunui-district-womens-club-circles-embroidery/2026-06-09/
LOCATION:Taumarunui Women’s Refuge & Support Centre\, 57 Miriama Street\, Taumarunui\, New Zealand
CATEGORIES:Clubs
END:VEVENT
BEGIN:VEVENT
DTSTART;TZID=Pacific/Auckland:20260610T130000
DTEND;TZID=Pacific/Auckland:20260610T150000
DTSTAMP:20260423T003940
CREATED:20241105T044509Z
LAST-MODIFIED:20241105T045810Z
UID:10007935-1781096400-1781103600@taumarunui.co.nz
SUMMARY:Taumarunui & District Women’s Club Circles - Mah Jong
DESCRIPTION:Visitors & new members welcome
URL:https://taumarunui.co.nz/event/taumarunui-district-womens-club-circles-mah-jong/2026-06-10/
LOCATION:Taumarunui Women’s Refuge & Support Centre\, 57 Miriama Street\, Taumarunui\, New Zealand
CATEGORIES:Clubs
END:VEVENT
BEGIN:VEVENT
DTSTART;TZID=Pacific/Auckland:20260611T133000
DTEND;TZID=Pacific/Auckland:20260611T153000
DTSTAMP:20260423T003940
CREATED:20241105T044633Z
LAST-MODIFIED:20241105T050506Z
UID:10008132-1781184600-1781191800@taumarunui.co.nz
SUMMARY:Taumarunui & District Women’s Club Circles - Garden Circle
DESCRIPTION:Visitors & new members welcome
URL:https://taumarunui.co.nz/event/taumarunui-district-womens-club-circles-garden-circle/2026-06-11/
LOCATION:Taumarunui Women’s Refuge & Support Centre\, 57 Miriama Street\, Taumarunui\, New Zealand
CATEGORIES:Clubs
END:VEVENT
BEGIN:VEVENT
DTSTART;TZID=Pacific/Auckland:20260612T100000
DTEND;TZID=Pacific/Auckland:20260612T120000
DTSTAMP:20260423T003940
CREATED:20241105T045155Z
LAST-MODIFIED:20241105T045155Z
UID:10008513-1781258400-1781265600@taumarunui.co.nz
SUMMARY:Taumarunui & District Women’s Club Circles - Craft Circle
DESCRIPTION:Second Friday and third Wednesday of month \nVisitors and new members welcome
URL:https://taumarunui.co.nz/event/taumarunui-district-womens-club-circles-craft-circle/2026-06-12/
LOCATION:Taumarunui Women’s Refuge & Support Centre\, 57 Miriama Street\, Taumarunui\, New Zealand
CATEGORIES:Clubs
END:VEVENT
BEGIN:VEVENT
DTSTART;TZID=Pacific/Auckland:20260612T130000
DTEND;TZID=Pacific/Auckland:20260612T150000
DTSTAMP:20260423T003940
CREATED:20241105T044854Z
LAST-MODIFIED:20241105T050015Z
UID:10008316-1781269200-1781276400@taumarunui.co.nz
SUMMARY:Taumarunui & District Women’s Club Circles - Bridge
DESCRIPTION:Visitors & new members welcome
URL:https://taumarunui.co.nz/event/taumarunui-district-womens-club-circles-bridge/2026-06-12/
LOCATION:Taumarunui Women’s Refuge & Support Centre\, 57 Miriama Street\, Taumarunui\, New Zealand
CATEGORIES:Clubs
END:VEVENT
BEGIN:VEVENT
DTSTART;TZID=Pacific/Auckland:20260615T130000
DTEND;TZID=Pacific/Auckland:20260615T150000
DTSTAMP:20260423T003940
CREATED:20241105T043700Z
LAST-MODIFIED:20241105T050155Z
UID:10006773-1781528400-1781535600@taumarunui.co.nz
SUMMARY:Taumarunui & District Women’s Club Circles - Bolivia
DESCRIPTION:Every Monday \nVisitors & new members welcome
URL:https://taumarunui.co.nz/event/taumarunui-district-womens-club-circles-bolivia/2026-06-15/
LOCATION:Taumarunui Women’s Refuge & Support Centre\, 57 Miriama Street\, Taumarunui\, New Zealand
CATEGORIES:Clubs
END:VEVENT
END:VCALENDAR