BEGIN:VCALENDAR
VERSION:2.0
PRODID:-//Taumarunui - ECPv6.15.20//NONSGML v1.0//EN
CALSCALE:GREGORIAN
METHOD:PUBLISH
X-WR-CALNAME:Taumarunui
X-ORIGINAL-URL:https://taumarunui.co.nz
X-WR-CALDESC:Events for Taumarunui
REFRESH-INTERVAL;VALUE=DURATION:PT1H
X-Robots-Tag:noindex
X-PUBLISHED-TTL:PT1H
BEGIN:VTIMEZONE
TZID:Pacific/Auckland
BEGIN:STANDARD
TZOFFSETFROM:+1300
TZOFFSETTO:+1200
TZNAME:NZST
DTSTART:20270403T140000
END:STANDARD
BEGIN:DAYLIGHT
TZOFFSETFROM:+1200
TZOFFSETTO:+1300
TZNAME:NZDT
DTSTART:20270925T140000
END:DAYLIGHT
BEGIN:STANDARD
TZOFFSETFROM:+1300
TZOFFSETTO:+1200
TZNAME:NZST
DTSTART:20280401T140000
END:STANDARD
BEGIN:DAYLIGHT
TZOFFSETFROM:+1200
TZOFFSETTO:+1300
TZNAME:NZDT
DTSTART:20280923T140000
END:DAYLIGHT
BEGIN:STANDARD
TZOFFSETFROM:+1300
TZOFFSETTO:+1200
TZNAME:NZST
DTSTART:20290331T140000
END:STANDARD
BEGIN:DAYLIGHT
TZOFFSETFROM:+1200
TZOFFSETTO:+1300
TZNAME:NZDT
DTSTART:20290929T140000
END:DAYLIGHT
BEGIN:STANDARD
TZOFFSETFROM:+1300
TZOFFSETTO:+1200
TZNAME:NZST
DTSTART:20300406T140000
END:STANDARD
BEGIN:DAYLIGHT
TZOFFSETFROM:+1200
TZOFFSETTO:+1300
TZNAME:NZDT
DTSTART:20300928T140000
END:DAYLIGHT
END:VTIMEZONE
BEGIN:VEVENT
DTSTART;TZID=Pacific/Auckland:20280501T173000
DTEND;TZID=Pacific/Auckland:20280501T193000
DTSTAMP:20260426T133117
CREATED:20240922T225946Z
LAST-MODIFIED:20240922T225946Z
UID:10000700-1840815000-1840822200@taumarunui.co.nz
SUMMARY:Taumarunui Rotary Club
DESCRIPTION:1st and 3rd Monday of month\, 5.30pm\, upstairs lounge at the RSA. \nJoin us for interesting speakers and involvement in community activities. 
URL:https://taumarunui.co.nz/event/taumarunui-rotary-club-2/2028-05-01/
LOCATION:RSA\, 10 Marae Street\, Taumarunui\, New Zealand
CATEGORIES:Clubs
GEO:-38.8851355;175.2614527
X-APPLE-STRUCTURED-LOCATION;VALUE=URI;X-ADDRESS=RSA 10 Marae Street Taumarunui New Zealand;X-APPLE-RADIUS=500;X-TITLE=10 Marae Street:geo:175.2614527,-38.8851355
END:VEVENT
BEGIN:VEVENT
DTSTART;TZID=Pacific/Auckland:20280515T173000
DTEND;TZID=Pacific/Auckland:20280515T193000
DTSTAMP:20260426T133117
CREATED:20240922T225808Z
LAST-MODIFIED:20241015T053932Z
UID:10000640-1842024600-1842031800@taumarunui.co.nz
SUMMARY:Taumarunui Rotary Club
DESCRIPTION:1st and 3rd Monday of month\, 5.30pm\, upstairs lounge at the RSA. \nJoin us for interesting speakers and involvement in community activities.
URL:https://taumarunui.co.nz/event/taumarunui-rotary-club/2028-05-15/
LOCATION:RSA\, 10 Marae Street\, Taumarunui\, New Zealand
CATEGORIES:Clubs
ATTACH;FMTTYPE=image/png:https://taumarunui.co.nz/wp-content/uploads/2024/09/IMG_8086.png
GEO:-38.8851355;175.2614527
X-APPLE-STRUCTURED-LOCATION;VALUE=URI;X-ADDRESS=RSA 10 Marae Street Taumarunui New Zealand;X-APPLE-RADIUS=500;X-TITLE=10 Marae Street:geo:175.2614527,-38.8851355
END:VEVENT
BEGIN:VEVENT
DTSTART;TZID=Pacific/Auckland:20280605T173000
DTEND;TZID=Pacific/Auckland:20280605T193000
DTSTAMP:20260426T133117
CREATED:20240922T225946Z
LAST-MODIFIED:20240922T225946Z
UID:10000701-1843839000-1843846200@taumarunui.co.nz
SUMMARY:Taumarunui Rotary Club
DESCRIPTION:1st and 3rd Monday of month\, 5.30pm\, upstairs lounge at the RSA. \nJoin us for interesting speakers and involvement in community activities. 
URL:https://taumarunui.co.nz/event/taumarunui-rotary-club-2/2028-06-05/
LOCATION:RSA\, 10 Marae Street\, Taumarunui\, New Zealand
CATEGORIES:Clubs
GEO:-38.8851355;175.2614527
X-APPLE-STRUCTURED-LOCATION;VALUE=URI;X-ADDRESS=RSA 10 Marae Street Taumarunui New Zealand;X-APPLE-RADIUS=500;X-TITLE=10 Marae Street:geo:175.2614527,-38.8851355
END:VEVENT
BEGIN:VEVENT
DTSTART;TZID=Pacific/Auckland:20280619T173000
DTEND;TZID=Pacific/Auckland:20280619T193000
DTSTAMP:20260426T133117
CREATED:20240922T225808Z
LAST-MODIFIED:20241015T053932Z
UID:10000641-1845048600-1845055800@taumarunui.co.nz
SUMMARY:Taumarunui Rotary Club
DESCRIPTION:1st and 3rd Monday of month\, 5.30pm\, upstairs lounge at the RSA. \nJoin us for interesting speakers and involvement in community activities.
URL:https://taumarunui.co.nz/event/taumarunui-rotary-club/2028-06-19/
LOCATION:RSA\, 10 Marae Street\, Taumarunui\, New Zealand
CATEGORIES:Clubs
ATTACH;FMTTYPE=image/png:https://taumarunui.co.nz/wp-content/uploads/2024/09/IMG_8086.png
GEO:-38.8851355;175.2614527
X-APPLE-STRUCTURED-LOCATION;VALUE=URI;X-ADDRESS=RSA 10 Marae Street Taumarunui New Zealand;X-APPLE-RADIUS=500;X-TITLE=10 Marae Street:geo:175.2614527,-38.8851355
END:VEVENT
BEGIN:VEVENT
DTSTART;TZID=Pacific/Auckland:20280703T173000
DTEND;TZID=Pacific/Auckland:20280703T193000
DTSTAMP:20260426T133117
CREATED:20240922T225946Z
LAST-MODIFIED:20240922T225946Z
UID:10000702-1846258200-1846265400@taumarunui.co.nz
SUMMARY:Taumarunui Rotary Club
DESCRIPTION:1st and 3rd Monday of month\, 5.30pm\, upstairs lounge at the RSA. \nJoin us for interesting speakers and involvement in community activities. 
URL:https://taumarunui.co.nz/event/taumarunui-rotary-club-2/2028-07-03/
LOCATION:RSA\, 10 Marae Street\, Taumarunui\, New Zealand
CATEGORIES:Clubs
GEO:-38.8851355;175.2614527
X-APPLE-STRUCTURED-LOCATION;VALUE=URI;X-ADDRESS=RSA 10 Marae Street Taumarunui New Zealand;X-APPLE-RADIUS=500;X-TITLE=10 Marae Street:geo:175.2614527,-38.8851355
END:VEVENT
BEGIN:VEVENT
DTSTART;TZID=Pacific/Auckland:20280717T173000
DTEND;TZID=Pacific/Auckland:20280717T193000
DTSTAMP:20260426T133117
CREATED:20240922T225808Z
LAST-MODIFIED:20241015T053932Z
UID:10000642-1847467800-1847475000@taumarunui.co.nz
SUMMARY:Taumarunui Rotary Club
DESCRIPTION:1st and 3rd Monday of month\, 5.30pm\, upstairs lounge at the RSA. \nJoin us for interesting speakers and involvement in community activities.
URL:https://taumarunui.co.nz/event/taumarunui-rotary-club/2028-07-17/
LOCATION:RSA\, 10 Marae Street\, Taumarunui\, New Zealand
CATEGORIES:Clubs
ATTACH;FMTTYPE=image/png:https://taumarunui.co.nz/wp-content/uploads/2024/09/IMG_8086.png
GEO:-38.8851355;175.2614527
X-APPLE-STRUCTURED-LOCATION;VALUE=URI;X-ADDRESS=RSA 10 Marae Street Taumarunui New Zealand;X-APPLE-RADIUS=500;X-TITLE=10 Marae Street:geo:175.2614527,-38.8851355
END:VEVENT
BEGIN:VEVENT
DTSTART;TZID=Pacific/Auckland:20280807T173000
DTEND;TZID=Pacific/Auckland:20280807T193000
DTSTAMP:20260426T133117
CREATED:20240922T225946Z
LAST-MODIFIED:20240922T225946Z
UID:10000703-1849282200-1849289400@taumarunui.co.nz
SUMMARY:Taumarunui Rotary Club
DESCRIPTION:1st and 3rd Monday of month\, 5.30pm\, upstairs lounge at the RSA. \nJoin us for interesting speakers and involvement in community activities. 
URL:https://taumarunui.co.nz/event/taumarunui-rotary-club-2/2028-08-07/
LOCATION:RSA\, 10 Marae Street\, Taumarunui\, New Zealand
CATEGORIES:Clubs
GEO:-38.8851355;175.2614527
X-APPLE-STRUCTURED-LOCATION;VALUE=URI;X-ADDRESS=RSA 10 Marae Street Taumarunui New Zealand;X-APPLE-RADIUS=500;X-TITLE=10 Marae Street:geo:175.2614527,-38.8851355
END:VEVENT
BEGIN:VEVENT
DTSTART;TZID=Pacific/Auckland:20280821T173000
DTEND;TZID=Pacific/Auckland:20280821T193000
DTSTAMP:20260426T133117
CREATED:20240922T225808Z
LAST-MODIFIED:20241015T053932Z
UID:10000643-1850491800-1850499000@taumarunui.co.nz
SUMMARY:Taumarunui Rotary Club
DESCRIPTION:1st and 3rd Monday of month\, 5.30pm\, upstairs lounge at the RSA. \nJoin us for interesting speakers and involvement in community activities.
URL:https://taumarunui.co.nz/event/taumarunui-rotary-club/2028-08-21/
LOCATION:RSA\, 10 Marae Street\, Taumarunui\, New Zealand
CATEGORIES:Clubs
ATTACH;FMTTYPE=image/png:https://taumarunui.co.nz/wp-content/uploads/2024/09/IMG_8086.png
GEO:-38.8851355;175.2614527
X-APPLE-STRUCTURED-LOCATION;VALUE=URI;X-ADDRESS=RSA 10 Marae Street Taumarunui New Zealand;X-APPLE-RADIUS=500;X-TITLE=10 Marae Street:geo:175.2614527,-38.8851355
END:VEVENT
BEGIN:VEVENT
DTSTART;TZID=Pacific/Auckland:20280904T173000
DTEND;TZID=Pacific/Auckland:20280904T193000
DTSTAMP:20260426T133117
CREATED:20240922T225946Z
LAST-MODIFIED:20240922T225946Z
UID:10000704-1851701400-1851708600@taumarunui.co.nz
SUMMARY:Taumarunui Rotary Club
DESCRIPTION:1st and 3rd Monday of month\, 5.30pm\, upstairs lounge at the RSA. \nJoin us for interesting speakers and involvement in community activities. 
URL:https://taumarunui.co.nz/event/taumarunui-rotary-club-2/2028-09-04/
LOCATION:RSA\, 10 Marae Street\, Taumarunui\, New Zealand
CATEGORIES:Clubs
GEO:-38.8851355;175.2614527
X-APPLE-STRUCTURED-LOCATION;VALUE=URI;X-ADDRESS=RSA 10 Marae Street Taumarunui New Zealand;X-APPLE-RADIUS=500;X-TITLE=10 Marae Street:geo:175.2614527,-38.8851355
END:VEVENT
BEGIN:VEVENT
DTSTART;TZID=Pacific/Auckland:20280918T173000
DTEND;TZID=Pacific/Auckland:20280918T193000
DTSTAMP:20260426T133117
CREATED:20240922T225808Z
LAST-MODIFIED:20241015T053932Z
UID:10000644-1852911000-1852918200@taumarunui.co.nz
SUMMARY:Taumarunui Rotary Club
DESCRIPTION:1st and 3rd Monday of month\, 5.30pm\, upstairs lounge at the RSA. \nJoin us for interesting speakers and involvement in community activities.
URL:https://taumarunui.co.nz/event/taumarunui-rotary-club/2028-09-18/
LOCATION:RSA\, 10 Marae Street\, Taumarunui\, New Zealand
CATEGORIES:Clubs
ATTACH;FMTTYPE=image/png:https://taumarunui.co.nz/wp-content/uploads/2024/09/IMG_8086.png
GEO:-38.8851355;175.2614527
X-APPLE-STRUCTURED-LOCATION;VALUE=URI;X-ADDRESS=RSA 10 Marae Street Taumarunui New Zealand;X-APPLE-RADIUS=500;X-TITLE=10 Marae Street:geo:175.2614527,-38.8851355
END:VEVENT
BEGIN:VEVENT
DTSTART;TZID=Pacific/Auckland:20281002T173000
DTEND;TZID=Pacific/Auckland:20281002T193000
DTSTAMP:20260426T133117
CREATED:20240922T225946Z
LAST-MODIFIED:20240922T225946Z
UID:10000705-1854120600-1854127800@taumarunui.co.nz
SUMMARY:Taumarunui Rotary Club
DESCRIPTION:1st and 3rd Monday of month\, 5.30pm\, upstairs lounge at the RSA. \nJoin us for interesting speakers and involvement in community activities. 
URL:https://taumarunui.co.nz/event/taumarunui-rotary-club-2/2028-10-02/
LOCATION:RSA\, 10 Marae Street\, Taumarunui\, New Zealand
CATEGORIES:Clubs
GEO:-38.8851355;175.2614527
X-APPLE-STRUCTURED-LOCATION;VALUE=URI;X-ADDRESS=RSA 10 Marae Street Taumarunui New Zealand;X-APPLE-RADIUS=500;X-TITLE=10 Marae Street:geo:175.2614527,-38.8851355
END:VEVENT
BEGIN:VEVENT
DTSTART;TZID=Pacific/Auckland:20281016T173000
DTEND;TZID=Pacific/Auckland:20281016T193000
DTSTAMP:20260426T133117
CREATED:20240922T225808Z
LAST-MODIFIED:20241015T053932Z
UID:10000645-1855330200-1855337400@taumarunui.co.nz
SUMMARY:Taumarunui Rotary Club
DESCRIPTION:1st and 3rd Monday of month\, 5.30pm\, upstairs lounge at the RSA. \nJoin us for interesting speakers and involvement in community activities.
URL:https://taumarunui.co.nz/event/taumarunui-rotary-club/2028-10-16/
LOCATION:RSA\, 10 Marae Street\, Taumarunui\, New Zealand
CATEGORIES:Clubs
ATTACH;FMTTYPE=image/png:https://taumarunui.co.nz/wp-content/uploads/2024/09/IMG_8086.png
GEO:-38.8851355;175.2614527
X-APPLE-STRUCTURED-LOCATION;VALUE=URI;X-ADDRESS=RSA 10 Marae Street Taumarunui New Zealand;X-APPLE-RADIUS=500;X-TITLE=10 Marae Street:geo:175.2614527,-38.8851355
END:VEVENT
BEGIN:VEVENT
DTSTART;TZID=Pacific/Auckland:20281106T173000
DTEND;TZID=Pacific/Auckland:20281106T193000
DTSTAMP:20260426T133117
CREATED:20240922T225946Z
LAST-MODIFIED:20240922T225946Z
UID:10000706-1857144600-1857151800@taumarunui.co.nz
SUMMARY:Taumarunui Rotary Club
DESCRIPTION:1st and 3rd Monday of month\, 5.30pm\, upstairs lounge at the RSA. \nJoin us for interesting speakers and involvement in community activities. 
URL:https://taumarunui.co.nz/event/taumarunui-rotary-club-2/2028-11-06/
LOCATION:RSA\, 10 Marae Street\, Taumarunui\, New Zealand
CATEGORIES:Clubs
GEO:-38.8851355;175.2614527
X-APPLE-STRUCTURED-LOCATION;VALUE=URI;X-ADDRESS=RSA 10 Marae Street Taumarunui New Zealand;X-APPLE-RADIUS=500;X-TITLE=10 Marae Street:geo:175.2614527,-38.8851355
END:VEVENT
BEGIN:VEVENT
DTSTART;TZID=Pacific/Auckland:20281120T173000
DTEND;TZID=Pacific/Auckland:20281120T193000
DTSTAMP:20260426T133117
CREATED:20240922T225808Z
LAST-MODIFIED:20241015T053932Z
UID:10000646-1858354200-1858361400@taumarunui.co.nz
SUMMARY:Taumarunui Rotary Club
DESCRIPTION:1st and 3rd Monday of month\, 5.30pm\, upstairs lounge at the RSA. \nJoin us for interesting speakers and involvement in community activities.
URL:https://taumarunui.co.nz/event/taumarunui-rotary-club/2028-11-20/
LOCATION:RSA\, 10 Marae Street\, Taumarunui\, New Zealand
CATEGORIES:Clubs
ATTACH;FMTTYPE=image/png:https://taumarunui.co.nz/wp-content/uploads/2024/09/IMG_8086.png
GEO:-38.8851355;175.2614527
X-APPLE-STRUCTURED-LOCATION;VALUE=URI;X-ADDRESS=RSA 10 Marae Street Taumarunui New Zealand;X-APPLE-RADIUS=500;X-TITLE=10 Marae Street:geo:175.2614527,-38.8851355
END:VEVENT
BEGIN:VEVENT
DTSTART;TZID=Pacific/Auckland:20281204T173000
DTEND;TZID=Pacific/Auckland:20281204T193000
DTSTAMP:20260426T133117
CREATED:20240922T225946Z
LAST-MODIFIED:20240922T225946Z
UID:10000707-1859563800-1859571000@taumarunui.co.nz
SUMMARY:Taumarunui Rotary Club
DESCRIPTION:1st and 3rd Monday of month\, 5.30pm\, upstairs lounge at the RSA. \nJoin us for interesting speakers and involvement in community activities. 
URL:https://taumarunui.co.nz/event/taumarunui-rotary-club-2/2028-12-04/
LOCATION:RSA\, 10 Marae Street\, Taumarunui\, New Zealand
CATEGORIES:Clubs
GEO:-38.8851355;175.2614527
X-APPLE-STRUCTURED-LOCATION;VALUE=URI;X-ADDRESS=RSA 10 Marae Street Taumarunui New Zealand;X-APPLE-RADIUS=500;X-TITLE=10 Marae Street:geo:175.2614527,-38.8851355
END:VEVENT
BEGIN:VEVENT
DTSTART;TZID=Pacific/Auckland:20281218T173000
DTEND;TZID=Pacific/Auckland:20281218T193000
DTSTAMP:20260426T133117
CREATED:20240922T225808Z
LAST-MODIFIED:20241015T053932Z
UID:10000647-1860773400-1860780600@taumarunui.co.nz
SUMMARY:Taumarunui Rotary Club
DESCRIPTION:1st and 3rd Monday of month\, 5.30pm\, upstairs lounge at the RSA. \nJoin us for interesting speakers and involvement in community activities.
URL:https://taumarunui.co.nz/event/taumarunui-rotary-club/2028-12-18/
LOCATION:RSA\, 10 Marae Street\, Taumarunui\, New Zealand
CATEGORIES:Clubs
ATTACH;FMTTYPE=image/png:https://taumarunui.co.nz/wp-content/uploads/2024/09/IMG_8086.png
GEO:-38.8851355;175.2614527
X-APPLE-STRUCTURED-LOCATION;VALUE=URI;X-ADDRESS=RSA 10 Marae Street Taumarunui New Zealand;X-APPLE-RADIUS=500;X-TITLE=10 Marae Street:geo:175.2614527,-38.8851355
END:VEVENT
BEGIN:VEVENT
DTSTART;TZID=Pacific/Auckland:20290101T173000
DTEND;TZID=Pacific/Auckland:20290101T193000
DTSTAMP:20260426T133117
CREATED:20240922T225946Z
LAST-MODIFIED:20240922T225946Z
UID:10000708-1861983000-1861990200@taumarunui.co.nz
SUMMARY:Taumarunui Rotary Club
DESCRIPTION:1st and 3rd Monday of month\, 5.30pm\, upstairs lounge at the RSA. \nJoin us for interesting speakers and involvement in community activities. 
URL:https://taumarunui.co.nz/event/taumarunui-rotary-club-2/2029-01-01/
LOCATION:RSA\, 10 Marae Street\, Taumarunui\, New Zealand
CATEGORIES:Clubs
GEO:-38.8851355;175.2614527
X-APPLE-STRUCTURED-LOCATION;VALUE=URI;X-ADDRESS=RSA 10 Marae Street Taumarunui New Zealand;X-APPLE-RADIUS=500;X-TITLE=10 Marae Street:geo:175.2614527,-38.8851355
END:VEVENT
BEGIN:VEVENT
DTSTART;TZID=Pacific/Auckland:20290115T173000
DTEND;TZID=Pacific/Auckland:20290115T193000
DTSTAMP:20260426T133117
CREATED:20240922T225808Z
LAST-MODIFIED:20241015T053932Z
UID:10000648-1863192600-1863199800@taumarunui.co.nz
SUMMARY:Taumarunui Rotary Club
DESCRIPTION:1st and 3rd Monday of month\, 5.30pm\, upstairs lounge at the RSA. \nJoin us for interesting speakers and involvement in community activities.
URL:https://taumarunui.co.nz/event/taumarunui-rotary-club/2029-01-15/
LOCATION:RSA\, 10 Marae Street\, Taumarunui\, New Zealand
CATEGORIES:Clubs
ATTACH;FMTTYPE=image/png:https://taumarunui.co.nz/wp-content/uploads/2024/09/IMG_8086.png
GEO:-38.8851355;175.2614527
X-APPLE-STRUCTURED-LOCATION;VALUE=URI;X-ADDRESS=RSA 10 Marae Street Taumarunui New Zealand;X-APPLE-RADIUS=500;X-TITLE=10 Marae Street:geo:175.2614527,-38.8851355
END:VEVENT
BEGIN:VEVENT
DTSTART;TZID=Pacific/Auckland:20290205T173000
DTEND;TZID=Pacific/Auckland:20290205T193000
DTSTAMP:20260426T133117
CREATED:20240922T225946Z
LAST-MODIFIED:20240922T225946Z
UID:10000709-1865007000-1865014200@taumarunui.co.nz
SUMMARY:Taumarunui Rotary Club
DESCRIPTION:1st and 3rd Monday of month\, 5.30pm\, upstairs lounge at the RSA. \nJoin us for interesting speakers and involvement in community activities. 
URL:https://taumarunui.co.nz/event/taumarunui-rotary-club-2/2029-02-05/
LOCATION:RSA\, 10 Marae Street\, Taumarunui\, New Zealand
CATEGORIES:Clubs
GEO:-38.8851355;175.2614527
X-APPLE-STRUCTURED-LOCATION;VALUE=URI;X-ADDRESS=RSA 10 Marae Street Taumarunui New Zealand;X-APPLE-RADIUS=500;X-TITLE=10 Marae Street:geo:175.2614527,-38.8851355
END:VEVENT
BEGIN:VEVENT
DTSTART;TZID=Pacific/Auckland:20290219T173000
DTEND;TZID=Pacific/Auckland:20290219T193000
DTSTAMP:20260426T133117
CREATED:20240922T225808Z
LAST-MODIFIED:20241015T053932Z
UID:10000649-1866216600-1866223800@taumarunui.co.nz
SUMMARY:Taumarunui Rotary Club
DESCRIPTION:1st and 3rd Monday of month\, 5.30pm\, upstairs lounge at the RSA. \nJoin us for interesting speakers and involvement in community activities.
URL:https://taumarunui.co.nz/event/taumarunui-rotary-club/2029-02-19/
LOCATION:RSA\, 10 Marae Street\, Taumarunui\, New Zealand
CATEGORIES:Clubs
ATTACH;FMTTYPE=image/png:https://taumarunui.co.nz/wp-content/uploads/2024/09/IMG_8086.png
GEO:-38.8851355;175.2614527
X-APPLE-STRUCTURED-LOCATION;VALUE=URI;X-ADDRESS=RSA 10 Marae Street Taumarunui New Zealand;X-APPLE-RADIUS=500;X-TITLE=10 Marae Street:geo:175.2614527,-38.8851355
END:VEVENT
BEGIN:VEVENT
DTSTART;TZID=Pacific/Auckland:20290305T173000
DTEND;TZID=Pacific/Auckland:20290305T193000
DTSTAMP:20260426T133117
CREATED:20240922T225946Z
LAST-MODIFIED:20240922T225946Z
UID:10000710-1867426200-1867433400@taumarunui.co.nz
SUMMARY:Taumarunui Rotary Club
DESCRIPTION:1st and 3rd Monday of month\, 5.30pm\, upstairs lounge at the RSA. \nJoin us for interesting speakers and involvement in community activities. 
URL:https://taumarunui.co.nz/event/taumarunui-rotary-club-2/2029-03-05/
LOCATION:RSA\, 10 Marae Street\, Taumarunui\, New Zealand
CATEGORIES:Clubs
GEO:-38.8851355;175.2614527
X-APPLE-STRUCTURED-LOCATION;VALUE=URI;X-ADDRESS=RSA 10 Marae Street Taumarunui New Zealand;X-APPLE-RADIUS=500;X-TITLE=10 Marae Street:geo:175.2614527,-38.8851355
END:VEVENT
BEGIN:VEVENT
DTSTART;TZID=Pacific/Auckland:20290319T173000
DTEND;TZID=Pacific/Auckland:20290319T193000
DTSTAMP:20260426T133117
CREATED:20240922T225808Z
LAST-MODIFIED:20241015T053932Z
UID:10000650-1868635800-1868643000@taumarunui.co.nz
SUMMARY:Taumarunui Rotary Club
DESCRIPTION:1st and 3rd Monday of month\, 5.30pm\, upstairs lounge at the RSA. \nJoin us for interesting speakers and involvement in community activities.
URL:https://taumarunui.co.nz/event/taumarunui-rotary-club/2029-03-19/
LOCATION:RSA\, 10 Marae Street\, Taumarunui\, New Zealand
CATEGORIES:Clubs
ATTACH;FMTTYPE=image/png:https://taumarunui.co.nz/wp-content/uploads/2024/09/IMG_8086.png
GEO:-38.8851355;175.2614527
X-APPLE-STRUCTURED-LOCATION;VALUE=URI;X-ADDRESS=RSA 10 Marae Street Taumarunui New Zealand;X-APPLE-RADIUS=500;X-TITLE=10 Marae Street:geo:175.2614527,-38.8851355
END:VEVENT
BEGIN:VEVENT
DTSTART;TZID=Pacific/Auckland:20290402T173000
DTEND;TZID=Pacific/Auckland:20290402T193000
DTSTAMP:20260426T133117
CREATED:20240922T225946Z
LAST-MODIFIED:20240922T225946Z
UID:10000711-1869845400-1869852600@taumarunui.co.nz
SUMMARY:Taumarunui Rotary Club
DESCRIPTION:1st and 3rd Monday of month\, 5.30pm\, upstairs lounge at the RSA. \nJoin us for interesting speakers and involvement in community activities. 
URL:https://taumarunui.co.nz/event/taumarunui-rotary-club-2/2029-04-02/
LOCATION:RSA\, 10 Marae Street\, Taumarunui\, New Zealand
CATEGORIES:Clubs
GEO:-38.8851355;175.2614527
X-APPLE-STRUCTURED-LOCATION;VALUE=URI;X-ADDRESS=RSA 10 Marae Street Taumarunui New Zealand;X-APPLE-RADIUS=500;X-TITLE=10 Marae Street:geo:175.2614527,-38.8851355
END:VEVENT
BEGIN:VEVENT
DTSTART;TZID=Pacific/Auckland:20290416T173000
DTEND;TZID=Pacific/Auckland:20290416T193000
DTSTAMP:20260426T133117
CREATED:20240922T225808Z
LAST-MODIFIED:20241015T053932Z
UID:10000651-1871055000-1871062200@taumarunui.co.nz
SUMMARY:Taumarunui Rotary Club
DESCRIPTION:1st and 3rd Monday of month\, 5.30pm\, upstairs lounge at the RSA. \nJoin us for interesting speakers and involvement in community activities.
URL:https://taumarunui.co.nz/event/taumarunui-rotary-club/2029-04-16/
LOCATION:RSA\, 10 Marae Street\, Taumarunui\, New Zealand
CATEGORIES:Clubs
ATTACH;FMTTYPE=image/png:https://taumarunui.co.nz/wp-content/uploads/2024/09/IMG_8086.png
GEO:-38.8851355;175.2614527
X-APPLE-STRUCTURED-LOCATION;VALUE=URI;X-ADDRESS=RSA 10 Marae Street Taumarunui New Zealand;X-APPLE-RADIUS=500;X-TITLE=10 Marae Street:geo:175.2614527,-38.8851355
END:VEVENT
BEGIN:VEVENT
DTSTART;TZID=Pacific/Auckland:20290507T173000
DTEND;TZID=Pacific/Auckland:20290507T193000
DTSTAMP:20260426T133117
CREATED:20240922T225946Z
LAST-MODIFIED:20240922T225946Z
UID:10000712-1872869400-1872876600@taumarunui.co.nz
SUMMARY:Taumarunui Rotary Club
DESCRIPTION:1st and 3rd Monday of month\, 5.30pm\, upstairs lounge at the RSA. \nJoin us for interesting speakers and involvement in community activities. 
URL:https://taumarunui.co.nz/event/taumarunui-rotary-club-2/2029-05-07/
LOCATION:RSA\, 10 Marae Street\, Taumarunui\, New Zealand
CATEGORIES:Clubs
GEO:-38.8851355;175.2614527
X-APPLE-STRUCTURED-LOCATION;VALUE=URI;X-ADDRESS=RSA 10 Marae Street Taumarunui New Zealand;X-APPLE-RADIUS=500;X-TITLE=10 Marae Street:geo:175.2614527,-38.8851355
END:VEVENT
BEGIN:VEVENT
DTSTART;TZID=Pacific/Auckland:20290521T173000
DTEND;TZID=Pacific/Auckland:20290521T193000
DTSTAMP:20260426T133117
CREATED:20240922T225808Z
LAST-MODIFIED:20241015T053932Z
UID:10000652-1874079000-1874086200@taumarunui.co.nz
SUMMARY:Taumarunui Rotary Club
DESCRIPTION:1st and 3rd Monday of month\, 5.30pm\, upstairs lounge at the RSA. \nJoin us for interesting speakers and involvement in community activities.
URL:https://taumarunui.co.nz/event/taumarunui-rotary-club/2029-05-21/
LOCATION:RSA\, 10 Marae Street\, Taumarunui\, New Zealand
CATEGORIES:Clubs
ATTACH;FMTTYPE=image/png:https://taumarunui.co.nz/wp-content/uploads/2024/09/IMG_8086.png
GEO:-38.8851355;175.2614527
X-APPLE-STRUCTURED-LOCATION;VALUE=URI;X-ADDRESS=RSA 10 Marae Street Taumarunui New Zealand;X-APPLE-RADIUS=500;X-TITLE=10 Marae Street:geo:175.2614527,-38.8851355
END:VEVENT
BEGIN:VEVENT
DTSTART;TZID=Pacific/Auckland:20290604T173000
DTEND;TZID=Pacific/Auckland:20290604T193000
DTSTAMP:20260426T133117
CREATED:20240922T225946Z
LAST-MODIFIED:20240922T225946Z
UID:10000713-1875288600-1875295800@taumarunui.co.nz
SUMMARY:Taumarunui Rotary Club
DESCRIPTION:1st and 3rd Monday of month\, 5.30pm\, upstairs lounge at the RSA. \nJoin us for interesting speakers and involvement in community activities. 
URL:https://taumarunui.co.nz/event/taumarunui-rotary-club-2/2029-06-04/
LOCATION:RSA\, 10 Marae Street\, Taumarunui\, New Zealand
CATEGORIES:Clubs
GEO:-38.8851355;175.2614527
X-APPLE-STRUCTURED-LOCATION;VALUE=URI;X-ADDRESS=RSA 10 Marae Street Taumarunui New Zealand;X-APPLE-RADIUS=500;X-TITLE=10 Marae Street:geo:175.2614527,-38.8851355
END:VEVENT
BEGIN:VEVENT
DTSTART;TZID=Pacific/Auckland:20290618T173000
DTEND;TZID=Pacific/Auckland:20290618T193000
DTSTAMP:20260426T133117
CREATED:20240922T225808Z
LAST-MODIFIED:20241015T053932Z
UID:10000653-1876498200-1876505400@taumarunui.co.nz
SUMMARY:Taumarunui Rotary Club
DESCRIPTION:1st and 3rd Monday of month\, 5.30pm\, upstairs lounge at the RSA. \nJoin us for interesting speakers and involvement in community activities.
URL:https://taumarunui.co.nz/event/taumarunui-rotary-club/2029-06-18/
LOCATION:RSA\, 10 Marae Street\, Taumarunui\, New Zealand
CATEGORIES:Clubs
ATTACH;FMTTYPE=image/png:https://taumarunui.co.nz/wp-content/uploads/2024/09/IMG_8086.png
GEO:-38.8851355;175.2614527
X-APPLE-STRUCTURED-LOCATION;VALUE=URI;X-ADDRESS=RSA 10 Marae Street Taumarunui New Zealand;X-APPLE-RADIUS=500;X-TITLE=10 Marae Street:geo:175.2614527,-38.8851355
END:VEVENT
BEGIN:VEVENT
DTSTART;TZID=Pacific/Auckland:20290702T173000
DTEND;TZID=Pacific/Auckland:20290702T193000
DTSTAMP:20260426T133117
CREATED:20240922T225946Z
LAST-MODIFIED:20240922T225946Z
UID:10000714-1877707800-1877715000@taumarunui.co.nz
SUMMARY:Taumarunui Rotary Club
DESCRIPTION:1st and 3rd Monday of month\, 5.30pm\, upstairs lounge at the RSA. \nJoin us for interesting speakers and involvement in community activities. 
URL:https://taumarunui.co.nz/event/taumarunui-rotary-club-2/2029-07-02/
LOCATION:RSA\, 10 Marae Street\, Taumarunui\, New Zealand
CATEGORIES:Clubs
GEO:-38.8851355;175.2614527
X-APPLE-STRUCTURED-LOCATION;VALUE=URI;X-ADDRESS=RSA 10 Marae Street Taumarunui New Zealand;X-APPLE-RADIUS=500;X-TITLE=10 Marae Street:geo:175.2614527,-38.8851355
END:VEVENT
BEGIN:VEVENT
DTSTART;TZID=Pacific/Auckland:20290716T173000
DTEND;TZID=Pacific/Auckland:20290716T193000
DTSTAMP:20260426T133117
CREATED:20240922T225808Z
LAST-MODIFIED:20241015T053932Z
UID:10000654-1878917400-1878924600@taumarunui.co.nz
SUMMARY:Taumarunui Rotary Club
DESCRIPTION:1st and 3rd Monday of month\, 5.30pm\, upstairs lounge at the RSA. \nJoin us for interesting speakers and involvement in community activities.
URL:https://taumarunui.co.nz/event/taumarunui-rotary-club/2029-07-16/
LOCATION:RSA\, 10 Marae Street\, Taumarunui\, New Zealand
CATEGORIES:Clubs
ATTACH;FMTTYPE=image/png:https://taumarunui.co.nz/wp-content/uploads/2024/09/IMG_8086.png
GEO:-38.8851355;175.2614527
X-APPLE-STRUCTURED-LOCATION;VALUE=URI;X-ADDRESS=RSA 10 Marae Street Taumarunui New Zealand;X-APPLE-RADIUS=500;X-TITLE=10 Marae Street:geo:175.2614527,-38.8851355
END:VEVENT
END:VCALENDAR