BEGIN:VCALENDAR
VERSION:2.0
PRODID:-//Taumarunui - ECPv6.15.16//NONSGML v1.0//EN
CALSCALE:GREGORIAN
METHOD:PUBLISH
X-WR-CALNAME:Taumarunui
X-ORIGINAL-URL:https://taumarunui.co.nz
X-WR-CALDESC:Events for Taumarunui
REFRESH-INTERVAL;VALUE=DURATION:PT1H
X-Robots-Tag:noindex
X-PUBLISHED-TTL:PT1H
BEGIN:VTIMEZONE
TZID:Pacific/Auckland
BEGIN:STANDARD
TZOFFSETFROM:+1300
TZOFFSETTO:+1200
TZNAME:NZST
DTSTART:20240406T140000
END:STANDARD
BEGIN:DAYLIGHT
TZOFFSETFROM:+1200
TZOFFSETTO:+1300
TZNAME:NZDT
DTSTART:20240928T140000
END:DAYLIGHT
BEGIN:STANDARD
TZOFFSETFROM:+1300
TZOFFSETTO:+1200
TZNAME:NZST
DTSTART:20250405T140000
END:STANDARD
BEGIN:DAYLIGHT
TZOFFSETFROM:+1200
TZOFFSETTO:+1300
TZNAME:NZDT
DTSTART:20250927T140000
END:DAYLIGHT
BEGIN:STANDARD
TZOFFSETFROM:+1300
TZOFFSETTO:+1200
TZNAME:NZST
DTSTART:20260404T140000
END:STANDARD
BEGIN:DAYLIGHT
TZOFFSETFROM:+1200
TZOFFSETTO:+1300
TZNAME:NZDT
DTSTART:20260926T140000
END:DAYLIGHT
BEGIN:STANDARD
TZOFFSETFROM:+1300
TZOFFSETTO:+1200
TZNAME:NZST
DTSTART:20270403T140000
END:STANDARD
BEGIN:DAYLIGHT
TZOFFSETFROM:+1200
TZOFFSETTO:+1300
TZNAME:NZDT
DTSTART:20270925T140000
END:DAYLIGHT
END:VTIMEZONE
BEGIN:VEVENT
DTSTART;TZID=Pacific/Auckland:20260420T173000
DTEND;TZID=Pacific/Auckland:20260420T193000
DTSTAMP:20260422T094719
CREATED:20240922T225808Z
LAST-MODIFIED:20241015T053932Z
UID:10000615-1776706200-1776713400@taumarunui.co.nz
SUMMARY:Taumarunui Rotary Club
DESCRIPTION:1st and 3rd Monday of month\, 5.30pm\, upstairs lounge at the RSA. \nJoin us for interesting speakers and involvement in community activities.
URL:https://taumarunui.co.nz/event/taumarunui-rotary-club/2026-04-20/
LOCATION:RSA\, 10 Marae Street\, Taumarunui\, New Zealand
CATEGORIES:Clubs
ATTACH;FMTTYPE=image/png:https://taumarunui.co.nz/wp-content/uploads/2024/09/IMG_8086.png
GEO:-38.8851355;175.2614527
X-APPLE-STRUCTURED-LOCATION;VALUE=URI;X-ADDRESS=RSA 10 Marae Street Taumarunui New Zealand;X-APPLE-RADIUS=500;X-TITLE=10 Marae Street:geo:175.2614527,-38.8851355
END:VEVENT
BEGIN:VEVENT
DTSTART;TZID=Pacific/Auckland:20260406T173000
DTEND;TZID=Pacific/Auckland:20260406T193000
DTSTAMP:20260422T094719
CREATED:20240922T225946Z
LAST-MODIFIED:20240922T225946Z
UID:10000675-1775496600-1775503800@taumarunui.co.nz
SUMMARY:Taumarunui Rotary Club
DESCRIPTION:1st and 3rd Monday of month\, 5.30pm\, upstairs lounge at the RSA. \nJoin us for interesting speakers and involvement in community activities. 
URL:https://taumarunui.co.nz/event/taumarunui-rotary-club-2/2026-04-06/
LOCATION:RSA\, 10 Marae Street\, Taumarunui\, New Zealand
CATEGORIES:Clubs
GEO:-38.8851355;175.2614527
X-APPLE-STRUCTURED-LOCATION;VALUE=URI;X-ADDRESS=RSA 10 Marae Street Taumarunui New Zealand;X-APPLE-RADIUS=500;X-TITLE=10 Marae Street:geo:175.2614527,-38.8851355
END:VEVENT
BEGIN:VEVENT
DTSTART;TZID=Pacific/Auckland:20260316T173000
DTEND;TZID=Pacific/Auckland:20260316T193000
DTSTAMP:20260422T094719
CREATED:20240922T225808Z
LAST-MODIFIED:20241015T053932Z
UID:10000614-1773682200-1773689400@taumarunui.co.nz
SUMMARY:Taumarunui Rotary Club
DESCRIPTION:1st and 3rd Monday of month\, 5.30pm\, upstairs lounge at the RSA. \nJoin us for interesting speakers and involvement in community activities.
URL:https://taumarunui.co.nz/event/taumarunui-rotary-club/2026-03-16/
LOCATION:RSA\, 10 Marae Street\, Taumarunui\, New Zealand
CATEGORIES:Clubs
ATTACH;FMTTYPE=image/png:https://taumarunui.co.nz/wp-content/uploads/2024/09/IMG_8086.png
GEO:-38.8851355;175.2614527
X-APPLE-STRUCTURED-LOCATION;VALUE=URI;X-ADDRESS=RSA 10 Marae Street Taumarunui New Zealand;X-APPLE-RADIUS=500;X-TITLE=10 Marae Street:geo:175.2614527,-38.8851355
END:VEVENT
BEGIN:VEVENT
DTSTART;TZID=Pacific/Auckland:20260302T173000
DTEND;TZID=Pacific/Auckland:20260302T193000
DTSTAMP:20260422T094719
CREATED:20240922T225946Z
LAST-MODIFIED:20240922T225946Z
UID:10000674-1772472600-1772479800@taumarunui.co.nz
SUMMARY:Taumarunui Rotary Club
DESCRIPTION:1st and 3rd Monday of month\, 5.30pm\, upstairs lounge at the RSA. \nJoin us for interesting speakers and involvement in community activities. 
URL:https://taumarunui.co.nz/event/taumarunui-rotary-club-2/2026-03-02/
LOCATION:RSA\, 10 Marae Street\, Taumarunui\, New Zealand
CATEGORIES:Clubs
GEO:-38.8851355;175.2614527
X-APPLE-STRUCTURED-LOCATION;VALUE=URI;X-ADDRESS=RSA 10 Marae Street Taumarunui New Zealand;X-APPLE-RADIUS=500;X-TITLE=10 Marae Street:geo:175.2614527,-38.8851355
END:VEVENT
BEGIN:VEVENT
DTSTART;TZID=Pacific/Auckland:20260216T173000
DTEND;TZID=Pacific/Auckland:20260216T193000
DTSTAMP:20260422T094719
CREATED:20240922T225808Z
LAST-MODIFIED:20241015T053932Z
UID:10000613-1771263000-1771270200@taumarunui.co.nz
SUMMARY:Taumarunui Rotary Club
DESCRIPTION:1st and 3rd Monday of month\, 5.30pm\, upstairs lounge at the RSA. \nJoin us for interesting speakers and involvement in community activities.
URL:https://taumarunui.co.nz/event/taumarunui-rotary-club/2026-02-16/
LOCATION:RSA\, 10 Marae Street\, Taumarunui\, New Zealand
CATEGORIES:Clubs
ATTACH;FMTTYPE=image/png:https://taumarunui.co.nz/wp-content/uploads/2024/09/IMG_8086.png
GEO:-38.8851355;175.2614527
X-APPLE-STRUCTURED-LOCATION;VALUE=URI;X-ADDRESS=RSA 10 Marae Street Taumarunui New Zealand;X-APPLE-RADIUS=500;X-TITLE=10 Marae Street:geo:175.2614527,-38.8851355
END:VEVENT
BEGIN:VEVENT
DTSTART;TZID=Pacific/Auckland:20260202T173000
DTEND;TZID=Pacific/Auckland:20260202T193000
DTSTAMP:20260422T094719
CREATED:20240922T225946Z
LAST-MODIFIED:20240922T225946Z
UID:10000673-1770053400-1770060600@taumarunui.co.nz
SUMMARY:Taumarunui Rotary Club
DESCRIPTION:1st and 3rd Monday of month\, 5.30pm\, upstairs lounge at the RSA. \nJoin us for interesting speakers and involvement in community activities. 
URL:https://taumarunui.co.nz/event/taumarunui-rotary-club-2/2026-02-02/
LOCATION:RSA\, 10 Marae Street\, Taumarunui\, New Zealand
CATEGORIES:Clubs
GEO:-38.8851355;175.2614527
X-APPLE-STRUCTURED-LOCATION;VALUE=URI;X-ADDRESS=RSA 10 Marae Street Taumarunui New Zealand;X-APPLE-RADIUS=500;X-TITLE=10 Marae Street:geo:175.2614527,-38.8851355
END:VEVENT
BEGIN:VEVENT
DTSTART;TZID=Pacific/Auckland:20260119T173000
DTEND;TZID=Pacific/Auckland:20260119T193000
DTSTAMP:20260422T094719
CREATED:20240922T225808Z
LAST-MODIFIED:20241015T053932Z
UID:10000612-1768843800-1768851000@taumarunui.co.nz
SUMMARY:Taumarunui Rotary Club
DESCRIPTION:1st and 3rd Monday of month\, 5.30pm\, upstairs lounge at the RSA. \nJoin us for interesting speakers and involvement in community activities.
URL:https://taumarunui.co.nz/event/taumarunui-rotary-club/2026-01-19/
LOCATION:RSA\, 10 Marae Street\, Taumarunui\, New Zealand
CATEGORIES:Clubs
ATTACH;FMTTYPE=image/png:https://taumarunui.co.nz/wp-content/uploads/2024/09/IMG_8086.png
GEO:-38.8851355;175.2614527
X-APPLE-STRUCTURED-LOCATION;VALUE=URI;X-ADDRESS=RSA 10 Marae Street Taumarunui New Zealand;X-APPLE-RADIUS=500;X-TITLE=10 Marae Street:geo:175.2614527,-38.8851355
END:VEVENT
BEGIN:VEVENT
DTSTART;TZID=Pacific/Auckland:20260105T173000
DTEND;TZID=Pacific/Auckland:20260105T193000
DTSTAMP:20260422T094719
CREATED:20240922T225946Z
LAST-MODIFIED:20240922T225946Z
UID:10000672-1767634200-1767641400@taumarunui.co.nz
SUMMARY:Taumarunui Rotary Club
DESCRIPTION:1st and 3rd Monday of month\, 5.30pm\, upstairs lounge at the RSA. \nJoin us for interesting speakers and involvement in community activities. 
URL:https://taumarunui.co.nz/event/taumarunui-rotary-club-2/2026-01-05/
LOCATION:RSA\, 10 Marae Street\, Taumarunui\, New Zealand
CATEGORIES:Clubs
GEO:-38.8851355;175.2614527
X-APPLE-STRUCTURED-LOCATION;VALUE=URI;X-ADDRESS=RSA 10 Marae Street Taumarunui New Zealand;X-APPLE-RADIUS=500;X-TITLE=10 Marae Street:geo:175.2614527,-38.8851355
END:VEVENT
BEGIN:VEVENT
DTSTART;TZID=Pacific/Auckland:20251215T173000
DTEND;TZID=Pacific/Auckland:20251215T193000
DTSTAMP:20260422T094719
CREATED:20240922T225808Z
LAST-MODIFIED:20241015T053932Z
UID:10000611-1765819800-1765827000@taumarunui.co.nz
SUMMARY:Taumarunui Rotary Club
DESCRIPTION:1st and 3rd Monday of month\, 5.30pm\, upstairs lounge at the RSA. \nJoin us for interesting speakers and involvement in community activities.
URL:https://taumarunui.co.nz/event/taumarunui-rotary-club/2025-12-15/
LOCATION:RSA\, 10 Marae Street\, Taumarunui\, New Zealand
CATEGORIES:Clubs
ATTACH;FMTTYPE=image/png:https://taumarunui.co.nz/wp-content/uploads/2024/09/IMG_8086.png
GEO:-38.8851355;175.2614527
X-APPLE-STRUCTURED-LOCATION;VALUE=URI;X-ADDRESS=RSA 10 Marae Street Taumarunui New Zealand;X-APPLE-RADIUS=500;X-TITLE=10 Marae Street:geo:175.2614527,-38.8851355
END:VEVENT
BEGIN:VEVENT
DTSTART;TZID=Pacific/Auckland:20251201T173000
DTEND;TZID=Pacific/Auckland:20251201T193000
DTSTAMP:20260422T094719
CREATED:20240922T225946Z
LAST-MODIFIED:20240922T225946Z
UID:10000671-1764610200-1764617400@taumarunui.co.nz
SUMMARY:Taumarunui Rotary Club
DESCRIPTION:1st and 3rd Monday of month\, 5.30pm\, upstairs lounge at the RSA. \nJoin us for interesting speakers and involvement in community activities. 
URL:https://taumarunui.co.nz/event/taumarunui-rotary-club-2/2025-12-01/
LOCATION:RSA\, 10 Marae Street\, Taumarunui\, New Zealand
CATEGORIES:Clubs
GEO:-38.8851355;175.2614527
X-APPLE-STRUCTURED-LOCATION;VALUE=URI;X-ADDRESS=RSA 10 Marae Street Taumarunui New Zealand;X-APPLE-RADIUS=500;X-TITLE=10 Marae Street:geo:175.2614527,-38.8851355
END:VEVENT
BEGIN:VEVENT
DTSTART;TZID=Pacific/Auckland:20251117T173000
DTEND;TZID=Pacific/Auckland:20251117T193000
DTSTAMP:20260422T094719
CREATED:20240922T225808Z
LAST-MODIFIED:20241015T053932Z
UID:10000610-1763400600-1763407800@taumarunui.co.nz
SUMMARY:Taumarunui Rotary Club
DESCRIPTION:1st and 3rd Monday of month\, 5.30pm\, upstairs lounge at the RSA. \nJoin us for interesting speakers and involvement in community activities.
URL:https://taumarunui.co.nz/event/taumarunui-rotary-club/2025-11-17/
LOCATION:RSA\, 10 Marae Street\, Taumarunui\, New Zealand
CATEGORIES:Clubs
ATTACH;FMTTYPE=image/png:https://taumarunui.co.nz/wp-content/uploads/2024/09/IMG_8086.png
GEO:-38.8851355;175.2614527
X-APPLE-STRUCTURED-LOCATION;VALUE=URI;X-ADDRESS=RSA 10 Marae Street Taumarunui New Zealand;X-APPLE-RADIUS=500;X-TITLE=10 Marae Street:geo:175.2614527,-38.8851355
END:VEVENT
BEGIN:VEVENT
DTSTART;TZID=Pacific/Auckland:20251103T173000
DTEND;TZID=Pacific/Auckland:20251103T193000
DTSTAMP:20260422T094719
CREATED:20240922T225946Z
LAST-MODIFIED:20240922T225946Z
UID:10000670-1762191000-1762198200@taumarunui.co.nz
SUMMARY:Taumarunui Rotary Club
DESCRIPTION:1st and 3rd Monday of month\, 5.30pm\, upstairs lounge at the RSA. \nJoin us for interesting speakers and involvement in community activities. 
URL:https://taumarunui.co.nz/event/taumarunui-rotary-club-2/2025-11-03/
LOCATION:RSA\, 10 Marae Street\, Taumarunui\, New Zealand
CATEGORIES:Clubs
GEO:-38.8851355;175.2614527
X-APPLE-STRUCTURED-LOCATION;VALUE=URI;X-ADDRESS=RSA 10 Marae Street Taumarunui New Zealand;X-APPLE-RADIUS=500;X-TITLE=10 Marae Street:geo:175.2614527,-38.8851355
END:VEVENT
BEGIN:VEVENT
DTSTART;TZID=Pacific/Auckland:20251020T173000
DTEND;TZID=Pacific/Auckland:20251020T193000
DTSTAMP:20260422T094719
CREATED:20240922T225808Z
LAST-MODIFIED:20241015T053932Z
UID:10000609-1760981400-1760988600@taumarunui.co.nz
SUMMARY:Taumarunui Rotary Club
DESCRIPTION:1st and 3rd Monday of month\, 5.30pm\, upstairs lounge at the RSA. \nJoin us for interesting speakers and involvement in community activities.
URL:https://taumarunui.co.nz/event/taumarunui-rotary-club/2025-10-20/
LOCATION:RSA\, 10 Marae Street\, Taumarunui\, New Zealand
CATEGORIES:Clubs
ATTACH;FMTTYPE=image/png:https://taumarunui.co.nz/wp-content/uploads/2024/09/IMG_8086.png
GEO:-38.8851355;175.2614527
X-APPLE-STRUCTURED-LOCATION;VALUE=URI;X-ADDRESS=RSA 10 Marae Street Taumarunui New Zealand;X-APPLE-RADIUS=500;X-TITLE=10 Marae Street:geo:175.2614527,-38.8851355
END:VEVENT
BEGIN:VEVENT
DTSTART;TZID=Pacific/Auckland:20251006T173000
DTEND;TZID=Pacific/Auckland:20251006T193000
DTSTAMP:20260422T094719
CREATED:20240922T225946Z
LAST-MODIFIED:20240922T225946Z
UID:10000669-1759771800-1759779000@taumarunui.co.nz
SUMMARY:Taumarunui Rotary Club
DESCRIPTION:1st and 3rd Monday of month\, 5.30pm\, upstairs lounge at the RSA. \nJoin us for interesting speakers and involvement in community activities. 
URL:https://taumarunui.co.nz/event/taumarunui-rotary-club-2/2025-10-06/
LOCATION:RSA\, 10 Marae Street\, Taumarunui\, New Zealand
CATEGORIES:Clubs
GEO:-38.8851355;175.2614527
X-APPLE-STRUCTURED-LOCATION;VALUE=URI;X-ADDRESS=RSA 10 Marae Street Taumarunui New Zealand;X-APPLE-RADIUS=500;X-TITLE=10 Marae Street:geo:175.2614527,-38.8851355
END:VEVENT
BEGIN:VEVENT
DTSTART;TZID=Pacific/Auckland:20250915T173000
DTEND;TZID=Pacific/Auckland:20250915T193000
DTSTAMP:20260422T094719
CREATED:20240922T225808Z
LAST-MODIFIED:20241015T053932Z
UID:10000608-1757957400-1757964600@taumarunui.co.nz
SUMMARY:Taumarunui Rotary Club
DESCRIPTION:1st and 3rd Monday of month\, 5.30pm\, upstairs lounge at the RSA. \nJoin us for interesting speakers and involvement in community activities.
URL:https://taumarunui.co.nz/event/taumarunui-rotary-club/2025-09-15/
LOCATION:RSA\, 10 Marae Street\, Taumarunui\, New Zealand
CATEGORIES:Clubs
ATTACH;FMTTYPE=image/png:https://taumarunui.co.nz/wp-content/uploads/2024/09/IMG_8086.png
GEO:-38.8851355;175.2614527
X-APPLE-STRUCTURED-LOCATION;VALUE=URI;X-ADDRESS=RSA 10 Marae Street Taumarunui New Zealand;X-APPLE-RADIUS=500;X-TITLE=10 Marae Street:geo:175.2614527,-38.8851355
END:VEVENT
BEGIN:VEVENT
DTSTART;TZID=Pacific/Auckland:20250901T173000
DTEND;TZID=Pacific/Auckland:20250901T193000
DTSTAMP:20260422T094719
CREATED:20240922T225946Z
LAST-MODIFIED:20240922T225946Z
UID:10000668-1756747800-1756755000@taumarunui.co.nz
SUMMARY:Taumarunui Rotary Club
DESCRIPTION:1st and 3rd Monday of month\, 5.30pm\, upstairs lounge at the RSA. \nJoin us for interesting speakers and involvement in community activities. 
URL:https://taumarunui.co.nz/event/taumarunui-rotary-club-2/2025-09-01/
LOCATION:RSA\, 10 Marae Street\, Taumarunui\, New Zealand
CATEGORIES:Clubs
GEO:-38.8851355;175.2614527
X-APPLE-STRUCTURED-LOCATION;VALUE=URI;X-ADDRESS=RSA 10 Marae Street Taumarunui New Zealand;X-APPLE-RADIUS=500;X-TITLE=10 Marae Street:geo:175.2614527,-38.8851355
END:VEVENT
BEGIN:VEVENT
DTSTART;TZID=Pacific/Auckland:20250818T173000
DTEND;TZID=Pacific/Auckland:20250818T193000
DTSTAMP:20260422T094719
CREATED:20240922T225808Z
LAST-MODIFIED:20241015T053932Z
UID:10000607-1755538200-1755545400@taumarunui.co.nz
SUMMARY:Taumarunui Rotary Club
DESCRIPTION:1st and 3rd Monday of month\, 5.30pm\, upstairs lounge at the RSA. \nJoin us for interesting speakers and involvement in community activities.
URL:https://taumarunui.co.nz/event/taumarunui-rotary-club/2025-08-18/
LOCATION:RSA\, 10 Marae Street\, Taumarunui\, New Zealand
CATEGORIES:Clubs
ATTACH;FMTTYPE=image/png:https://taumarunui.co.nz/wp-content/uploads/2024/09/IMG_8086.png
GEO:-38.8851355;175.2614527
X-APPLE-STRUCTURED-LOCATION;VALUE=URI;X-ADDRESS=RSA 10 Marae Street Taumarunui New Zealand;X-APPLE-RADIUS=500;X-TITLE=10 Marae Street:geo:175.2614527,-38.8851355
END:VEVENT
BEGIN:VEVENT
DTSTART;TZID=Pacific/Auckland:20250804T173000
DTEND;TZID=Pacific/Auckland:20250804T193000
DTSTAMP:20260422T094719
CREATED:20240922T225946Z
LAST-MODIFIED:20240922T225946Z
UID:10000667-1754328600-1754335800@taumarunui.co.nz
SUMMARY:Taumarunui Rotary Club
DESCRIPTION:1st and 3rd Monday of month\, 5.30pm\, upstairs lounge at the RSA. \nJoin us for interesting speakers and involvement in community activities. 
URL:https://taumarunui.co.nz/event/taumarunui-rotary-club-2/2025-08-04/
LOCATION:RSA\, 10 Marae Street\, Taumarunui\, New Zealand
CATEGORIES:Clubs
GEO:-38.8851355;175.2614527
X-APPLE-STRUCTURED-LOCATION;VALUE=URI;X-ADDRESS=RSA 10 Marae Street Taumarunui New Zealand;X-APPLE-RADIUS=500;X-TITLE=10 Marae Street:geo:175.2614527,-38.8851355
END:VEVENT
BEGIN:VEVENT
DTSTART;TZID=Pacific/Auckland:20250721T173000
DTEND;TZID=Pacific/Auckland:20250721T193000
DTSTAMP:20260422T094719
CREATED:20240922T225808Z
LAST-MODIFIED:20241015T053932Z
UID:10000606-1753119000-1753126200@taumarunui.co.nz
SUMMARY:Taumarunui Rotary Club
DESCRIPTION:1st and 3rd Monday of month\, 5.30pm\, upstairs lounge at the RSA. \nJoin us for interesting speakers and involvement in community activities.
URL:https://taumarunui.co.nz/event/taumarunui-rotary-club/2025-07-21/
LOCATION:RSA\, 10 Marae Street\, Taumarunui\, New Zealand
CATEGORIES:Clubs
ATTACH;FMTTYPE=image/png:https://taumarunui.co.nz/wp-content/uploads/2024/09/IMG_8086.png
GEO:-38.8851355;175.2614527
X-APPLE-STRUCTURED-LOCATION;VALUE=URI;X-ADDRESS=RSA 10 Marae Street Taumarunui New Zealand;X-APPLE-RADIUS=500;X-TITLE=10 Marae Street:geo:175.2614527,-38.8851355
END:VEVENT
BEGIN:VEVENT
DTSTART;TZID=Pacific/Auckland:20250707T173000
DTEND;TZID=Pacific/Auckland:20250707T193000
DTSTAMP:20260422T094719
CREATED:20240922T225946Z
LAST-MODIFIED:20240922T225946Z
UID:10000666-1751909400-1751916600@taumarunui.co.nz
SUMMARY:Taumarunui Rotary Club
DESCRIPTION:1st and 3rd Monday of month\, 5.30pm\, upstairs lounge at the RSA. \nJoin us for interesting speakers and involvement in community activities. 
URL:https://taumarunui.co.nz/event/taumarunui-rotary-club-2/2025-07-07/
LOCATION:RSA\, 10 Marae Street\, Taumarunui\, New Zealand
CATEGORIES:Clubs
GEO:-38.8851355;175.2614527
X-APPLE-STRUCTURED-LOCATION;VALUE=URI;X-ADDRESS=RSA 10 Marae Street Taumarunui New Zealand;X-APPLE-RADIUS=500;X-TITLE=10 Marae Street:geo:175.2614527,-38.8851355
END:VEVENT
BEGIN:VEVENT
DTSTART;TZID=Pacific/Auckland:20250616T173000
DTEND;TZID=Pacific/Auckland:20250616T193000
DTSTAMP:20260422T094719
CREATED:20240922T225808Z
LAST-MODIFIED:20241015T053932Z
UID:10000605-1750095000-1750102200@taumarunui.co.nz
SUMMARY:Taumarunui Rotary Club
DESCRIPTION:1st and 3rd Monday of month\, 5.30pm\, upstairs lounge at the RSA. \nJoin us for interesting speakers and involvement in community activities.
URL:https://taumarunui.co.nz/event/taumarunui-rotary-club/2025-06-16/
LOCATION:RSA\, 10 Marae Street\, Taumarunui\, New Zealand
CATEGORIES:Clubs
ATTACH;FMTTYPE=image/png:https://taumarunui.co.nz/wp-content/uploads/2024/09/IMG_8086.png
GEO:-38.8851355;175.2614527
X-APPLE-STRUCTURED-LOCATION;VALUE=URI;X-ADDRESS=RSA 10 Marae Street Taumarunui New Zealand;X-APPLE-RADIUS=500;X-TITLE=10 Marae Street:geo:175.2614527,-38.8851355
END:VEVENT
BEGIN:VEVENT
DTSTART;TZID=Pacific/Auckland:20250602T173000
DTEND;TZID=Pacific/Auckland:20250602T193000
DTSTAMP:20260422T094719
CREATED:20240922T225946Z
LAST-MODIFIED:20240922T225946Z
UID:10000665-1748885400-1748892600@taumarunui.co.nz
SUMMARY:Taumarunui Rotary Club
DESCRIPTION:1st and 3rd Monday of month\, 5.30pm\, upstairs lounge at the RSA. \nJoin us for interesting speakers and involvement in community activities. 
URL:https://taumarunui.co.nz/event/taumarunui-rotary-club-2/2025-06-02/
LOCATION:RSA\, 10 Marae Street\, Taumarunui\, New Zealand
CATEGORIES:Clubs
GEO:-38.8851355;175.2614527
X-APPLE-STRUCTURED-LOCATION;VALUE=URI;X-ADDRESS=RSA 10 Marae Street Taumarunui New Zealand;X-APPLE-RADIUS=500;X-TITLE=10 Marae Street:geo:175.2614527,-38.8851355
END:VEVENT
BEGIN:VEVENT
DTSTART;TZID=Pacific/Auckland:20250519T173000
DTEND;TZID=Pacific/Auckland:20250519T193000
DTSTAMP:20260422T094719
CREATED:20240922T225808Z
LAST-MODIFIED:20241015T053932Z
UID:10000604-1747675800-1747683000@taumarunui.co.nz
SUMMARY:Taumarunui Rotary Club
DESCRIPTION:1st and 3rd Monday of month\, 5.30pm\, upstairs lounge at the RSA. \nJoin us for interesting speakers and involvement in community activities.
URL:https://taumarunui.co.nz/event/taumarunui-rotary-club/2025-05-19/
LOCATION:RSA\, 10 Marae Street\, Taumarunui\, New Zealand
CATEGORIES:Clubs
ATTACH;FMTTYPE=image/png:https://taumarunui.co.nz/wp-content/uploads/2024/09/IMG_8086.png
GEO:-38.8851355;175.2614527
X-APPLE-STRUCTURED-LOCATION;VALUE=URI;X-ADDRESS=RSA 10 Marae Street Taumarunui New Zealand;X-APPLE-RADIUS=500;X-TITLE=10 Marae Street:geo:175.2614527,-38.8851355
END:VEVENT
BEGIN:VEVENT
DTSTART;TZID=Pacific/Auckland:20250505T173000
DTEND;TZID=Pacific/Auckland:20250505T193000
DTSTAMP:20260422T094719
CREATED:20240922T225946Z
LAST-MODIFIED:20240922T225946Z
UID:10000664-1746466200-1746473400@taumarunui.co.nz
SUMMARY:Taumarunui Rotary Club
DESCRIPTION:1st and 3rd Monday of month\, 5.30pm\, upstairs lounge at the RSA. \nJoin us for interesting speakers and involvement in community activities. 
URL:https://taumarunui.co.nz/event/taumarunui-rotary-club-2/2025-05-05/
LOCATION:RSA\, 10 Marae Street\, Taumarunui\, New Zealand
CATEGORIES:Clubs
GEO:-38.8851355;175.2614527
X-APPLE-STRUCTURED-LOCATION;VALUE=URI;X-ADDRESS=RSA 10 Marae Street Taumarunui New Zealand;X-APPLE-RADIUS=500;X-TITLE=10 Marae Street:geo:175.2614527,-38.8851355
END:VEVENT
BEGIN:VEVENT
DTSTART;TZID=Pacific/Auckland:20250421T173000
DTEND;TZID=Pacific/Auckland:20250421T193000
DTSTAMP:20260422T094719
CREATED:20240922T225808Z
LAST-MODIFIED:20241015T053932Z
UID:10000603-1745256600-1745263800@taumarunui.co.nz
SUMMARY:Taumarunui Rotary Club
DESCRIPTION:1st and 3rd Monday of month\, 5.30pm\, upstairs lounge at the RSA. \nJoin us for interesting speakers and involvement in community activities.
URL:https://taumarunui.co.nz/event/taumarunui-rotary-club/2025-04-21/
LOCATION:RSA\, 10 Marae Street\, Taumarunui\, New Zealand
CATEGORIES:Clubs
ATTACH;FMTTYPE=image/png:https://taumarunui.co.nz/wp-content/uploads/2024/09/IMG_8086.png
GEO:-38.8851355;175.2614527
X-APPLE-STRUCTURED-LOCATION;VALUE=URI;X-ADDRESS=RSA 10 Marae Street Taumarunui New Zealand;X-APPLE-RADIUS=500;X-TITLE=10 Marae Street:geo:175.2614527,-38.8851355
END:VEVENT
BEGIN:VEVENT
DTSTART;TZID=Pacific/Auckland:20250407T173000
DTEND;TZID=Pacific/Auckland:20250407T193000
DTSTAMP:20260422T094719
CREATED:20240922T225946Z
LAST-MODIFIED:20240922T225946Z
UID:10000663-1744047000-1744054200@taumarunui.co.nz
SUMMARY:Taumarunui Rotary Club
DESCRIPTION:1st and 3rd Monday of month\, 5.30pm\, upstairs lounge at the RSA. \nJoin us for interesting speakers and involvement in community activities. 
URL:https://taumarunui.co.nz/event/taumarunui-rotary-club-2/2025-04-07/
LOCATION:RSA\, 10 Marae Street\, Taumarunui\, New Zealand
CATEGORIES:Clubs
GEO:-38.8851355;175.2614527
X-APPLE-STRUCTURED-LOCATION;VALUE=URI;X-ADDRESS=RSA 10 Marae Street Taumarunui New Zealand;X-APPLE-RADIUS=500;X-TITLE=10 Marae Street:geo:175.2614527,-38.8851355
END:VEVENT
BEGIN:VEVENT
DTSTART;TZID=Pacific/Auckland:20250317T173000
DTEND;TZID=Pacific/Auckland:20250317T193000
DTSTAMP:20260422T094719
CREATED:20240922T225808Z
LAST-MODIFIED:20241015T053932Z
UID:10000602-1742232600-1742239800@taumarunui.co.nz
SUMMARY:Taumarunui Rotary Club
DESCRIPTION:1st and 3rd Monday of month\, 5.30pm\, upstairs lounge at the RSA. \nJoin us for interesting speakers and involvement in community activities.
URL:https://taumarunui.co.nz/event/taumarunui-rotary-club/2025-03-17/
LOCATION:RSA\, 10 Marae Street\, Taumarunui\, New Zealand
CATEGORIES:Clubs
ATTACH;FMTTYPE=image/png:https://taumarunui.co.nz/wp-content/uploads/2024/09/IMG_8086.png
GEO:-38.8851355;175.2614527
X-APPLE-STRUCTURED-LOCATION;VALUE=URI;X-ADDRESS=RSA 10 Marae Street Taumarunui New Zealand;X-APPLE-RADIUS=500;X-TITLE=10 Marae Street:geo:175.2614527,-38.8851355
END:VEVENT
BEGIN:VEVENT
DTSTART;TZID=Pacific/Auckland:20250303T173000
DTEND;TZID=Pacific/Auckland:20250303T193000
DTSTAMP:20260422T094719
CREATED:20240922T225946Z
LAST-MODIFIED:20240922T225946Z
UID:10000662-1741023000-1741030200@taumarunui.co.nz
SUMMARY:Taumarunui Rotary Club
DESCRIPTION:1st and 3rd Monday of month\, 5.30pm\, upstairs lounge at the RSA. \nJoin us for interesting speakers and involvement in community activities. 
URL:https://taumarunui.co.nz/event/taumarunui-rotary-club-2/2025-03-03/
LOCATION:RSA\, 10 Marae Street\, Taumarunui\, New Zealand
CATEGORIES:Clubs
GEO:-38.8851355;175.2614527
X-APPLE-STRUCTURED-LOCATION;VALUE=URI;X-ADDRESS=RSA 10 Marae Street Taumarunui New Zealand;X-APPLE-RADIUS=500;X-TITLE=10 Marae Street:geo:175.2614527,-38.8851355
END:VEVENT
BEGIN:VEVENT
DTSTART;TZID=Pacific/Auckland:20250217T173000
DTEND;TZID=Pacific/Auckland:20250217T193000
DTSTAMP:20260422T094719
CREATED:20240922T225808Z
LAST-MODIFIED:20241015T053932Z
UID:10000601-1739813400-1739820600@taumarunui.co.nz
SUMMARY:Taumarunui Rotary Club
DESCRIPTION:1st and 3rd Monday of month\, 5.30pm\, upstairs lounge at the RSA. \nJoin us for interesting speakers and involvement in community activities.
URL:https://taumarunui.co.nz/event/taumarunui-rotary-club/2025-02-17/
LOCATION:RSA\, 10 Marae Street\, Taumarunui\, New Zealand
CATEGORIES:Clubs
ATTACH;FMTTYPE=image/png:https://taumarunui.co.nz/wp-content/uploads/2024/09/IMG_8086.png
GEO:-38.8851355;175.2614527
X-APPLE-STRUCTURED-LOCATION;VALUE=URI;X-ADDRESS=RSA 10 Marae Street Taumarunui New Zealand;X-APPLE-RADIUS=500;X-TITLE=10 Marae Street:geo:175.2614527,-38.8851355
END:VEVENT
BEGIN:VEVENT
DTSTART;TZID=Pacific/Auckland:20250203T173000
DTEND;TZID=Pacific/Auckland:20250203T193000
DTSTAMP:20260422T094719
CREATED:20240922T225946Z
LAST-MODIFIED:20240922T225946Z
UID:10000661-1738603800-1738611000@taumarunui.co.nz
SUMMARY:Taumarunui Rotary Club
DESCRIPTION:1st and 3rd Monday of month\, 5.30pm\, upstairs lounge at the RSA. \nJoin us for interesting speakers and involvement in community activities. 
URL:https://taumarunui.co.nz/event/taumarunui-rotary-club-2/2025-02-03/
LOCATION:RSA\, 10 Marae Street\, Taumarunui\, New Zealand
CATEGORIES:Clubs
GEO:-38.8851355;175.2614527
X-APPLE-STRUCTURED-LOCATION;VALUE=URI;X-ADDRESS=RSA 10 Marae Street Taumarunui New Zealand;X-APPLE-RADIUS=500;X-TITLE=10 Marae Street:geo:175.2614527,-38.8851355
END:VEVENT
END:VCALENDAR