BEGIN:VCALENDAR
VERSION:2.0
PRODID:-//Taumarunui - ECPv6.15.20//NONSGML v1.0//EN
CALSCALE:GREGORIAN
METHOD:PUBLISH
X-ORIGINAL-URL:https://taumarunui.co.nz
X-WR-CALDESC:Events for Taumarunui
REFRESH-INTERVAL;VALUE=DURATION:PT1H
X-Robots-Tag:noindex
X-PUBLISHED-TTL:PT1H
BEGIN:VTIMEZONE
TZID:Pacific/Auckland
BEGIN:STANDARD
TZOFFSETFROM:+1300
TZOFFSETTO:+1200
TZNAME:NZST
DTSTART:20260404T140000
END:STANDARD
BEGIN:DAYLIGHT
TZOFFSETFROM:+1200
TZOFFSETTO:+1300
TZNAME:NZDT
DTSTART:20260926T140000
END:DAYLIGHT
BEGIN:STANDARD
TZOFFSETFROM:+1300
TZOFFSETTO:+1200
TZNAME:NZST
DTSTART:20270403T140000
END:STANDARD
BEGIN:DAYLIGHT
TZOFFSETFROM:+1200
TZOFFSETTO:+1300
TZNAME:NZDT
DTSTART:20270925T140000
END:DAYLIGHT
BEGIN:STANDARD
TZOFFSETFROM:+1300
TZOFFSETTO:+1200
TZNAME:NZST
DTSTART:20280401T140000
END:STANDARD
BEGIN:DAYLIGHT
TZOFFSETFROM:+1200
TZOFFSETTO:+1300
TZNAME:NZDT
DTSTART:20280923T140000
END:DAYLIGHT
BEGIN:STANDARD
TZOFFSETFROM:+1300
TZOFFSETTO:+1200
TZNAME:NZST
DTSTART:20290331T140000
END:STANDARD
BEGIN:DAYLIGHT
TZOFFSETFROM:+1200
TZOFFSETTO:+1300
TZNAME:NZDT
DTSTART:20290929T140000
END:DAYLIGHT
END:VTIMEZONE
BEGIN:VEVENT
DTSTART;TZID=Pacific/Auckland:20270624T130000
DTEND;TZID=Pacific/Auckland:20270624T150000
DTSTAMP:20260426T074203
CREATED:20241015T065239Z
LAST-MODIFIED:20241015T065239Z
UID:10004813-1813842000-1813849200@taumarunui.co.nz
SUMMARY:Senior Citizens
DESCRIPTION:Aged 50+ years. \nJoin us every Thursday at our clubrooms in Morero Terrace for a social afternoon and afternoon tea.
URL:https://taumarunui.co.nz/event/senior-citizens/2027-06-24/
LOCATION:Senior Citizens Hall\, Morero Street\, Taumarunui\, New Zealand
CATEGORIES:Clubs
END:VEVENT
BEGIN:VEVENT
DTSTART;TZID=Pacific/Auckland:20270701T130000
DTEND;TZID=Pacific/Auckland:20270701T150000
DTSTAMP:20260426T074203
CREATED:20241015T065239Z
LAST-MODIFIED:20241015T065239Z
UID:10004814-1814446800-1814454000@taumarunui.co.nz
SUMMARY:Senior Citizens
DESCRIPTION:Aged 50+ years. \nJoin us every Thursday at our clubrooms in Morero Terrace for a social afternoon and afternoon tea.
URL:https://taumarunui.co.nz/event/senior-citizens/2027-07-01/
LOCATION:Senior Citizens Hall\, Morero Street\, Taumarunui\, New Zealand
CATEGORIES:Clubs
END:VEVENT
BEGIN:VEVENT
DTSTART;TZID=Pacific/Auckland:20270708T130000
DTEND;TZID=Pacific/Auckland:20270708T150000
DTSTAMP:20260426T074203
CREATED:20241015T065239Z
LAST-MODIFIED:20241015T065239Z
UID:10004815-1815051600-1815058800@taumarunui.co.nz
SUMMARY:Senior Citizens
DESCRIPTION:Aged 50+ years. \nJoin us every Thursday at our clubrooms in Morero Terrace for a social afternoon and afternoon tea.
URL:https://taumarunui.co.nz/event/senior-citizens/2027-07-08/
LOCATION:Senior Citizens Hall\, Morero Street\, Taumarunui\, New Zealand
CATEGORIES:Clubs
END:VEVENT
BEGIN:VEVENT
DTSTART;TZID=Pacific/Auckland:20270715T130000
DTEND;TZID=Pacific/Auckland:20270715T150000
DTSTAMP:20260426T074203
CREATED:20241015T065239Z
LAST-MODIFIED:20241015T065239Z
UID:10004816-1815656400-1815663600@taumarunui.co.nz
SUMMARY:Senior Citizens
DESCRIPTION:Aged 50+ years. \nJoin us every Thursday at our clubrooms in Morero Terrace for a social afternoon and afternoon tea.
URL:https://taumarunui.co.nz/event/senior-citizens/2027-07-15/
LOCATION:Senior Citizens Hall\, Morero Street\, Taumarunui\, New Zealand
CATEGORIES:Clubs
END:VEVENT
BEGIN:VEVENT
DTSTART;TZID=Pacific/Auckland:20270722T130000
DTEND;TZID=Pacific/Auckland:20270722T150000
DTSTAMP:20260426T074203
CREATED:20241015T065239Z
LAST-MODIFIED:20241015T065239Z
UID:10004817-1816261200-1816268400@taumarunui.co.nz
SUMMARY:Senior Citizens
DESCRIPTION:Aged 50+ years. \nJoin us every Thursday at our clubrooms in Morero Terrace for a social afternoon and afternoon tea.
URL:https://taumarunui.co.nz/event/senior-citizens/2027-07-22/
LOCATION:Senior Citizens Hall\, Morero Street\, Taumarunui\, New Zealand
CATEGORIES:Clubs
END:VEVENT
BEGIN:VEVENT
DTSTART;TZID=Pacific/Auckland:20270729T130000
DTEND;TZID=Pacific/Auckland:20270729T150000
DTSTAMP:20260426T074203
CREATED:20241015T065239Z
LAST-MODIFIED:20241015T065239Z
UID:10004818-1816866000-1816873200@taumarunui.co.nz
SUMMARY:Senior Citizens
DESCRIPTION:Aged 50+ years. \nJoin us every Thursday at our clubrooms in Morero Terrace for a social afternoon and afternoon tea.
URL:https://taumarunui.co.nz/event/senior-citizens/2027-07-29/
LOCATION:Senior Citizens Hall\, Morero Street\, Taumarunui\, New Zealand
CATEGORIES:Clubs
END:VEVENT
BEGIN:VEVENT
DTSTART;TZID=Pacific/Auckland:20270805T130000
DTEND;TZID=Pacific/Auckland:20270805T150000
DTSTAMP:20260426T074203
CREATED:20241015T065239Z
LAST-MODIFIED:20241015T065239Z
UID:10004819-1817470800-1817478000@taumarunui.co.nz
SUMMARY:Senior Citizens
DESCRIPTION:Aged 50+ years. \nJoin us every Thursday at our clubrooms in Morero Terrace for a social afternoon and afternoon tea.
URL:https://taumarunui.co.nz/event/senior-citizens/2027-08-05/
LOCATION:Senior Citizens Hall\, Morero Street\, Taumarunui\, New Zealand
CATEGORIES:Clubs
END:VEVENT
BEGIN:VEVENT
DTSTART;TZID=Pacific/Auckland:20270812T130000
DTEND;TZID=Pacific/Auckland:20270812T150000
DTSTAMP:20260426T074203
CREATED:20241015T065239Z
LAST-MODIFIED:20241015T065239Z
UID:10004820-1818075600-1818082800@taumarunui.co.nz
SUMMARY:Senior Citizens
DESCRIPTION:Aged 50+ years. \nJoin us every Thursday at our clubrooms in Morero Terrace for a social afternoon and afternoon tea.
URL:https://taumarunui.co.nz/event/senior-citizens/2027-08-12/
LOCATION:Senior Citizens Hall\, Morero Street\, Taumarunui\, New Zealand
CATEGORIES:Clubs
END:VEVENT
BEGIN:VEVENT
DTSTART;TZID=Pacific/Auckland:20270819T130000
DTEND;TZID=Pacific/Auckland:20270819T150000
DTSTAMP:20260426T074203
CREATED:20241015T065239Z
LAST-MODIFIED:20241015T065239Z
UID:10004821-1818680400-1818687600@taumarunui.co.nz
SUMMARY:Senior Citizens
DESCRIPTION:Aged 50+ years. \nJoin us every Thursday at our clubrooms in Morero Terrace for a social afternoon and afternoon tea.
URL:https://taumarunui.co.nz/event/senior-citizens/2027-08-19/
LOCATION:Senior Citizens Hall\, Morero Street\, Taumarunui\, New Zealand
CATEGORIES:Clubs
END:VEVENT
BEGIN:VEVENT
DTSTART;TZID=Pacific/Auckland:20270826T130000
DTEND;TZID=Pacific/Auckland:20270826T150000
DTSTAMP:20260426T074203
CREATED:20241015T065239Z
LAST-MODIFIED:20241015T065239Z
UID:10004822-1819285200-1819292400@taumarunui.co.nz
SUMMARY:Senior Citizens
DESCRIPTION:Aged 50+ years. \nJoin us every Thursday at our clubrooms in Morero Terrace for a social afternoon and afternoon tea.
URL:https://taumarunui.co.nz/event/senior-citizens/2027-08-26/
LOCATION:Senior Citizens Hall\, Morero Street\, Taumarunui\, New Zealand
CATEGORIES:Clubs
END:VEVENT
BEGIN:VEVENT
DTSTART;TZID=Pacific/Auckland:20270902T130000
DTEND;TZID=Pacific/Auckland:20270902T150000
DTSTAMP:20260426T074203
CREATED:20241015T065239Z
LAST-MODIFIED:20241015T065239Z
UID:10004823-1819890000-1819897200@taumarunui.co.nz
SUMMARY:Senior Citizens
DESCRIPTION:Aged 50+ years. \nJoin us every Thursday at our clubrooms in Morero Terrace for a social afternoon and afternoon tea.
URL:https://taumarunui.co.nz/event/senior-citizens/2027-09-02/
LOCATION:Senior Citizens Hall\, Morero Street\, Taumarunui\, New Zealand
CATEGORIES:Clubs
END:VEVENT
BEGIN:VEVENT
DTSTART;TZID=Pacific/Auckland:20270909T130000
DTEND;TZID=Pacific/Auckland:20270909T150000
DTSTAMP:20260426T074203
CREATED:20241015T065239Z
LAST-MODIFIED:20241015T065239Z
UID:10004824-1820494800-1820502000@taumarunui.co.nz
SUMMARY:Senior Citizens
DESCRIPTION:Aged 50+ years. \nJoin us every Thursday at our clubrooms in Morero Terrace for a social afternoon and afternoon tea.
URL:https://taumarunui.co.nz/event/senior-citizens/2027-09-09/
LOCATION:Senior Citizens Hall\, Morero Street\, Taumarunui\, New Zealand
CATEGORIES:Clubs
END:VEVENT
BEGIN:VEVENT
DTSTART;TZID=Pacific/Auckland:20270916T130000
DTEND;TZID=Pacific/Auckland:20270916T150000
DTSTAMP:20260426T074203
CREATED:20241015T065239Z
LAST-MODIFIED:20241015T065239Z
UID:10004825-1821099600-1821106800@taumarunui.co.nz
SUMMARY:Senior Citizens
DESCRIPTION:Aged 50+ years. \nJoin us every Thursday at our clubrooms in Morero Terrace for a social afternoon and afternoon tea.
URL:https://taumarunui.co.nz/event/senior-citizens/2027-09-16/
LOCATION:Senior Citizens Hall\, Morero Street\, Taumarunui\, New Zealand
CATEGORIES:Clubs
END:VEVENT
BEGIN:VEVENT
DTSTART;TZID=Pacific/Auckland:20270923T130000
DTEND;TZID=Pacific/Auckland:20270923T150000
DTSTAMP:20260426T074203
CREATED:20241015T065239Z
LAST-MODIFIED:20241015T065239Z
UID:10004826-1821704400-1821711600@taumarunui.co.nz
SUMMARY:Senior Citizens
DESCRIPTION:Aged 50+ years. \nJoin us every Thursday at our clubrooms in Morero Terrace for a social afternoon and afternoon tea.
URL:https://taumarunui.co.nz/event/senior-citizens/2027-09-23/
LOCATION:Senior Citizens Hall\, Morero Street\, Taumarunui\, New Zealand
CATEGORIES:Clubs
END:VEVENT
BEGIN:VEVENT
DTSTART;TZID=Pacific/Auckland:20270930T130000
DTEND;TZID=Pacific/Auckland:20270930T150000
DTSTAMP:20260426T074203
CREATED:20241015T065239Z
LAST-MODIFIED:20241015T065239Z
UID:10004827-1822309200-1822316400@taumarunui.co.nz
SUMMARY:Senior Citizens
DESCRIPTION:Aged 50+ years. \nJoin us every Thursday at our clubrooms in Morero Terrace for a social afternoon and afternoon tea.
URL:https://taumarunui.co.nz/event/senior-citizens/2027-09-30/
LOCATION:Senior Citizens Hall\, Morero Street\, Taumarunui\, New Zealand
CATEGORIES:Clubs
END:VEVENT
BEGIN:VEVENT
DTSTART;TZID=Pacific/Auckland:20271007T130000
DTEND;TZID=Pacific/Auckland:20271007T150000
DTSTAMP:20260426T074203
CREATED:20241015T065239Z
LAST-MODIFIED:20241015T065239Z
UID:10004828-1822914000-1822921200@taumarunui.co.nz
SUMMARY:Senior Citizens
DESCRIPTION:Aged 50+ years. \nJoin us every Thursday at our clubrooms in Morero Terrace for a social afternoon and afternoon tea.
URL:https://taumarunui.co.nz/event/senior-citizens/2027-10-07/
LOCATION:Senior Citizens Hall\, Morero Street\, Taumarunui\, New Zealand
CATEGORIES:Clubs
END:VEVENT
BEGIN:VEVENT
DTSTART;TZID=Pacific/Auckland:20271014T130000
DTEND;TZID=Pacific/Auckland:20271014T150000
DTSTAMP:20260426T074203
CREATED:20241015T065239Z
LAST-MODIFIED:20241015T065239Z
UID:10004829-1823518800-1823526000@taumarunui.co.nz
SUMMARY:Senior Citizens
DESCRIPTION:Aged 50+ years. \nJoin us every Thursday at our clubrooms in Morero Terrace for a social afternoon and afternoon tea.
URL:https://taumarunui.co.nz/event/senior-citizens/2027-10-14/
LOCATION:Senior Citizens Hall\, Morero Street\, Taumarunui\, New Zealand
CATEGORIES:Clubs
END:VEVENT
BEGIN:VEVENT
DTSTART;TZID=Pacific/Auckland:20271021T130000
DTEND;TZID=Pacific/Auckland:20271021T150000
DTSTAMP:20260426T074203
CREATED:20241015T065239Z
LAST-MODIFIED:20241015T065239Z
UID:10004830-1824123600-1824130800@taumarunui.co.nz
SUMMARY:Senior Citizens
DESCRIPTION:Aged 50+ years. \nJoin us every Thursday at our clubrooms in Morero Terrace for a social afternoon and afternoon tea.
URL:https://taumarunui.co.nz/event/senior-citizens/2027-10-21/
LOCATION:Senior Citizens Hall\, Morero Street\, Taumarunui\, New Zealand
CATEGORIES:Clubs
END:VEVENT
BEGIN:VEVENT
DTSTART;TZID=Pacific/Auckland:20271028T130000
DTEND;TZID=Pacific/Auckland:20271028T150000
DTSTAMP:20260426T074203
CREATED:20241015T065239Z
LAST-MODIFIED:20241015T065239Z
UID:10004831-1824728400-1824735600@taumarunui.co.nz
SUMMARY:Senior Citizens
DESCRIPTION:Aged 50+ years. \nJoin us every Thursday at our clubrooms in Morero Terrace for a social afternoon and afternoon tea.
URL:https://taumarunui.co.nz/event/senior-citizens/2027-10-28/
LOCATION:Senior Citizens Hall\, Morero Street\, Taumarunui\, New Zealand
CATEGORIES:Clubs
END:VEVENT
BEGIN:VEVENT
DTSTART;TZID=Pacific/Auckland:20271104T130000
DTEND;TZID=Pacific/Auckland:20271104T150000
DTSTAMP:20260426T074203
CREATED:20241015T065239Z
LAST-MODIFIED:20241015T065239Z
UID:10004832-1825333200-1825340400@taumarunui.co.nz
SUMMARY:Senior Citizens
DESCRIPTION:Aged 50+ years. \nJoin us every Thursday at our clubrooms in Morero Terrace for a social afternoon and afternoon tea.
URL:https://taumarunui.co.nz/event/senior-citizens/2027-11-04/
LOCATION:Senior Citizens Hall\, Morero Street\, Taumarunui\, New Zealand
CATEGORIES:Clubs
END:VEVENT
BEGIN:VEVENT
DTSTART;TZID=Pacific/Auckland:20271111T130000
DTEND;TZID=Pacific/Auckland:20271111T150000
DTSTAMP:20260426T074203
CREATED:20241015T065239Z
LAST-MODIFIED:20241015T065239Z
UID:10004833-1825938000-1825945200@taumarunui.co.nz
SUMMARY:Senior Citizens
DESCRIPTION:Aged 50+ years. \nJoin us every Thursday at our clubrooms in Morero Terrace for a social afternoon and afternoon tea.
URL:https://taumarunui.co.nz/event/senior-citizens/2027-11-11/
LOCATION:Senior Citizens Hall\, Morero Street\, Taumarunui\, New Zealand
CATEGORIES:Clubs
END:VEVENT
BEGIN:VEVENT
DTSTART;TZID=Pacific/Auckland:20271118T130000
DTEND;TZID=Pacific/Auckland:20271118T150000
DTSTAMP:20260426T074203
CREATED:20241015T065239Z
LAST-MODIFIED:20241015T065239Z
UID:10004834-1826542800-1826550000@taumarunui.co.nz
SUMMARY:Senior Citizens
DESCRIPTION:Aged 50+ years. \nJoin us every Thursday at our clubrooms in Morero Terrace for a social afternoon and afternoon tea.
URL:https://taumarunui.co.nz/event/senior-citizens/2027-11-18/
LOCATION:Senior Citizens Hall\, Morero Street\, Taumarunui\, New Zealand
CATEGORIES:Clubs
END:VEVENT
BEGIN:VEVENT
DTSTART;TZID=Pacific/Auckland:20271125T130000
DTEND;TZID=Pacific/Auckland:20271125T150000
DTSTAMP:20260426T074203
CREATED:20241015T065239Z
LAST-MODIFIED:20241015T065239Z
UID:10004835-1827147600-1827154800@taumarunui.co.nz
SUMMARY:Senior Citizens
DESCRIPTION:Aged 50+ years. \nJoin us every Thursday at our clubrooms in Morero Terrace for a social afternoon and afternoon tea.
URL:https://taumarunui.co.nz/event/senior-citizens/2027-11-25/
LOCATION:Senior Citizens Hall\, Morero Street\, Taumarunui\, New Zealand
CATEGORIES:Clubs
END:VEVENT
BEGIN:VEVENT
DTSTART;TZID=Pacific/Auckland:20271202T130000
DTEND;TZID=Pacific/Auckland:20271202T150000
DTSTAMP:20260426T074203
CREATED:20241015T065239Z
LAST-MODIFIED:20241015T065239Z
UID:10004836-1827752400-1827759600@taumarunui.co.nz
SUMMARY:Senior Citizens
DESCRIPTION:Aged 50+ years. \nJoin us every Thursday at our clubrooms in Morero Terrace for a social afternoon and afternoon tea.
URL:https://taumarunui.co.nz/event/senior-citizens/2027-12-02/
LOCATION:Senior Citizens Hall\, Morero Street\, Taumarunui\, New Zealand
CATEGORIES:Clubs
END:VEVENT
BEGIN:VEVENT
DTSTART;TZID=Pacific/Auckland:20271209T130000
DTEND;TZID=Pacific/Auckland:20271209T150000
DTSTAMP:20260426T074203
CREATED:20241015T065239Z
LAST-MODIFIED:20241015T065239Z
UID:10004837-1828357200-1828364400@taumarunui.co.nz
SUMMARY:Senior Citizens
DESCRIPTION:Aged 50+ years. \nJoin us every Thursday at our clubrooms in Morero Terrace for a social afternoon and afternoon tea.
URL:https://taumarunui.co.nz/event/senior-citizens/2027-12-09/
LOCATION:Senior Citizens Hall\, Morero Street\, Taumarunui\, New Zealand
CATEGORIES:Clubs
END:VEVENT
BEGIN:VEVENT
DTSTART;TZID=Pacific/Auckland:20271216T130000
DTEND;TZID=Pacific/Auckland:20271216T150000
DTSTAMP:20260426T074203
CREATED:20241015T065239Z
LAST-MODIFIED:20241015T065239Z
UID:10004838-1828962000-1828969200@taumarunui.co.nz
SUMMARY:Senior Citizens
DESCRIPTION:Aged 50+ years. \nJoin us every Thursday at our clubrooms in Morero Terrace for a social afternoon and afternoon tea.
URL:https://taumarunui.co.nz/event/senior-citizens/2027-12-16/
LOCATION:Senior Citizens Hall\, Morero Street\, Taumarunui\, New Zealand
CATEGORIES:Clubs
END:VEVENT
BEGIN:VEVENT
DTSTART;TZID=Pacific/Auckland:20271223T130000
DTEND;TZID=Pacific/Auckland:20271223T150000
DTSTAMP:20260426T074203
CREATED:20241015T065239Z
LAST-MODIFIED:20241015T065239Z
UID:10004839-1829566800-1829574000@taumarunui.co.nz
SUMMARY:Senior Citizens
DESCRIPTION:Aged 50+ years. \nJoin us every Thursday at our clubrooms in Morero Terrace for a social afternoon and afternoon tea.
URL:https://taumarunui.co.nz/event/senior-citizens/2027-12-23/
LOCATION:Senior Citizens Hall\, Morero Street\, Taumarunui\, New Zealand
CATEGORIES:Clubs
END:VEVENT
BEGIN:VEVENT
DTSTART;TZID=Pacific/Auckland:20271230T130000
DTEND;TZID=Pacific/Auckland:20271230T150000
DTSTAMP:20260426T074203
CREATED:20241015T065239Z
LAST-MODIFIED:20241015T065239Z
UID:10004840-1830171600-1830178800@taumarunui.co.nz
SUMMARY:Senior Citizens
DESCRIPTION:Aged 50+ years. \nJoin us every Thursday at our clubrooms in Morero Terrace for a social afternoon and afternoon tea.
URL:https://taumarunui.co.nz/event/senior-citizens/2027-12-30/
LOCATION:Senior Citizens Hall\, Morero Street\, Taumarunui\, New Zealand
CATEGORIES:Clubs
END:VEVENT
BEGIN:VEVENT
DTSTART;TZID=Pacific/Auckland:20280106T130000
DTEND;TZID=Pacific/Auckland:20280106T150000
DTSTAMP:20260426T074203
CREATED:20241015T065239Z
LAST-MODIFIED:20241015T065239Z
UID:10004841-1830776400-1830783600@taumarunui.co.nz
SUMMARY:Senior Citizens
DESCRIPTION:Aged 50+ years. \nJoin us every Thursday at our clubrooms in Morero Terrace for a social afternoon and afternoon tea.
URL:https://taumarunui.co.nz/event/senior-citizens/2028-01-06/
LOCATION:Senior Citizens Hall\, Morero Street\, Taumarunui\, New Zealand
CATEGORIES:Clubs
END:VEVENT
BEGIN:VEVENT
DTSTART;TZID=Pacific/Auckland:20280113T130000
DTEND;TZID=Pacific/Auckland:20280113T150000
DTSTAMP:20260426T074203
CREATED:20241015T065239Z
LAST-MODIFIED:20241015T065239Z
UID:10004842-1831381200-1831388400@taumarunui.co.nz
SUMMARY:Senior Citizens
DESCRIPTION:Aged 50+ years. \nJoin us every Thursday at our clubrooms in Morero Terrace for a social afternoon and afternoon tea.
URL:https://taumarunui.co.nz/event/senior-citizens/2028-01-13/
LOCATION:Senior Citizens Hall\, Morero Street\, Taumarunui\, New Zealand
CATEGORIES:Clubs
END:VEVENT
END:VCALENDAR