BEGIN:VCALENDAR
VERSION:2.0
PRODID:-//Taumarunui - ECPv6.15.20//NONSGML v1.0//EN
CALSCALE:GREGORIAN
METHOD:PUBLISH
X-WR-CALNAME:Taumarunui
X-ORIGINAL-URL:https://taumarunui.co.nz
X-WR-CALDESC:Events for Taumarunui
REFRESH-INTERVAL;VALUE=DURATION:PT1H
X-Robots-Tag:noindex
X-PUBLISHED-TTL:PT1H
BEGIN:VTIMEZONE
TZID:Pacific/Auckland
BEGIN:STANDARD
TZOFFSETFROM:+1300
TZOFFSETTO:+1200
TZNAME:NZST
DTSTART:20230401T140000
END:STANDARD
BEGIN:DAYLIGHT
TZOFFSETFROM:+1200
TZOFFSETTO:+1300
TZNAME:NZDT
DTSTART:20230923T140000
END:DAYLIGHT
BEGIN:STANDARD
TZOFFSETFROM:+1300
TZOFFSETTO:+1200
TZNAME:NZST
DTSTART:20240406T140000
END:STANDARD
BEGIN:DAYLIGHT
TZOFFSETFROM:+1200
TZOFFSETTO:+1300
TZNAME:NZDT
DTSTART:20240928T140000
END:DAYLIGHT
BEGIN:STANDARD
TZOFFSETFROM:+1300
TZOFFSETTO:+1200
TZNAME:NZST
DTSTART:20250405T140000
END:STANDARD
BEGIN:DAYLIGHT
TZOFFSETFROM:+1200
TZOFFSETTO:+1300
TZNAME:NZDT
DTSTART:20250927T140000
END:DAYLIGHT
BEGIN:STANDARD
TZOFFSETFROM:+1300
TZOFFSETTO:+1200
TZNAME:NZST
DTSTART:20260404T140000
END:STANDARD
BEGIN:DAYLIGHT
TZOFFSETFROM:+1200
TZOFFSETTO:+1300
TZNAME:NZDT
DTSTART:20260926T140000
END:DAYLIGHT
END:VTIMEZONE
BEGIN:VEVENT
DTSTART;TZID=Pacific/Auckland:20250522T130000
DTEND;TZID=Pacific/Auckland:20250522T150000
DTSTAMP:20260425T002838
CREATED:20241015T065239Z
LAST-MODIFIED:20241015T065239Z
UID:10004704-1747918800-1747926000@taumarunui.co.nz
SUMMARY:Senior Citizens
DESCRIPTION:Aged 50+ years. \nJoin us every Thursday at our clubrooms in Morero Terrace for a social afternoon and afternoon tea.
URL:https://taumarunui.co.nz/event/senior-citizens/2025-05-22/
LOCATION:Senior Citizens Hall\, Morero Street\, Taumarunui\, New Zealand
CATEGORIES:Clubs
END:VEVENT
BEGIN:VEVENT
DTSTART;TZID=Pacific/Auckland:20250515T130000
DTEND;TZID=Pacific/Auckland:20250515T150000
DTSTAMP:20260425T002838
CREATED:20241015T065239Z
LAST-MODIFIED:20241015T065239Z
UID:10004703-1747314000-1747321200@taumarunui.co.nz
SUMMARY:Senior Citizens
DESCRIPTION:Aged 50+ years. \nJoin us every Thursday at our clubrooms in Morero Terrace for a social afternoon and afternoon tea.
URL:https://taumarunui.co.nz/event/senior-citizens/2025-05-15/
LOCATION:Senior Citizens Hall\, Morero Street\, Taumarunui\, New Zealand
CATEGORIES:Clubs
END:VEVENT
BEGIN:VEVENT
DTSTART;TZID=Pacific/Auckland:20250508T130000
DTEND;TZID=Pacific/Auckland:20250508T150000
DTSTAMP:20260425T002838
CREATED:20241015T065239Z
LAST-MODIFIED:20241015T065239Z
UID:10004702-1746709200-1746716400@taumarunui.co.nz
SUMMARY:Senior Citizens
DESCRIPTION:Aged 50+ years. \nJoin us every Thursday at our clubrooms in Morero Terrace for a social afternoon and afternoon tea.
URL:https://taumarunui.co.nz/event/senior-citizens/2025-05-08/
LOCATION:Senior Citizens Hall\, Morero Street\, Taumarunui\, New Zealand
CATEGORIES:Clubs
END:VEVENT
BEGIN:VEVENT
DTSTART;TZID=Pacific/Auckland:20250501T130000
DTEND;TZID=Pacific/Auckland:20250501T150000
DTSTAMP:20260425T002838
CREATED:20241015T065239Z
LAST-MODIFIED:20241015T065239Z
UID:10004701-1746104400-1746111600@taumarunui.co.nz
SUMMARY:Senior Citizens
DESCRIPTION:Aged 50+ years. \nJoin us every Thursday at our clubrooms in Morero Terrace for a social afternoon and afternoon tea.
URL:https://taumarunui.co.nz/event/senior-citizens/2025-05-01/
LOCATION:Senior Citizens Hall\, Morero Street\, Taumarunui\, New Zealand
CATEGORIES:Clubs
END:VEVENT
BEGIN:VEVENT
DTSTART;TZID=Pacific/Auckland:20250424T130000
DTEND;TZID=Pacific/Auckland:20250424T150000
DTSTAMP:20260425T002838
CREATED:20241015T065239Z
LAST-MODIFIED:20241015T065239Z
UID:10004700-1745499600-1745506800@taumarunui.co.nz
SUMMARY:Senior Citizens
DESCRIPTION:Aged 50+ years. \nJoin us every Thursday at our clubrooms in Morero Terrace for a social afternoon and afternoon tea.
URL:https://taumarunui.co.nz/event/senior-citizens/2025-04-24/
LOCATION:Senior Citizens Hall\, Morero Street\, Taumarunui\, New Zealand
CATEGORIES:Clubs
END:VEVENT
BEGIN:VEVENT
DTSTART;TZID=Pacific/Auckland:20250417T130000
DTEND;TZID=Pacific/Auckland:20250417T150000
DTSTAMP:20260425T002838
CREATED:20241015T065239Z
LAST-MODIFIED:20241015T065239Z
UID:10004699-1744894800-1744902000@taumarunui.co.nz
SUMMARY:Senior Citizens
DESCRIPTION:Aged 50+ years. \nJoin us every Thursday at our clubrooms in Morero Terrace for a social afternoon and afternoon tea.
URL:https://taumarunui.co.nz/event/senior-citizens/2025-04-17/
LOCATION:Senior Citizens Hall\, Morero Street\, Taumarunui\, New Zealand
CATEGORIES:Clubs
END:VEVENT
BEGIN:VEVENT
DTSTART;TZID=Pacific/Auckland:20250410T130000
DTEND;TZID=Pacific/Auckland:20250410T150000
DTSTAMP:20260425T002838
CREATED:20241015T065239Z
LAST-MODIFIED:20241015T065239Z
UID:10004698-1744290000-1744297200@taumarunui.co.nz
SUMMARY:Senior Citizens
DESCRIPTION:Aged 50+ years. \nJoin us every Thursday at our clubrooms in Morero Terrace for a social afternoon and afternoon tea.
URL:https://taumarunui.co.nz/event/senior-citizens/2025-04-10/
LOCATION:Senior Citizens Hall\, Morero Street\, Taumarunui\, New Zealand
CATEGORIES:Clubs
END:VEVENT
BEGIN:VEVENT
DTSTART;TZID=Pacific/Auckland:20250403T130000
DTEND;TZID=Pacific/Auckland:20250403T150000
DTSTAMP:20260425T002838
CREATED:20241015T065239Z
LAST-MODIFIED:20241015T065239Z
UID:10004697-1743685200-1743692400@taumarunui.co.nz
SUMMARY:Senior Citizens
DESCRIPTION:Aged 50+ years. \nJoin us every Thursday at our clubrooms in Morero Terrace for a social afternoon and afternoon tea.
URL:https://taumarunui.co.nz/event/senior-citizens/2025-04-03/
LOCATION:Senior Citizens Hall\, Morero Street\, Taumarunui\, New Zealand
CATEGORIES:Clubs
END:VEVENT
BEGIN:VEVENT
DTSTART;TZID=Pacific/Auckland:20250327T130000
DTEND;TZID=Pacific/Auckland:20250327T150000
DTSTAMP:20260425T002838
CREATED:20241015T065239Z
LAST-MODIFIED:20241015T065239Z
UID:10004696-1743080400-1743087600@taumarunui.co.nz
SUMMARY:Senior Citizens
DESCRIPTION:Aged 50+ years. \nJoin us every Thursday at our clubrooms in Morero Terrace for a social afternoon and afternoon tea.
URL:https://taumarunui.co.nz/event/senior-citizens/2025-03-27/
LOCATION:Senior Citizens Hall\, Morero Street\, Taumarunui\, New Zealand
CATEGORIES:Clubs
END:VEVENT
BEGIN:VEVENT
DTSTART;TZID=Pacific/Auckland:20250320T130000
DTEND;TZID=Pacific/Auckland:20250320T150000
DTSTAMP:20260425T002838
CREATED:20241015T065239Z
LAST-MODIFIED:20241015T065239Z
UID:10004695-1742475600-1742482800@taumarunui.co.nz
SUMMARY:Senior Citizens
DESCRIPTION:Aged 50+ years. \nJoin us every Thursday at our clubrooms in Morero Terrace for a social afternoon and afternoon tea.
URL:https://taumarunui.co.nz/event/senior-citizens/2025-03-20/
LOCATION:Senior Citizens Hall\, Morero Street\, Taumarunui\, New Zealand
CATEGORIES:Clubs
END:VEVENT
BEGIN:VEVENT
DTSTART;TZID=Pacific/Auckland:20250313T130000
DTEND;TZID=Pacific/Auckland:20250313T150000
DTSTAMP:20260425T002838
CREATED:20241015T065239Z
LAST-MODIFIED:20241015T065239Z
UID:10004694-1741870800-1741878000@taumarunui.co.nz
SUMMARY:Senior Citizens
DESCRIPTION:Aged 50+ years. \nJoin us every Thursday at our clubrooms in Morero Terrace for a social afternoon and afternoon tea.
URL:https://taumarunui.co.nz/event/senior-citizens/2025-03-13/
LOCATION:Senior Citizens Hall\, Morero Street\, Taumarunui\, New Zealand
CATEGORIES:Clubs
END:VEVENT
BEGIN:VEVENT
DTSTART;TZID=Pacific/Auckland:20250306T130000
DTEND;TZID=Pacific/Auckland:20250306T150000
DTSTAMP:20260425T002838
CREATED:20241015T065239Z
LAST-MODIFIED:20241015T065239Z
UID:10004693-1741266000-1741273200@taumarunui.co.nz
SUMMARY:Senior Citizens
DESCRIPTION:Aged 50+ years. \nJoin us every Thursday at our clubrooms in Morero Terrace for a social afternoon and afternoon tea.
URL:https://taumarunui.co.nz/event/senior-citizens/2025-03-06/
LOCATION:Senior Citizens Hall\, Morero Street\, Taumarunui\, New Zealand
CATEGORIES:Clubs
END:VEVENT
BEGIN:VEVENT
DTSTART;TZID=Pacific/Auckland:20250227T130000
DTEND;TZID=Pacific/Auckland:20250227T150000
DTSTAMP:20260425T002838
CREATED:20241015T065239Z
LAST-MODIFIED:20241015T065239Z
UID:10004692-1740661200-1740668400@taumarunui.co.nz
SUMMARY:Senior Citizens
DESCRIPTION:Aged 50+ years. \nJoin us every Thursday at our clubrooms in Morero Terrace for a social afternoon and afternoon tea.
URL:https://taumarunui.co.nz/event/senior-citizens/2025-02-27/
LOCATION:Senior Citizens Hall\, Morero Street\, Taumarunui\, New Zealand
CATEGORIES:Clubs
END:VEVENT
BEGIN:VEVENT
DTSTART;TZID=Pacific/Auckland:20250220T130000
DTEND;TZID=Pacific/Auckland:20250220T150000
DTSTAMP:20260425T002838
CREATED:20241015T065239Z
LAST-MODIFIED:20241015T065239Z
UID:10004691-1740056400-1740063600@taumarunui.co.nz
SUMMARY:Senior Citizens
DESCRIPTION:Aged 50+ years. \nJoin us every Thursday at our clubrooms in Morero Terrace for a social afternoon and afternoon tea.
URL:https://taumarunui.co.nz/event/senior-citizens/2025-02-20/
LOCATION:Senior Citizens Hall\, Morero Street\, Taumarunui\, New Zealand
CATEGORIES:Clubs
END:VEVENT
BEGIN:VEVENT
DTSTART;TZID=Pacific/Auckland:20250213T130000
DTEND;TZID=Pacific/Auckland:20250213T150000
DTSTAMP:20260425T002838
CREATED:20241015T065239Z
LAST-MODIFIED:20241015T065239Z
UID:10004690-1739451600-1739458800@taumarunui.co.nz
SUMMARY:Senior Citizens
DESCRIPTION:Aged 50+ years. \nJoin us every Thursday at our clubrooms in Morero Terrace for a social afternoon and afternoon tea.
URL:https://taumarunui.co.nz/event/senior-citizens/2025-02-13/
LOCATION:Senior Citizens Hall\, Morero Street\, Taumarunui\, New Zealand
CATEGORIES:Clubs
END:VEVENT
BEGIN:VEVENT
DTSTART;TZID=Pacific/Auckland:20250206T130000
DTEND;TZID=Pacific/Auckland:20250206T150000
DTSTAMP:20260425T002838
CREATED:20241015T065239Z
LAST-MODIFIED:20241015T065239Z
UID:10004689-1738846800-1738854000@taumarunui.co.nz
SUMMARY:Senior Citizens
DESCRIPTION:Aged 50+ years. \nJoin us every Thursday at our clubrooms in Morero Terrace for a social afternoon and afternoon tea.
URL:https://taumarunui.co.nz/event/senior-citizens/2025-02-06/
LOCATION:Senior Citizens Hall\, Morero Street\, Taumarunui\, New Zealand
CATEGORIES:Clubs
END:VEVENT
BEGIN:VEVENT
DTSTART;TZID=Pacific/Auckland:20250130T130000
DTEND;TZID=Pacific/Auckland:20250130T150000
DTSTAMP:20260425T002838
CREATED:20241015T065239Z
LAST-MODIFIED:20241015T065239Z
UID:10004688-1738242000-1738249200@taumarunui.co.nz
SUMMARY:Senior Citizens
DESCRIPTION:Aged 50+ years. \nJoin us every Thursday at our clubrooms in Morero Terrace for a social afternoon and afternoon tea.
URL:https://taumarunui.co.nz/event/senior-citizens/2025-01-30/
LOCATION:Senior Citizens Hall\, Morero Street\, Taumarunui\, New Zealand
CATEGORIES:Clubs
END:VEVENT
BEGIN:VEVENT
DTSTART;TZID=Pacific/Auckland:20250123T130000
DTEND;TZID=Pacific/Auckland:20250123T150000
DTSTAMP:20260425T002838
CREATED:20241015T065239Z
LAST-MODIFIED:20241015T065239Z
UID:10004687-1737637200-1737644400@taumarunui.co.nz
SUMMARY:Senior Citizens
DESCRIPTION:Aged 50+ years. \nJoin us every Thursday at our clubrooms in Morero Terrace for a social afternoon and afternoon tea.
URL:https://taumarunui.co.nz/event/senior-citizens/2025-01-23/
LOCATION:Senior Citizens Hall\, Morero Street\, Taumarunui\, New Zealand
CATEGORIES:Clubs
END:VEVENT
BEGIN:VEVENT
DTSTART;TZID=Pacific/Auckland:20250116T130000
DTEND;TZID=Pacific/Auckland:20250116T150000
DTSTAMP:20260425T002838
CREATED:20241015T065239Z
LAST-MODIFIED:20241015T065239Z
UID:10004686-1737032400-1737039600@taumarunui.co.nz
SUMMARY:Senior Citizens
DESCRIPTION:Aged 50+ years. \nJoin us every Thursday at our clubrooms in Morero Terrace for a social afternoon and afternoon tea.
URL:https://taumarunui.co.nz/event/senior-citizens/2025-01-16/
LOCATION:Senior Citizens Hall\, Morero Street\, Taumarunui\, New Zealand
CATEGORIES:Clubs
END:VEVENT
BEGIN:VEVENT
DTSTART;TZID=Pacific/Auckland:20250109T130000
DTEND;TZID=Pacific/Auckland:20250109T150000
DTSTAMP:20260425T002838
CREATED:20241015T065239Z
LAST-MODIFIED:20241015T065239Z
UID:10004685-1736427600-1736434800@taumarunui.co.nz
SUMMARY:Senior Citizens
DESCRIPTION:Aged 50+ years. \nJoin us every Thursday at our clubrooms in Morero Terrace for a social afternoon and afternoon tea.
URL:https://taumarunui.co.nz/event/senior-citizens/2025-01-09/
LOCATION:Senior Citizens Hall\, Morero Street\, Taumarunui\, New Zealand
CATEGORIES:Clubs
END:VEVENT
BEGIN:VEVENT
DTSTART;TZID=Pacific/Auckland:20250102T130000
DTEND;TZID=Pacific/Auckland:20250102T150000
DTSTAMP:20260425T002838
CREATED:20241015T065239Z
LAST-MODIFIED:20241015T065239Z
UID:10004684-1735822800-1735830000@taumarunui.co.nz
SUMMARY:Senior Citizens
DESCRIPTION:Aged 50+ years. \nJoin us every Thursday at our clubrooms in Morero Terrace for a social afternoon and afternoon tea.
URL:https://taumarunui.co.nz/event/senior-citizens/2025-01-02/
LOCATION:Senior Citizens Hall\, Morero Street\, Taumarunui\, New Zealand
CATEGORIES:Clubs
END:VEVENT
BEGIN:VEVENT
DTSTART;TZID=Pacific/Auckland:20241226T130000
DTEND;TZID=Pacific/Auckland:20241226T150000
DTSTAMP:20260425T002838
CREATED:20241015T065239Z
LAST-MODIFIED:20241015T065239Z
UID:10004683-1735218000-1735225200@taumarunui.co.nz
SUMMARY:Senior Citizens
DESCRIPTION:Aged 50+ years. \nJoin us every Thursday at our clubrooms in Morero Terrace for a social afternoon and afternoon tea.
URL:https://taumarunui.co.nz/event/senior-citizens/2024-12-26/
LOCATION:Senior Citizens Hall\, Morero Street\, Taumarunui\, New Zealand
CATEGORIES:Clubs
END:VEVENT
BEGIN:VEVENT
DTSTART;TZID=Pacific/Auckland:20241219T130000
DTEND;TZID=Pacific/Auckland:20241219T150000
DTSTAMP:20260425T002838
CREATED:20241015T065239Z
LAST-MODIFIED:20241015T065239Z
UID:10004682-1734613200-1734620400@taumarunui.co.nz
SUMMARY:Senior Citizens
DESCRIPTION:Aged 50+ years. \nJoin us every Thursday at our clubrooms in Morero Terrace for a social afternoon and afternoon tea.
URL:https://taumarunui.co.nz/event/senior-citizens/2024-12-19/
LOCATION:Senior Citizens Hall\, Morero Street\, Taumarunui\, New Zealand
CATEGORIES:Clubs
END:VEVENT
BEGIN:VEVENT
DTSTART;TZID=Pacific/Auckland:20241212T130000
DTEND;TZID=Pacific/Auckland:20241212T150000
DTSTAMP:20260425T002838
CREATED:20241015T065239Z
LAST-MODIFIED:20241015T065239Z
UID:10004681-1734008400-1734015600@taumarunui.co.nz
SUMMARY:Senior Citizens
DESCRIPTION:Aged 50+ years. \nJoin us every Thursday at our clubrooms in Morero Terrace for a social afternoon and afternoon tea.
URL:https://taumarunui.co.nz/event/senior-citizens/2024-12-12/
LOCATION:Senior Citizens Hall\, Morero Street\, Taumarunui\, New Zealand
CATEGORIES:Clubs
END:VEVENT
BEGIN:VEVENT
DTSTART;TZID=Pacific/Auckland:20241205T130000
DTEND;TZID=Pacific/Auckland:20241205T150000
DTSTAMP:20260425T002838
CREATED:20241015T065239Z
LAST-MODIFIED:20241015T065239Z
UID:10004680-1733403600-1733410800@taumarunui.co.nz
SUMMARY:Senior Citizens
DESCRIPTION:Aged 50+ years. \nJoin us every Thursday at our clubrooms in Morero Terrace for a social afternoon and afternoon tea.
URL:https://taumarunui.co.nz/event/senior-citizens/2024-12-05/
LOCATION:Senior Citizens Hall\, Morero Street\, Taumarunui\, New Zealand
CATEGORIES:Clubs
END:VEVENT
BEGIN:VEVENT
DTSTART;TZID=Pacific/Auckland:20241128T130000
DTEND;TZID=Pacific/Auckland:20241128T150000
DTSTAMP:20260425T002838
CREATED:20241015T065239Z
LAST-MODIFIED:20241015T065239Z
UID:10004679-1732798800-1732806000@taumarunui.co.nz
SUMMARY:Senior Citizens
DESCRIPTION:Aged 50+ years. \nJoin us every Thursday at our clubrooms in Morero Terrace for a social afternoon and afternoon tea.
URL:https://taumarunui.co.nz/event/senior-citizens/2024-11-28/
LOCATION:Senior Citizens Hall\, Morero Street\, Taumarunui\, New Zealand
CATEGORIES:Clubs
END:VEVENT
BEGIN:VEVENT
DTSTART;TZID=Pacific/Auckland:20241121T130000
DTEND;TZID=Pacific/Auckland:20241121T150000
DTSTAMP:20260425T002838
CREATED:20241015T065239Z
LAST-MODIFIED:20241015T065239Z
UID:10004678-1732194000-1732201200@taumarunui.co.nz
SUMMARY:Senior Citizens
DESCRIPTION:Aged 50+ years. \nJoin us every Thursday at our clubrooms in Morero Terrace for a social afternoon and afternoon tea.
URL:https://taumarunui.co.nz/event/senior-citizens/2024-11-21/
LOCATION:Senior Citizens Hall\, Morero Street\, Taumarunui\, New Zealand
CATEGORIES:Clubs
END:VEVENT
BEGIN:VEVENT
DTSTART;TZID=Pacific/Auckland:20241114T130000
DTEND;TZID=Pacific/Auckland:20241114T150000
DTSTAMP:20260425T002838
CREATED:20241015T065239Z
LAST-MODIFIED:20241015T065239Z
UID:10004677-1731589200-1731596400@taumarunui.co.nz
SUMMARY:Senior Citizens
DESCRIPTION:Aged 50+ years. \nJoin us every Thursday at our clubrooms in Morero Terrace for a social afternoon and afternoon tea.
URL:https://taumarunui.co.nz/event/senior-citizens/2024-11-14/
LOCATION:Senior Citizens Hall\, Morero Street\, Taumarunui\, New Zealand
CATEGORIES:Clubs
END:VEVENT
BEGIN:VEVENT
DTSTART;TZID=Pacific/Auckland:20241107T130000
DTEND;TZID=Pacific/Auckland:20241107T150000
DTSTAMP:20260425T002838
CREATED:20241015T065239Z
LAST-MODIFIED:20241015T065239Z
UID:10004676-1730984400-1730991600@taumarunui.co.nz
SUMMARY:Senior Citizens
DESCRIPTION:Aged 50+ years. \nJoin us every Thursday at our clubrooms in Morero Terrace for a social afternoon and afternoon tea.
URL:https://taumarunui.co.nz/event/senior-citizens/2024-11-07/
LOCATION:Senior Citizens Hall\, Morero Street\, Taumarunui\, New Zealand
CATEGORIES:Clubs
END:VEVENT
BEGIN:VEVENT
DTSTART;TZID=Pacific/Auckland:20241031T130000
DTEND;TZID=Pacific/Auckland:20241031T150000
DTSTAMP:20260425T002838
CREATED:20241015T065239Z
LAST-MODIFIED:20241015T065239Z
UID:10004675-1730379600-1730386800@taumarunui.co.nz
SUMMARY:Senior Citizens
DESCRIPTION:Aged 50+ years. \nJoin us every Thursday at our clubrooms in Morero Terrace for a social afternoon and afternoon tea.
URL:https://taumarunui.co.nz/event/senior-citizens/2024-10-31/
LOCATION:Senior Citizens Hall\, Morero Street\, Taumarunui\, New Zealand
CATEGORIES:Clubs
END:VEVENT
END:VCALENDAR