BEGIN:VCALENDAR
VERSION:2.0
PRODID:-//Taumarunui - ECPv6.15.16//NONSGML v1.0//EN
CALSCALE:GREGORIAN
METHOD:PUBLISH
X-WR-CALNAME:Taumarunui
X-ORIGINAL-URL:https://taumarunui.co.nz
X-WR-CALDESC:Events for Taumarunui
REFRESH-INTERVAL;VALUE=DURATION:PT1H
X-Robots-Tag:noindex
X-PUBLISHED-TTL:PT1H
BEGIN:VTIMEZONE
TZID:Pacific/Auckland
BEGIN:STANDARD
TZOFFSETFROM:+1300
TZOFFSETTO:+1200
TZNAME:NZST
DTSTART:20230401T140000
END:STANDARD
BEGIN:DAYLIGHT
TZOFFSETFROM:+1200
TZOFFSETTO:+1300
TZNAME:NZDT
DTSTART:20230923T140000
END:DAYLIGHT
BEGIN:STANDARD
TZOFFSETFROM:+1300
TZOFFSETTO:+1200
TZNAME:NZST
DTSTART:20240406T140000
END:STANDARD
BEGIN:DAYLIGHT
TZOFFSETFROM:+1200
TZOFFSETTO:+1300
TZNAME:NZDT
DTSTART:20240928T140000
END:DAYLIGHT
BEGIN:STANDARD
TZOFFSETFROM:+1300
TZOFFSETTO:+1200
TZNAME:NZST
DTSTART:20250405T140000
END:STANDARD
BEGIN:DAYLIGHT
TZOFFSETFROM:+1200
TZOFFSETTO:+1300
TZNAME:NZDT
DTSTART:20250927T140000
END:DAYLIGHT
BEGIN:STANDARD
TZOFFSETFROM:+1300
TZOFFSETTO:+1200
TZNAME:NZST
DTSTART:20260404T140000
END:STANDARD
BEGIN:DAYLIGHT
TZOFFSETFROM:+1200
TZOFFSETTO:+1300
TZNAME:NZDT
DTSTART:20260926T140000
END:DAYLIGHT
END:VTIMEZONE
BEGIN:VEVENT
DTSTART;TZID=Pacific/Auckland:20250508T100000
DTEND;TZID=Pacific/Auckland:20250508T113000
DTSTAMP:20260420T151124
CREATED:20241015T063731Z
LAST-MODIFIED:20250410T041358Z
UID:10012135-1746698400-1746703800@taumarunui.co.nz
SUMMARY:Kanikani Kids
DESCRIPTION:Come along with pre-school children and enjoy a 20-30 minute music based session. \nMeet and chat with others in the same season of life. \n$2 donation \n 
URL:https://taumarunui.co.nz/event/kanikani-kids/2025-05-08/
LOCATION:Taumarunui Baptist Church\, 250 Taupo Road\, Taumarunui\, New Zealand
CATEGORIES:Children
END:VEVENT
BEGIN:VEVENT
DTSTART;TZID=Pacific/Auckland:20250424T100000
DTEND;TZID=Pacific/Auckland:20250424T113000
DTSTAMP:20260420T151124
CREATED:20241015T063731Z
LAST-MODIFIED:20250410T041358Z
UID:10012134-1745488800-1745494200@taumarunui.co.nz
SUMMARY:Kanikani Kids
DESCRIPTION:Come along with pre-school children and enjoy a 20-30 minute music based session. \nMeet and chat with others in the same season of life. \n$2 donation \n 
URL:https://taumarunui.co.nz/event/kanikani-kids/2025-04-24/
LOCATION:Taumarunui Baptist Church\, 250 Taupo Road\, Taumarunui\, New Zealand
CATEGORIES:Children
END:VEVENT
BEGIN:VEVENT
DTSTART;TZID=Pacific/Auckland:20250410T100000
DTEND;TZID=Pacific/Auckland:20250410T113000
DTSTAMP:20260420T151124
CREATED:20241015T063731Z
LAST-MODIFIED:20250410T041358Z
UID:10012133-1744279200-1744284600@taumarunui.co.nz
SUMMARY:Kanikani Kids
DESCRIPTION:Come along with pre-school children and enjoy a 20-30 minute music based session. \nMeet and chat with others in the same season of life. \n$2 donation \n 
URL:https://taumarunui.co.nz/event/kanikani-kids/2025-04-10/
LOCATION:Taumarunui Baptist Church\, 250 Taupo Road\, Taumarunui\, New Zealand
CATEGORIES:Children
END:VEVENT
BEGIN:VEVENT
DTSTART;TZID=Pacific/Auckland:20250327T100000
DTEND;TZID=Pacific/Auckland:20250327T113000
DTSTAMP:20260420T151124
CREATED:20241015T063731Z
LAST-MODIFIED:20250410T041358Z
UID:10012132-1743069600-1743075000@taumarunui.co.nz
SUMMARY:Kanikani Kids
DESCRIPTION:Come along with pre-school children and enjoy a 20-30 minute music based session. \nMeet and chat with others in the same season of life. \n$2 donation \n 
URL:https://taumarunui.co.nz/event/kanikani-kids/2025-03-27/
LOCATION:Taumarunui Baptist Church\, 250 Taupo Road\, Taumarunui\, New Zealand
CATEGORIES:Children
END:VEVENT
BEGIN:VEVENT
DTSTART;TZID=Pacific/Auckland:20250313T100000
DTEND;TZID=Pacific/Auckland:20250313T113000
DTSTAMP:20260420T151124
CREATED:20241015T063731Z
LAST-MODIFIED:20250410T041358Z
UID:10012131-1741860000-1741865400@taumarunui.co.nz
SUMMARY:Kanikani Kids
DESCRIPTION:Come along with pre-school children and enjoy a 20-30 minute music based session. \nMeet and chat with others in the same season of life. \n$2 donation \n 
URL:https://taumarunui.co.nz/event/kanikani-kids/2025-03-13/
LOCATION:Taumarunui Baptist Church\, 250 Taupo Road\, Taumarunui\, New Zealand
CATEGORIES:Children
END:VEVENT
BEGIN:VEVENT
DTSTART;TZID=Pacific/Auckland:20250227T100000
DTEND;TZID=Pacific/Auckland:20250227T113000
DTSTAMP:20260420T151124
CREATED:20241015T063731Z
LAST-MODIFIED:20250410T041358Z
UID:10012130-1740650400-1740655800@taumarunui.co.nz
SUMMARY:Kanikani Kids
DESCRIPTION:Come along with pre-school children and enjoy a 20-30 minute music based session. \nMeet and chat with others in the same season of life. \n$2 donation \n 
URL:https://taumarunui.co.nz/event/kanikani-kids/2025-02-27/
LOCATION:Taumarunui Baptist Church\, 250 Taupo Road\, Taumarunui\, New Zealand
CATEGORIES:Children
END:VEVENT
BEGIN:VEVENT
DTSTART;TZID=Pacific/Auckland:20250213T100000
DTEND;TZID=Pacific/Auckland:20250213T113000
DTSTAMP:20260420T151124
CREATED:20241015T063731Z
LAST-MODIFIED:20250410T041358Z
UID:10012129-1739440800-1739446200@taumarunui.co.nz
SUMMARY:Kanikani Kids
DESCRIPTION:Come along with pre-school children and enjoy a 20-30 minute music based session. \nMeet and chat with others in the same season of life. \n$2 donation \n 
URL:https://taumarunui.co.nz/event/kanikani-kids/2025-02-13/
LOCATION:Taumarunui Baptist Church\, 250 Taupo Road\, Taumarunui\, New Zealand
CATEGORIES:Children
END:VEVENT
BEGIN:VEVENT
DTSTART;TZID=Pacific/Auckland:20250130T100000
DTEND;TZID=Pacific/Auckland:20250130T113000
DTSTAMP:20260420T151124
CREATED:20241015T063731Z
LAST-MODIFIED:20250410T041358Z
UID:10012128-1738231200-1738236600@taumarunui.co.nz
SUMMARY:Kanikani Kids
DESCRIPTION:Come along with pre-school children and enjoy a 20-30 minute music based session. \nMeet and chat with others in the same season of life. \n$2 donation \n 
URL:https://taumarunui.co.nz/event/kanikani-kids/2025-01-30/
LOCATION:Taumarunui Baptist Church\, 250 Taupo Road\, Taumarunui\, New Zealand
CATEGORIES:Children
END:VEVENT
BEGIN:VEVENT
DTSTART;TZID=Pacific/Auckland:20250116T100000
DTEND;TZID=Pacific/Auckland:20250116T113000
DTSTAMP:20260420T151124
CREATED:20241015T063731Z
LAST-MODIFIED:20250410T041358Z
UID:10012127-1737021600-1737027000@taumarunui.co.nz
SUMMARY:Kanikani Kids
DESCRIPTION:Come along with pre-school children and enjoy a 20-30 minute music based session. \nMeet and chat with others in the same season of life. \n$2 donation \n 
URL:https://taumarunui.co.nz/event/kanikani-kids/2025-01-16/
LOCATION:Taumarunui Baptist Church\, 250 Taupo Road\, Taumarunui\, New Zealand
CATEGORIES:Children
END:VEVENT
BEGIN:VEVENT
DTSTART;TZID=Pacific/Auckland:20250102T100000
DTEND;TZID=Pacific/Auckland:20250102T113000
DTSTAMP:20260420T151124
CREATED:20241015T063731Z
LAST-MODIFIED:20250410T041358Z
UID:10012126-1735812000-1735817400@taumarunui.co.nz
SUMMARY:Kanikani Kids
DESCRIPTION:Come along with pre-school children and enjoy a 20-30 minute music based session. \nMeet and chat with others in the same season of life. \n$2 donation \n 
URL:https://taumarunui.co.nz/event/kanikani-kids/2025-01-02/
LOCATION:Taumarunui Baptist Church\, 250 Taupo Road\, Taumarunui\, New Zealand
CATEGORIES:Children
END:VEVENT
BEGIN:VEVENT
DTSTART;TZID=Pacific/Auckland:20241219T100000
DTEND;TZID=Pacific/Auckland:20241219T113000
DTSTAMP:20260420T151124
CREATED:20241015T063731Z
LAST-MODIFIED:20250410T041358Z
UID:10012125-1734602400-1734607800@taumarunui.co.nz
SUMMARY:Kanikani Kids
DESCRIPTION:Come along with pre-school children and enjoy a 20-30 minute music based session. \nMeet and chat with others in the same season of life. \n$2 donation \n 
URL:https://taumarunui.co.nz/event/kanikani-kids/2024-12-19/
LOCATION:Taumarunui Baptist Church\, 250 Taupo Road\, Taumarunui\, New Zealand
CATEGORIES:Children
END:VEVENT
BEGIN:VEVENT
DTSTART;TZID=Pacific/Auckland:20241205T100000
DTEND;TZID=Pacific/Auckland:20241205T113000
DTSTAMP:20260420T151124
CREATED:20241015T063731Z
LAST-MODIFIED:20250410T041358Z
UID:10012124-1733392800-1733398200@taumarunui.co.nz
SUMMARY:Kanikani Kids
DESCRIPTION:Come along with pre-school children and enjoy a 20-30 minute music based session. \nMeet and chat with others in the same season of life. \n$2 donation \n 
URL:https://taumarunui.co.nz/event/kanikani-kids/2024-12-05/
LOCATION:Taumarunui Baptist Church\, 250 Taupo Road\, Taumarunui\, New Zealand
CATEGORIES:Children
END:VEVENT
BEGIN:VEVENT
DTSTART;TZID=Pacific/Auckland:20241121T100000
DTEND;TZID=Pacific/Auckland:20241121T113000
DTSTAMP:20260420T151124
CREATED:20241015T063731Z
LAST-MODIFIED:20250410T041358Z
UID:10012123-1732183200-1732188600@taumarunui.co.nz
SUMMARY:Kanikani Kids
DESCRIPTION:Come along with pre-school children and enjoy a 20-30 minute music based session. \nMeet and chat with others in the same season of life. \n$2 donation \n 
URL:https://taumarunui.co.nz/event/kanikani-kids/2024-11-21/
LOCATION:Taumarunui Baptist Church\, 250 Taupo Road\, Taumarunui\, New Zealand
CATEGORIES:Children
END:VEVENT
BEGIN:VEVENT
DTSTART;TZID=Pacific/Auckland:20241107T100000
DTEND;TZID=Pacific/Auckland:20241107T113000
DTSTAMP:20260420T151124
CREATED:20241015T063731Z
LAST-MODIFIED:20250410T041358Z
UID:10012122-1730973600-1730979000@taumarunui.co.nz
SUMMARY:Kanikani Kids
DESCRIPTION:Come along with pre-school children and enjoy a 20-30 minute music based session. \nMeet and chat with others in the same season of life. \n$2 donation \n 
URL:https://taumarunui.co.nz/event/kanikani-kids/2024-11-07/
LOCATION:Taumarunui Baptist Church\, 250 Taupo Road\, Taumarunui\, New Zealand
CATEGORIES:Children
END:VEVENT
BEGIN:VEVENT
DTSTART;TZID=Pacific/Auckland:20241024T100000
DTEND;TZID=Pacific/Auckland:20241024T113000
DTSTAMP:20260420T151124
CREATED:20241015T063731Z
LAST-MODIFIED:20250410T041358Z
UID:10012121-1729764000-1729769400@taumarunui.co.nz
SUMMARY:Kanikani Kids
DESCRIPTION:Come along with pre-school children and enjoy a 20-30 minute music based session. \nMeet and chat with others in the same season of life. \n$2 donation \n 
URL:https://taumarunui.co.nz/event/kanikani-kids/2024-10-24/
LOCATION:Taumarunui Baptist Church\, 250 Taupo Road\, Taumarunui\, New Zealand
CATEGORIES:Children
END:VEVENT
END:VCALENDAR