BEGIN:VCALENDAR
VERSION:2.0
PRODID:-//Taumarunui - ECPv6.15.20//NONSGML v1.0//EN
CALSCALE:GREGORIAN
METHOD:PUBLISH
X-ORIGINAL-URL:https://taumarunui.co.nz
X-WR-CALDESC:Events for Taumarunui
REFRESH-INTERVAL;VALUE=DURATION:PT1H
X-Robots-Tag:noindex
X-PUBLISHED-TTL:PT1H
BEGIN:VTIMEZONE
TZID:Pacific/Auckland
BEGIN:STANDARD
TZOFFSETFROM:+1300
TZOFFSETTO:+1200
TZNAME:NZST
DTSTART:20270403T140000
END:STANDARD
BEGIN:DAYLIGHT
TZOFFSETFROM:+1200
TZOFFSETTO:+1300
TZNAME:NZDT
DTSTART:20270925T140000
END:DAYLIGHT
BEGIN:STANDARD
TZOFFSETFROM:+1300
TZOFFSETTO:+1200
TZNAME:NZST
DTSTART:20280401T140000
END:STANDARD
BEGIN:DAYLIGHT
TZOFFSETFROM:+1200
TZOFFSETTO:+1300
TZNAME:NZDT
DTSTART:20280923T140000
END:DAYLIGHT
BEGIN:STANDARD
TZOFFSETFROM:+1300
TZOFFSETTO:+1200
TZNAME:NZST
DTSTART:20290331T140000
END:STANDARD
BEGIN:DAYLIGHT
TZOFFSETFROM:+1200
TZOFFSETTO:+1300
TZNAME:NZDT
DTSTART:20290929T140000
END:DAYLIGHT
BEGIN:STANDARD
TZOFFSETFROM:+1300
TZOFFSETTO:+1200
TZNAME:NZST
DTSTART:20300406T140000
END:STANDARD
BEGIN:DAYLIGHT
TZOFFSETFROM:+1200
TZOFFSETTO:+1300
TZNAME:NZDT
DTSTART:20300928T140000
END:DAYLIGHT
END:VTIMEZONE
BEGIN:VEVENT
DTSTART;TZID=Pacific/Auckland:20281027T100000
DTEND;TZID=Pacific/Auckland:20281027T120000
DTSTAMP:20260423T212241
CREATED:20241015T065559Z
LAST-MODIFIED:20241024T075928Z
UID:10005102-1856253600-1856260800@taumarunui.co.nz
SUMMARY:Creative Fibre Taumarunui
DESCRIPTION:Formerly Taumarunui Spinners & Weavers \nAre you interested in fibre crafts – spinning\, weaving\, knitting\, crocheting etc or learning one of these crafts? WE meet at the Ruapehu Community Arts Centre\, Taumarunui on the second and fourth Friday of each month
URL:https://taumarunui.co.nz/event/creative-fibre-taumarunui/2028-10-27/
LOCATION:Taumarunui Arts Centre\, Hakiaha Street\, Taumarunui\, New Zealand
CATEGORIES:Clubs
ATTACH;FMTTYPE=image/jpeg:https://taumarunui.co.nz/wp-content/uploads/2024/10/IMG_8155-1-scaled.jpeg
END:VEVENT
BEGIN:VEVENT
DTSTART;TZID=Pacific/Auckland:20281110T100000
DTEND;TZID=Pacific/Auckland:20281110T120000
DTSTAMP:20260423T212241
CREATED:20241015T065733Z
LAST-MODIFIED:20241015T065733Z
UID:10005042-1857463200-1857470400@taumarunui.co.nz
SUMMARY:Creative Fibre Taumarunui
DESCRIPTION:Formerly Taumarunui Spinners & Weavers \nAre you interested in fibre crafts – spinning\, weaving\, knitting\, crocheting etc or learning one of these crafts? WE meet at the Ruapehu Community Arts Centre\, Taumarunui on the second and fourth Friday of each month
URL:https://taumarunui.co.nz/event/creative-fibre-taumarunui-2/2028-11-10/
LOCATION:Taumarunui Arts Centre\, Hakiaha Street\, Taumarunui\, New Zealand
CATEGORIES:Clubs
END:VEVENT
BEGIN:VEVENT
DTSTART;TZID=Pacific/Auckland:20281124T100000
DTEND;TZID=Pacific/Auckland:20281124T120000
DTSTAMP:20260423T212241
CREATED:20241015T065559Z
LAST-MODIFIED:20241024T075928Z
UID:10005103-1858672800-1858680000@taumarunui.co.nz
SUMMARY:Creative Fibre Taumarunui
DESCRIPTION:Formerly Taumarunui Spinners & Weavers \nAre you interested in fibre crafts – spinning\, weaving\, knitting\, crocheting etc or learning one of these crafts? WE meet at the Ruapehu Community Arts Centre\, Taumarunui on the second and fourth Friday of each month
URL:https://taumarunui.co.nz/event/creative-fibre-taumarunui/2028-11-24/
LOCATION:Taumarunui Arts Centre\, Hakiaha Street\, Taumarunui\, New Zealand
CATEGORIES:Clubs
ATTACH;FMTTYPE=image/jpeg:https://taumarunui.co.nz/wp-content/uploads/2024/10/IMG_8155-1-scaled.jpeg
END:VEVENT
BEGIN:VEVENT
DTSTART;TZID=Pacific/Auckland:20281208T100000
DTEND;TZID=Pacific/Auckland:20281208T120000
DTSTAMP:20260423T212241
CREATED:20241015T065733Z
LAST-MODIFIED:20241015T065733Z
UID:10005043-1859882400-1859889600@taumarunui.co.nz
SUMMARY:Creative Fibre Taumarunui
DESCRIPTION:Formerly Taumarunui Spinners & Weavers \nAre you interested in fibre crafts – spinning\, weaving\, knitting\, crocheting etc or learning one of these crafts? WE meet at the Ruapehu Community Arts Centre\, Taumarunui on the second and fourth Friday of each month
URL:https://taumarunui.co.nz/event/creative-fibre-taumarunui-2/2028-12-08/
LOCATION:Taumarunui Arts Centre\, Hakiaha Street\, Taumarunui\, New Zealand
CATEGORIES:Clubs
END:VEVENT
BEGIN:VEVENT
DTSTART;TZID=Pacific/Auckland:20281222T100000
DTEND;TZID=Pacific/Auckland:20281222T120000
DTSTAMP:20260423T212241
CREATED:20241015T065559Z
LAST-MODIFIED:20241024T075928Z
UID:10005104-1861092000-1861099200@taumarunui.co.nz
SUMMARY:Creative Fibre Taumarunui
DESCRIPTION:Formerly Taumarunui Spinners & Weavers \nAre you interested in fibre crafts – spinning\, weaving\, knitting\, crocheting etc or learning one of these crafts? WE meet at the Ruapehu Community Arts Centre\, Taumarunui on the second and fourth Friday of each month
URL:https://taumarunui.co.nz/event/creative-fibre-taumarunui/2028-12-22/
LOCATION:Taumarunui Arts Centre\, Hakiaha Street\, Taumarunui\, New Zealand
CATEGORIES:Clubs
ATTACH;FMTTYPE=image/jpeg:https://taumarunui.co.nz/wp-content/uploads/2024/10/IMG_8155-1-scaled.jpeg
END:VEVENT
BEGIN:VEVENT
DTSTART;TZID=Pacific/Auckland:20290112T100000
DTEND;TZID=Pacific/Auckland:20290112T120000
DTSTAMP:20260423T212241
CREATED:20241015T065733Z
LAST-MODIFIED:20241015T065733Z
UID:10005044-1862906400-1862913600@taumarunui.co.nz
SUMMARY:Creative Fibre Taumarunui
DESCRIPTION:Formerly Taumarunui Spinners & Weavers \nAre you interested in fibre crafts – spinning\, weaving\, knitting\, crocheting etc or learning one of these crafts? WE meet at the Ruapehu Community Arts Centre\, Taumarunui on the second and fourth Friday of each month
URL:https://taumarunui.co.nz/event/creative-fibre-taumarunui-2/2029-01-12/
LOCATION:Taumarunui Arts Centre\, Hakiaha Street\, Taumarunui\, New Zealand
CATEGORIES:Clubs
END:VEVENT
BEGIN:VEVENT
DTSTART;TZID=Pacific/Auckland:20290126T100000
DTEND;TZID=Pacific/Auckland:20290126T120000
DTSTAMP:20260423T212241
CREATED:20241015T065559Z
LAST-MODIFIED:20241024T075928Z
UID:10005105-1864116000-1864123200@taumarunui.co.nz
SUMMARY:Creative Fibre Taumarunui
DESCRIPTION:Formerly Taumarunui Spinners & Weavers \nAre you interested in fibre crafts – spinning\, weaving\, knitting\, crocheting etc or learning one of these crafts? WE meet at the Ruapehu Community Arts Centre\, Taumarunui on the second and fourth Friday of each month
URL:https://taumarunui.co.nz/event/creative-fibre-taumarunui/2029-01-26/
LOCATION:Taumarunui Arts Centre\, Hakiaha Street\, Taumarunui\, New Zealand
CATEGORIES:Clubs
ATTACH;FMTTYPE=image/jpeg:https://taumarunui.co.nz/wp-content/uploads/2024/10/IMG_8155-1-scaled.jpeg
END:VEVENT
BEGIN:VEVENT
DTSTART;TZID=Pacific/Auckland:20290209T100000
DTEND;TZID=Pacific/Auckland:20290209T120000
DTSTAMP:20260423T212241
CREATED:20241015T065733Z
LAST-MODIFIED:20241015T065733Z
UID:10005045-1865325600-1865332800@taumarunui.co.nz
SUMMARY:Creative Fibre Taumarunui
DESCRIPTION:Formerly Taumarunui Spinners & Weavers \nAre you interested in fibre crafts – spinning\, weaving\, knitting\, crocheting etc or learning one of these crafts? WE meet at the Ruapehu Community Arts Centre\, Taumarunui on the second and fourth Friday of each month
URL:https://taumarunui.co.nz/event/creative-fibre-taumarunui-2/2029-02-09/
LOCATION:Taumarunui Arts Centre\, Hakiaha Street\, Taumarunui\, New Zealand
CATEGORIES:Clubs
END:VEVENT
BEGIN:VEVENT
DTSTART;TZID=Pacific/Auckland:20290223T100000
DTEND;TZID=Pacific/Auckland:20290223T120000
DTSTAMP:20260423T212241
CREATED:20241015T065559Z
LAST-MODIFIED:20241024T075928Z
UID:10005106-1866535200-1866542400@taumarunui.co.nz
SUMMARY:Creative Fibre Taumarunui
DESCRIPTION:Formerly Taumarunui Spinners & Weavers \nAre you interested in fibre crafts – spinning\, weaving\, knitting\, crocheting etc or learning one of these crafts? WE meet at the Ruapehu Community Arts Centre\, Taumarunui on the second and fourth Friday of each month
URL:https://taumarunui.co.nz/event/creative-fibre-taumarunui/2029-02-23/
LOCATION:Taumarunui Arts Centre\, Hakiaha Street\, Taumarunui\, New Zealand
CATEGORIES:Clubs
ATTACH;FMTTYPE=image/jpeg:https://taumarunui.co.nz/wp-content/uploads/2024/10/IMG_8155-1-scaled.jpeg
END:VEVENT
BEGIN:VEVENT
DTSTART;TZID=Pacific/Auckland:20290309T100000
DTEND;TZID=Pacific/Auckland:20290309T120000
DTSTAMP:20260423T212241
CREATED:20241015T065733Z
LAST-MODIFIED:20241015T065733Z
UID:10005046-1867744800-1867752000@taumarunui.co.nz
SUMMARY:Creative Fibre Taumarunui
DESCRIPTION:Formerly Taumarunui Spinners & Weavers \nAre you interested in fibre crafts – spinning\, weaving\, knitting\, crocheting etc or learning one of these crafts? WE meet at the Ruapehu Community Arts Centre\, Taumarunui on the second and fourth Friday of each month
URL:https://taumarunui.co.nz/event/creative-fibre-taumarunui-2/2029-03-09/
LOCATION:Taumarunui Arts Centre\, Hakiaha Street\, Taumarunui\, New Zealand
CATEGORIES:Clubs
END:VEVENT
BEGIN:VEVENT
DTSTART;TZID=Pacific/Auckland:20290323T100000
DTEND;TZID=Pacific/Auckland:20290323T120000
DTSTAMP:20260423T212241
CREATED:20241015T065559Z
LAST-MODIFIED:20241024T075928Z
UID:10005107-1868954400-1868961600@taumarunui.co.nz
SUMMARY:Creative Fibre Taumarunui
DESCRIPTION:Formerly Taumarunui Spinners & Weavers \nAre you interested in fibre crafts – spinning\, weaving\, knitting\, crocheting etc or learning one of these crafts? WE meet at the Ruapehu Community Arts Centre\, Taumarunui on the second and fourth Friday of each month
URL:https://taumarunui.co.nz/event/creative-fibre-taumarunui/2029-03-23/
LOCATION:Taumarunui Arts Centre\, Hakiaha Street\, Taumarunui\, New Zealand
CATEGORIES:Clubs
ATTACH;FMTTYPE=image/jpeg:https://taumarunui.co.nz/wp-content/uploads/2024/10/IMG_8155-1-scaled.jpeg
END:VEVENT
BEGIN:VEVENT
DTSTART;TZID=Pacific/Auckland:20290413T100000
DTEND;TZID=Pacific/Auckland:20290413T120000
DTSTAMP:20260423T212241
CREATED:20241015T065733Z
LAST-MODIFIED:20241015T065733Z
UID:10005047-1870768800-1870776000@taumarunui.co.nz
SUMMARY:Creative Fibre Taumarunui
DESCRIPTION:Formerly Taumarunui Spinners & Weavers \nAre you interested in fibre crafts – spinning\, weaving\, knitting\, crocheting etc or learning one of these crafts? WE meet at the Ruapehu Community Arts Centre\, Taumarunui on the second and fourth Friday of each month
URL:https://taumarunui.co.nz/event/creative-fibre-taumarunui-2/2029-04-13/
LOCATION:Taumarunui Arts Centre\, Hakiaha Street\, Taumarunui\, New Zealand
CATEGORIES:Clubs
END:VEVENT
BEGIN:VEVENT
DTSTART;TZID=Pacific/Auckland:20290427T100000
DTEND;TZID=Pacific/Auckland:20290427T120000
DTSTAMP:20260423T212241
CREATED:20241015T065559Z
LAST-MODIFIED:20241024T075928Z
UID:10005108-1871978400-1871985600@taumarunui.co.nz
SUMMARY:Creative Fibre Taumarunui
DESCRIPTION:Formerly Taumarunui Spinners & Weavers \nAre you interested in fibre crafts – spinning\, weaving\, knitting\, crocheting etc or learning one of these crafts? WE meet at the Ruapehu Community Arts Centre\, Taumarunui on the second and fourth Friday of each month
URL:https://taumarunui.co.nz/event/creative-fibre-taumarunui/2029-04-27/
LOCATION:Taumarunui Arts Centre\, Hakiaha Street\, Taumarunui\, New Zealand
CATEGORIES:Clubs
ATTACH;FMTTYPE=image/jpeg:https://taumarunui.co.nz/wp-content/uploads/2024/10/IMG_8155-1-scaled.jpeg
END:VEVENT
BEGIN:VEVENT
DTSTART;TZID=Pacific/Auckland:20290511T100000
DTEND;TZID=Pacific/Auckland:20290511T120000
DTSTAMP:20260423T212241
CREATED:20241015T065733Z
LAST-MODIFIED:20241015T065733Z
UID:10005048-1873188000-1873195200@taumarunui.co.nz
SUMMARY:Creative Fibre Taumarunui
DESCRIPTION:Formerly Taumarunui Spinners & Weavers \nAre you interested in fibre crafts – spinning\, weaving\, knitting\, crocheting etc or learning one of these crafts? WE meet at the Ruapehu Community Arts Centre\, Taumarunui on the second and fourth Friday of each month
URL:https://taumarunui.co.nz/event/creative-fibre-taumarunui-2/2029-05-11/
LOCATION:Taumarunui Arts Centre\, Hakiaha Street\, Taumarunui\, New Zealand
CATEGORIES:Clubs
END:VEVENT
BEGIN:VEVENT
DTSTART;TZID=Pacific/Auckland:20290525T100000
DTEND;TZID=Pacific/Auckland:20290525T120000
DTSTAMP:20260423T212241
CREATED:20241015T065559Z
LAST-MODIFIED:20241024T075928Z
UID:10005109-1874397600-1874404800@taumarunui.co.nz
SUMMARY:Creative Fibre Taumarunui
DESCRIPTION:Formerly Taumarunui Spinners & Weavers \nAre you interested in fibre crafts – spinning\, weaving\, knitting\, crocheting etc or learning one of these crafts? WE meet at the Ruapehu Community Arts Centre\, Taumarunui on the second and fourth Friday of each month
URL:https://taumarunui.co.nz/event/creative-fibre-taumarunui/2029-05-25/
LOCATION:Taumarunui Arts Centre\, Hakiaha Street\, Taumarunui\, New Zealand
CATEGORIES:Clubs
ATTACH;FMTTYPE=image/jpeg:https://taumarunui.co.nz/wp-content/uploads/2024/10/IMG_8155-1-scaled.jpeg
END:VEVENT
BEGIN:VEVENT
DTSTART;TZID=Pacific/Auckland:20290608T100000
DTEND;TZID=Pacific/Auckland:20290608T120000
DTSTAMP:20260423T212241
CREATED:20241015T065733Z
LAST-MODIFIED:20241015T065733Z
UID:10005049-1875607200-1875614400@taumarunui.co.nz
SUMMARY:Creative Fibre Taumarunui
DESCRIPTION:Formerly Taumarunui Spinners & Weavers \nAre you interested in fibre crafts – spinning\, weaving\, knitting\, crocheting etc or learning one of these crafts? WE meet at the Ruapehu Community Arts Centre\, Taumarunui on the second and fourth Friday of each month
URL:https://taumarunui.co.nz/event/creative-fibre-taumarunui-2/2029-06-08/
LOCATION:Taumarunui Arts Centre\, Hakiaha Street\, Taumarunui\, New Zealand
CATEGORIES:Clubs
END:VEVENT
BEGIN:VEVENT
DTSTART;TZID=Pacific/Auckland:20290622T100000
DTEND;TZID=Pacific/Auckland:20290622T120000
DTSTAMP:20260423T212241
CREATED:20241015T065559Z
LAST-MODIFIED:20241024T075928Z
UID:10005110-1876816800-1876824000@taumarunui.co.nz
SUMMARY:Creative Fibre Taumarunui
DESCRIPTION:Formerly Taumarunui Spinners & Weavers \nAre you interested in fibre crafts – spinning\, weaving\, knitting\, crocheting etc or learning one of these crafts? WE meet at the Ruapehu Community Arts Centre\, Taumarunui on the second and fourth Friday of each month
URL:https://taumarunui.co.nz/event/creative-fibre-taumarunui/2029-06-22/
LOCATION:Taumarunui Arts Centre\, Hakiaha Street\, Taumarunui\, New Zealand
CATEGORIES:Clubs
ATTACH;FMTTYPE=image/jpeg:https://taumarunui.co.nz/wp-content/uploads/2024/10/IMG_8155-1-scaled.jpeg
END:VEVENT
BEGIN:VEVENT
DTSTART;TZID=Pacific/Auckland:20290713T100000
DTEND;TZID=Pacific/Auckland:20290713T120000
DTSTAMP:20260423T212241
CREATED:20241015T065733Z
LAST-MODIFIED:20241015T065733Z
UID:10005050-1878631200-1878638400@taumarunui.co.nz
SUMMARY:Creative Fibre Taumarunui
DESCRIPTION:Formerly Taumarunui Spinners & Weavers \nAre you interested in fibre crafts – spinning\, weaving\, knitting\, crocheting etc or learning one of these crafts? WE meet at the Ruapehu Community Arts Centre\, Taumarunui on the second and fourth Friday of each month
URL:https://taumarunui.co.nz/event/creative-fibre-taumarunui-2/2029-07-13/
LOCATION:Taumarunui Arts Centre\, Hakiaha Street\, Taumarunui\, New Zealand
CATEGORIES:Clubs
END:VEVENT
BEGIN:VEVENT
DTSTART;TZID=Pacific/Auckland:20290727T100000
DTEND;TZID=Pacific/Auckland:20290727T120000
DTSTAMP:20260423T212241
CREATED:20241015T065559Z
LAST-MODIFIED:20241024T075928Z
UID:10005111-1879840800-1879848000@taumarunui.co.nz
SUMMARY:Creative Fibre Taumarunui
DESCRIPTION:Formerly Taumarunui Spinners & Weavers \nAre you interested in fibre crafts – spinning\, weaving\, knitting\, crocheting etc or learning one of these crafts? WE meet at the Ruapehu Community Arts Centre\, Taumarunui on the second and fourth Friday of each month
URL:https://taumarunui.co.nz/event/creative-fibre-taumarunui/2029-07-27/
LOCATION:Taumarunui Arts Centre\, Hakiaha Street\, Taumarunui\, New Zealand
CATEGORIES:Clubs
ATTACH;FMTTYPE=image/jpeg:https://taumarunui.co.nz/wp-content/uploads/2024/10/IMG_8155-1-scaled.jpeg
END:VEVENT
BEGIN:VEVENT
DTSTART;TZID=Pacific/Auckland:20290810T100000
DTEND;TZID=Pacific/Auckland:20290810T120000
DTSTAMP:20260423T212241
CREATED:20241015T065733Z
LAST-MODIFIED:20241015T065733Z
UID:10005051-1881050400-1881057600@taumarunui.co.nz
SUMMARY:Creative Fibre Taumarunui
DESCRIPTION:Formerly Taumarunui Spinners & Weavers \nAre you interested in fibre crafts – spinning\, weaving\, knitting\, crocheting etc or learning one of these crafts? WE meet at the Ruapehu Community Arts Centre\, Taumarunui on the second and fourth Friday of each month
URL:https://taumarunui.co.nz/event/creative-fibre-taumarunui-2/2029-08-10/
LOCATION:Taumarunui Arts Centre\, Hakiaha Street\, Taumarunui\, New Zealand
CATEGORIES:Clubs
END:VEVENT
BEGIN:VEVENT
DTSTART;TZID=Pacific/Auckland:20290824T100000
DTEND;TZID=Pacific/Auckland:20290824T120000
DTSTAMP:20260423T212241
CREATED:20241015T065559Z
LAST-MODIFIED:20241024T075928Z
UID:10005112-1882260000-1882267200@taumarunui.co.nz
SUMMARY:Creative Fibre Taumarunui
DESCRIPTION:Formerly Taumarunui Spinners & Weavers \nAre you interested in fibre crafts – spinning\, weaving\, knitting\, crocheting etc or learning one of these crafts? WE meet at the Ruapehu Community Arts Centre\, Taumarunui on the second and fourth Friday of each month
URL:https://taumarunui.co.nz/event/creative-fibre-taumarunui/2029-08-24/
LOCATION:Taumarunui Arts Centre\, Hakiaha Street\, Taumarunui\, New Zealand
CATEGORIES:Clubs
ATTACH;FMTTYPE=image/jpeg:https://taumarunui.co.nz/wp-content/uploads/2024/10/IMG_8155-1-scaled.jpeg
END:VEVENT
BEGIN:VEVENT
DTSTART;TZID=Pacific/Auckland:20290914T100000
DTEND;TZID=Pacific/Auckland:20290914T120000
DTSTAMP:20260423T212241
CREATED:20241015T065733Z
LAST-MODIFIED:20241015T065733Z
UID:10005052-1884074400-1884081600@taumarunui.co.nz
SUMMARY:Creative Fibre Taumarunui
DESCRIPTION:Formerly Taumarunui Spinners & Weavers \nAre you interested in fibre crafts – spinning\, weaving\, knitting\, crocheting etc or learning one of these crafts? WE meet at the Ruapehu Community Arts Centre\, Taumarunui on the second and fourth Friday of each month
URL:https://taumarunui.co.nz/event/creative-fibre-taumarunui-2/2029-09-14/
LOCATION:Taumarunui Arts Centre\, Hakiaha Street\, Taumarunui\, New Zealand
CATEGORIES:Clubs
END:VEVENT
BEGIN:VEVENT
DTSTART;TZID=Pacific/Auckland:20290928T100000
DTEND;TZID=Pacific/Auckland:20290928T120000
DTSTAMP:20260423T212241
CREATED:20241015T065559Z
LAST-MODIFIED:20241024T075928Z
UID:10005113-1885284000-1885291200@taumarunui.co.nz
SUMMARY:Creative Fibre Taumarunui
DESCRIPTION:Formerly Taumarunui Spinners & Weavers \nAre you interested in fibre crafts – spinning\, weaving\, knitting\, crocheting etc or learning one of these crafts? WE meet at the Ruapehu Community Arts Centre\, Taumarunui on the second and fourth Friday of each month
URL:https://taumarunui.co.nz/event/creative-fibre-taumarunui/2029-09-28/
LOCATION:Taumarunui Arts Centre\, Hakiaha Street\, Taumarunui\, New Zealand
CATEGORIES:Clubs
ATTACH;FMTTYPE=image/jpeg:https://taumarunui.co.nz/wp-content/uploads/2024/10/IMG_8155-1-scaled.jpeg
END:VEVENT
BEGIN:VEVENT
DTSTART;TZID=Pacific/Auckland:20291012T100000
DTEND;TZID=Pacific/Auckland:20291012T120000
DTSTAMP:20260423T212241
CREATED:20241015T065733Z
LAST-MODIFIED:20241015T065733Z
UID:10005053-1886493600-1886500800@taumarunui.co.nz
SUMMARY:Creative Fibre Taumarunui
DESCRIPTION:Formerly Taumarunui Spinners & Weavers \nAre you interested in fibre crafts – spinning\, weaving\, knitting\, crocheting etc or learning one of these crafts? WE meet at the Ruapehu Community Arts Centre\, Taumarunui on the second and fourth Friday of each month
URL:https://taumarunui.co.nz/event/creative-fibre-taumarunui-2/2029-10-12/
LOCATION:Taumarunui Arts Centre\, Hakiaha Street\, Taumarunui\, New Zealand
CATEGORIES:Clubs
END:VEVENT
END:VCALENDAR