BEGIN:VCALENDAR
VERSION:2.0
PRODID:-//Taumarunui - ECPv6.15.16//NONSGML v1.0//EN
CALSCALE:GREGORIAN
METHOD:PUBLISH
X-ORIGINAL-URL:https://taumarunui.co.nz
X-WR-CALDESC:Events for Taumarunui
REFRESH-INTERVAL;VALUE=DURATION:PT1H
X-Robots-Tag:noindex
X-PUBLISHED-TTL:PT1H
BEGIN:VTIMEZONE
TZID:Pacific/Auckland
BEGIN:STANDARD
TZOFFSETFROM:+1300
TZOFFSETTO:+1200
TZNAME:NZST
DTSTART:20260404T140000
END:STANDARD
BEGIN:DAYLIGHT
TZOFFSETFROM:+1200
TZOFFSETTO:+1300
TZNAME:NZDT
DTSTART:20260926T140000
END:DAYLIGHT
BEGIN:STANDARD
TZOFFSETFROM:+1300
TZOFFSETTO:+1200
TZNAME:NZST
DTSTART:20270403T140000
END:STANDARD
BEGIN:DAYLIGHT
TZOFFSETFROM:+1200
TZOFFSETTO:+1300
TZNAME:NZDT
DTSTART:20270925T140000
END:DAYLIGHT
BEGIN:STANDARD
TZOFFSETFROM:+1300
TZOFFSETTO:+1200
TZNAME:NZST
DTSTART:20280401T140000
END:STANDARD
BEGIN:DAYLIGHT
TZOFFSETFROM:+1200
TZOFFSETTO:+1300
TZNAME:NZDT
DTSTART:20280923T140000
END:DAYLIGHT
BEGIN:STANDARD
TZOFFSETFROM:+1300
TZOFFSETTO:+1200
TZNAME:NZST
DTSTART:20290331T140000
END:STANDARD
BEGIN:DAYLIGHT
TZOFFSETFROM:+1200
TZOFFSETTO:+1300
TZNAME:NZDT
DTSTART:20290929T140000
END:DAYLIGHT
BEGIN:STANDARD
TZOFFSETFROM:+1300
TZOFFSETTO:+1200
TZNAME:NZST
DTSTART:20300406T140000
END:STANDARD
BEGIN:DAYLIGHT
TZOFFSETFROM:+1200
TZOFFSETTO:+1300
TZNAME:NZDT
DTSTART:20300928T140000
END:DAYLIGHT
END:VTIMEZONE
BEGIN:VEVENT
DTSTART;TZID=Pacific/Auckland:20271022T100000
DTEND;TZID=Pacific/Auckland:20271022T120000
DTSTAMP:20260421T085126
CREATED:20241015T065559Z
LAST-MODIFIED:20241024T075928Z
UID:10005090-1824199200-1824206400@taumarunui.co.nz
SUMMARY:Creative Fibre Taumarunui
DESCRIPTION:Formerly Taumarunui Spinners & Weavers \nAre you interested in fibre crafts – spinning\, weaving\, knitting\, crocheting etc or learning one of these crafts? WE meet at the Ruapehu Community Arts Centre\, Taumarunui on the second and fourth Friday of each month
URL:https://taumarunui.co.nz/event/creative-fibre-taumarunui/2027-10-22/
LOCATION:Taumarunui Arts Centre\, Hakiaha Street\, Taumarunui\, New Zealand
CATEGORIES:Clubs
ATTACH;FMTTYPE=image/jpeg:https://taumarunui.co.nz/wp-content/uploads/2024/10/IMG_8155-1-scaled.jpeg
END:VEVENT
BEGIN:VEVENT
DTSTART;TZID=Pacific/Auckland:20271112T100000
DTEND;TZID=Pacific/Auckland:20271112T120000
DTSTAMP:20260421T085126
CREATED:20241015T065733Z
LAST-MODIFIED:20241015T065733Z
UID:10005030-1826013600-1826020800@taumarunui.co.nz
SUMMARY:Creative Fibre Taumarunui
DESCRIPTION:Formerly Taumarunui Spinners & Weavers \nAre you interested in fibre crafts – spinning\, weaving\, knitting\, crocheting etc or learning one of these crafts? WE meet at the Ruapehu Community Arts Centre\, Taumarunui on the second and fourth Friday of each month
URL:https://taumarunui.co.nz/event/creative-fibre-taumarunui-2/2027-11-12/
LOCATION:Taumarunui Arts Centre\, Hakiaha Street\, Taumarunui\, New Zealand
CATEGORIES:Clubs
END:VEVENT
BEGIN:VEVENT
DTSTART;TZID=Pacific/Auckland:20271126T100000
DTEND;TZID=Pacific/Auckland:20271126T120000
DTSTAMP:20260421T085126
CREATED:20241015T065559Z
LAST-MODIFIED:20241024T075928Z
UID:10005091-1827223200-1827230400@taumarunui.co.nz
SUMMARY:Creative Fibre Taumarunui
DESCRIPTION:Formerly Taumarunui Spinners & Weavers \nAre you interested in fibre crafts – spinning\, weaving\, knitting\, crocheting etc or learning one of these crafts? WE meet at the Ruapehu Community Arts Centre\, Taumarunui on the second and fourth Friday of each month
URL:https://taumarunui.co.nz/event/creative-fibre-taumarunui/2027-11-26/
LOCATION:Taumarunui Arts Centre\, Hakiaha Street\, Taumarunui\, New Zealand
CATEGORIES:Clubs
ATTACH;FMTTYPE=image/jpeg:https://taumarunui.co.nz/wp-content/uploads/2024/10/IMG_8155-1-scaled.jpeg
END:VEVENT
BEGIN:VEVENT
DTSTART;TZID=Pacific/Auckland:20271210T100000
DTEND;TZID=Pacific/Auckland:20271210T120000
DTSTAMP:20260421T085126
CREATED:20241015T065733Z
LAST-MODIFIED:20241015T065733Z
UID:10005031-1828432800-1828440000@taumarunui.co.nz
SUMMARY:Creative Fibre Taumarunui
DESCRIPTION:Formerly Taumarunui Spinners & Weavers \nAre you interested in fibre crafts – spinning\, weaving\, knitting\, crocheting etc or learning one of these crafts? WE meet at the Ruapehu Community Arts Centre\, Taumarunui on the second and fourth Friday of each month
URL:https://taumarunui.co.nz/event/creative-fibre-taumarunui-2/2027-12-10/
LOCATION:Taumarunui Arts Centre\, Hakiaha Street\, Taumarunui\, New Zealand
CATEGORIES:Clubs
END:VEVENT
BEGIN:VEVENT
DTSTART;TZID=Pacific/Auckland:20271224T100000
DTEND;TZID=Pacific/Auckland:20271224T120000
DTSTAMP:20260421T085126
CREATED:20241015T065559Z
LAST-MODIFIED:20241024T075928Z
UID:10005092-1829642400-1829649600@taumarunui.co.nz
SUMMARY:Creative Fibre Taumarunui
DESCRIPTION:Formerly Taumarunui Spinners & Weavers \nAre you interested in fibre crafts – spinning\, weaving\, knitting\, crocheting etc or learning one of these crafts? WE meet at the Ruapehu Community Arts Centre\, Taumarunui on the second and fourth Friday of each month
URL:https://taumarunui.co.nz/event/creative-fibre-taumarunui/2027-12-24/
LOCATION:Taumarunui Arts Centre\, Hakiaha Street\, Taumarunui\, New Zealand
CATEGORIES:Clubs
ATTACH;FMTTYPE=image/jpeg:https://taumarunui.co.nz/wp-content/uploads/2024/10/IMG_8155-1-scaled.jpeg
END:VEVENT
BEGIN:VEVENT
DTSTART;TZID=Pacific/Auckland:20280114T100000
DTEND;TZID=Pacific/Auckland:20280114T120000
DTSTAMP:20260421T085126
CREATED:20241015T065733Z
LAST-MODIFIED:20241015T065733Z
UID:10005032-1831456800-1831464000@taumarunui.co.nz
SUMMARY:Creative Fibre Taumarunui
DESCRIPTION:Formerly Taumarunui Spinners & Weavers \nAre you interested in fibre crafts – spinning\, weaving\, knitting\, crocheting etc or learning one of these crafts? WE meet at the Ruapehu Community Arts Centre\, Taumarunui on the second and fourth Friday of each month
URL:https://taumarunui.co.nz/event/creative-fibre-taumarunui-2/2028-01-14/
LOCATION:Taumarunui Arts Centre\, Hakiaha Street\, Taumarunui\, New Zealand
CATEGORIES:Clubs
END:VEVENT
BEGIN:VEVENT
DTSTART;TZID=Pacific/Auckland:20280128T100000
DTEND;TZID=Pacific/Auckland:20280128T120000
DTSTAMP:20260421T085126
CREATED:20241015T065559Z
LAST-MODIFIED:20241024T075928Z
UID:10005093-1832666400-1832673600@taumarunui.co.nz
SUMMARY:Creative Fibre Taumarunui
DESCRIPTION:Formerly Taumarunui Spinners & Weavers \nAre you interested in fibre crafts – spinning\, weaving\, knitting\, crocheting etc or learning one of these crafts? WE meet at the Ruapehu Community Arts Centre\, Taumarunui on the second and fourth Friday of each month
URL:https://taumarunui.co.nz/event/creative-fibre-taumarunui/2028-01-28/
LOCATION:Taumarunui Arts Centre\, Hakiaha Street\, Taumarunui\, New Zealand
CATEGORIES:Clubs
ATTACH;FMTTYPE=image/jpeg:https://taumarunui.co.nz/wp-content/uploads/2024/10/IMG_8155-1-scaled.jpeg
END:VEVENT
BEGIN:VEVENT
DTSTART;TZID=Pacific/Auckland:20280211T100000
DTEND;TZID=Pacific/Auckland:20280211T120000
DTSTAMP:20260421T085126
CREATED:20241015T065733Z
LAST-MODIFIED:20241015T065733Z
UID:10005033-1833876000-1833883200@taumarunui.co.nz
SUMMARY:Creative Fibre Taumarunui
DESCRIPTION:Formerly Taumarunui Spinners & Weavers \nAre you interested in fibre crafts – spinning\, weaving\, knitting\, crocheting etc or learning one of these crafts? WE meet at the Ruapehu Community Arts Centre\, Taumarunui on the second and fourth Friday of each month
URL:https://taumarunui.co.nz/event/creative-fibre-taumarunui-2/2028-02-11/
LOCATION:Taumarunui Arts Centre\, Hakiaha Street\, Taumarunui\, New Zealand
CATEGORIES:Clubs
END:VEVENT
BEGIN:VEVENT
DTSTART;TZID=Pacific/Auckland:20280225T100000
DTEND;TZID=Pacific/Auckland:20280225T120000
DTSTAMP:20260421T085126
CREATED:20241015T065559Z
LAST-MODIFIED:20241024T075928Z
UID:10005094-1835085600-1835092800@taumarunui.co.nz
SUMMARY:Creative Fibre Taumarunui
DESCRIPTION:Formerly Taumarunui Spinners & Weavers \nAre you interested in fibre crafts – spinning\, weaving\, knitting\, crocheting etc or learning one of these crafts? WE meet at the Ruapehu Community Arts Centre\, Taumarunui on the second and fourth Friday of each month
URL:https://taumarunui.co.nz/event/creative-fibre-taumarunui/2028-02-25/
LOCATION:Taumarunui Arts Centre\, Hakiaha Street\, Taumarunui\, New Zealand
CATEGORIES:Clubs
ATTACH;FMTTYPE=image/jpeg:https://taumarunui.co.nz/wp-content/uploads/2024/10/IMG_8155-1-scaled.jpeg
END:VEVENT
BEGIN:VEVENT
DTSTART;TZID=Pacific/Auckland:20280310T100000
DTEND;TZID=Pacific/Auckland:20280310T120000
DTSTAMP:20260421T085126
CREATED:20241015T065733Z
LAST-MODIFIED:20241015T065733Z
UID:10005034-1836295200-1836302400@taumarunui.co.nz
SUMMARY:Creative Fibre Taumarunui
DESCRIPTION:Formerly Taumarunui Spinners & Weavers \nAre you interested in fibre crafts – spinning\, weaving\, knitting\, crocheting etc or learning one of these crafts? WE meet at the Ruapehu Community Arts Centre\, Taumarunui on the second and fourth Friday of each month
URL:https://taumarunui.co.nz/event/creative-fibre-taumarunui-2/2028-03-10/
LOCATION:Taumarunui Arts Centre\, Hakiaha Street\, Taumarunui\, New Zealand
CATEGORIES:Clubs
END:VEVENT
BEGIN:VEVENT
DTSTART;TZID=Pacific/Auckland:20280324T100000
DTEND;TZID=Pacific/Auckland:20280324T120000
DTSTAMP:20260421T085126
CREATED:20241015T065559Z
LAST-MODIFIED:20241024T075928Z
UID:10005095-1837504800-1837512000@taumarunui.co.nz
SUMMARY:Creative Fibre Taumarunui
DESCRIPTION:Formerly Taumarunui Spinners & Weavers \nAre you interested in fibre crafts – spinning\, weaving\, knitting\, crocheting etc or learning one of these crafts? WE meet at the Ruapehu Community Arts Centre\, Taumarunui on the second and fourth Friday of each month
URL:https://taumarunui.co.nz/event/creative-fibre-taumarunui/2028-03-24/
LOCATION:Taumarunui Arts Centre\, Hakiaha Street\, Taumarunui\, New Zealand
CATEGORIES:Clubs
ATTACH;FMTTYPE=image/jpeg:https://taumarunui.co.nz/wp-content/uploads/2024/10/IMG_8155-1-scaled.jpeg
END:VEVENT
BEGIN:VEVENT
DTSTART;TZID=Pacific/Auckland:20280414T100000
DTEND;TZID=Pacific/Auckland:20280414T120000
DTSTAMP:20260421T085126
CREATED:20241015T065733Z
LAST-MODIFIED:20241015T065733Z
UID:10005035-1839319200-1839326400@taumarunui.co.nz
SUMMARY:Creative Fibre Taumarunui
DESCRIPTION:Formerly Taumarunui Spinners & Weavers \nAre you interested in fibre crafts – spinning\, weaving\, knitting\, crocheting etc or learning one of these crafts? WE meet at the Ruapehu Community Arts Centre\, Taumarunui on the second and fourth Friday of each month
URL:https://taumarunui.co.nz/event/creative-fibre-taumarunui-2/2028-04-14/
LOCATION:Taumarunui Arts Centre\, Hakiaha Street\, Taumarunui\, New Zealand
CATEGORIES:Clubs
END:VEVENT
BEGIN:VEVENT
DTSTART;TZID=Pacific/Auckland:20280428T100000
DTEND;TZID=Pacific/Auckland:20280428T120000
DTSTAMP:20260421T085126
CREATED:20241015T065559Z
LAST-MODIFIED:20241024T075928Z
UID:10005096-1840528800-1840536000@taumarunui.co.nz
SUMMARY:Creative Fibre Taumarunui
DESCRIPTION:Formerly Taumarunui Spinners & Weavers \nAre you interested in fibre crafts – spinning\, weaving\, knitting\, crocheting etc or learning one of these crafts? WE meet at the Ruapehu Community Arts Centre\, Taumarunui on the second and fourth Friday of each month
URL:https://taumarunui.co.nz/event/creative-fibre-taumarunui/2028-04-28/
LOCATION:Taumarunui Arts Centre\, Hakiaha Street\, Taumarunui\, New Zealand
CATEGORIES:Clubs
ATTACH;FMTTYPE=image/jpeg:https://taumarunui.co.nz/wp-content/uploads/2024/10/IMG_8155-1-scaled.jpeg
END:VEVENT
BEGIN:VEVENT
DTSTART;TZID=Pacific/Auckland:20280512T100000
DTEND;TZID=Pacific/Auckland:20280512T120000
DTSTAMP:20260421T085126
CREATED:20241015T065733Z
LAST-MODIFIED:20241015T065733Z
UID:10005036-1841738400-1841745600@taumarunui.co.nz
SUMMARY:Creative Fibre Taumarunui
DESCRIPTION:Formerly Taumarunui Spinners & Weavers \nAre you interested in fibre crafts – spinning\, weaving\, knitting\, crocheting etc or learning one of these crafts? WE meet at the Ruapehu Community Arts Centre\, Taumarunui on the second and fourth Friday of each month
URL:https://taumarunui.co.nz/event/creative-fibre-taumarunui-2/2028-05-12/
LOCATION:Taumarunui Arts Centre\, Hakiaha Street\, Taumarunui\, New Zealand
CATEGORIES:Clubs
END:VEVENT
BEGIN:VEVENT
DTSTART;TZID=Pacific/Auckland:20280526T100000
DTEND;TZID=Pacific/Auckland:20280526T120000
DTSTAMP:20260421T085126
CREATED:20241015T065559Z
LAST-MODIFIED:20241024T075928Z
UID:10005097-1842948000-1842955200@taumarunui.co.nz
SUMMARY:Creative Fibre Taumarunui
DESCRIPTION:Formerly Taumarunui Spinners & Weavers \nAre you interested in fibre crafts – spinning\, weaving\, knitting\, crocheting etc or learning one of these crafts? WE meet at the Ruapehu Community Arts Centre\, Taumarunui on the second and fourth Friday of each month
URL:https://taumarunui.co.nz/event/creative-fibre-taumarunui/2028-05-26/
LOCATION:Taumarunui Arts Centre\, Hakiaha Street\, Taumarunui\, New Zealand
CATEGORIES:Clubs
ATTACH;FMTTYPE=image/jpeg:https://taumarunui.co.nz/wp-content/uploads/2024/10/IMG_8155-1-scaled.jpeg
END:VEVENT
BEGIN:VEVENT
DTSTART;TZID=Pacific/Auckland:20280609T100000
DTEND;TZID=Pacific/Auckland:20280609T120000
DTSTAMP:20260421T085126
CREATED:20241015T065733Z
LAST-MODIFIED:20241015T065733Z
UID:10005037-1844157600-1844164800@taumarunui.co.nz
SUMMARY:Creative Fibre Taumarunui
DESCRIPTION:Formerly Taumarunui Spinners & Weavers \nAre you interested in fibre crafts – spinning\, weaving\, knitting\, crocheting etc or learning one of these crafts? WE meet at the Ruapehu Community Arts Centre\, Taumarunui on the second and fourth Friday of each month
URL:https://taumarunui.co.nz/event/creative-fibre-taumarunui-2/2028-06-09/
LOCATION:Taumarunui Arts Centre\, Hakiaha Street\, Taumarunui\, New Zealand
CATEGORIES:Clubs
END:VEVENT
BEGIN:VEVENT
DTSTART;TZID=Pacific/Auckland:20280623T100000
DTEND;TZID=Pacific/Auckland:20280623T120000
DTSTAMP:20260421T085126
CREATED:20241015T065559Z
LAST-MODIFIED:20241024T075928Z
UID:10005098-1845367200-1845374400@taumarunui.co.nz
SUMMARY:Creative Fibre Taumarunui
DESCRIPTION:Formerly Taumarunui Spinners & Weavers \nAre you interested in fibre crafts – spinning\, weaving\, knitting\, crocheting etc or learning one of these crafts? WE meet at the Ruapehu Community Arts Centre\, Taumarunui on the second and fourth Friday of each month
URL:https://taumarunui.co.nz/event/creative-fibre-taumarunui/2028-06-23/
LOCATION:Taumarunui Arts Centre\, Hakiaha Street\, Taumarunui\, New Zealand
CATEGORIES:Clubs
ATTACH;FMTTYPE=image/jpeg:https://taumarunui.co.nz/wp-content/uploads/2024/10/IMG_8155-1-scaled.jpeg
END:VEVENT
BEGIN:VEVENT
DTSTART;TZID=Pacific/Auckland:20280714T100000
DTEND;TZID=Pacific/Auckland:20280714T120000
DTSTAMP:20260421T085126
CREATED:20241015T065733Z
LAST-MODIFIED:20241015T065733Z
UID:10005038-1847181600-1847188800@taumarunui.co.nz
SUMMARY:Creative Fibre Taumarunui
DESCRIPTION:Formerly Taumarunui Spinners & Weavers \nAre you interested in fibre crafts – spinning\, weaving\, knitting\, crocheting etc or learning one of these crafts? WE meet at the Ruapehu Community Arts Centre\, Taumarunui on the second and fourth Friday of each month
URL:https://taumarunui.co.nz/event/creative-fibre-taumarunui-2/2028-07-14/
LOCATION:Taumarunui Arts Centre\, Hakiaha Street\, Taumarunui\, New Zealand
CATEGORIES:Clubs
END:VEVENT
BEGIN:VEVENT
DTSTART;TZID=Pacific/Auckland:20280728T100000
DTEND;TZID=Pacific/Auckland:20280728T120000
DTSTAMP:20260421T085126
CREATED:20241015T065559Z
LAST-MODIFIED:20241024T075928Z
UID:10005099-1848391200-1848398400@taumarunui.co.nz
SUMMARY:Creative Fibre Taumarunui
DESCRIPTION:Formerly Taumarunui Spinners & Weavers \nAre you interested in fibre crafts – spinning\, weaving\, knitting\, crocheting etc or learning one of these crafts? WE meet at the Ruapehu Community Arts Centre\, Taumarunui on the second and fourth Friday of each month
URL:https://taumarunui.co.nz/event/creative-fibre-taumarunui/2028-07-28/
LOCATION:Taumarunui Arts Centre\, Hakiaha Street\, Taumarunui\, New Zealand
CATEGORIES:Clubs
ATTACH;FMTTYPE=image/jpeg:https://taumarunui.co.nz/wp-content/uploads/2024/10/IMG_8155-1-scaled.jpeg
END:VEVENT
BEGIN:VEVENT
DTSTART;TZID=Pacific/Auckland:20280811T100000
DTEND;TZID=Pacific/Auckland:20280811T120000
DTSTAMP:20260421T085126
CREATED:20241015T065733Z
LAST-MODIFIED:20241015T065733Z
UID:10005039-1849600800-1849608000@taumarunui.co.nz
SUMMARY:Creative Fibre Taumarunui
DESCRIPTION:Formerly Taumarunui Spinners & Weavers \nAre you interested in fibre crafts – spinning\, weaving\, knitting\, crocheting etc or learning one of these crafts? WE meet at the Ruapehu Community Arts Centre\, Taumarunui on the second and fourth Friday of each month
URL:https://taumarunui.co.nz/event/creative-fibre-taumarunui-2/2028-08-11/
LOCATION:Taumarunui Arts Centre\, Hakiaha Street\, Taumarunui\, New Zealand
CATEGORIES:Clubs
END:VEVENT
BEGIN:VEVENT
DTSTART;TZID=Pacific/Auckland:20280825T100000
DTEND;TZID=Pacific/Auckland:20280825T120000
DTSTAMP:20260421T085126
CREATED:20241015T065559Z
LAST-MODIFIED:20241024T075928Z
UID:10005100-1850810400-1850817600@taumarunui.co.nz
SUMMARY:Creative Fibre Taumarunui
DESCRIPTION:Formerly Taumarunui Spinners & Weavers \nAre you interested in fibre crafts – spinning\, weaving\, knitting\, crocheting etc or learning one of these crafts? WE meet at the Ruapehu Community Arts Centre\, Taumarunui on the second and fourth Friday of each month
URL:https://taumarunui.co.nz/event/creative-fibre-taumarunui/2028-08-25/
LOCATION:Taumarunui Arts Centre\, Hakiaha Street\, Taumarunui\, New Zealand
CATEGORIES:Clubs
ATTACH;FMTTYPE=image/jpeg:https://taumarunui.co.nz/wp-content/uploads/2024/10/IMG_8155-1-scaled.jpeg
END:VEVENT
BEGIN:VEVENT
DTSTART;TZID=Pacific/Auckland:20280908T100000
DTEND;TZID=Pacific/Auckland:20280908T120000
DTSTAMP:20260421T085126
CREATED:20241015T065733Z
LAST-MODIFIED:20241015T065733Z
UID:10005040-1852020000-1852027200@taumarunui.co.nz
SUMMARY:Creative Fibre Taumarunui
DESCRIPTION:Formerly Taumarunui Spinners & Weavers \nAre you interested in fibre crafts – spinning\, weaving\, knitting\, crocheting etc or learning one of these crafts? WE meet at the Ruapehu Community Arts Centre\, Taumarunui on the second and fourth Friday of each month
URL:https://taumarunui.co.nz/event/creative-fibre-taumarunui-2/2028-09-08/
LOCATION:Taumarunui Arts Centre\, Hakiaha Street\, Taumarunui\, New Zealand
CATEGORIES:Clubs
END:VEVENT
BEGIN:VEVENT
DTSTART;TZID=Pacific/Auckland:20280922T100000
DTEND;TZID=Pacific/Auckland:20280922T120000
DTSTAMP:20260421T085126
CREATED:20241015T065559Z
LAST-MODIFIED:20241024T075928Z
UID:10005101-1853229600-1853236800@taumarunui.co.nz
SUMMARY:Creative Fibre Taumarunui
DESCRIPTION:Formerly Taumarunui Spinners & Weavers \nAre you interested in fibre crafts – spinning\, weaving\, knitting\, crocheting etc or learning one of these crafts? WE meet at the Ruapehu Community Arts Centre\, Taumarunui on the second and fourth Friday of each month
URL:https://taumarunui.co.nz/event/creative-fibre-taumarunui/2028-09-22/
LOCATION:Taumarunui Arts Centre\, Hakiaha Street\, Taumarunui\, New Zealand
CATEGORIES:Clubs
ATTACH;FMTTYPE=image/jpeg:https://taumarunui.co.nz/wp-content/uploads/2024/10/IMG_8155-1-scaled.jpeg
END:VEVENT
BEGIN:VEVENT
DTSTART;TZID=Pacific/Auckland:20281013T100000
DTEND;TZID=Pacific/Auckland:20281013T120000
DTSTAMP:20260421T085126
CREATED:20241015T065733Z
LAST-MODIFIED:20241015T065733Z
UID:10005041-1855044000-1855051200@taumarunui.co.nz
SUMMARY:Creative Fibre Taumarunui
DESCRIPTION:Formerly Taumarunui Spinners & Weavers \nAre you interested in fibre crafts – spinning\, weaving\, knitting\, crocheting etc or learning one of these crafts? WE meet at the Ruapehu Community Arts Centre\, Taumarunui on the second and fourth Friday of each month
URL:https://taumarunui.co.nz/event/creative-fibre-taumarunui-2/2028-10-13/
LOCATION:Taumarunui Arts Centre\, Hakiaha Street\, Taumarunui\, New Zealand
CATEGORIES:Clubs
END:VEVENT
BEGIN:VEVENT
DTSTART;TZID=Pacific/Auckland:20281027T100000
DTEND;TZID=Pacific/Auckland:20281027T120000
DTSTAMP:20260421T085126
CREATED:20241015T065559Z
LAST-MODIFIED:20241024T075928Z
UID:10005102-1856253600-1856260800@taumarunui.co.nz
SUMMARY:Creative Fibre Taumarunui
DESCRIPTION:Formerly Taumarunui Spinners & Weavers \nAre you interested in fibre crafts – spinning\, weaving\, knitting\, crocheting etc or learning one of these crafts? WE meet at the Ruapehu Community Arts Centre\, Taumarunui on the second and fourth Friday of each month
URL:https://taumarunui.co.nz/event/creative-fibre-taumarunui/2028-10-27/
LOCATION:Taumarunui Arts Centre\, Hakiaha Street\, Taumarunui\, New Zealand
CATEGORIES:Clubs
ATTACH;FMTTYPE=image/jpeg:https://taumarunui.co.nz/wp-content/uploads/2024/10/IMG_8155-1-scaled.jpeg
END:VEVENT
BEGIN:VEVENT
DTSTART;TZID=Pacific/Auckland:20281110T100000
DTEND;TZID=Pacific/Auckland:20281110T120000
DTSTAMP:20260421T085126
CREATED:20241015T065733Z
LAST-MODIFIED:20241015T065733Z
UID:10005042-1857463200-1857470400@taumarunui.co.nz
SUMMARY:Creative Fibre Taumarunui
DESCRIPTION:Formerly Taumarunui Spinners & Weavers \nAre you interested in fibre crafts – spinning\, weaving\, knitting\, crocheting etc or learning one of these crafts? WE meet at the Ruapehu Community Arts Centre\, Taumarunui on the second and fourth Friday of each month
URL:https://taumarunui.co.nz/event/creative-fibre-taumarunui-2/2028-11-10/
LOCATION:Taumarunui Arts Centre\, Hakiaha Street\, Taumarunui\, New Zealand
CATEGORIES:Clubs
END:VEVENT
BEGIN:VEVENT
DTSTART;TZID=Pacific/Auckland:20281124T100000
DTEND;TZID=Pacific/Auckland:20281124T120000
DTSTAMP:20260421T085126
CREATED:20241015T065559Z
LAST-MODIFIED:20241024T075928Z
UID:10005103-1858672800-1858680000@taumarunui.co.nz
SUMMARY:Creative Fibre Taumarunui
DESCRIPTION:Formerly Taumarunui Spinners & Weavers \nAre you interested in fibre crafts – spinning\, weaving\, knitting\, crocheting etc or learning one of these crafts? WE meet at the Ruapehu Community Arts Centre\, Taumarunui on the second and fourth Friday of each month
URL:https://taumarunui.co.nz/event/creative-fibre-taumarunui/2028-11-24/
LOCATION:Taumarunui Arts Centre\, Hakiaha Street\, Taumarunui\, New Zealand
CATEGORIES:Clubs
ATTACH;FMTTYPE=image/jpeg:https://taumarunui.co.nz/wp-content/uploads/2024/10/IMG_8155-1-scaled.jpeg
END:VEVENT
BEGIN:VEVENT
DTSTART;TZID=Pacific/Auckland:20281208T100000
DTEND;TZID=Pacific/Auckland:20281208T120000
DTSTAMP:20260421T085126
CREATED:20241015T065733Z
LAST-MODIFIED:20241015T065733Z
UID:10005043-1859882400-1859889600@taumarunui.co.nz
SUMMARY:Creative Fibre Taumarunui
DESCRIPTION:Formerly Taumarunui Spinners & Weavers \nAre you interested in fibre crafts – spinning\, weaving\, knitting\, crocheting etc or learning one of these crafts? WE meet at the Ruapehu Community Arts Centre\, Taumarunui on the second and fourth Friday of each month
URL:https://taumarunui.co.nz/event/creative-fibre-taumarunui-2/2028-12-08/
LOCATION:Taumarunui Arts Centre\, Hakiaha Street\, Taumarunui\, New Zealand
CATEGORIES:Clubs
END:VEVENT
BEGIN:VEVENT
DTSTART;TZID=Pacific/Auckland:20281222T100000
DTEND;TZID=Pacific/Auckland:20281222T120000
DTSTAMP:20260421T085126
CREATED:20241015T065559Z
LAST-MODIFIED:20241024T075928Z
UID:10005104-1861092000-1861099200@taumarunui.co.nz
SUMMARY:Creative Fibre Taumarunui
DESCRIPTION:Formerly Taumarunui Spinners & Weavers \nAre you interested in fibre crafts – spinning\, weaving\, knitting\, crocheting etc or learning one of these crafts? WE meet at the Ruapehu Community Arts Centre\, Taumarunui on the second and fourth Friday of each month
URL:https://taumarunui.co.nz/event/creative-fibre-taumarunui/2028-12-22/
LOCATION:Taumarunui Arts Centre\, Hakiaha Street\, Taumarunui\, New Zealand
CATEGORIES:Clubs
ATTACH;FMTTYPE=image/jpeg:https://taumarunui.co.nz/wp-content/uploads/2024/10/IMG_8155-1-scaled.jpeg
END:VEVENT
BEGIN:VEVENT
DTSTART;TZID=Pacific/Auckland:20290112T100000
DTEND;TZID=Pacific/Auckland:20290112T120000
DTSTAMP:20260421T085126
CREATED:20241015T065733Z
LAST-MODIFIED:20241015T065733Z
UID:10005044-1862906400-1862913600@taumarunui.co.nz
SUMMARY:Creative Fibre Taumarunui
DESCRIPTION:Formerly Taumarunui Spinners & Weavers \nAre you interested in fibre crafts – spinning\, weaving\, knitting\, crocheting etc or learning one of these crafts? WE meet at the Ruapehu Community Arts Centre\, Taumarunui on the second and fourth Friday of each month
URL:https://taumarunui.co.nz/event/creative-fibre-taumarunui-2/2029-01-12/
LOCATION:Taumarunui Arts Centre\, Hakiaha Street\, Taumarunui\, New Zealand
CATEGORIES:Clubs
END:VEVENT
END:VCALENDAR