BEGIN:VCALENDAR
VERSION:2.0
PRODID:-//Taumarunui - ECPv6.15.20//NONSGML v1.0//EN
CALSCALE:GREGORIAN
METHOD:PUBLISH
X-WR-CALNAME:Taumarunui
X-ORIGINAL-URL:https://taumarunui.co.nz
X-WR-CALDESC:Events for Taumarunui
REFRESH-INTERVAL;VALUE=DURATION:PT1H
X-Robots-Tag:noindex
X-PUBLISHED-TTL:PT1H
BEGIN:VTIMEZONE
TZID:Pacific/Auckland
BEGIN:STANDARD
TZOFFSETFROM:+1300
TZOFFSETTO:+1200
TZNAME:NZST
DTSTART:20260404T140000
END:STANDARD
BEGIN:DAYLIGHT
TZOFFSETFROM:+1200
TZOFFSETTO:+1300
TZNAME:NZDT
DTSTART:20260926T140000
END:DAYLIGHT
BEGIN:STANDARD
TZOFFSETFROM:+1300
TZOFFSETTO:+1200
TZNAME:NZST
DTSTART:20270403T140000
END:STANDARD
BEGIN:DAYLIGHT
TZOFFSETFROM:+1200
TZOFFSETTO:+1300
TZNAME:NZDT
DTSTART:20270925T140000
END:DAYLIGHT
BEGIN:STANDARD
TZOFFSETFROM:+1300
TZOFFSETTO:+1200
TZNAME:NZST
DTSTART:20280401T140000
END:STANDARD
BEGIN:DAYLIGHT
TZOFFSETFROM:+1200
TZOFFSETTO:+1300
TZNAME:NZDT
DTSTART:20280923T140000
END:DAYLIGHT
END:VTIMEZONE
BEGIN:VEVENT
DTSTART;TZID=Pacific/Auckland:20270329T000000
DTEND;TZID=Pacific/Auckland:20270329T000000
DTSTAMP:20260423T230456
CREATED:20241015T070524Z
LAST-MODIFIED:20241015T070556Z
UID:10005300-1806278400-1806278400@taumarunui.co.nz
SUMMARY:Ruapehu Quiltmakers
DESCRIPTION:Meet at St Paul’s Church Hall every Monday\, alternating day meetings (9.30am-1.30pm) and night meetings (2-5.30pm)
URL:https://taumarunui.co.nz/event/ruapehu-quiltmakers/2027-03-29/
LOCATION:St Pauls Church\, Marae Street\, Taumarunui\, 3920\, New Zealand
CATEGORIES:Clubs
GEO:-38.8848957;175.261395
X-APPLE-STRUCTURED-LOCATION;VALUE=URI;X-ADDRESS=St Pauls Church Marae Street Taumarunui 3920 New Zealand;X-APPLE-RADIUS=500;X-TITLE=Marae Street:geo:175.261395,-38.8848957
END:VEVENT
BEGIN:VEVENT
DTSTART;TZID=Pacific/Auckland:20270405T000000
DTEND;TZID=Pacific/Auckland:20270405T000000
DTSTAMP:20260423T230456
CREATED:20241015T070524Z
LAST-MODIFIED:20241015T070556Z
UID:10005301-1806883200-1806883200@taumarunui.co.nz
SUMMARY:Ruapehu Quiltmakers
DESCRIPTION:Meet at St Paul’s Church Hall every Monday\, alternating day meetings (9.30am-1.30pm) and night meetings (2-5.30pm)
URL:https://taumarunui.co.nz/event/ruapehu-quiltmakers/2027-04-05/
LOCATION:St Pauls Church\, Marae Street\, Taumarunui\, 3920\, New Zealand
CATEGORIES:Clubs
GEO:-38.8848957;175.261395
X-APPLE-STRUCTURED-LOCATION;VALUE=URI;X-ADDRESS=St Pauls Church Marae Street Taumarunui 3920 New Zealand;X-APPLE-RADIUS=500;X-TITLE=Marae Street:geo:175.261395,-38.8848957
END:VEVENT
BEGIN:VEVENT
DTSTART;TZID=Pacific/Auckland:20270412T000000
DTEND;TZID=Pacific/Auckland:20270412T000000
DTSTAMP:20260423T230456
CREATED:20241015T070524Z
LAST-MODIFIED:20241015T070556Z
UID:10005302-1807488000-1807488000@taumarunui.co.nz
SUMMARY:Ruapehu Quiltmakers
DESCRIPTION:Meet at St Paul’s Church Hall every Monday\, alternating day meetings (9.30am-1.30pm) and night meetings (2-5.30pm)
URL:https://taumarunui.co.nz/event/ruapehu-quiltmakers/2027-04-12/
LOCATION:St Pauls Church\, Marae Street\, Taumarunui\, 3920\, New Zealand
CATEGORIES:Clubs
GEO:-38.8848957;175.261395
X-APPLE-STRUCTURED-LOCATION;VALUE=URI;X-ADDRESS=St Pauls Church Marae Street Taumarunui 3920 New Zealand;X-APPLE-RADIUS=500;X-TITLE=Marae Street:geo:175.261395,-38.8848957
END:VEVENT
BEGIN:VEVENT
DTSTART;TZID=Pacific/Auckland:20270419T000000
DTEND;TZID=Pacific/Auckland:20270419T000000
DTSTAMP:20260423T230456
CREATED:20241015T070524Z
LAST-MODIFIED:20241015T070556Z
UID:10005303-1808092800-1808092800@taumarunui.co.nz
SUMMARY:Ruapehu Quiltmakers
DESCRIPTION:Meet at St Paul’s Church Hall every Monday\, alternating day meetings (9.30am-1.30pm) and night meetings (2-5.30pm)
URL:https://taumarunui.co.nz/event/ruapehu-quiltmakers/2027-04-19/
LOCATION:St Pauls Church\, Marae Street\, Taumarunui\, 3920\, New Zealand
CATEGORIES:Clubs
GEO:-38.8848957;175.261395
X-APPLE-STRUCTURED-LOCATION;VALUE=URI;X-ADDRESS=St Pauls Church Marae Street Taumarunui 3920 New Zealand;X-APPLE-RADIUS=500;X-TITLE=Marae Street:geo:175.261395,-38.8848957
END:VEVENT
BEGIN:VEVENT
DTSTART;TZID=Pacific/Auckland:20270426T000000
DTEND;TZID=Pacific/Auckland:20270426T000000
DTSTAMP:20260423T230456
CREATED:20241015T070524Z
LAST-MODIFIED:20241015T070556Z
UID:10005304-1808697600-1808697600@taumarunui.co.nz
SUMMARY:Ruapehu Quiltmakers
DESCRIPTION:Meet at St Paul’s Church Hall every Monday\, alternating day meetings (9.30am-1.30pm) and night meetings (2-5.30pm)
URL:https://taumarunui.co.nz/event/ruapehu-quiltmakers/2027-04-26/
LOCATION:St Pauls Church\, Marae Street\, Taumarunui\, 3920\, New Zealand
CATEGORIES:Clubs
GEO:-38.8848957;175.261395
X-APPLE-STRUCTURED-LOCATION;VALUE=URI;X-ADDRESS=St Pauls Church Marae Street Taumarunui 3920 New Zealand;X-APPLE-RADIUS=500;X-TITLE=Marae Street:geo:175.261395,-38.8848957
END:VEVENT
BEGIN:VEVENT
DTSTART;TZID=Pacific/Auckland:20270503T000000
DTEND;TZID=Pacific/Auckland:20270503T000000
DTSTAMP:20260423T230456
CREATED:20241015T070524Z
LAST-MODIFIED:20241015T070556Z
UID:10005305-1809302400-1809302400@taumarunui.co.nz
SUMMARY:Ruapehu Quiltmakers
DESCRIPTION:Meet at St Paul’s Church Hall every Monday\, alternating day meetings (9.30am-1.30pm) and night meetings (2-5.30pm)
URL:https://taumarunui.co.nz/event/ruapehu-quiltmakers/2027-05-03/
LOCATION:St Pauls Church\, Marae Street\, Taumarunui\, 3920\, New Zealand
CATEGORIES:Clubs
GEO:-38.8848957;175.261395
X-APPLE-STRUCTURED-LOCATION;VALUE=URI;X-ADDRESS=St Pauls Church Marae Street Taumarunui 3920 New Zealand;X-APPLE-RADIUS=500;X-TITLE=Marae Street:geo:175.261395,-38.8848957
END:VEVENT
BEGIN:VEVENT
DTSTART;TZID=Pacific/Auckland:20270510T000000
DTEND;TZID=Pacific/Auckland:20270510T000000
DTSTAMP:20260423T230456
CREATED:20241015T070524Z
LAST-MODIFIED:20241015T070556Z
UID:10005306-1809907200-1809907200@taumarunui.co.nz
SUMMARY:Ruapehu Quiltmakers
DESCRIPTION:Meet at St Paul’s Church Hall every Monday\, alternating day meetings (9.30am-1.30pm) and night meetings (2-5.30pm)
URL:https://taumarunui.co.nz/event/ruapehu-quiltmakers/2027-05-10/
LOCATION:St Pauls Church\, Marae Street\, Taumarunui\, 3920\, New Zealand
CATEGORIES:Clubs
GEO:-38.8848957;175.261395
X-APPLE-STRUCTURED-LOCATION;VALUE=URI;X-ADDRESS=St Pauls Church Marae Street Taumarunui 3920 New Zealand;X-APPLE-RADIUS=500;X-TITLE=Marae Street:geo:175.261395,-38.8848957
END:VEVENT
BEGIN:VEVENT
DTSTART;TZID=Pacific/Auckland:20270517T000000
DTEND;TZID=Pacific/Auckland:20270517T000000
DTSTAMP:20260423T230456
CREATED:20241015T070524Z
LAST-MODIFIED:20241015T070556Z
UID:10005307-1810512000-1810512000@taumarunui.co.nz
SUMMARY:Ruapehu Quiltmakers
DESCRIPTION:Meet at St Paul’s Church Hall every Monday\, alternating day meetings (9.30am-1.30pm) and night meetings (2-5.30pm)
URL:https://taumarunui.co.nz/event/ruapehu-quiltmakers/2027-05-17/
LOCATION:St Pauls Church\, Marae Street\, Taumarunui\, 3920\, New Zealand
CATEGORIES:Clubs
GEO:-38.8848957;175.261395
X-APPLE-STRUCTURED-LOCATION;VALUE=URI;X-ADDRESS=St Pauls Church Marae Street Taumarunui 3920 New Zealand;X-APPLE-RADIUS=500;X-TITLE=Marae Street:geo:175.261395,-38.8848957
END:VEVENT
BEGIN:VEVENT
DTSTART;TZID=Pacific/Auckland:20270524T000000
DTEND;TZID=Pacific/Auckland:20270524T000000
DTSTAMP:20260423T230456
CREATED:20241015T070524Z
LAST-MODIFIED:20241015T070556Z
UID:10005308-1811116800-1811116800@taumarunui.co.nz
SUMMARY:Ruapehu Quiltmakers
DESCRIPTION:Meet at St Paul’s Church Hall every Monday\, alternating day meetings (9.30am-1.30pm) and night meetings (2-5.30pm)
URL:https://taumarunui.co.nz/event/ruapehu-quiltmakers/2027-05-24/
LOCATION:St Pauls Church\, Marae Street\, Taumarunui\, 3920\, New Zealand
CATEGORIES:Clubs
GEO:-38.8848957;175.261395
X-APPLE-STRUCTURED-LOCATION;VALUE=URI;X-ADDRESS=St Pauls Church Marae Street Taumarunui 3920 New Zealand;X-APPLE-RADIUS=500;X-TITLE=Marae Street:geo:175.261395,-38.8848957
END:VEVENT
BEGIN:VEVENT
DTSTART;TZID=Pacific/Auckland:20270531T000000
DTEND;TZID=Pacific/Auckland:20270531T000000
DTSTAMP:20260423T230456
CREATED:20241015T070524Z
LAST-MODIFIED:20241015T070556Z
UID:10005309-1811721600-1811721600@taumarunui.co.nz
SUMMARY:Ruapehu Quiltmakers
DESCRIPTION:Meet at St Paul’s Church Hall every Monday\, alternating day meetings (9.30am-1.30pm) and night meetings (2-5.30pm)
URL:https://taumarunui.co.nz/event/ruapehu-quiltmakers/2027-05-31/
LOCATION:St Pauls Church\, Marae Street\, Taumarunui\, 3920\, New Zealand
CATEGORIES:Clubs
GEO:-38.8848957;175.261395
X-APPLE-STRUCTURED-LOCATION;VALUE=URI;X-ADDRESS=St Pauls Church Marae Street Taumarunui 3920 New Zealand;X-APPLE-RADIUS=500;X-TITLE=Marae Street:geo:175.261395,-38.8848957
END:VEVENT
BEGIN:VEVENT
DTSTART;TZID=Pacific/Auckland:20270607T000000
DTEND;TZID=Pacific/Auckland:20270607T000000
DTSTAMP:20260423T230456
CREATED:20241015T070524Z
LAST-MODIFIED:20241015T070556Z
UID:10005310-1812326400-1812326400@taumarunui.co.nz
SUMMARY:Ruapehu Quiltmakers
DESCRIPTION:Meet at St Paul’s Church Hall every Monday\, alternating day meetings (9.30am-1.30pm) and night meetings (2-5.30pm)
URL:https://taumarunui.co.nz/event/ruapehu-quiltmakers/2027-06-07/
LOCATION:St Pauls Church\, Marae Street\, Taumarunui\, 3920\, New Zealand
CATEGORIES:Clubs
GEO:-38.8848957;175.261395
X-APPLE-STRUCTURED-LOCATION;VALUE=URI;X-ADDRESS=St Pauls Church Marae Street Taumarunui 3920 New Zealand;X-APPLE-RADIUS=500;X-TITLE=Marae Street:geo:175.261395,-38.8848957
END:VEVENT
BEGIN:VEVENT
DTSTART;TZID=Pacific/Auckland:20270614T000000
DTEND;TZID=Pacific/Auckland:20270614T000000
DTSTAMP:20260423T230456
CREATED:20241015T070524Z
LAST-MODIFIED:20241015T070556Z
UID:10005311-1812931200-1812931200@taumarunui.co.nz
SUMMARY:Ruapehu Quiltmakers
DESCRIPTION:Meet at St Paul’s Church Hall every Monday\, alternating day meetings (9.30am-1.30pm) and night meetings (2-5.30pm)
URL:https://taumarunui.co.nz/event/ruapehu-quiltmakers/2027-06-14/
LOCATION:St Pauls Church\, Marae Street\, Taumarunui\, 3920\, New Zealand
CATEGORIES:Clubs
GEO:-38.8848957;175.261395
X-APPLE-STRUCTURED-LOCATION;VALUE=URI;X-ADDRESS=St Pauls Church Marae Street Taumarunui 3920 New Zealand;X-APPLE-RADIUS=500;X-TITLE=Marae Street:geo:175.261395,-38.8848957
END:VEVENT
BEGIN:VEVENT
DTSTART;TZID=Pacific/Auckland:20270621T000000
DTEND;TZID=Pacific/Auckland:20270621T000000
DTSTAMP:20260423T230456
CREATED:20241015T070524Z
LAST-MODIFIED:20241015T070556Z
UID:10005312-1813536000-1813536000@taumarunui.co.nz
SUMMARY:Ruapehu Quiltmakers
DESCRIPTION:Meet at St Paul’s Church Hall every Monday\, alternating day meetings (9.30am-1.30pm) and night meetings (2-5.30pm)
URL:https://taumarunui.co.nz/event/ruapehu-quiltmakers/2027-06-21/
LOCATION:St Pauls Church\, Marae Street\, Taumarunui\, 3920\, New Zealand
CATEGORIES:Clubs
GEO:-38.8848957;175.261395
X-APPLE-STRUCTURED-LOCATION;VALUE=URI;X-ADDRESS=St Pauls Church Marae Street Taumarunui 3920 New Zealand;X-APPLE-RADIUS=500;X-TITLE=Marae Street:geo:175.261395,-38.8848957
END:VEVENT
BEGIN:VEVENT
DTSTART;TZID=Pacific/Auckland:20270628T000000
DTEND;TZID=Pacific/Auckland:20270628T000000
DTSTAMP:20260423T230456
CREATED:20241015T070524Z
LAST-MODIFIED:20241015T070556Z
UID:10005313-1814140800-1814140800@taumarunui.co.nz
SUMMARY:Ruapehu Quiltmakers
DESCRIPTION:Meet at St Paul’s Church Hall every Monday\, alternating day meetings (9.30am-1.30pm) and night meetings (2-5.30pm)
URL:https://taumarunui.co.nz/event/ruapehu-quiltmakers/2027-06-28/
LOCATION:St Pauls Church\, Marae Street\, Taumarunui\, 3920\, New Zealand
CATEGORIES:Clubs
GEO:-38.8848957;175.261395
X-APPLE-STRUCTURED-LOCATION;VALUE=URI;X-ADDRESS=St Pauls Church Marae Street Taumarunui 3920 New Zealand;X-APPLE-RADIUS=500;X-TITLE=Marae Street:geo:175.261395,-38.8848957
END:VEVENT
BEGIN:VEVENT
DTSTART;TZID=Pacific/Auckland:20270705T000000
DTEND;TZID=Pacific/Auckland:20270705T000000
DTSTAMP:20260423T230456
CREATED:20241015T070524Z
LAST-MODIFIED:20241015T070556Z
UID:10005314-1814745600-1814745600@taumarunui.co.nz
SUMMARY:Ruapehu Quiltmakers
DESCRIPTION:Meet at St Paul’s Church Hall every Monday\, alternating day meetings (9.30am-1.30pm) and night meetings (2-5.30pm)
URL:https://taumarunui.co.nz/event/ruapehu-quiltmakers/2027-07-05/
LOCATION:St Pauls Church\, Marae Street\, Taumarunui\, 3920\, New Zealand
CATEGORIES:Clubs
GEO:-38.8848957;175.261395
X-APPLE-STRUCTURED-LOCATION;VALUE=URI;X-ADDRESS=St Pauls Church Marae Street Taumarunui 3920 New Zealand;X-APPLE-RADIUS=500;X-TITLE=Marae Street:geo:175.261395,-38.8848957
END:VEVENT
BEGIN:VEVENT
DTSTART;TZID=Pacific/Auckland:20270712T000000
DTEND;TZID=Pacific/Auckland:20270712T000000
DTSTAMP:20260423T230456
CREATED:20241015T070524Z
LAST-MODIFIED:20241015T070556Z
UID:10005315-1815350400-1815350400@taumarunui.co.nz
SUMMARY:Ruapehu Quiltmakers
DESCRIPTION:Meet at St Paul’s Church Hall every Monday\, alternating day meetings (9.30am-1.30pm) and night meetings (2-5.30pm)
URL:https://taumarunui.co.nz/event/ruapehu-quiltmakers/2027-07-12/
LOCATION:St Pauls Church\, Marae Street\, Taumarunui\, 3920\, New Zealand
CATEGORIES:Clubs
GEO:-38.8848957;175.261395
X-APPLE-STRUCTURED-LOCATION;VALUE=URI;X-ADDRESS=St Pauls Church Marae Street Taumarunui 3920 New Zealand;X-APPLE-RADIUS=500;X-TITLE=Marae Street:geo:175.261395,-38.8848957
END:VEVENT
BEGIN:VEVENT
DTSTART;TZID=Pacific/Auckland:20270719T000000
DTEND;TZID=Pacific/Auckland:20270719T000000
DTSTAMP:20260423T230456
CREATED:20241015T070524Z
LAST-MODIFIED:20241015T070556Z
UID:10005316-1815955200-1815955200@taumarunui.co.nz
SUMMARY:Ruapehu Quiltmakers
DESCRIPTION:Meet at St Paul’s Church Hall every Monday\, alternating day meetings (9.30am-1.30pm) and night meetings (2-5.30pm)
URL:https://taumarunui.co.nz/event/ruapehu-quiltmakers/2027-07-19/
LOCATION:St Pauls Church\, Marae Street\, Taumarunui\, 3920\, New Zealand
CATEGORIES:Clubs
GEO:-38.8848957;175.261395
X-APPLE-STRUCTURED-LOCATION;VALUE=URI;X-ADDRESS=St Pauls Church Marae Street Taumarunui 3920 New Zealand;X-APPLE-RADIUS=500;X-TITLE=Marae Street:geo:175.261395,-38.8848957
END:VEVENT
BEGIN:VEVENT
DTSTART;TZID=Pacific/Auckland:20270726T000000
DTEND;TZID=Pacific/Auckland:20270726T000000
DTSTAMP:20260423T230456
CREATED:20241015T070524Z
LAST-MODIFIED:20241015T070556Z
UID:10005317-1816560000-1816560000@taumarunui.co.nz
SUMMARY:Ruapehu Quiltmakers
DESCRIPTION:Meet at St Paul’s Church Hall every Monday\, alternating day meetings (9.30am-1.30pm) and night meetings (2-5.30pm)
URL:https://taumarunui.co.nz/event/ruapehu-quiltmakers/2027-07-26/
LOCATION:St Pauls Church\, Marae Street\, Taumarunui\, 3920\, New Zealand
CATEGORIES:Clubs
GEO:-38.8848957;175.261395
X-APPLE-STRUCTURED-LOCATION;VALUE=URI;X-ADDRESS=St Pauls Church Marae Street Taumarunui 3920 New Zealand;X-APPLE-RADIUS=500;X-TITLE=Marae Street:geo:175.261395,-38.8848957
END:VEVENT
BEGIN:VEVENT
DTSTART;TZID=Pacific/Auckland:20270802T000000
DTEND;TZID=Pacific/Auckland:20270802T000000
DTSTAMP:20260423T230456
CREATED:20241015T070524Z
LAST-MODIFIED:20241015T070556Z
UID:10005318-1817164800-1817164800@taumarunui.co.nz
SUMMARY:Ruapehu Quiltmakers
DESCRIPTION:Meet at St Paul’s Church Hall every Monday\, alternating day meetings (9.30am-1.30pm) and night meetings (2-5.30pm)
URL:https://taumarunui.co.nz/event/ruapehu-quiltmakers/2027-08-02/
LOCATION:St Pauls Church\, Marae Street\, Taumarunui\, 3920\, New Zealand
CATEGORIES:Clubs
GEO:-38.8848957;175.261395
X-APPLE-STRUCTURED-LOCATION;VALUE=URI;X-ADDRESS=St Pauls Church Marae Street Taumarunui 3920 New Zealand;X-APPLE-RADIUS=500;X-TITLE=Marae Street:geo:175.261395,-38.8848957
END:VEVENT
BEGIN:VEVENT
DTSTART;TZID=Pacific/Auckland:20270809T000000
DTEND;TZID=Pacific/Auckland:20270809T000000
DTSTAMP:20260423T230456
CREATED:20241015T070524Z
LAST-MODIFIED:20241015T070556Z
UID:10005319-1817769600-1817769600@taumarunui.co.nz
SUMMARY:Ruapehu Quiltmakers
DESCRIPTION:Meet at St Paul’s Church Hall every Monday\, alternating day meetings (9.30am-1.30pm) and night meetings (2-5.30pm)
URL:https://taumarunui.co.nz/event/ruapehu-quiltmakers/2027-08-09/
LOCATION:St Pauls Church\, Marae Street\, Taumarunui\, 3920\, New Zealand
CATEGORIES:Clubs
GEO:-38.8848957;175.261395
X-APPLE-STRUCTURED-LOCATION;VALUE=URI;X-ADDRESS=St Pauls Church Marae Street Taumarunui 3920 New Zealand;X-APPLE-RADIUS=500;X-TITLE=Marae Street:geo:175.261395,-38.8848957
END:VEVENT
BEGIN:VEVENT
DTSTART;TZID=Pacific/Auckland:20270816T000000
DTEND;TZID=Pacific/Auckland:20270816T000000
DTSTAMP:20260423T230456
CREATED:20241015T070524Z
LAST-MODIFIED:20241015T070556Z
UID:10005320-1818374400-1818374400@taumarunui.co.nz
SUMMARY:Ruapehu Quiltmakers
DESCRIPTION:Meet at St Paul’s Church Hall every Monday\, alternating day meetings (9.30am-1.30pm) and night meetings (2-5.30pm)
URL:https://taumarunui.co.nz/event/ruapehu-quiltmakers/2027-08-16/
LOCATION:St Pauls Church\, Marae Street\, Taumarunui\, 3920\, New Zealand
CATEGORIES:Clubs
GEO:-38.8848957;175.261395
X-APPLE-STRUCTURED-LOCATION;VALUE=URI;X-ADDRESS=St Pauls Church Marae Street Taumarunui 3920 New Zealand;X-APPLE-RADIUS=500;X-TITLE=Marae Street:geo:175.261395,-38.8848957
END:VEVENT
BEGIN:VEVENT
DTSTART;TZID=Pacific/Auckland:20270823T000000
DTEND;TZID=Pacific/Auckland:20270823T000000
DTSTAMP:20260423T230456
CREATED:20241015T070524Z
LAST-MODIFIED:20241015T070556Z
UID:10005321-1818979200-1818979200@taumarunui.co.nz
SUMMARY:Ruapehu Quiltmakers
DESCRIPTION:Meet at St Paul’s Church Hall every Monday\, alternating day meetings (9.30am-1.30pm) and night meetings (2-5.30pm)
URL:https://taumarunui.co.nz/event/ruapehu-quiltmakers/2027-08-23/
LOCATION:St Pauls Church\, Marae Street\, Taumarunui\, 3920\, New Zealand
CATEGORIES:Clubs
GEO:-38.8848957;175.261395
X-APPLE-STRUCTURED-LOCATION;VALUE=URI;X-ADDRESS=St Pauls Church Marae Street Taumarunui 3920 New Zealand;X-APPLE-RADIUS=500;X-TITLE=Marae Street:geo:175.261395,-38.8848957
END:VEVENT
BEGIN:VEVENT
DTSTART;TZID=Pacific/Auckland:20270830T000000
DTEND;TZID=Pacific/Auckland:20270830T000000
DTSTAMP:20260423T230456
CREATED:20241015T070524Z
LAST-MODIFIED:20241015T070556Z
UID:10005322-1819584000-1819584000@taumarunui.co.nz
SUMMARY:Ruapehu Quiltmakers
DESCRIPTION:Meet at St Paul’s Church Hall every Monday\, alternating day meetings (9.30am-1.30pm) and night meetings (2-5.30pm)
URL:https://taumarunui.co.nz/event/ruapehu-quiltmakers/2027-08-30/
LOCATION:St Pauls Church\, Marae Street\, Taumarunui\, 3920\, New Zealand
CATEGORIES:Clubs
GEO:-38.8848957;175.261395
X-APPLE-STRUCTURED-LOCATION;VALUE=URI;X-ADDRESS=St Pauls Church Marae Street Taumarunui 3920 New Zealand;X-APPLE-RADIUS=500;X-TITLE=Marae Street:geo:175.261395,-38.8848957
END:VEVENT
BEGIN:VEVENT
DTSTART;TZID=Pacific/Auckland:20270906T000000
DTEND;TZID=Pacific/Auckland:20270906T000000
DTSTAMP:20260423T230456
CREATED:20241015T070524Z
LAST-MODIFIED:20241015T070556Z
UID:10005323-1820188800-1820188800@taumarunui.co.nz
SUMMARY:Ruapehu Quiltmakers
DESCRIPTION:Meet at St Paul’s Church Hall every Monday\, alternating day meetings (9.30am-1.30pm) and night meetings (2-5.30pm)
URL:https://taumarunui.co.nz/event/ruapehu-quiltmakers/2027-09-06/
LOCATION:St Pauls Church\, Marae Street\, Taumarunui\, 3920\, New Zealand
CATEGORIES:Clubs
GEO:-38.8848957;175.261395
X-APPLE-STRUCTURED-LOCATION;VALUE=URI;X-ADDRESS=St Pauls Church Marae Street Taumarunui 3920 New Zealand;X-APPLE-RADIUS=500;X-TITLE=Marae Street:geo:175.261395,-38.8848957
END:VEVENT
BEGIN:VEVENT
DTSTART;TZID=Pacific/Auckland:20270913T000000
DTEND;TZID=Pacific/Auckland:20270913T000000
DTSTAMP:20260423T230456
CREATED:20241015T070524Z
LAST-MODIFIED:20241015T070556Z
UID:10005324-1820793600-1820793600@taumarunui.co.nz
SUMMARY:Ruapehu Quiltmakers
DESCRIPTION:Meet at St Paul’s Church Hall every Monday\, alternating day meetings (9.30am-1.30pm) and night meetings (2-5.30pm)
URL:https://taumarunui.co.nz/event/ruapehu-quiltmakers/2027-09-13/
LOCATION:St Pauls Church\, Marae Street\, Taumarunui\, 3920\, New Zealand
CATEGORIES:Clubs
GEO:-38.8848957;175.261395
X-APPLE-STRUCTURED-LOCATION;VALUE=URI;X-ADDRESS=St Pauls Church Marae Street Taumarunui 3920 New Zealand;X-APPLE-RADIUS=500;X-TITLE=Marae Street:geo:175.261395,-38.8848957
END:VEVENT
BEGIN:VEVENT
DTSTART;TZID=Pacific/Auckland:20270920T000000
DTEND;TZID=Pacific/Auckland:20270920T000000
DTSTAMP:20260423T230456
CREATED:20241015T070524Z
LAST-MODIFIED:20241015T070556Z
UID:10005325-1821398400-1821398400@taumarunui.co.nz
SUMMARY:Ruapehu Quiltmakers
DESCRIPTION:Meet at St Paul’s Church Hall every Monday\, alternating day meetings (9.30am-1.30pm) and night meetings (2-5.30pm)
URL:https://taumarunui.co.nz/event/ruapehu-quiltmakers/2027-09-20/
LOCATION:St Pauls Church\, Marae Street\, Taumarunui\, 3920\, New Zealand
CATEGORIES:Clubs
GEO:-38.8848957;175.261395
X-APPLE-STRUCTURED-LOCATION;VALUE=URI;X-ADDRESS=St Pauls Church Marae Street Taumarunui 3920 New Zealand;X-APPLE-RADIUS=500;X-TITLE=Marae Street:geo:175.261395,-38.8848957
END:VEVENT
BEGIN:VEVENT
DTSTART;TZID=Pacific/Auckland:20270927T000000
DTEND;TZID=Pacific/Auckland:20270927T000000
DTSTAMP:20260423T230456
CREATED:20241015T070524Z
LAST-MODIFIED:20241015T070556Z
UID:10005326-1822003200-1822003200@taumarunui.co.nz
SUMMARY:Ruapehu Quiltmakers
DESCRIPTION:Meet at St Paul’s Church Hall every Monday\, alternating day meetings (9.30am-1.30pm) and night meetings (2-5.30pm)
URL:https://taumarunui.co.nz/event/ruapehu-quiltmakers/2027-09-27/
LOCATION:St Pauls Church\, Marae Street\, Taumarunui\, 3920\, New Zealand
CATEGORIES:Clubs
GEO:-38.8848957;175.261395
X-APPLE-STRUCTURED-LOCATION;VALUE=URI;X-ADDRESS=St Pauls Church Marae Street Taumarunui 3920 New Zealand;X-APPLE-RADIUS=500;X-TITLE=Marae Street:geo:175.261395,-38.8848957
END:VEVENT
BEGIN:VEVENT
DTSTART;TZID=Pacific/Auckland:20271004T000000
DTEND;TZID=Pacific/Auckland:20271004T000000
DTSTAMP:20260423T230456
CREATED:20241015T070524Z
LAST-MODIFIED:20241015T070556Z
UID:10005327-1822608000-1822608000@taumarunui.co.nz
SUMMARY:Ruapehu Quiltmakers
DESCRIPTION:Meet at St Paul’s Church Hall every Monday\, alternating day meetings (9.30am-1.30pm) and night meetings (2-5.30pm)
URL:https://taumarunui.co.nz/event/ruapehu-quiltmakers/2027-10-04/
LOCATION:St Pauls Church\, Marae Street\, Taumarunui\, 3920\, New Zealand
CATEGORIES:Clubs
GEO:-38.8848957;175.261395
X-APPLE-STRUCTURED-LOCATION;VALUE=URI;X-ADDRESS=St Pauls Church Marae Street Taumarunui 3920 New Zealand;X-APPLE-RADIUS=500;X-TITLE=Marae Street:geo:175.261395,-38.8848957
END:VEVENT
BEGIN:VEVENT
DTSTART;TZID=Pacific/Auckland:20271011T000000
DTEND;TZID=Pacific/Auckland:20271011T000000
DTSTAMP:20260423T230456
CREATED:20241015T070524Z
LAST-MODIFIED:20241015T070556Z
UID:10005328-1823212800-1823212800@taumarunui.co.nz
SUMMARY:Ruapehu Quiltmakers
DESCRIPTION:Meet at St Paul’s Church Hall every Monday\, alternating day meetings (9.30am-1.30pm) and night meetings (2-5.30pm)
URL:https://taumarunui.co.nz/event/ruapehu-quiltmakers/2027-10-11/
LOCATION:St Pauls Church\, Marae Street\, Taumarunui\, 3920\, New Zealand
CATEGORIES:Clubs
GEO:-38.8848957;175.261395
X-APPLE-STRUCTURED-LOCATION;VALUE=URI;X-ADDRESS=St Pauls Church Marae Street Taumarunui 3920 New Zealand;X-APPLE-RADIUS=500;X-TITLE=Marae Street:geo:175.261395,-38.8848957
END:VEVENT
BEGIN:VEVENT
DTSTART;TZID=Pacific/Auckland:20271018T000000
DTEND;TZID=Pacific/Auckland:20271018T000000
DTSTAMP:20260423T230456
CREATED:20241015T070524Z
LAST-MODIFIED:20241015T070556Z
UID:10005329-1823817600-1823817600@taumarunui.co.nz
SUMMARY:Ruapehu Quiltmakers
DESCRIPTION:Meet at St Paul’s Church Hall every Monday\, alternating day meetings (9.30am-1.30pm) and night meetings (2-5.30pm)
URL:https://taumarunui.co.nz/event/ruapehu-quiltmakers/2027-10-18/
LOCATION:St Pauls Church\, Marae Street\, Taumarunui\, 3920\, New Zealand
CATEGORIES:Clubs
GEO:-38.8848957;175.261395
X-APPLE-STRUCTURED-LOCATION;VALUE=URI;X-ADDRESS=St Pauls Church Marae Street Taumarunui 3920 New Zealand;X-APPLE-RADIUS=500;X-TITLE=Marae Street:geo:175.261395,-38.8848957
END:VEVENT
END:VCALENDAR