BEGIN:VCALENDAR
VERSION:2.0
PRODID:-//Taumarunui - ECPv6.15.16//NONSGML v1.0//EN
CALSCALE:GREGORIAN
METHOD:PUBLISH
X-WR-CALNAME:Taumarunui
X-ORIGINAL-URL:https://taumarunui.co.nz
X-WR-CALDESC:Events for Taumarunui
REFRESH-INTERVAL;VALUE=DURATION:PT1H
X-Robots-Tag:noindex
X-PUBLISHED-TTL:PT1H
BEGIN:VTIMEZONE
TZID:Pacific/Auckland
BEGIN:STANDARD
TZOFFSETFROM:+1300
TZOFFSETTO:+1200
TZNAME:NZST
DTSTART:20250405T140000
END:STANDARD
BEGIN:DAYLIGHT
TZOFFSETFROM:+1200
TZOFFSETTO:+1300
TZNAME:NZDT
DTSTART:20250927T140000
END:DAYLIGHT
BEGIN:STANDARD
TZOFFSETFROM:+1300
TZOFFSETTO:+1200
TZNAME:NZST
DTSTART:20260404T140000
END:STANDARD
BEGIN:DAYLIGHT
TZOFFSETFROM:+1200
TZOFFSETTO:+1300
TZNAME:NZDT
DTSTART:20260926T140000
END:DAYLIGHT
BEGIN:STANDARD
TZOFFSETFROM:+1300
TZOFFSETTO:+1200
TZNAME:NZST
DTSTART:20270403T140000
END:STANDARD
BEGIN:DAYLIGHT
TZOFFSETFROM:+1200
TZOFFSETTO:+1300
TZNAME:NZDT
DTSTART:20270925T140000
END:DAYLIGHT
BEGIN:STANDARD
TZOFFSETFROM:+1300
TZOFFSETTO:+1200
TZNAME:NZST
DTSTART:20280401T140000
END:STANDARD
BEGIN:DAYLIGHT
TZOFFSETFROM:+1200
TZOFFSETTO:+1300
TZNAME:NZDT
DTSTART:20280923T140000
END:DAYLIGHT
BEGIN:STANDARD
TZOFFSETFROM:+1300
TZOFFSETTO:+1200
TZNAME:NZST
DTSTART:20290331T140000
END:STANDARD
BEGIN:DAYLIGHT
TZOFFSETFROM:+1200
TZOFFSETTO:+1300
TZNAME:NZDT
DTSTART:20290929T140000
END:DAYLIGHT
END:VTIMEZONE
BEGIN:VEVENT
DTSTART;TZID=Pacific/Auckland:20260503T100000
DTEND;TZID=Pacific/Auckland:20260503T130000
DTSTAMP:20260420T081434
CREATED:20240922T224805Z
LAST-MODIFIED:20241030T211520Z
UID:10000555-1777802400-1777813200@taumarunui.co.nz
SUMMARY:Ohura Valley Market
DESCRIPTION:First Sunday of the month 10am-1pm. Ohura Memorial Hall \nEmail: ohuravalleymarket@gmail.com or mobile: 027 717 0963
URL:https://taumarunui.co.nz/event/ohura-market/2026-05-03/
LOCATION:Ohura Memorial Hall\, Ōhura\, New Zealand
ATTACH;FMTTYPE=image/jpeg:https://taumarunui.co.nz/wp-content/uploads/2024/09/IMG_8175.jpeg
GEO:-38.8419216;174.9830554
END:VEVENT
BEGIN:VEVENT
DTSTART;TZID=Pacific/Auckland:20260607T100000
DTEND;TZID=Pacific/Auckland:20260607T130000
DTSTAMP:20260420T081434
CREATED:20240922T224805Z
LAST-MODIFIED:20241030T211520Z
UID:10000556-1780826400-1780837200@taumarunui.co.nz
SUMMARY:Ohura Valley Market
DESCRIPTION:First Sunday of the month 10am-1pm. Ohura Memorial Hall \nEmail: ohuravalleymarket@gmail.com or mobile: 027 717 0963
URL:https://taumarunui.co.nz/event/ohura-market/2026-06-07/
LOCATION:Ohura Memorial Hall\, Ōhura\, New Zealand
ATTACH;FMTTYPE=image/jpeg:https://taumarunui.co.nz/wp-content/uploads/2024/09/IMG_8175.jpeg
GEO:-38.8419216;174.9830554
END:VEVENT
BEGIN:VEVENT
DTSTART;TZID=Pacific/Auckland:20260705T100000
DTEND;TZID=Pacific/Auckland:20260705T130000
DTSTAMP:20260420T081434
CREATED:20240922T224805Z
LAST-MODIFIED:20241030T211520Z
UID:10000557-1783245600-1783256400@taumarunui.co.nz
SUMMARY:Ohura Valley Market
DESCRIPTION:First Sunday of the month 10am-1pm. Ohura Memorial Hall \nEmail: ohuravalleymarket@gmail.com or mobile: 027 717 0963
URL:https://taumarunui.co.nz/event/ohura-market/2026-07-05/
LOCATION:Ohura Memorial Hall\, Ōhura\, New Zealand
ATTACH;FMTTYPE=image/jpeg:https://taumarunui.co.nz/wp-content/uploads/2024/09/IMG_8175.jpeg
GEO:-38.8419216;174.9830554
END:VEVENT
BEGIN:VEVENT
DTSTART;TZID=Pacific/Auckland:20260802T100000
DTEND;TZID=Pacific/Auckland:20260802T130000
DTSTAMP:20260420T081434
CREATED:20240922T224805Z
LAST-MODIFIED:20241030T211520Z
UID:10000558-1785664800-1785675600@taumarunui.co.nz
SUMMARY:Ohura Valley Market
DESCRIPTION:First Sunday of the month 10am-1pm. Ohura Memorial Hall \nEmail: ohuravalleymarket@gmail.com or mobile: 027 717 0963
URL:https://taumarunui.co.nz/event/ohura-market/2026-08-02/
LOCATION:Ohura Memorial Hall\, Ōhura\, New Zealand
ATTACH;FMTTYPE=image/jpeg:https://taumarunui.co.nz/wp-content/uploads/2024/09/IMG_8175.jpeg
GEO:-38.8419216;174.9830554
END:VEVENT
BEGIN:VEVENT
DTSTART;TZID=Pacific/Auckland:20260906T100000
DTEND;TZID=Pacific/Auckland:20260906T130000
DTSTAMP:20260420T081434
CREATED:20240922T224805Z
LAST-MODIFIED:20241030T211520Z
UID:10000559-1788688800-1788699600@taumarunui.co.nz
SUMMARY:Ohura Valley Market
DESCRIPTION:First Sunday of the month 10am-1pm. Ohura Memorial Hall \nEmail: ohuravalleymarket@gmail.com or mobile: 027 717 0963
URL:https://taumarunui.co.nz/event/ohura-market/2026-09-06/
LOCATION:Ohura Memorial Hall\, Ōhura\, New Zealand
ATTACH;FMTTYPE=image/jpeg:https://taumarunui.co.nz/wp-content/uploads/2024/09/IMG_8175.jpeg
GEO:-38.8419216;174.9830554
END:VEVENT
BEGIN:VEVENT
DTSTART;TZID=Pacific/Auckland:20261004T100000
DTEND;TZID=Pacific/Auckland:20261004T130000
DTSTAMP:20260420T081434
CREATED:20240922T224805Z
LAST-MODIFIED:20241030T211520Z
UID:10000560-1791108000-1791118800@taumarunui.co.nz
SUMMARY:Ohura Valley Market
DESCRIPTION:First Sunday of the month 10am-1pm. Ohura Memorial Hall \nEmail: ohuravalleymarket@gmail.com or mobile: 027 717 0963
URL:https://taumarunui.co.nz/event/ohura-market/2026-10-04/
LOCATION:Ohura Memorial Hall\, Ōhura\, New Zealand
ATTACH;FMTTYPE=image/jpeg:https://taumarunui.co.nz/wp-content/uploads/2024/09/IMG_8175.jpeg
GEO:-38.8419216;174.9830554
END:VEVENT
BEGIN:VEVENT
DTSTART;TZID=Pacific/Auckland:20261101T100000
DTEND;TZID=Pacific/Auckland:20261101T130000
DTSTAMP:20260420T081434
CREATED:20240922T224805Z
LAST-MODIFIED:20241030T211520Z
UID:10000561-1793527200-1793538000@taumarunui.co.nz
SUMMARY:Ohura Valley Market
DESCRIPTION:First Sunday of the month 10am-1pm. Ohura Memorial Hall \nEmail: ohuravalleymarket@gmail.com or mobile: 027 717 0963
URL:https://taumarunui.co.nz/event/ohura-market/2026-11-01/
LOCATION:Ohura Memorial Hall\, Ōhura\, New Zealand
ATTACH;FMTTYPE=image/jpeg:https://taumarunui.co.nz/wp-content/uploads/2024/09/IMG_8175.jpeg
GEO:-38.8419216;174.9830554
END:VEVENT
BEGIN:VEVENT
DTSTART;TZID=Pacific/Auckland:20261206T100000
DTEND;TZID=Pacific/Auckland:20261206T130000
DTSTAMP:20260420T081434
CREATED:20240922T224805Z
LAST-MODIFIED:20241030T211520Z
UID:10000562-1796551200-1796562000@taumarunui.co.nz
SUMMARY:Ohura Valley Market
DESCRIPTION:First Sunday of the month 10am-1pm. Ohura Memorial Hall \nEmail: ohuravalleymarket@gmail.com or mobile: 027 717 0963
URL:https://taumarunui.co.nz/event/ohura-market/2026-12-06/
LOCATION:Ohura Memorial Hall\, Ōhura\, New Zealand
ATTACH;FMTTYPE=image/jpeg:https://taumarunui.co.nz/wp-content/uploads/2024/09/IMG_8175.jpeg
GEO:-38.8419216;174.9830554
END:VEVENT
BEGIN:VEVENT
DTSTART;TZID=Pacific/Auckland:20270103T100000
DTEND;TZID=Pacific/Auckland:20270103T130000
DTSTAMP:20260420T081434
CREATED:20240922T224805Z
LAST-MODIFIED:20241030T211520Z
UID:10000563-1798970400-1798981200@taumarunui.co.nz
SUMMARY:Ohura Valley Market
DESCRIPTION:First Sunday of the month 10am-1pm. Ohura Memorial Hall \nEmail: ohuravalleymarket@gmail.com or mobile: 027 717 0963
URL:https://taumarunui.co.nz/event/ohura-market/2027-01-03/
LOCATION:Ohura Memorial Hall\, Ōhura\, New Zealand
ATTACH;FMTTYPE=image/jpeg:https://taumarunui.co.nz/wp-content/uploads/2024/09/IMG_8175.jpeg
GEO:-38.8419216;174.9830554
END:VEVENT
BEGIN:VEVENT
DTSTART;TZID=Pacific/Auckland:20270207T100000
DTEND;TZID=Pacific/Auckland:20270207T130000
DTSTAMP:20260420T081434
CREATED:20240922T224805Z
LAST-MODIFIED:20241030T211520Z
UID:10000564-1801994400-1802005200@taumarunui.co.nz
SUMMARY:Ohura Valley Market
DESCRIPTION:First Sunday of the month 10am-1pm. Ohura Memorial Hall \nEmail: ohuravalleymarket@gmail.com or mobile: 027 717 0963
URL:https://taumarunui.co.nz/event/ohura-market/2027-02-07/
LOCATION:Ohura Memorial Hall\, Ōhura\, New Zealand
ATTACH;FMTTYPE=image/jpeg:https://taumarunui.co.nz/wp-content/uploads/2024/09/IMG_8175.jpeg
GEO:-38.8419216;174.9830554
END:VEVENT
BEGIN:VEVENT
DTSTART;TZID=Pacific/Auckland:20270307T100000
DTEND;TZID=Pacific/Auckland:20270307T130000
DTSTAMP:20260420T081434
CREATED:20240922T224805Z
LAST-MODIFIED:20241030T211520Z
UID:10000565-1804413600-1804424400@taumarunui.co.nz
SUMMARY:Ohura Valley Market
DESCRIPTION:First Sunday of the month 10am-1pm. Ohura Memorial Hall \nEmail: ohuravalleymarket@gmail.com or mobile: 027 717 0963
URL:https://taumarunui.co.nz/event/ohura-market/2027-03-07/
LOCATION:Ohura Memorial Hall\, Ōhura\, New Zealand
ATTACH;FMTTYPE=image/jpeg:https://taumarunui.co.nz/wp-content/uploads/2024/09/IMG_8175.jpeg
GEO:-38.8419216;174.9830554
END:VEVENT
BEGIN:VEVENT
DTSTART;TZID=Pacific/Auckland:20270404T100000
DTEND;TZID=Pacific/Auckland:20270404T130000
DTSTAMP:20260420T081434
CREATED:20240922T224805Z
LAST-MODIFIED:20241030T211520Z
UID:10000566-1806832800-1806843600@taumarunui.co.nz
SUMMARY:Ohura Valley Market
DESCRIPTION:First Sunday of the month 10am-1pm. Ohura Memorial Hall \nEmail: ohuravalleymarket@gmail.com or mobile: 027 717 0963
URL:https://taumarunui.co.nz/event/ohura-market/2027-04-04/
LOCATION:Ohura Memorial Hall\, Ōhura\, New Zealand
ATTACH;FMTTYPE=image/jpeg:https://taumarunui.co.nz/wp-content/uploads/2024/09/IMG_8175.jpeg
GEO:-38.8419216;174.9830554
END:VEVENT
BEGIN:VEVENT
DTSTART;TZID=Pacific/Auckland:20270502T100000
DTEND;TZID=Pacific/Auckland:20270502T130000
DTSTAMP:20260420T081434
CREATED:20240922T224805Z
LAST-MODIFIED:20241030T211520Z
UID:10000567-1809252000-1809262800@taumarunui.co.nz
SUMMARY:Ohura Valley Market
DESCRIPTION:First Sunday of the month 10am-1pm. Ohura Memorial Hall \nEmail: ohuravalleymarket@gmail.com or mobile: 027 717 0963
URL:https://taumarunui.co.nz/event/ohura-market/2027-05-02/
LOCATION:Ohura Memorial Hall\, Ōhura\, New Zealand
ATTACH;FMTTYPE=image/jpeg:https://taumarunui.co.nz/wp-content/uploads/2024/09/IMG_8175.jpeg
GEO:-38.8419216;174.9830554
END:VEVENT
BEGIN:VEVENT
DTSTART;TZID=Pacific/Auckland:20270606T100000
DTEND;TZID=Pacific/Auckland:20270606T130000
DTSTAMP:20260420T081434
CREATED:20240922T224805Z
LAST-MODIFIED:20241030T211520Z
UID:10000568-1812276000-1812286800@taumarunui.co.nz
SUMMARY:Ohura Valley Market
DESCRIPTION:First Sunday of the month 10am-1pm. Ohura Memorial Hall \nEmail: ohuravalleymarket@gmail.com or mobile: 027 717 0963
URL:https://taumarunui.co.nz/event/ohura-market/2027-06-06/
LOCATION:Ohura Memorial Hall\, Ōhura\, New Zealand
ATTACH;FMTTYPE=image/jpeg:https://taumarunui.co.nz/wp-content/uploads/2024/09/IMG_8175.jpeg
GEO:-38.8419216;174.9830554
END:VEVENT
BEGIN:VEVENT
DTSTART;TZID=Pacific/Auckland:20270704T100000
DTEND;TZID=Pacific/Auckland:20270704T130000
DTSTAMP:20260420T081434
CREATED:20240922T224805Z
LAST-MODIFIED:20241030T211520Z
UID:10000569-1814695200-1814706000@taumarunui.co.nz
SUMMARY:Ohura Valley Market
DESCRIPTION:First Sunday of the month 10am-1pm. Ohura Memorial Hall \nEmail: ohuravalleymarket@gmail.com or mobile: 027 717 0963
URL:https://taumarunui.co.nz/event/ohura-market/2027-07-04/
LOCATION:Ohura Memorial Hall\, Ōhura\, New Zealand
ATTACH;FMTTYPE=image/jpeg:https://taumarunui.co.nz/wp-content/uploads/2024/09/IMG_8175.jpeg
GEO:-38.8419216;174.9830554
END:VEVENT
BEGIN:VEVENT
DTSTART;TZID=Pacific/Auckland:20270801T100000
DTEND;TZID=Pacific/Auckland:20270801T130000
DTSTAMP:20260420T081434
CREATED:20240922T224805Z
LAST-MODIFIED:20241030T211520Z
UID:10000570-1817114400-1817125200@taumarunui.co.nz
SUMMARY:Ohura Valley Market
DESCRIPTION:First Sunday of the month 10am-1pm. Ohura Memorial Hall \nEmail: ohuravalleymarket@gmail.com or mobile: 027 717 0963
URL:https://taumarunui.co.nz/event/ohura-market/2027-08-01/
LOCATION:Ohura Memorial Hall\, Ōhura\, New Zealand
ATTACH;FMTTYPE=image/jpeg:https://taumarunui.co.nz/wp-content/uploads/2024/09/IMG_8175.jpeg
GEO:-38.8419216;174.9830554
END:VEVENT
BEGIN:VEVENT
DTSTART;TZID=Pacific/Auckland:20270905T100000
DTEND;TZID=Pacific/Auckland:20270905T130000
DTSTAMP:20260420T081434
CREATED:20240922T224805Z
LAST-MODIFIED:20241030T211520Z
UID:10000571-1820138400-1820149200@taumarunui.co.nz
SUMMARY:Ohura Valley Market
DESCRIPTION:First Sunday of the month 10am-1pm. Ohura Memorial Hall \nEmail: ohuravalleymarket@gmail.com or mobile: 027 717 0963
URL:https://taumarunui.co.nz/event/ohura-market/2027-09-05/
LOCATION:Ohura Memorial Hall\, Ōhura\, New Zealand
ATTACH;FMTTYPE=image/jpeg:https://taumarunui.co.nz/wp-content/uploads/2024/09/IMG_8175.jpeg
GEO:-38.8419216;174.9830554
END:VEVENT
BEGIN:VEVENT
DTSTART;TZID=Pacific/Auckland:20271003T100000
DTEND;TZID=Pacific/Auckland:20271003T130000
DTSTAMP:20260420T081434
CREATED:20240922T224805Z
LAST-MODIFIED:20241030T211520Z
UID:10000572-1822557600-1822568400@taumarunui.co.nz
SUMMARY:Ohura Valley Market
DESCRIPTION:First Sunday of the month 10am-1pm. Ohura Memorial Hall \nEmail: ohuravalleymarket@gmail.com or mobile: 027 717 0963
URL:https://taumarunui.co.nz/event/ohura-market/2027-10-03/
LOCATION:Ohura Memorial Hall\, Ōhura\, New Zealand
ATTACH;FMTTYPE=image/jpeg:https://taumarunui.co.nz/wp-content/uploads/2024/09/IMG_8175.jpeg
GEO:-38.8419216;174.9830554
END:VEVENT
BEGIN:VEVENT
DTSTART;TZID=Pacific/Auckland:20271107T100000
DTEND;TZID=Pacific/Auckland:20271107T130000
DTSTAMP:20260420T081434
CREATED:20240922T224805Z
LAST-MODIFIED:20241030T211520Z
UID:10000573-1825581600-1825592400@taumarunui.co.nz
SUMMARY:Ohura Valley Market
DESCRIPTION:First Sunday of the month 10am-1pm. Ohura Memorial Hall \nEmail: ohuravalleymarket@gmail.com or mobile: 027 717 0963
URL:https://taumarunui.co.nz/event/ohura-market/2027-11-07/
LOCATION:Ohura Memorial Hall\, Ōhura\, New Zealand
ATTACH;FMTTYPE=image/jpeg:https://taumarunui.co.nz/wp-content/uploads/2024/09/IMG_8175.jpeg
GEO:-38.8419216;174.9830554
END:VEVENT
BEGIN:VEVENT
DTSTART;TZID=Pacific/Auckland:20271205T100000
DTEND;TZID=Pacific/Auckland:20271205T130000
DTSTAMP:20260420T081434
CREATED:20240922T224805Z
LAST-MODIFIED:20241030T211520Z
UID:10000574-1828000800-1828011600@taumarunui.co.nz
SUMMARY:Ohura Valley Market
DESCRIPTION:First Sunday of the month 10am-1pm. Ohura Memorial Hall \nEmail: ohuravalleymarket@gmail.com or mobile: 027 717 0963
URL:https://taumarunui.co.nz/event/ohura-market/2027-12-05/
LOCATION:Ohura Memorial Hall\, Ōhura\, New Zealand
ATTACH;FMTTYPE=image/jpeg:https://taumarunui.co.nz/wp-content/uploads/2024/09/IMG_8175.jpeg
GEO:-38.8419216;174.9830554
END:VEVENT
BEGIN:VEVENT
DTSTART;TZID=Pacific/Auckland:20280102T100000
DTEND;TZID=Pacific/Auckland:20280102T130000
DTSTAMP:20260420T081434
CREATED:20240922T224805Z
LAST-MODIFIED:20241030T211520Z
UID:10000575-1830420000-1830430800@taumarunui.co.nz
SUMMARY:Ohura Valley Market
DESCRIPTION:First Sunday of the month 10am-1pm. Ohura Memorial Hall \nEmail: ohuravalleymarket@gmail.com or mobile: 027 717 0963
URL:https://taumarunui.co.nz/event/ohura-market/2028-01-02/
LOCATION:Ohura Memorial Hall\, Ōhura\, New Zealand
ATTACH;FMTTYPE=image/jpeg:https://taumarunui.co.nz/wp-content/uploads/2024/09/IMG_8175.jpeg
GEO:-38.8419216;174.9830554
END:VEVENT
BEGIN:VEVENT
DTSTART;TZID=Pacific/Auckland:20280206T100000
DTEND;TZID=Pacific/Auckland:20280206T130000
DTSTAMP:20260420T081434
CREATED:20240922T224805Z
LAST-MODIFIED:20241030T211520Z
UID:10000576-1833444000-1833454800@taumarunui.co.nz
SUMMARY:Ohura Valley Market
DESCRIPTION:First Sunday of the month 10am-1pm. Ohura Memorial Hall \nEmail: ohuravalleymarket@gmail.com or mobile: 027 717 0963
URL:https://taumarunui.co.nz/event/ohura-market/2028-02-06/
LOCATION:Ohura Memorial Hall\, Ōhura\, New Zealand
ATTACH;FMTTYPE=image/jpeg:https://taumarunui.co.nz/wp-content/uploads/2024/09/IMG_8175.jpeg
GEO:-38.8419216;174.9830554
END:VEVENT
BEGIN:VEVENT
DTSTART;TZID=Pacific/Auckland:20280305T100000
DTEND;TZID=Pacific/Auckland:20280305T130000
DTSTAMP:20260420T081434
CREATED:20240922T224805Z
LAST-MODIFIED:20241030T211520Z
UID:10000577-1835863200-1835874000@taumarunui.co.nz
SUMMARY:Ohura Valley Market
DESCRIPTION:First Sunday of the month 10am-1pm. Ohura Memorial Hall \nEmail: ohuravalleymarket@gmail.com or mobile: 027 717 0963
URL:https://taumarunui.co.nz/event/ohura-market/2028-03-05/
LOCATION:Ohura Memorial Hall\, Ōhura\, New Zealand
ATTACH;FMTTYPE=image/jpeg:https://taumarunui.co.nz/wp-content/uploads/2024/09/IMG_8175.jpeg
GEO:-38.8419216;174.9830554
END:VEVENT
BEGIN:VEVENT
DTSTART;TZID=Pacific/Auckland:20280402T100000
DTEND;TZID=Pacific/Auckland:20280402T130000
DTSTAMP:20260420T081434
CREATED:20240922T224805Z
LAST-MODIFIED:20241030T211520Z
UID:10000578-1838282400-1838293200@taumarunui.co.nz
SUMMARY:Ohura Valley Market
DESCRIPTION:First Sunday of the month 10am-1pm. Ohura Memorial Hall \nEmail: ohuravalleymarket@gmail.com or mobile: 027 717 0963
URL:https://taumarunui.co.nz/event/ohura-market/2028-04-02/
LOCATION:Ohura Memorial Hall\, Ōhura\, New Zealand
ATTACH;FMTTYPE=image/jpeg:https://taumarunui.co.nz/wp-content/uploads/2024/09/IMG_8175.jpeg
GEO:-38.8419216;174.9830554
END:VEVENT
BEGIN:VEVENT
DTSTART;TZID=Pacific/Auckland:20280507T100000
DTEND;TZID=Pacific/Auckland:20280507T130000
DTSTAMP:20260420T081434
CREATED:20240922T224805Z
LAST-MODIFIED:20241030T211520Z
UID:10000579-1841306400-1841317200@taumarunui.co.nz
SUMMARY:Ohura Valley Market
DESCRIPTION:First Sunday of the month 10am-1pm. Ohura Memorial Hall \nEmail: ohuravalleymarket@gmail.com or mobile: 027 717 0963
URL:https://taumarunui.co.nz/event/ohura-market/2028-05-07/
LOCATION:Ohura Memorial Hall\, Ōhura\, New Zealand
ATTACH;FMTTYPE=image/jpeg:https://taumarunui.co.nz/wp-content/uploads/2024/09/IMG_8175.jpeg
GEO:-38.8419216;174.9830554
END:VEVENT
BEGIN:VEVENT
DTSTART;TZID=Pacific/Auckland:20280604T100000
DTEND;TZID=Pacific/Auckland:20280604T130000
DTSTAMP:20260420T081434
CREATED:20240922T224805Z
LAST-MODIFIED:20241030T211520Z
UID:10000580-1843725600-1843736400@taumarunui.co.nz
SUMMARY:Ohura Valley Market
DESCRIPTION:First Sunday of the month 10am-1pm. Ohura Memorial Hall \nEmail: ohuravalleymarket@gmail.com or mobile: 027 717 0963
URL:https://taumarunui.co.nz/event/ohura-market/2028-06-04/
LOCATION:Ohura Memorial Hall\, Ōhura\, New Zealand
ATTACH;FMTTYPE=image/jpeg:https://taumarunui.co.nz/wp-content/uploads/2024/09/IMG_8175.jpeg
GEO:-38.8419216;174.9830554
END:VEVENT
BEGIN:VEVENT
DTSTART;TZID=Pacific/Auckland:20280702T100000
DTEND;TZID=Pacific/Auckland:20280702T130000
DTSTAMP:20260420T081434
CREATED:20240922T224805Z
LAST-MODIFIED:20241030T211520Z
UID:10000581-1846144800-1846155600@taumarunui.co.nz
SUMMARY:Ohura Valley Market
DESCRIPTION:First Sunday of the month 10am-1pm. Ohura Memorial Hall \nEmail: ohuravalleymarket@gmail.com or mobile: 027 717 0963
URL:https://taumarunui.co.nz/event/ohura-market/2028-07-02/
LOCATION:Ohura Memorial Hall\, Ōhura\, New Zealand
ATTACH;FMTTYPE=image/jpeg:https://taumarunui.co.nz/wp-content/uploads/2024/09/IMG_8175.jpeg
GEO:-38.8419216;174.9830554
END:VEVENT
BEGIN:VEVENT
DTSTART;TZID=Pacific/Auckland:20280806T100000
DTEND;TZID=Pacific/Auckland:20280806T130000
DTSTAMP:20260420T081434
CREATED:20240922T224805Z
LAST-MODIFIED:20241030T211520Z
UID:10000582-1849168800-1849179600@taumarunui.co.nz
SUMMARY:Ohura Valley Market
DESCRIPTION:First Sunday of the month 10am-1pm. Ohura Memorial Hall \nEmail: ohuravalleymarket@gmail.com or mobile: 027 717 0963
URL:https://taumarunui.co.nz/event/ohura-market/2028-08-06/
LOCATION:Ohura Memorial Hall\, Ōhura\, New Zealand
ATTACH;FMTTYPE=image/jpeg:https://taumarunui.co.nz/wp-content/uploads/2024/09/IMG_8175.jpeg
GEO:-38.8419216;174.9830554
END:VEVENT
BEGIN:VEVENT
DTSTART;TZID=Pacific/Auckland:20280903T100000
DTEND;TZID=Pacific/Auckland:20280903T130000
DTSTAMP:20260420T081434
CREATED:20240922T224805Z
LAST-MODIFIED:20241030T211520Z
UID:10000583-1851588000-1851598800@taumarunui.co.nz
SUMMARY:Ohura Valley Market
DESCRIPTION:First Sunday of the month 10am-1pm. Ohura Memorial Hall \nEmail: ohuravalleymarket@gmail.com or mobile: 027 717 0963
URL:https://taumarunui.co.nz/event/ohura-market/2028-09-03/
LOCATION:Ohura Memorial Hall\, Ōhura\, New Zealand
ATTACH;FMTTYPE=image/jpeg:https://taumarunui.co.nz/wp-content/uploads/2024/09/IMG_8175.jpeg
GEO:-38.8419216;174.9830554
END:VEVENT
BEGIN:VEVENT
DTSTART;TZID=Pacific/Auckland:20281001T100000
DTEND;TZID=Pacific/Auckland:20281001T130000
DTSTAMP:20260420T081434
CREATED:20240922T224805Z
LAST-MODIFIED:20241030T211520Z
UID:10000584-1854007200-1854018000@taumarunui.co.nz
SUMMARY:Ohura Valley Market
DESCRIPTION:First Sunday of the month 10am-1pm. Ohura Memorial Hall \nEmail: ohuravalleymarket@gmail.com or mobile: 027 717 0963
URL:https://taumarunui.co.nz/event/ohura-market/2028-10-01/
LOCATION:Ohura Memorial Hall\, Ōhura\, New Zealand
ATTACH;FMTTYPE=image/jpeg:https://taumarunui.co.nz/wp-content/uploads/2024/09/IMG_8175.jpeg
GEO:-38.8419216;174.9830554
END:VEVENT
END:VCALENDAR