BEGIN:VCALENDAR
VERSION:2.0
PRODID:-//Taumarunui - ECPv6.15.16//NONSGML v1.0//EN
CALSCALE:GREGORIAN
METHOD:PUBLISH
X-ORIGINAL-URL:https://taumarunui.co.nz
X-WR-CALDESC:Events for Taumarunui
REFRESH-INTERVAL;VALUE=DURATION:PT1H
X-Robots-Tag:noindex
X-PUBLISHED-TTL:PT1H
BEGIN:VTIMEZONE
TZID:Pacific/Auckland
BEGIN:STANDARD
TZOFFSETFROM:+1300
TZOFFSETTO:+1200
TZNAME:NZST
DTSTART:20240406T140000
END:STANDARD
BEGIN:DAYLIGHT
TZOFFSETFROM:+1200
TZOFFSETTO:+1300
TZNAME:NZDT
DTSTART:20240928T140000
END:DAYLIGHT
BEGIN:STANDARD
TZOFFSETFROM:+1300
TZOFFSETTO:+1200
TZNAME:NZST
DTSTART:20250405T140000
END:STANDARD
BEGIN:DAYLIGHT
TZOFFSETFROM:+1200
TZOFFSETTO:+1300
TZNAME:NZDT
DTSTART:20250927T140000
END:DAYLIGHT
BEGIN:STANDARD
TZOFFSETFROM:+1300
TZOFFSETTO:+1200
TZNAME:NZST
DTSTART:20260404T140000
END:STANDARD
BEGIN:DAYLIGHT
TZOFFSETFROM:+1200
TZOFFSETTO:+1300
TZNAME:NZDT
DTSTART:20260926T140000
END:DAYLIGHT
END:VTIMEZONE
BEGIN:VEVENT
DTSTART;TZID=Pacific/Auckland:20250517T090000
DTEND;TZID=Pacific/Auckland:20250517T140000
DTSTAMP:20260421T124210
CREATED:20241222T210914Z
LAST-MODIFIED:20241222T210914Z
UID:10009725-1747472400-1747490400@taumarunui.co.nz
SUMMARY:Kakahi Village Market
DESCRIPTION:🌟 We are super excited to announce the date for our very first Kākahi Market! 🎉 Mark your calendars for **15th February 2025**! \nGet ready for a day filled with amazing local vendors\, delicious food\, and vibrant community spirit. We’re looking to showcase startup businesses and side hustles\, along with live music and talented local artists! 🎶 \nPlus\, this will be the same day as the Kākahi Rodeo\, so our town will be bustling with a fantastic country vibe! 🤠 If anyone wants to book a stall\, please contact Fiona at **027 357 7255**. We can’t wait to see you there! 🛍️✨ Stay tuned for more updates! #KākahiMarket #SaveTheDate #CountryVibes
URL:https://taumarunui.co.nz/event/kakahi-village-market/2025-05-17/
CATEGORIES:Event,Markets
ATTACH;FMTTYPE=image/jpeg:https://taumarunui.co.nz/wp-content/uploads/2024/12/IMG_8934.jpeg
END:VEVENT
BEGIN:VEVENT
DTSTART;TZID=Pacific/Auckland:20250517T100000
DTEND;TZID=Pacific/Auckland:20250517T110000
DTSTAMP:20260421T124210
CREATED:20241015T061524Z
LAST-MODIFIED:20241024T053057Z
UID:10003540-1747476000-1747479600@taumarunui.co.nz
SUMMARY:Ruapehu Toy Library
DESCRIPTION:We are open on Thursday and Saturday. Situated in the Taumarunui Arts Centre \nWe welcome any new members
URL:https://taumarunui.co.nz/event/ruapehu-toy-library-2/2025-05-17/
CATEGORIES:Children
ATTACH;FMTTYPE=image/jpeg:https://taumarunui.co.nz/wp-content/uploads/2024/10/IMG_8156-scaled.jpeg
END:VEVENT
BEGIN:VEVENT
DTSTART;TZID=Pacific/Auckland:20250517T100000
DTEND;TZID=Pacific/Auckland:20250517T150000
DTSTAMP:20260421T124210
CREATED:20241015T050012Z
LAST-MODIFIED:20241015T050012Z
UID:10003101-1747476000-1747494000@taumarunui.co.nz
SUMMARY:Foundational Wananga
DESCRIPTION:Traditional Maori Healing classes
URL:https://taumarunui.co.nz/event/foundational-wananga/2025-05-17/
LOCATION:Taumarunui\, Taumarunui\, New Zealand
CATEGORIES:Classes
ATTACH;FMTTYPE=image/jpeg:https://taumarunui.co.nz/wp-content/uploads/2024/09/IMG_8010.jpg
GEO:-38.8832802;175.2563657
END:VEVENT
BEGIN:VEVENT
DTSTART;TZID=Pacific/Auckland:20250518T130000
DTEND;TZID=Pacific/Auckland:20250518T150000
DTSTAMP:20260421T124210
CREATED:20241120T001711Z
LAST-MODIFIED:20241120T001816Z
UID:10009540-1747573200-1747580400@taumarunui.co.nz
SUMMARY:Taumarunui Country Music Club
DESCRIPTION:Come on down and enjoy afternoon tea with a great music lineup \nCover charge $3 \nEvery 3rd Sunday of month at the RSA
URL:https://taumarunui.co.nz/event/taumarunui-country-music-club/2025-05-18/
LOCATION:Taumarunui RSA
CATEGORIES:Clubs
ATTACH;FMTTYPE=image/jpeg:https://taumarunui.co.nz/wp-content/uploads/2024/11/IMG_8344-scaled.jpeg
END:VEVENT
BEGIN:VEVENT
DTSTART;TZID=Pacific/Auckland:20250519T000000
DTEND;TZID=Pacific/Auckland:20250519T000000
DTSTAMP:20260421T124210
CREATED:20241015T070524Z
LAST-MODIFIED:20241015T070556Z
UID:10005203-1747612800-1747612800@taumarunui.co.nz
SUMMARY:Ruapehu Quiltmakers
DESCRIPTION:Meet at St Paul’s Church Hall every Monday\, alternating day meetings (9.30am-1.30pm) and night meetings (2-5.30pm)
URL:https://taumarunui.co.nz/event/ruapehu-quiltmakers/2025-05-19/
LOCATION:St Pauls Church\, Marae Street\, Taumarunui\, 3920\, New Zealand
CATEGORIES:Clubs
GEO:-38.8848957;175.261395
X-APPLE-STRUCTURED-LOCATION;VALUE=URI;X-ADDRESS=St Pauls Church Marae Street Taumarunui 3920 New Zealand;X-APPLE-RADIUS=500;X-TITLE=Marae Street:geo:175.261395,-38.8848957
END:VEVENT
BEGIN:VEVENT
DTSTART;TZID=Pacific/Auckland:20250519T130000
DTEND;TZID=Pacific/Auckland:20250519T150000
DTSTAMP:20260421T124210
CREATED:20241105T043700Z
LAST-MODIFIED:20241105T050155Z
UID:10006717-1747659600-1747666800@taumarunui.co.nz
SUMMARY:Taumarunui & District Women’s Club Circles - Bolivia
DESCRIPTION:Every Monday \nVisitors & new members welcome
URL:https://taumarunui.co.nz/event/taumarunui-district-womens-club-circles-bolivia/2025-05-19/
LOCATION:Taumarunui Women’s Refuge & Support Centre\, 57 Miriama Street\, Taumarunui\, New Zealand
CATEGORIES:Clubs
END:VEVENT
BEGIN:VEVENT
DTSTART;TZID=Pacific/Auckland:20250519T163000
DTEND;TZID=Pacific/Auckland:20250519T191500
DTSTAMP:20260421T124210
CREATED:20241015T064459Z
LAST-MODIFIED:20241015T073820Z
UID:10004181-1747672200-1747682100@taumarunui.co.nz
SUMMARY:Kyokushin Karate
DESCRIPTION:Traditional training every Monday & Wednesday. \nExtra fitness fight class on Friday \n7-12 year olds 4.30 – 5.30pm \nTeens & Adults 5.45pm – 7.15pm
URL:https://taumarunui.co.nz/event/kyokushin-karate/2025-05-19/
LOCATION:Kyokushin Karate\, 4 Marae Street\, Taumarunui\, New Zealand
CATEGORIES:Children,Clubs,Sport
ATTACH;FMTTYPE=image/jpeg:https://taumarunui.co.nz/wp-content/uploads/2024/10/IMG_8094.jpg
END:VEVENT
BEGIN:VEVENT
DTSTART;TZID=Pacific/Auckland:20250519T173000
DTEND;TZID=Pacific/Auckland:20250519T193000
DTSTAMP:20260421T124210
CREATED:20240922T225808Z
LAST-MODIFIED:20241015T053932Z
UID:10000604-1747675800-1747683000@taumarunui.co.nz
SUMMARY:Taumarunui Rotary Club
DESCRIPTION:1st and 3rd Monday of month\, 5.30pm\, upstairs lounge at the RSA. \nJoin us for interesting speakers and involvement in community activities.
URL:https://taumarunui.co.nz/event/taumarunui-rotary-club/2025-05-19/
LOCATION:RSA\, 10 Marae Street\, Taumarunui\, New Zealand
CATEGORIES:Clubs
ATTACH;FMTTYPE=image/png:https://taumarunui.co.nz/wp-content/uploads/2024/09/IMG_8086.png
GEO:-38.8851355;175.2614527
X-APPLE-STRUCTURED-LOCATION;VALUE=URI;X-ADDRESS=RSA 10 Marae Street Taumarunui New Zealand;X-APPLE-RADIUS=500;X-TITLE=10 Marae Street:geo:175.2614527,-38.8851355
END:VEVENT
BEGIN:VEVENT
DTSTART;TZID=Pacific/Auckland:20250519T190000
DTEND;TZID=Pacific/Auckland:20250519T203000
DTSTAMP:20260421T124210
CREATED:20250109T072732Z
LAST-MODIFIED:20250109T072732Z
UID:10009818-1747681200-1747686600@taumarunui.co.nz
SUMMARY:Adult Jiu-Jitsu classes
DESCRIPTION:❓ Do you find regular exercise boring? Looking for something more exciting? ❓ \nOur Adult Jiu-Jitsu classes is the answer! It’s not just a workout – it’s a challenge\, a community\, and a fun way to get fit! \nIn our classes you’ll:\n💪 Build strength\, flexibility\, and endurance\n🌟 Boost your confidence and mental toughness\n🤼 Have fun while mastering a powerful skill\n🙌 Join a supportive\, motivating community \nNo experience needed! We will guide you every step of the way. Classes start next Monday. \n👊 Your first week is FREE! 👊\nDM us now to reserve your spot or learn more! \n#JiuJitsu #AdultJiuJitsu #Fitness #MartialArts #GetStronger #Confidence #FunWorkout
URL:https://taumarunui.co.nz/event/adult-jiu-jitsu-classes/2025-05-19/
CATEGORIES:Event
ATTACH;FMTTYPE=image/jpeg:https://taumarunui.co.nz/wp-content/uploads/2025/01/IMG_0457.jpeg
END:VEVENT
BEGIN:VEVENT
DTSTART;TZID=Pacific/Auckland:20250520T073000
DTEND;TZID=Pacific/Auckland:20250520T083000
DTSTAMP:20260421T124210
CREATED:20241015T071007Z
LAST-MODIFIED:20241015T071007Z
UID:10005725-1747726200-1747729800@taumarunui.co.nz
SUMMARY:Water Aerobics
DESCRIPTION:Meet every Tuesday and Thursday at the Trust Waikato pool at Taumarunui High School. \nEntry fee is only $3\, so come along and have some fun and gentle exercise
URL:https://taumarunui.co.nz/event/water-aerobics-2/2025-05-20/
LOCATION:Trust Waikato Pool Taumarunui\, Golf Road\, Taumarunui\, New Zealand
CATEGORIES:Clubs,Sport
END:VEVENT
BEGIN:VEVENT
DTSTART;TZID=Pacific/Auckland:20250520T093000
DTEND;TZID=Pacific/Auckland:20250520T123000
DTSTAMP:20260421T124210
CREATED:20240919T204601Z
LAST-MODIFIED:20241015T073914Z
UID:10000041-1747733400-1747744200@taumarunui.co.nz
SUMMARY:Manunui Playcentre
DESCRIPTION:Come along to Manunui Playcentre and check us out. For children aged 0-5. $2 a session per family \n 
URL:https://taumarunui.co.nz/event/manunui-playcentre/2025-05-20/
LOCATION:Manunui Playcentre\, 161 Miro Street\, Manunui\, Taumarunui\, New Zealand
CATEGORIES:Clubs
ATTACH;FMTTYPE=image/png:https://taumarunui.co.nz/wp-content/uploads/2024/10/IMG_8098.png
GEO:-38.8875174;175.3227703
X-APPLE-STRUCTURED-LOCATION;VALUE=URI;X-ADDRESS=Manunui Playcentre 161 Miro Street Manunui Taumarunui New Zealand;X-APPLE-RADIUS=500;X-TITLE=161 Miro Street\, Manunui:geo:175.3227703,-38.8875174
END:VEVENT
BEGIN:VEVENT
DTSTART;TZID=Pacific/Auckland:20250520T110000
DTEND;TZID=Pacific/Auckland:20250520T130000
DTSTAMP:20260421T124210
CREATED:20241015T051303Z
LAST-MODIFIED:20241015T051303Z
UID:10003188-1747738800-1747746000@taumarunui.co.nz
SUMMARY:Heartland Services Outreach October 2024
DESCRIPTION:
URL:https://taumarunui.co.nz/event/heartland-services-outreach-october-2024/2025-05-20/
CATEGORIES:Event
ATTACH;FMTTYPE=image/jpeg:https://taumarunui.co.nz/wp-content/uploads/2024/09/IMG_0361.jpg
END:VEVENT
BEGIN:VEVENT
DTSTART;TZID=Pacific/Auckland:20250520T130000
DTEND;TZID=Pacific/Auckland:20250520T150000
DTSTAMP:20260421T124210
CREATED:20241105T044008Z
LAST-MODIFIED:20241105T044008Z
UID:10007499-1747746000-1747753200@taumarunui.co.nz
SUMMARY:Taumarunui & District Women’s Club Circles - Rummi Kub
DESCRIPTION:Every Tuesday
URL:https://taumarunui.co.nz/event/taumarunui-district-womens-club-circles-rummi-kub/2025-05-20/
LOCATION:Taumarunui Women’s Refuge & Support Centre\, 57 Miriama Street\, Taumarunui\, New Zealand
CATEGORIES:Clubs
END:VEVENT
BEGIN:VEVENT
DTSTART;TZID=Pacific/Auckland:20250520T153000
DTEND;TZID=Pacific/Auckland:20250520T163000
DTSTAMP:20260421T124210
CREATED:20250204T002604Z
LAST-MODIFIED:20250204T002604Z
UID:10011088-1747755000-1747758600@taumarunui.co.nz
SUMMARY:Kids Jiu-Jitsu
DESCRIPTION:🤼 Kids Jiu-Jitsu 🤼 \nOur Kids Jiu-Jitsu Classes for ages 7+ start February 4th\, and spaces are limited! \n✅ Build Strength & Flexibility\n✅ Learn Self-Defense\n✅ Boost Confidence & Discipline\n✅ Have Fun and Make New Friends! \n📅 Classes begin February 4th – don’t wait\, spots are filling up fast! \n📲 Contact us to reserve your child’s place today!
URL:https://taumarunui.co.nz/event/kids-jiu-jitsu/2025-05-20/
CATEGORIES:Children,Classes
ATTACH;FMTTYPE=image/jpeg:https://taumarunui.co.nz/wp-content/uploads/2025/02/IMG_9329.jpeg
END:VEVENT
BEGIN:VEVENT
DTSTART;TZID=Pacific/Auckland:20250520T173000
DTEND;TZID=Pacific/Auckland:20250520T190000
DTSTAMP:20260421T124210
CREATED:20241015T062549Z
LAST-MODIFIED:20241015T062549Z
UID:10003861-1747762200-1747767600@taumarunui.co.nz
SUMMARY:Progressive Hatha Yoga for all
DESCRIPTION:On every Tuesday of school terms in Senior Citizen Hall\, Taumarunui. \nFirst class $10\, equipment available.
URL:https://taumarunui.co.nz/event/progressive-hatha-yoga-for-all/2025-05-20/
LOCATION:Senior Citizens Hall\, Morero Street\, Taumarunui\, New Zealand
CATEGORIES:Clubs,Sport
END:VEVENT
BEGIN:VEVENT
DTSTART;TZID=Pacific/Auckland:20250520T190000
DTEND;TZID=Pacific/Auckland:20250520T210000
DTSTAMP:20260421T124210
CREATED:20250206T234635Z
LAST-MODIFIED:20250206T234635Z
UID:10011597-1747767600-1747774800@taumarunui.co.nz
SUMMARY:Bridge
DESCRIPTION:Learn to play bridge \n10 weekly lessons led by Jonathan Lane \nStarts Tuesday 11 February \n7.15pm at the Womans Club\, Miriama St
URL:https://taumarunui.co.nz/event/bridge/2025-05-20/
CATEGORIES:Clubs
ATTACH;FMTTYPE=image/jpeg:https://taumarunui.co.nz/wp-content/uploads/2025/02/IMG_9359.jpeg
END:VEVENT
BEGIN:VEVENT
DTSTART;TZID=Pacific/Auckland:20250520T193000
DTEND;TZID=Pacific/Auckland:20250520T193000
DTSTAMP:20260421T124210
CREATED:20240922T231106Z
LAST-MODIFIED:20240922T231106Z
UID:10001016-1747769400-1747769400@taumarunui.co.nz
SUMMARY:Alcoholics Anonymous
DESCRIPTION:Meeting every Tuesday at the old Bowling Club\, Manunui
URL:https://taumarunui.co.nz/event/alcoholics-anonymous/2025-05-20/
LOCATION:Old Bowling Club\, Valley Road\, Manunui\, 3924\, New Zealand
CATEGORIES:Clubs
GEO:-38.8926094;175.3279306
X-APPLE-STRUCTURED-LOCATION;VALUE=URI;X-ADDRESS=Old Bowling Club Valley Road Manunui 3924 New Zealand;X-APPLE-RADIUS=500;X-TITLE=Valley Road:geo:175.3279306,-38.8926094
END:VEVENT
BEGIN:VEVENT
DTSTART;TZID=Pacific/Auckland:20250521T100000
DTEND;TZID=Pacific/Auckland:20250521T120000
DTSTAMP:20260421T124210
CREATED:20241105T045347Z
LAST-MODIFIED:20241105T045347Z
UID:10008560-1747821600-1747828800@taumarunui.co.nz
SUMMARY:Taumarunui & District Women’s Club Circles - Craft Circle
DESCRIPTION:Second Friday and third Wednesday each month \nVisitors and new members welcome
URL:https://taumarunui.co.nz/event/taumarunui-district-womens-club-circles-craft-circle-2/2025-05-21/
LOCATION:Taumarunui Women’s Refuge & Support Centre\, 57 Miriama Street\, Taumarunui\, New Zealand
CATEGORIES:Clubs
END:VEVENT
BEGIN:VEVENT
DTSTART;TZID=Pacific/Auckland:20250521T100000
DTEND;TZID=Pacific/Auckland:20250521T140000
DTSTAMP:20260421T124210
CREATED:20240922T234817Z
LAST-MODIFIED:20241015T055838Z
UID:10001929-1747821600-1747836000@taumarunui.co.nz
SUMMARY:Taumarunui Whakaarotahi Trust Market (Manunui)
DESCRIPTION:Every Wednesday 10am-4pm and last Saturday of every month 10am-1pm
URL:https://taumarunui.co.nz/event/taumarunui-whakaarotahi-trust-market-manunui/2025-05-21/
CATEGORIES:Markets
ATTACH;FMTTYPE=image/jpeg:https://taumarunui.co.nz/wp-content/uploads/2024/09/IMG_8084-1.jpg
END:VEVENT
BEGIN:VEVENT
DTSTART;TZID=Pacific/Auckland:20250521T110000
DTEND;TZID=Pacific/Auckland:20250521T130000
DTSTAMP:20260421T124210
CREATED:20241015T051303Z
LAST-MODIFIED:20241015T051303Z
UID:10003189-1747825200-1747832400@taumarunui.co.nz
SUMMARY:Heartland Services Outreach October 2024
DESCRIPTION:
URL:https://taumarunui.co.nz/event/heartland-services-outreach-october-2024/2025-05-21/
CATEGORIES:Event
ATTACH;FMTTYPE=image/jpeg:https://taumarunui.co.nz/wp-content/uploads/2024/09/IMG_0361.jpg
END:VEVENT
BEGIN:VEVENT
DTSTART;TZID=Pacific/Auckland:20250521T130000
DTEND;TZID=Pacific/Auckland:20250521T150000
DTSTAMP:20260421T124210
CREATED:20241105T044509Z
LAST-MODIFIED:20241105T045810Z
UID:10007880-1747832400-1747839600@taumarunui.co.nz
SUMMARY:Taumarunui & District Women’s Club Circles - Mah Jong
DESCRIPTION:Visitors & new members welcome
URL:https://taumarunui.co.nz/event/taumarunui-district-womens-club-circles-mah-jong/2025-05-21/
LOCATION:Taumarunui Women’s Refuge & Support Centre\, 57 Miriama Street\, Taumarunui\, New Zealand
CATEGORIES:Clubs
END:VEVENT
BEGIN:VEVENT
DTSTART;TZID=Pacific/Auckland:20250521T160000
DTEND;TZID=Pacific/Auckland:20250521T170000
DTSTAMP:20260421T124210
CREATED:20250216T165727Z
LAST-MODIFIED:20250216T170030Z
UID:10011923-1747843200-1747846800@taumarunui.co.nz
SUMMARY:Join the Choir
DESCRIPTION:If your children love to sing\, bring them along.
URL:https://taumarunui.co.nz/event/join-the-choir/2025-05-21/
LOCATION:The Little Theatre
CATEGORIES:Children,Clubs
ATTACH;FMTTYPE=image/jpeg:https://taumarunui.co.nz/wp-content/uploads/2025/02/IMG_0494.jpeg
END:VEVENT
BEGIN:VEVENT
DTSTART;TZID=Pacific/Auckland:20250521T163000
DTEND;TZID=Pacific/Auckland:20250521T191500
DTSTAMP:20260421T124210
CREATED:20241015T064759Z
LAST-MODIFIED:20241015T073742Z
UID:10004443-1747845000-1747854900@taumarunui.co.nz
SUMMARY:Kyokushin Karate
DESCRIPTION:Traditional training every Monday & Wednesday. \nExtra fitness fight class on Friday \n7-12 year olds 4.30 – 5.30pm \nTeens & Adults 5.45pm – 7.15pm
URL:https://taumarunui.co.nz/event/kyokushin-karate-2/2025-05-21/
LOCATION:Kyokushin Karate\, 4 Marae Street\, Taumarunui\, New Zealand
CATEGORIES:Clubs,Sport
ATTACH;FMTTYPE=image/jpeg:https://taumarunui.co.nz/wp-content/uploads/2024/10/IMG_8094.jpg
END:VEVENT
BEGIN:VEVENT
DTSTART;TZID=Pacific/Auckland:20250521T173000
DTEND;TZID=Pacific/Auckland:20250521T183000
DTSTAMP:20260421T124210
CREATED:20241112T224554Z
LAST-MODIFIED:20241112T224554Z
UID:10009034-1747848600-1747852200@taumarunui.co.nz
SUMMARY:Free Dog training group class
DESCRIPTION:🐕Free Dog Training Group Class 🐕\n5:30pm Wednesdays\, Cherry Grove\nCome along to learn some new skills and have fun with your dog\nAll dogs must be on lead\, pm me with any questions – Emma King
URL:https://taumarunui.co.nz/event/free-dog-training-group-class/2025-05-21/
END:VEVENT
BEGIN:VEVENT
DTSTART;TZID=Pacific/Auckland:20250521T190000
DTEND;TZID=Pacific/Auckland:20250521T210000
DTSTAMP:20260421T124210
CREATED:20250212T034742Z
LAST-MODIFIED:20250216T170453Z
UID:10011663-1747854000-1747861200@taumarunui.co.nz
SUMMARY:Taumarunui Community Choir
DESCRIPTION:Taumarunui Community Choir\n7pm Wednesday’s.\nCome have fun singing with others @ The Little Theatre \nThis term we are preparing a selection of Show tunes. New members are welcome. You don’t need to have any experience or be able to read music. Come have fun singing with others.
URL:https://taumarunui.co.nz/event/taumarunui-community-choir/2025-05-21/
LOCATION:The Little Theatre
CATEGORIES:Clubs
ATTACH;FMTTYPE=image/jpeg:https://taumarunui.co.nz/wp-content/uploads/2025/02/IMG_0495.jpeg
END:VEVENT
BEGIN:VEVENT
DTSTART;VALUE=DATE:20250522
DTEND;VALUE=DATE:20250523
DTSTAMP:20260421T124210
CREATED:20241015T045524Z
LAST-MODIFIED:20241015T061800Z
UID:10003040-1747872000-1747958399@taumarunui.co.nz
SUMMARY:Swimming lessons for Parents and Babies/Toddlers
DESCRIPTION:Great activity for parents and their little ones
URL:https://taumarunui.co.nz/event/swimming-lessons-for-parents-and-babies-toddlers/2025-05-22/
LOCATION:Trust Waikato Pool Taumarunui\, Golf Road\, Taumarunui\, New Zealand
CATEGORIES:Children,Classes,Sport
ATTACH;FMTTYPE=image/jpeg:https://taumarunui.co.nz/wp-content/uploads/2024/09/IMG_8008.jpg
END:VEVENT
BEGIN:VEVENT
DTSTART;TZID=Pacific/Auckland:20250522T073000
DTEND;TZID=Pacific/Auckland:20250522T083000
DTSTAMP:20260421T124210
CREATED:20241015T070836Z
LAST-MODIFIED:20241024T080451Z
UID:10005465-1747899000-1747902600@taumarunui.co.nz
SUMMARY:Water Aerobics
DESCRIPTION:Meet every Tuesday and Thursday at the Trust Waikato pool at Taumarunui High School. \nEntry fee is only $3\, so come along and have some fun and gentle exercise
URL:https://taumarunui.co.nz/event/water-aerobics/2025-05-22/
LOCATION:Trust Waikato Pool Taumarunui\, Golf Road\, Taumarunui\, New Zealand
CATEGORIES:Clubs,Sport
ATTACH;FMTTYPE=image/jpeg:https://taumarunui.co.nz/wp-content/uploads/2024/10/IMG_0385.jpg
END:VEVENT
BEGIN:VEVENT
DTSTART;TZID=Pacific/Auckland:20250522T100000
DTEND;TZID=Pacific/Auckland:20250522T110000
DTSTAMP:20260421T124210
CREATED:20241015T061311Z
LAST-MODIFIED:20241025T022839Z
UID:10003280-1747908000-1747911600@taumarunui.co.nz
SUMMARY:Ruapehu Toy Library
DESCRIPTION:We are open on Thursday and Saturday during school terms \nSituated in the Taumarunui Arts Centre \nWe welcome any new members
URL:https://taumarunui.co.nz/event/ruapehu-toy-library/2025-05-22/
LOCATION:Taumarunui Arts Centre\, Hakiaha Street\, Taumarunui\, New Zealand
CATEGORIES:Children
ATTACH;FMTTYPE=image/jpeg:https://taumarunui.co.nz/wp-content/uploads/2024/10/IMG_8156-scaled.jpeg
END:VEVENT
BEGIN:VEVENT
DTSTART;TZID=Pacific/Auckland:20250522T100000
DTEND;TZID=Pacific/Auckland:20250522T113000
DTSTAMP:20260421T124210
CREATED:20241015T063731Z
LAST-MODIFIED:20250410T041358Z
UID:10012136-1747908000-1747913400@taumarunui.co.nz
SUMMARY:Kanikani Kids
DESCRIPTION:Come along with pre-school children and enjoy a 20-30 minute music based session. \nMeet and chat with others in the same season of life. \n$2 donation \n 
URL:https://taumarunui.co.nz/event/kanikani-kids/2025-05-22/
LOCATION:Taumarunui Baptist Church\, 250 Taupo Road\, Taumarunui\, New Zealand
CATEGORIES:Children
END:VEVENT
BEGIN:VEVENT
DTSTART;TZID=Pacific/Auckland:20250522T120000
DTEND;TZID=Pacific/Auckland:20250522T130000
DTSTAMP:20260421T124210
CREATED:20240922T231421Z
LAST-MODIFIED:20240922T231421Z
UID:10001280-1747915200-1747918800@taumarunui.co.nz
SUMMARY:Alcoholics Anonymous
DESCRIPTION:Step meeting every Thursday lunchtime
URL:https://taumarunui.co.nz/event/alcoholics-anonymous-2/2025-05-22/
LOCATION:250 Taupo Road\, Taupo Road\, Taumarunui\, 3920\, New Zealand
CATEGORIES:Clubs
GEO:-38.8844708;175.290787
X-APPLE-STRUCTURED-LOCATION;VALUE=URI;X-ADDRESS=250 Taupo Road Taupo Road Taumarunui 3920 New Zealand;X-APPLE-RADIUS=500;X-TITLE=Taupo Road:geo:175.290787,-38.8844708
END:VEVENT
END:VCALENDAR