BEGIN:VCALENDAR
VERSION:2.0
PRODID:-//Taumarunui - ECPv6.15.20//NONSGML v1.0//EN
CALSCALE:GREGORIAN
METHOD:PUBLISH
X-ORIGINAL-URL:https://taumarunui.co.nz
X-WR-CALDESC:Events for Taumarunui
REFRESH-INTERVAL;VALUE=DURATION:PT1H
X-Robots-Tag:noindex
X-PUBLISHED-TTL:PT1H
BEGIN:VTIMEZONE
TZID:Pacific/Auckland
BEGIN:STANDARD
TZOFFSETFROM:+1300
TZOFFSETTO:+1200
TZNAME:NZST
DTSTART:20260404T140000
END:STANDARD
BEGIN:DAYLIGHT
TZOFFSETFROM:+1200
TZOFFSETTO:+1300
TZNAME:NZDT
DTSTART:20260926T140000
END:DAYLIGHT
BEGIN:STANDARD
TZOFFSETFROM:+1300
TZOFFSETTO:+1200
TZNAME:NZST
DTSTART:20270403T140000
END:STANDARD
BEGIN:DAYLIGHT
TZOFFSETFROM:+1200
TZOFFSETTO:+1300
TZNAME:NZDT
DTSTART:20270925T140000
END:DAYLIGHT
BEGIN:STANDARD
TZOFFSETFROM:+1300
TZOFFSETTO:+1200
TZNAME:NZST
DTSTART:20280401T140000
END:STANDARD
BEGIN:DAYLIGHT
TZOFFSETFROM:+1200
TZOFFSETTO:+1300
TZNAME:NZDT
DTSTART:20280923T140000
END:DAYLIGHT
END:VTIMEZONE
BEGIN:VEVENT
DTSTART;TZID=Pacific/Auckland:20270817T173000
DTEND;TZID=Pacific/Auckland:20270817T190000
DTSTAMP:20260424T082527
CREATED:20241015T062549Z
LAST-MODIFIED:20241015T062549Z
UID:10003978-1818523800-1818529200@taumarunui.co.nz
SUMMARY:Progressive Hatha Yoga for all
DESCRIPTION:On every Tuesday of school terms in Senior Citizen Hall\, Taumarunui. \nFirst class $10\, equipment available.
URL:https://taumarunui.co.nz/event/progressive-hatha-yoga-for-all/2027-08-17/
LOCATION:Senior Citizens Hall\, Morero Street\, Taumarunui\, New Zealand
CATEGORIES:Clubs,Sport
END:VEVENT
BEGIN:VEVENT
DTSTART;TZID=Pacific/Auckland:20270818T163000
DTEND;TZID=Pacific/Auckland:20270818T191500
DTSTAMP:20260424T082527
CREATED:20241015T064759Z
LAST-MODIFIED:20241015T073742Z
UID:10004560-1818606600-1818616500@taumarunui.co.nz
SUMMARY:Kyokushin Karate
DESCRIPTION:Traditional training every Monday & Wednesday. \nExtra fitness fight class on Friday \n7-12 year olds 4.30 – 5.30pm \nTeens & Adults 5.45pm – 7.15pm
URL:https://taumarunui.co.nz/event/kyokushin-karate-2/2027-08-18/
LOCATION:Kyokushin Karate\, 4 Marae Street\, Taumarunui\, New Zealand
CATEGORIES:Clubs,Sport
ATTACH;FMTTYPE=image/jpeg:https://taumarunui.co.nz/wp-content/uploads/2024/10/IMG_8094.jpg
END:VEVENT
BEGIN:VEVENT
DTSTART;TZID=Pacific/Auckland:20270819T073000
DTEND;TZID=Pacific/Auckland:20270819T083000
DTSTAMP:20260424T082527
CREATED:20241015T070836Z
LAST-MODIFIED:20241024T080451Z
UID:10005582-1818660600-1818664200@taumarunui.co.nz
SUMMARY:Water Aerobics
DESCRIPTION:Meet every Tuesday and Thursday at the Trust Waikato pool at Taumarunui High School. \nEntry fee is only $3\, so come along and have some fun and gentle exercise
URL:https://taumarunui.co.nz/event/water-aerobics/2027-08-19/
LOCATION:Trust Waikato Pool Taumarunui\, Golf Road\, Taumarunui\, New Zealand
CATEGORIES:Clubs,Sport
ATTACH;FMTTYPE=image/jpeg:https://taumarunui.co.nz/wp-content/uploads/2024/10/IMG_0385.jpg
END:VEVENT
BEGIN:VEVENT
DTSTART;TZID=Pacific/Auckland:20270820T103000
DTEND;TZID=Pacific/Auckland:20270820T143000
DTSTAMP:20260424T082527
CREATED:20241108T003031Z
LAST-MODIFIED:20241108T003031Z
UID:10008888-1818757800-1818772200@taumarunui.co.nz
SUMMARY:Taumarunui Mixed Make Time Play 9
DESCRIPTION:
URL:https://taumarunui.co.nz/event/taumarunui-mixed-make-time-play-9/2027-08-20/
LOCATION:Taumarunui Golf Club\, 165 Golf Road\, Taumarunui\, New Zealand
CATEGORIES:Clubs,Sport
ATTACH;FMTTYPE=image/jpeg:https://taumarunui.co.nz/wp-content/uploads/2024/11/IMG_8283.jpeg
END:VEVENT
BEGIN:VEVENT
DTSTART;TZID=Pacific/Auckland:20270820T160000
DTEND;TZID=Pacific/Auckland:20270820T180000
DTSTAMP:20260424T082527
CREATED:20241112T230456Z
LAST-MODIFIED:20241112T230456Z
UID:10009412-1818777600-1818784800@taumarunui.co.nz
SUMMARY:Pickleball
DESCRIPTION:Exciting!!!!\nLook at what is starting in Taumarunui – “PICKLEBALL”.\nWe welcome Pete and Terry to Taumarunui\, and they bring their love for the game of Pickleball.\nThe Taumarunui Youth and Community Trust has supported them in getting this up and running in the community.\nAnyone interested can come to the athletic gym on Fridays from 4pm to 6pm.
URL:https://taumarunui.co.nz/event/pickleball/2027-08-20/
LOCATION:Athletics Club\, Turaki Street\, Taumarunui\, New Zealand
CATEGORIES:Clubs,Sport
ATTACH;FMTTYPE=image/jpeg:https://taumarunui.co.nz/wp-content/uploads/2024/11/IMG_8308.jpeg
END:VEVENT
BEGIN:VEVENT
DTSTART;TZID=Pacific/Auckland:20270823T163000
DTEND;TZID=Pacific/Auckland:20270823T191500
DTSTAMP:20260424T082527
CREATED:20241015T064459Z
LAST-MODIFIED:20241015T073820Z
UID:10004299-1819038600-1819048500@taumarunui.co.nz
SUMMARY:Kyokushin Karate
DESCRIPTION:Traditional training every Monday & Wednesday. \nExtra fitness fight class on Friday \n7-12 year olds 4.30 – 5.30pm \nTeens & Adults 5.45pm – 7.15pm
URL:https://taumarunui.co.nz/event/kyokushin-karate/2027-08-23/
LOCATION:Kyokushin Karate\, 4 Marae Street\, Taumarunui\, New Zealand
CATEGORIES:Children,Clubs,Sport
ATTACH;FMTTYPE=image/jpeg:https://taumarunui.co.nz/wp-content/uploads/2024/10/IMG_8094.jpg
END:VEVENT
BEGIN:VEVENT
DTSTART;TZID=Pacific/Auckland:20270824T073000
DTEND;TZID=Pacific/Auckland:20270824T083000
DTSTAMP:20260424T082527
CREATED:20241015T071007Z
LAST-MODIFIED:20241015T071007Z
UID:10005843-1819092600-1819096200@taumarunui.co.nz
SUMMARY:Water Aerobics
DESCRIPTION:Meet every Tuesday and Thursday at the Trust Waikato pool at Taumarunui High School. \nEntry fee is only $3\, so come along and have some fun and gentle exercise
URL:https://taumarunui.co.nz/event/water-aerobics-2/2027-08-24/
LOCATION:Trust Waikato Pool Taumarunui\, Golf Road\, Taumarunui\, New Zealand
CATEGORIES:Clubs,Sport
END:VEVENT
BEGIN:VEVENT
DTSTART;TZID=Pacific/Auckland:20270824T173000
DTEND;TZID=Pacific/Auckland:20270824T190000
DTSTAMP:20260424T082527
CREATED:20241015T062549Z
LAST-MODIFIED:20241015T062549Z
UID:10003979-1819128600-1819134000@taumarunui.co.nz
SUMMARY:Progressive Hatha Yoga for all
DESCRIPTION:On every Tuesday of school terms in Senior Citizen Hall\, Taumarunui. \nFirst class $10\, equipment available.
URL:https://taumarunui.co.nz/event/progressive-hatha-yoga-for-all/2027-08-24/
LOCATION:Senior Citizens Hall\, Morero Street\, Taumarunui\, New Zealand
CATEGORIES:Clubs,Sport
END:VEVENT
BEGIN:VEVENT
DTSTART;TZID=Pacific/Auckland:20270825T163000
DTEND;TZID=Pacific/Auckland:20270825T191500
DTSTAMP:20260424T082527
CREATED:20241015T064759Z
LAST-MODIFIED:20241015T073742Z
UID:10004561-1819211400-1819221300@taumarunui.co.nz
SUMMARY:Kyokushin Karate
DESCRIPTION:Traditional training every Monday & Wednesday. \nExtra fitness fight class on Friday \n7-12 year olds 4.30 – 5.30pm \nTeens & Adults 5.45pm – 7.15pm
URL:https://taumarunui.co.nz/event/kyokushin-karate-2/2027-08-25/
LOCATION:Kyokushin Karate\, 4 Marae Street\, Taumarunui\, New Zealand
CATEGORIES:Clubs,Sport
ATTACH;FMTTYPE=image/jpeg:https://taumarunui.co.nz/wp-content/uploads/2024/10/IMG_8094.jpg
END:VEVENT
BEGIN:VEVENT
DTSTART;TZID=Pacific/Auckland:20270826T073000
DTEND;TZID=Pacific/Auckland:20270826T083000
DTSTAMP:20260424T082527
CREATED:20241015T070836Z
LAST-MODIFIED:20241024T080451Z
UID:10005583-1819265400-1819269000@taumarunui.co.nz
SUMMARY:Water Aerobics
DESCRIPTION:Meet every Tuesday and Thursday at the Trust Waikato pool at Taumarunui High School. \nEntry fee is only $3\, so come along and have some fun and gentle exercise
URL:https://taumarunui.co.nz/event/water-aerobics/2027-08-26/
LOCATION:Trust Waikato Pool Taumarunui\, Golf Road\, Taumarunui\, New Zealand
CATEGORIES:Clubs,Sport
ATTACH;FMTTYPE=image/jpeg:https://taumarunui.co.nz/wp-content/uploads/2024/10/IMG_0385.jpg
END:VEVENT
BEGIN:VEVENT
DTSTART;TZID=Pacific/Auckland:20270827T103000
DTEND;TZID=Pacific/Auckland:20270827T143000
DTSTAMP:20260424T082527
CREATED:20241108T003031Z
LAST-MODIFIED:20241108T003031Z
UID:10008889-1819362600-1819377000@taumarunui.co.nz
SUMMARY:Taumarunui Mixed Make Time Play 9
DESCRIPTION:
URL:https://taumarunui.co.nz/event/taumarunui-mixed-make-time-play-9/2027-08-27/
LOCATION:Taumarunui Golf Club\, 165 Golf Road\, Taumarunui\, New Zealand
CATEGORIES:Clubs,Sport
ATTACH;FMTTYPE=image/jpeg:https://taumarunui.co.nz/wp-content/uploads/2024/11/IMG_8283.jpeg
END:VEVENT
BEGIN:VEVENT
DTSTART;TZID=Pacific/Auckland:20270827T160000
DTEND;TZID=Pacific/Auckland:20270827T180000
DTSTAMP:20260424T082527
CREATED:20241112T230456Z
LAST-MODIFIED:20241112T230456Z
UID:10009413-1819382400-1819389600@taumarunui.co.nz
SUMMARY:Pickleball
DESCRIPTION:Exciting!!!!\nLook at what is starting in Taumarunui – “PICKLEBALL”.\nWe welcome Pete and Terry to Taumarunui\, and they bring their love for the game of Pickleball.\nThe Taumarunui Youth and Community Trust has supported them in getting this up and running in the community.\nAnyone interested can come to the athletic gym on Fridays from 4pm to 6pm.
URL:https://taumarunui.co.nz/event/pickleball/2027-08-27/
LOCATION:Athletics Club\, Turaki Street\, Taumarunui\, New Zealand
CATEGORIES:Clubs,Sport
ATTACH;FMTTYPE=image/jpeg:https://taumarunui.co.nz/wp-content/uploads/2024/11/IMG_8308.jpeg
END:VEVENT
BEGIN:VEVENT
DTSTART;TZID=Pacific/Auckland:20270830T163000
DTEND;TZID=Pacific/Auckland:20270830T191500
DTSTAMP:20260424T082527
CREATED:20241015T064459Z
LAST-MODIFIED:20241015T073820Z
UID:10004300-1819643400-1819653300@taumarunui.co.nz
SUMMARY:Kyokushin Karate
DESCRIPTION:Traditional training every Monday & Wednesday. \nExtra fitness fight class on Friday \n7-12 year olds 4.30 – 5.30pm \nTeens & Adults 5.45pm – 7.15pm
URL:https://taumarunui.co.nz/event/kyokushin-karate/2027-08-30/
LOCATION:Kyokushin Karate\, 4 Marae Street\, Taumarunui\, New Zealand
CATEGORIES:Children,Clubs,Sport
ATTACH;FMTTYPE=image/jpeg:https://taumarunui.co.nz/wp-content/uploads/2024/10/IMG_8094.jpg
END:VEVENT
BEGIN:VEVENT
DTSTART;TZID=Pacific/Auckland:20270831T073000
DTEND;TZID=Pacific/Auckland:20270831T083000
DTSTAMP:20260424T082527
CREATED:20241015T071007Z
LAST-MODIFIED:20241015T071007Z
UID:10005844-1819697400-1819701000@taumarunui.co.nz
SUMMARY:Water Aerobics
DESCRIPTION:Meet every Tuesday and Thursday at the Trust Waikato pool at Taumarunui High School. \nEntry fee is only $3\, so come along and have some fun and gentle exercise
URL:https://taumarunui.co.nz/event/water-aerobics-2/2027-08-31/
LOCATION:Trust Waikato Pool Taumarunui\, Golf Road\, Taumarunui\, New Zealand
CATEGORIES:Clubs,Sport
END:VEVENT
BEGIN:VEVENT
DTSTART;TZID=Pacific/Auckland:20270831T173000
DTEND;TZID=Pacific/Auckland:20270831T190000
DTSTAMP:20260424T082527
CREATED:20241015T062549Z
LAST-MODIFIED:20241015T062549Z
UID:10003980-1819733400-1819738800@taumarunui.co.nz
SUMMARY:Progressive Hatha Yoga for all
DESCRIPTION:On every Tuesday of school terms in Senior Citizen Hall\, Taumarunui. \nFirst class $10\, equipment available.
URL:https://taumarunui.co.nz/event/progressive-hatha-yoga-for-all/2027-08-31/
LOCATION:Senior Citizens Hall\, Morero Street\, Taumarunui\, New Zealand
CATEGORIES:Clubs,Sport
END:VEVENT
BEGIN:VEVENT
DTSTART;TZID=Pacific/Auckland:20270901T163000
DTEND;TZID=Pacific/Auckland:20270901T191500
DTSTAMP:20260424T082527
CREATED:20241015T064759Z
LAST-MODIFIED:20241015T073742Z
UID:10004562-1819816200-1819826100@taumarunui.co.nz
SUMMARY:Kyokushin Karate
DESCRIPTION:Traditional training every Monday & Wednesday. \nExtra fitness fight class on Friday \n7-12 year olds 4.30 – 5.30pm \nTeens & Adults 5.45pm – 7.15pm
URL:https://taumarunui.co.nz/event/kyokushin-karate-2/2027-09-01/
LOCATION:Kyokushin Karate\, 4 Marae Street\, Taumarunui\, New Zealand
CATEGORIES:Clubs,Sport
ATTACH;FMTTYPE=image/jpeg:https://taumarunui.co.nz/wp-content/uploads/2024/10/IMG_8094.jpg
END:VEVENT
BEGIN:VEVENT
DTSTART;TZID=Pacific/Auckland:20270902T073000
DTEND;TZID=Pacific/Auckland:20270902T083000
DTSTAMP:20260424T082527
CREATED:20241015T070836Z
LAST-MODIFIED:20241024T080451Z
UID:10005584-1819870200-1819873800@taumarunui.co.nz
SUMMARY:Water Aerobics
DESCRIPTION:Meet every Tuesday and Thursday at the Trust Waikato pool at Taumarunui High School. \nEntry fee is only $3\, so come along and have some fun and gentle exercise
URL:https://taumarunui.co.nz/event/water-aerobics/2027-09-02/
LOCATION:Trust Waikato Pool Taumarunui\, Golf Road\, Taumarunui\, New Zealand
CATEGORIES:Clubs,Sport
ATTACH;FMTTYPE=image/jpeg:https://taumarunui.co.nz/wp-content/uploads/2024/10/IMG_0385.jpg
END:VEVENT
BEGIN:VEVENT
DTSTART;TZID=Pacific/Auckland:20270903T103000
DTEND;TZID=Pacific/Auckland:20270903T143000
DTSTAMP:20260424T082527
CREATED:20241108T003031Z
LAST-MODIFIED:20241108T003031Z
UID:10008890-1819967400-1819981800@taumarunui.co.nz
SUMMARY:Taumarunui Mixed Make Time Play 9
DESCRIPTION:
URL:https://taumarunui.co.nz/event/taumarunui-mixed-make-time-play-9/2027-09-03/
LOCATION:Taumarunui Golf Club\, 165 Golf Road\, Taumarunui\, New Zealand
CATEGORIES:Clubs,Sport
ATTACH;FMTTYPE=image/jpeg:https://taumarunui.co.nz/wp-content/uploads/2024/11/IMG_8283.jpeg
END:VEVENT
BEGIN:VEVENT
DTSTART;TZID=Pacific/Auckland:20270903T160000
DTEND;TZID=Pacific/Auckland:20270903T180000
DTSTAMP:20260424T082527
CREATED:20241112T230456Z
LAST-MODIFIED:20241112T230456Z
UID:10009414-1819987200-1819994400@taumarunui.co.nz
SUMMARY:Pickleball
DESCRIPTION:Exciting!!!!\nLook at what is starting in Taumarunui – “PICKLEBALL”.\nWe welcome Pete and Terry to Taumarunui\, and they bring their love for the game of Pickleball.\nThe Taumarunui Youth and Community Trust has supported them in getting this up and running in the community.\nAnyone interested can come to the athletic gym on Fridays from 4pm to 6pm.
URL:https://taumarunui.co.nz/event/pickleball/2027-09-03/
LOCATION:Athletics Club\, Turaki Street\, Taumarunui\, New Zealand
CATEGORIES:Clubs,Sport
ATTACH;FMTTYPE=image/jpeg:https://taumarunui.co.nz/wp-content/uploads/2024/11/IMG_8308.jpeg
END:VEVENT
BEGIN:VEVENT
DTSTART;TZID=Pacific/Auckland:20270906T163000
DTEND;TZID=Pacific/Auckland:20270906T191500
DTSTAMP:20260424T082527
CREATED:20241015T064459Z
LAST-MODIFIED:20241015T073820Z
UID:10004301-1820248200-1820258100@taumarunui.co.nz
SUMMARY:Kyokushin Karate
DESCRIPTION:Traditional training every Monday & Wednesday. \nExtra fitness fight class on Friday \n7-12 year olds 4.30 – 5.30pm \nTeens & Adults 5.45pm – 7.15pm
URL:https://taumarunui.co.nz/event/kyokushin-karate/2027-09-06/
LOCATION:Kyokushin Karate\, 4 Marae Street\, Taumarunui\, New Zealand
CATEGORIES:Children,Clubs,Sport
ATTACH;FMTTYPE=image/jpeg:https://taumarunui.co.nz/wp-content/uploads/2024/10/IMG_8094.jpg
END:VEVENT
BEGIN:VEVENT
DTSTART;TZID=Pacific/Auckland:20270907T073000
DTEND;TZID=Pacific/Auckland:20270907T083000
DTSTAMP:20260424T082527
CREATED:20241015T071007Z
LAST-MODIFIED:20241015T071007Z
UID:10005845-1820302200-1820305800@taumarunui.co.nz
SUMMARY:Water Aerobics
DESCRIPTION:Meet every Tuesday and Thursday at the Trust Waikato pool at Taumarunui High School. \nEntry fee is only $3\, so come along and have some fun and gentle exercise
URL:https://taumarunui.co.nz/event/water-aerobics-2/2027-09-07/
LOCATION:Trust Waikato Pool Taumarunui\, Golf Road\, Taumarunui\, New Zealand
CATEGORIES:Clubs,Sport
END:VEVENT
BEGIN:VEVENT
DTSTART;TZID=Pacific/Auckland:20270907T173000
DTEND;TZID=Pacific/Auckland:20270907T190000
DTSTAMP:20260424T082527
CREATED:20241015T062549Z
LAST-MODIFIED:20241015T062549Z
UID:10003981-1820338200-1820343600@taumarunui.co.nz
SUMMARY:Progressive Hatha Yoga for all
DESCRIPTION:On every Tuesday of school terms in Senior Citizen Hall\, Taumarunui. \nFirst class $10\, equipment available.
URL:https://taumarunui.co.nz/event/progressive-hatha-yoga-for-all/2027-09-07/
LOCATION:Senior Citizens Hall\, Morero Street\, Taumarunui\, New Zealand
CATEGORIES:Clubs,Sport
END:VEVENT
BEGIN:VEVENT
DTSTART;TZID=Pacific/Auckland:20270908T163000
DTEND;TZID=Pacific/Auckland:20270908T191500
DTSTAMP:20260424T082527
CREATED:20241015T064759Z
LAST-MODIFIED:20241015T073742Z
UID:10004563-1820421000-1820430900@taumarunui.co.nz
SUMMARY:Kyokushin Karate
DESCRIPTION:Traditional training every Monday & Wednesday. \nExtra fitness fight class on Friday \n7-12 year olds 4.30 – 5.30pm \nTeens & Adults 5.45pm – 7.15pm
URL:https://taumarunui.co.nz/event/kyokushin-karate-2/2027-09-08/
LOCATION:Kyokushin Karate\, 4 Marae Street\, Taumarunui\, New Zealand
CATEGORIES:Clubs,Sport
ATTACH;FMTTYPE=image/jpeg:https://taumarunui.co.nz/wp-content/uploads/2024/10/IMG_8094.jpg
END:VEVENT
BEGIN:VEVENT
DTSTART;TZID=Pacific/Auckland:20270909T073000
DTEND;TZID=Pacific/Auckland:20270909T083000
DTSTAMP:20260424T082527
CREATED:20241015T070836Z
LAST-MODIFIED:20241024T080451Z
UID:10005585-1820475000-1820478600@taumarunui.co.nz
SUMMARY:Water Aerobics
DESCRIPTION:Meet every Tuesday and Thursday at the Trust Waikato pool at Taumarunui High School. \nEntry fee is only $3\, so come along and have some fun and gentle exercise
URL:https://taumarunui.co.nz/event/water-aerobics/2027-09-09/
LOCATION:Trust Waikato Pool Taumarunui\, Golf Road\, Taumarunui\, New Zealand
CATEGORIES:Clubs,Sport
ATTACH;FMTTYPE=image/jpeg:https://taumarunui.co.nz/wp-content/uploads/2024/10/IMG_0385.jpg
END:VEVENT
BEGIN:VEVENT
DTSTART;TZID=Pacific/Auckland:20270910T103000
DTEND;TZID=Pacific/Auckland:20270910T143000
DTSTAMP:20260424T082527
CREATED:20241108T003031Z
LAST-MODIFIED:20241108T003031Z
UID:10008891-1820572200-1820586600@taumarunui.co.nz
SUMMARY:Taumarunui Mixed Make Time Play 9
DESCRIPTION:
URL:https://taumarunui.co.nz/event/taumarunui-mixed-make-time-play-9/2027-09-10/
LOCATION:Taumarunui Golf Club\, 165 Golf Road\, Taumarunui\, New Zealand
CATEGORIES:Clubs,Sport
ATTACH;FMTTYPE=image/jpeg:https://taumarunui.co.nz/wp-content/uploads/2024/11/IMG_8283.jpeg
END:VEVENT
BEGIN:VEVENT
DTSTART;TZID=Pacific/Auckland:20270910T160000
DTEND;TZID=Pacific/Auckland:20270910T180000
DTSTAMP:20260424T082527
CREATED:20241112T230456Z
LAST-MODIFIED:20241112T230456Z
UID:10009415-1820592000-1820599200@taumarunui.co.nz
SUMMARY:Pickleball
DESCRIPTION:Exciting!!!!\nLook at what is starting in Taumarunui – “PICKLEBALL”.\nWe welcome Pete and Terry to Taumarunui\, and they bring their love for the game of Pickleball.\nThe Taumarunui Youth and Community Trust has supported them in getting this up and running in the community.\nAnyone interested can come to the athletic gym on Fridays from 4pm to 6pm.
URL:https://taumarunui.co.nz/event/pickleball/2027-09-10/
LOCATION:Athletics Club\, Turaki Street\, Taumarunui\, New Zealand
CATEGORIES:Clubs,Sport
ATTACH;FMTTYPE=image/jpeg:https://taumarunui.co.nz/wp-content/uploads/2024/11/IMG_8308.jpeg
END:VEVENT
BEGIN:VEVENT
DTSTART;TZID=Pacific/Auckland:20270913T163000
DTEND;TZID=Pacific/Auckland:20270913T191500
DTSTAMP:20260424T082527
CREATED:20241015T064459Z
LAST-MODIFIED:20241015T073820Z
UID:10004302-1820853000-1820862900@taumarunui.co.nz
SUMMARY:Kyokushin Karate
DESCRIPTION:Traditional training every Monday & Wednesday. \nExtra fitness fight class on Friday \n7-12 year olds 4.30 – 5.30pm \nTeens & Adults 5.45pm – 7.15pm
URL:https://taumarunui.co.nz/event/kyokushin-karate/2027-09-13/
LOCATION:Kyokushin Karate\, 4 Marae Street\, Taumarunui\, New Zealand
CATEGORIES:Children,Clubs,Sport
ATTACH;FMTTYPE=image/jpeg:https://taumarunui.co.nz/wp-content/uploads/2024/10/IMG_8094.jpg
END:VEVENT
BEGIN:VEVENT
DTSTART;TZID=Pacific/Auckland:20270914T073000
DTEND;TZID=Pacific/Auckland:20270914T083000
DTSTAMP:20260424T082527
CREATED:20241015T071007Z
LAST-MODIFIED:20241015T071007Z
UID:10005846-1820907000-1820910600@taumarunui.co.nz
SUMMARY:Water Aerobics
DESCRIPTION:Meet every Tuesday and Thursday at the Trust Waikato pool at Taumarunui High School. \nEntry fee is only $3\, so come along and have some fun and gentle exercise
URL:https://taumarunui.co.nz/event/water-aerobics-2/2027-09-14/
LOCATION:Trust Waikato Pool Taumarunui\, Golf Road\, Taumarunui\, New Zealand
CATEGORIES:Clubs,Sport
END:VEVENT
BEGIN:VEVENT
DTSTART;TZID=Pacific/Auckland:20270914T173000
DTEND;TZID=Pacific/Auckland:20270914T190000
DTSTAMP:20260424T082527
CREATED:20241015T062549Z
LAST-MODIFIED:20241015T062549Z
UID:10003982-1820943000-1820948400@taumarunui.co.nz
SUMMARY:Progressive Hatha Yoga for all
DESCRIPTION:On every Tuesday of school terms in Senior Citizen Hall\, Taumarunui. \nFirst class $10\, equipment available.
URL:https://taumarunui.co.nz/event/progressive-hatha-yoga-for-all/2027-09-14/
LOCATION:Senior Citizens Hall\, Morero Street\, Taumarunui\, New Zealand
CATEGORIES:Clubs,Sport
END:VEVENT
BEGIN:VEVENT
DTSTART;TZID=Pacific/Auckland:20270915T163000
DTEND;TZID=Pacific/Auckland:20270915T191500
DTSTAMP:20260424T082527
CREATED:20241015T064759Z
LAST-MODIFIED:20241015T073742Z
UID:10004564-1821025800-1821035700@taumarunui.co.nz
SUMMARY:Kyokushin Karate
DESCRIPTION:Traditional training every Monday & Wednesday. \nExtra fitness fight class on Friday \n7-12 year olds 4.30 – 5.30pm \nTeens & Adults 5.45pm – 7.15pm
URL:https://taumarunui.co.nz/event/kyokushin-karate-2/2027-09-15/
LOCATION:Kyokushin Karate\, 4 Marae Street\, Taumarunui\, New Zealand
CATEGORIES:Clubs,Sport
ATTACH;FMTTYPE=image/jpeg:https://taumarunui.co.nz/wp-content/uploads/2024/10/IMG_8094.jpg
END:VEVENT
END:VCALENDAR