BEGIN:VCALENDAR
VERSION:2.0
PRODID:-//Taumarunui - ECPv6.15.20//NONSGML v1.0//EN
CALSCALE:GREGORIAN
METHOD:PUBLISH
X-ORIGINAL-URL:https://taumarunui.co.nz
X-WR-CALDESC:Events for Taumarunui
REFRESH-INTERVAL;VALUE=DURATION:PT1H
X-Robots-Tag:noindex
X-PUBLISHED-TTL:PT1H
BEGIN:VTIMEZONE
TZID:Pacific/Auckland
BEGIN:STANDARD
TZOFFSETFROM:+1300
TZOFFSETTO:+1200
TZNAME:NZST
DTSTART:20250405T140000
END:STANDARD
BEGIN:DAYLIGHT
TZOFFSETFROM:+1200
TZOFFSETTO:+1300
TZNAME:NZDT
DTSTART:20250927T140000
END:DAYLIGHT
BEGIN:STANDARD
TZOFFSETFROM:+1300
TZOFFSETTO:+1200
TZNAME:NZST
DTSTART:20260404T140000
END:STANDARD
BEGIN:DAYLIGHT
TZOFFSETFROM:+1200
TZOFFSETTO:+1300
TZNAME:NZDT
DTSTART:20260926T140000
END:DAYLIGHT
BEGIN:STANDARD
TZOFFSETFROM:+1300
TZOFFSETTO:+1200
TZNAME:NZST
DTSTART:20270403T140000
END:STANDARD
BEGIN:DAYLIGHT
TZOFFSETFROM:+1200
TZOFFSETTO:+1300
TZNAME:NZDT
DTSTART:20270925T140000
END:DAYLIGHT
END:VTIMEZONE
BEGIN:VEVENT
DTSTART;TZID=Pacific/Auckland:20260601T163000
DTEND;TZID=Pacific/Auckland:20260601T191500
DTSTAMP:20260426T014400
CREATED:20241015T064459Z
LAST-MODIFIED:20241015T073820Z
UID:10004235-1780331400-1780341300@taumarunui.co.nz
SUMMARY:Kyokushin Karate
DESCRIPTION:Traditional training every Monday & Wednesday. \nExtra fitness fight class on Friday \n7-12 year olds 4.30 – 5.30pm \nTeens & Adults 5.45pm – 7.15pm
URL:https://taumarunui.co.nz/event/kyokushin-karate/2026-06-01/
LOCATION:Kyokushin Karate\, 4 Marae Street\, Taumarunui\, New Zealand
CATEGORIES:Children,Clubs,Sport
ATTACH;FMTTYPE=image/jpeg:https://taumarunui.co.nz/wp-content/uploads/2024/10/IMG_8094.jpg
END:VEVENT
BEGIN:VEVENT
DTSTART;TZID=Pacific/Auckland:20260602T073000
DTEND;TZID=Pacific/Auckland:20260602T083000
DTSTAMP:20260426T014400
CREATED:20241015T071007Z
LAST-MODIFIED:20241015T071007Z
UID:10005779-1780385400-1780389000@taumarunui.co.nz
SUMMARY:Water Aerobics
DESCRIPTION:Meet every Tuesday and Thursday at the Trust Waikato pool at Taumarunui High School. \nEntry fee is only $3\, so come along and have some fun and gentle exercise
URL:https://taumarunui.co.nz/event/water-aerobics-2/2026-06-02/
LOCATION:Trust Waikato Pool Taumarunui\, Golf Road\, Taumarunui\, New Zealand
CATEGORIES:Clubs,Sport
END:VEVENT
BEGIN:VEVENT
DTSTART;TZID=Pacific/Auckland:20260602T173000
DTEND;TZID=Pacific/Auckland:20260602T190000
DTSTAMP:20260426T014400
CREATED:20241015T062549Z
LAST-MODIFIED:20241015T062549Z
UID:10003915-1780421400-1780426800@taumarunui.co.nz
SUMMARY:Progressive Hatha Yoga for all
DESCRIPTION:On every Tuesday of school terms in Senior Citizen Hall\, Taumarunui. \nFirst class $10\, equipment available.
URL:https://taumarunui.co.nz/event/progressive-hatha-yoga-for-all/2026-06-02/
LOCATION:Senior Citizens Hall\, Morero Street\, Taumarunui\, New Zealand
CATEGORIES:Clubs,Sport
END:VEVENT
BEGIN:VEVENT
DTSTART;TZID=Pacific/Auckland:20260603T163000
DTEND;TZID=Pacific/Auckland:20260603T191500
DTSTAMP:20260426T014400
CREATED:20241015T064759Z
LAST-MODIFIED:20241015T073742Z
UID:10004497-1780504200-1780514100@taumarunui.co.nz
SUMMARY:Kyokushin Karate
DESCRIPTION:Traditional training every Monday & Wednesday. \nExtra fitness fight class on Friday \n7-12 year olds 4.30 – 5.30pm \nTeens & Adults 5.45pm – 7.15pm
URL:https://taumarunui.co.nz/event/kyokushin-karate-2/2026-06-03/
LOCATION:Kyokushin Karate\, 4 Marae Street\, Taumarunui\, New Zealand
CATEGORIES:Clubs,Sport
ATTACH;FMTTYPE=image/jpeg:https://taumarunui.co.nz/wp-content/uploads/2024/10/IMG_8094.jpg
END:VEVENT
BEGIN:VEVENT
DTSTART;TZID=Pacific/Auckland:20260604T073000
DTEND;TZID=Pacific/Auckland:20260604T083000
DTSTAMP:20260426T014400
CREATED:20241015T070836Z
LAST-MODIFIED:20241024T080451Z
UID:10005519-1780558200-1780561800@taumarunui.co.nz
SUMMARY:Water Aerobics
DESCRIPTION:Meet every Tuesday and Thursday at the Trust Waikato pool at Taumarunui High School. \nEntry fee is only $3\, so come along and have some fun and gentle exercise
URL:https://taumarunui.co.nz/event/water-aerobics/2026-06-04/
LOCATION:Trust Waikato Pool Taumarunui\, Golf Road\, Taumarunui\, New Zealand
CATEGORIES:Clubs,Sport
ATTACH;FMTTYPE=image/jpeg:https://taumarunui.co.nz/wp-content/uploads/2024/10/IMG_0385.jpg
END:VEVENT
BEGIN:VEVENT
DTSTART;TZID=Pacific/Auckland:20260605T103000
DTEND;TZID=Pacific/Auckland:20260605T143000
DTSTAMP:20260426T014400
CREATED:20241108T003031Z
LAST-MODIFIED:20241108T003031Z
UID:10008825-1780655400-1780669800@taumarunui.co.nz
SUMMARY:Taumarunui Mixed Make Time Play 9
DESCRIPTION:
URL:https://taumarunui.co.nz/event/taumarunui-mixed-make-time-play-9/2026-06-05/
LOCATION:Taumarunui Golf Club\, 165 Golf Road\, Taumarunui\, New Zealand
CATEGORIES:Clubs,Sport
ATTACH;FMTTYPE=image/jpeg:https://taumarunui.co.nz/wp-content/uploads/2024/11/IMG_8283.jpeg
END:VEVENT
BEGIN:VEVENT
DTSTART;TZID=Pacific/Auckland:20260605T160000
DTEND;TZID=Pacific/Auckland:20260605T180000
DTSTAMP:20260426T014400
CREATED:20241112T230456Z
LAST-MODIFIED:20241112T230456Z
UID:10009349-1780675200-1780682400@taumarunui.co.nz
SUMMARY:Pickleball
DESCRIPTION:Exciting!!!!\nLook at what is starting in Taumarunui – “PICKLEBALL”.\nWe welcome Pete and Terry to Taumarunui\, and they bring their love for the game of Pickleball.\nThe Taumarunui Youth and Community Trust has supported them in getting this up and running in the community.\nAnyone interested can come to the athletic gym on Fridays from 4pm to 6pm.
URL:https://taumarunui.co.nz/event/pickleball/2026-06-05/
LOCATION:Athletics Club\, Turaki Street\, Taumarunui\, New Zealand
CATEGORIES:Clubs,Sport
ATTACH;FMTTYPE=image/jpeg:https://taumarunui.co.nz/wp-content/uploads/2024/11/IMG_8308.jpeg
END:VEVENT
BEGIN:VEVENT
DTSTART;TZID=Pacific/Auckland:20260608T163000
DTEND;TZID=Pacific/Auckland:20260608T191500
DTSTAMP:20260426T014400
CREATED:20241015T064459Z
LAST-MODIFIED:20241015T073820Z
UID:10004236-1780936200-1780946100@taumarunui.co.nz
SUMMARY:Kyokushin Karate
DESCRIPTION:Traditional training every Monday & Wednesday. \nExtra fitness fight class on Friday \n7-12 year olds 4.30 – 5.30pm \nTeens & Adults 5.45pm – 7.15pm
URL:https://taumarunui.co.nz/event/kyokushin-karate/2026-06-08/
LOCATION:Kyokushin Karate\, 4 Marae Street\, Taumarunui\, New Zealand
CATEGORIES:Children,Clubs,Sport
ATTACH;FMTTYPE=image/jpeg:https://taumarunui.co.nz/wp-content/uploads/2024/10/IMG_8094.jpg
END:VEVENT
BEGIN:VEVENT
DTSTART;TZID=Pacific/Auckland:20260609T073000
DTEND;TZID=Pacific/Auckland:20260609T083000
DTSTAMP:20260426T014400
CREATED:20241015T071007Z
LAST-MODIFIED:20241015T071007Z
UID:10005780-1780990200-1780993800@taumarunui.co.nz
SUMMARY:Water Aerobics
DESCRIPTION:Meet every Tuesday and Thursday at the Trust Waikato pool at Taumarunui High School. \nEntry fee is only $3\, so come along and have some fun and gentle exercise
URL:https://taumarunui.co.nz/event/water-aerobics-2/2026-06-09/
LOCATION:Trust Waikato Pool Taumarunui\, Golf Road\, Taumarunui\, New Zealand
CATEGORIES:Clubs,Sport
END:VEVENT
BEGIN:VEVENT
DTSTART;TZID=Pacific/Auckland:20260609T173000
DTEND;TZID=Pacific/Auckland:20260609T190000
DTSTAMP:20260426T014400
CREATED:20241015T062549Z
LAST-MODIFIED:20241015T062549Z
UID:10003916-1781026200-1781031600@taumarunui.co.nz
SUMMARY:Progressive Hatha Yoga for all
DESCRIPTION:On every Tuesday of school terms in Senior Citizen Hall\, Taumarunui. \nFirst class $10\, equipment available.
URL:https://taumarunui.co.nz/event/progressive-hatha-yoga-for-all/2026-06-09/
LOCATION:Senior Citizens Hall\, Morero Street\, Taumarunui\, New Zealand
CATEGORIES:Clubs,Sport
END:VEVENT
BEGIN:VEVENT
DTSTART;TZID=Pacific/Auckland:20260610T163000
DTEND;TZID=Pacific/Auckland:20260610T191500
DTSTAMP:20260426T014400
CREATED:20241015T064759Z
LAST-MODIFIED:20241015T073742Z
UID:10004498-1781109000-1781118900@taumarunui.co.nz
SUMMARY:Kyokushin Karate
DESCRIPTION:Traditional training every Monday & Wednesday. \nExtra fitness fight class on Friday \n7-12 year olds 4.30 – 5.30pm \nTeens & Adults 5.45pm – 7.15pm
URL:https://taumarunui.co.nz/event/kyokushin-karate-2/2026-06-10/
LOCATION:Kyokushin Karate\, 4 Marae Street\, Taumarunui\, New Zealand
CATEGORIES:Clubs,Sport
ATTACH;FMTTYPE=image/jpeg:https://taumarunui.co.nz/wp-content/uploads/2024/10/IMG_8094.jpg
END:VEVENT
BEGIN:VEVENT
DTSTART;TZID=Pacific/Auckland:20260611T073000
DTEND;TZID=Pacific/Auckland:20260611T083000
DTSTAMP:20260426T014400
CREATED:20241015T070836Z
LAST-MODIFIED:20241024T080451Z
UID:10005520-1781163000-1781166600@taumarunui.co.nz
SUMMARY:Water Aerobics
DESCRIPTION:Meet every Tuesday and Thursday at the Trust Waikato pool at Taumarunui High School. \nEntry fee is only $3\, so come along and have some fun and gentle exercise
URL:https://taumarunui.co.nz/event/water-aerobics/2026-06-11/
LOCATION:Trust Waikato Pool Taumarunui\, Golf Road\, Taumarunui\, New Zealand
CATEGORIES:Clubs,Sport
ATTACH;FMTTYPE=image/jpeg:https://taumarunui.co.nz/wp-content/uploads/2024/10/IMG_0385.jpg
END:VEVENT
BEGIN:VEVENT
DTSTART;TZID=Pacific/Auckland:20260612T103000
DTEND;TZID=Pacific/Auckland:20260612T143000
DTSTAMP:20260426T014400
CREATED:20241108T003031Z
LAST-MODIFIED:20241108T003031Z
UID:10008826-1781260200-1781274600@taumarunui.co.nz
SUMMARY:Taumarunui Mixed Make Time Play 9
DESCRIPTION:
URL:https://taumarunui.co.nz/event/taumarunui-mixed-make-time-play-9/2026-06-12/
LOCATION:Taumarunui Golf Club\, 165 Golf Road\, Taumarunui\, New Zealand
CATEGORIES:Clubs,Sport
ATTACH;FMTTYPE=image/jpeg:https://taumarunui.co.nz/wp-content/uploads/2024/11/IMG_8283.jpeg
END:VEVENT
BEGIN:VEVENT
DTSTART;TZID=Pacific/Auckland:20260612T160000
DTEND;TZID=Pacific/Auckland:20260612T180000
DTSTAMP:20260426T014400
CREATED:20241112T230456Z
LAST-MODIFIED:20241112T230456Z
UID:10009350-1781280000-1781287200@taumarunui.co.nz
SUMMARY:Pickleball
DESCRIPTION:Exciting!!!!\nLook at what is starting in Taumarunui – “PICKLEBALL”.\nWe welcome Pete and Terry to Taumarunui\, and they bring their love for the game of Pickleball.\nThe Taumarunui Youth and Community Trust has supported them in getting this up and running in the community.\nAnyone interested can come to the athletic gym on Fridays from 4pm to 6pm.
URL:https://taumarunui.co.nz/event/pickleball/2026-06-12/
LOCATION:Athletics Club\, Turaki Street\, Taumarunui\, New Zealand
CATEGORIES:Clubs,Sport
ATTACH;FMTTYPE=image/jpeg:https://taumarunui.co.nz/wp-content/uploads/2024/11/IMG_8308.jpeg
END:VEVENT
BEGIN:VEVENT
DTSTART;TZID=Pacific/Auckland:20260615T163000
DTEND;TZID=Pacific/Auckland:20260615T191500
DTSTAMP:20260426T014400
CREATED:20241015T064459Z
LAST-MODIFIED:20241015T073820Z
UID:10004237-1781541000-1781550900@taumarunui.co.nz
SUMMARY:Kyokushin Karate
DESCRIPTION:Traditional training every Monday & Wednesday. \nExtra fitness fight class on Friday \n7-12 year olds 4.30 – 5.30pm \nTeens & Adults 5.45pm – 7.15pm
URL:https://taumarunui.co.nz/event/kyokushin-karate/2026-06-15/
LOCATION:Kyokushin Karate\, 4 Marae Street\, Taumarunui\, New Zealand
CATEGORIES:Children,Clubs,Sport
ATTACH;FMTTYPE=image/jpeg:https://taumarunui.co.nz/wp-content/uploads/2024/10/IMG_8094.jpg
END:VEVENT
BEGIN:VEVENT
DTSTART;TZID=Pacific/Auckland:20260616T073000
DTEND;TZID=Pacific/Auckland:20260616T083000
DTSTAMP:20260426T014400
CREATED:20241015T071007Z
LAST-MODIFIED:20241015T071007Z
UID:10005781-1781595000-1781598600@taumarunui.co.nz
SUMMARY:Water Aerobics
DESCRIPTION:Meet every Tuesday and Thursday at the Trust Waikato pool at Taumarunui High School. \nEntry fee is only $3\, so come along and have some fun and gentle exercise
URL:https://taumarunui.co.nz/event/water-aerobics-2/2026-06-16/
LOCATION:Trust Waikato Pool Taumarunui\, Golf Road\, Taumarunui\, New Zealand
CATEGORIES:Clubs,Sport
END:VEVENT
BEGIN:VEVENT
DTSTART;TZID=Pacific/Auckland:20260616T173000
DTEND;TZID=Pacific/Auckland:20260616T190000
DTSTAMP:20260426T014400
CREATED:20241015T062549Z
LAST-MODIFIED:20241015T062549Z
UID:10003917-1781631000-1781636400@taumarunui.co.nz
SUMMARY:Progressive Hatha Yoga for all
DESCRIPTION:On every Tuesday of school terms in Senior Citizen Hall\, Taumarunui. \nFirst class $10\, equipment available.
URL:https://taumarunui.co.nz/event/progressive-hatha-yoga-for-all/2026-06-16/
LOCATION:Senior Citizens Hall\, Morero Street\, Taumarunui\, New Zealand
CATEGORIES:Clubs,Sport
END:VEVENT
BEGIN:VEVENT
DTSTART;TZID=Pacific/Auckland:20260617T163000
DTEND;TZID=Pacific/Auckland:20260617T191500
DTSTAMP:20260426T014400
CREATED:20241015T064759Z
LAST-MODIFIED:20241015T073742Z
UID:10004499-1781713800-1781723700@taumarunui.co.nz
SUMMARY:Kyokushin Karate
DESCRIPTION:Traditional training every Monday & Wednesday. \nExtra fitness fight class on Friday \n7-12 year olds 4.30 – 5.30pm \nTeens & Adults 5.45pm – 7.15pm
URL:https://taumarunui.co.nz/event/kyokushin-karate-2/2026-06-17/
LOCATION:Kyokushin Karate\, 4 Marae Street\, Taumarunui\, New Zealand
CATEGORIES:Clubs,Sport
ATTACH;FMTTYPE=image/jpeg:https://taumarunui.co.nz/wp-content/uploads/2024/10/IMG_8094.jpg
END:VEVENT
BEGIN:VEVENT
DTSTART;TZID=Pacific/Auckland:20260618T073000
DTEND;TZID=Pacific/Auckland:20260618T083000
DTSTAMP:20260426T014400
CREATED:20241015T070836Z
LAST-MODIFIED:20241024T080451Z
UID:10005521-1781767800-1781771400@taumarunui.co.nz
SUMMARY:Water Aerobics
DESCRIPTION:Meet every Tuesday and Thursday at the Trust Waikato pool at Taumarunui High School. \nEntry fee is only $3\, so come along and have some fun and gentle exercise
URL:https://taumarunui.co.nz/event/water-aerobics/2026-06-18/
LOCATION:Trust Waikato Pool Taumarunui\, Golf Road\, Taumarunui\, New Zealand
CATEGORIES:Clubs,Sport
ATTACH;FMTTYPE=image/jpeg:https://taumarunui.co.nz/wp-content/uploads/2024/10/IMG_0385.jpg
END:VEVENT
BEGIN:VEVENT
DTSTART;TZID=Pacific/Auckland:20260619T103000
DTEND;TZID=Pacific/Auckland:20260619T143000
DTSTAMP:20260426T014400
CREATED:20241108T003031Z
LAST-MODIFIED:20241108T003031Z
UID:10008827-1781865000-1781879400@taumarunui.co.nz
SUMMARY:Taumarunui Mixed Make Time Play 9
DESCRIPTION:
URL:https://taumarunui.co.nz/event/taumarunui-mixed-make-time-play-9/2026-06-19/
LOCATION:Taumarunui Golf Club\, 165 Golf Road\, Taumarunui\, New Zealand
CATEGORIES:Clubs,Sport
ATTACH;FMTTYPE=image/jpeg:https://taumarunui.co.nz/wp-content/uploads/2024/11/IMG_8283.jpeg
END:VEVENT
BEGIN:VEVENT
DTSTART;TZID=Pacific/Auckland:20260619T160000
DTEND;TZID=Pacific/Auckland:20260619T180000
DTSTAMP:20260426T014400
CREATED:20241112T230456Z
LAST-MODIFIED:20241112T230456Z
UID:10009351-1781884800-1781892000@taumarunui.co.nz
SUMMARY:Pickleball
DESCRIPTION:Exciting!!!!\nLook at what is starting in Taumarunui – “PICKLEBALL”.\nWe welcome Pete and Terry to Taumarunui\, and they bring their love for the game of Pickleball.\nThe Taumarunui Youth and Community Trust has supported them in getting this up and running in the community.\nAnyone interested can come to the athletic gym on Fridays from 4pm to 6pm.
URL:https://taumarunui.co.nz/event/pickleball/2026-06-19/
LOCATION:Athletics Club\, Turaki Street\, Taumarunui\, New Zealand
CATEGORIES:Clubs,Sport
ATTACH;FMTTYPE=image/jpeg:https://taumarunui.co.nz/wp-content/uploads/2024/11/IMG_8308.jpeg
END:VEVENT
BEGIN:VEVENT
DTSTART;TZID=Pacific/Auckland:20260622T163000
DTEND;TZID=Pacific/Auckland:20260622T191500
DTSTAMP:20260426T014400
CREATED:20241015T064459Z
LAST-MODIFIED:20241015T073820Z
UID:10004238-1782145800-1782155700@taumarunui.co.nz
SUMMARY:Kyokushin Karate
DESCRIPTION:Traditional training every Monday & Wednesday. \nExtra fitness fight class on Friday \n7-12 year olds 4.30 – 5.30pm \nTeens & Adults 5.45pm – 7.15pm
URL:https://taumarunui.co.nz/event/kyokushin-karate/2026-06-22/
LOCATION:Kyokushin Karate\, 4 Marae Street\, Taumarunui\, New Zealand
CATEGORIES:Children,Clubs,Sport
ATTACH;FMTTYPE=image/jpeg:https://taumarunui.co.nz/wp-content/uploads/2024/10/IMG_8094.jpg
END:VEVENT
BEGIN:VEVENT
DTSTART;TZID=Pacific/Auckland:20260623T073000
DTEND;TZID=Pacific/Auckland:20260623T083000
DTSTAMP:20260426T014400
CREATED:20241015T071007Z
LAST-MODIFIED:20241015T071007Z
UID:10005782-1782199800-1782203400@taumarunui.co.nz
SUMMARY:Water Aerobics
DESCRIPTION:Meet every Tuesday and Thursday at the Trust Waikato pool at Taumarunui High School. \nEntry fee is only $3\, so come along and have some fun and gentle exercise
URL:https://taumarunui.co.nz/event/water-aerobics-2/2026-06-23/
LOCATION:Trust Waikato Pool Taumarunui\, Golf Road\, Taumarunui\, New Zealand
CATEGORIES:Clubs,Sport
END:VEVENT
BEGIN:VEVENT
DTSTART;TZID=Pacific/Auckland:20260623T173000
DTEND;TZID=Pacific/Auckland:20260623T190000
DTSTAMP:20260426T014400
CREATED:20241015T062549Z
LAST-MODIFIED:20241015T062549Z
UID:10003918-1782235800-1782241200@taumarunui.co.nz
SUMMARY:Progressive Hatha Yoga for all
DESCRIPTION:On every Tuesday of school terms in Senior Citizen Hall\, Taumarunui. \nFirst class $10\, equipment available.
URL:https://taumarunui.co.nz/event/progressive-hatha-yoga-for-all/2026-06-23/
LOCATION:Senior Citizens Hall\, Morero Street\, Taumarunui\, New Zealand
CATEGORIES:Clubs,Sport
END:VEVENT
BEGIN:VEVENT
DTSTART;TZID=Pacific/Auckland:20260624T163000
DTEND;TZID=Pacific/Auckland:20260624T191500
DTSTAMP:20260426T014400
CREATED:20241015T064759Z
LAST-MODIFIED:20241015T073742Z
UID:10004500-1782318600-1782328500@taumarunui.co.nz
SUMMARY:Kyokushin Karate
DESCRIPTION:Traditional training every Monday & Wednesday. \nExtra fitness fight class on Friday \n7-12 year olds 4.30 – 5.30pm \nTeens & Adults 5.45pm – 7.15pm
URL:https://taumarunui.co.nz/event/kyokushin-karate-2/2026-06-24/
LOCATION:Kyokushin Karate\, 4 Marae Street\, Taumarunui\, New Zealand
CATEGORIES:Clubs,Sport
ATTACH;FMTTYPE=image/jpeg:https://taumarunui.co.nz/wp-content/uploads/2024/10/IMG_8094.jpg
END:VEVENT
BEGIN:VEVENT
DTSTART;TZID=Pacific/Auckland:20260625T073000
DTEND;TZID=Pacific/Auckland:20260625T083000
DTSTAMP:20260426T014400
CREATED:20241015T070836Z
LAST-MODIFIED:20241024T080451Z
UID:10005522-1782372600-1782376200@taumarunui.co.nz
SUMMARY:Water Aerobics
DESCRIPTION:Meet every Tuesday and Thursday at the Trust Waikato pool at Taumarunui High School. \nEntry fee is only $3\, so come along and have some fun and gentle exercise
URL:https://taumarunui.co.nz/event/water-aerobics/2026-06-25/
LOCATION:Trust Waikato Pool Taumarunui\, Golf Road\, Taumarunui\, New Zealand
CATEGORIES:Clubs,Sport
ATTACH;FMTTYPE=image/jpeg:https://taumarunui.co.nz/wp-content/uploads/2024/10/IMG_0385.jpg
END:VEVENT
BEGIN:VEVENT
DTSTART;TZID=Pacific/Auckland:20260626T103000
DTEND;TZID=Pacific/Auckland:20260626T143000
DTSTAMP:20260426T014400
CREATED:20241108T003031Z
LAST-MODIFIED:20241108T003031Z
UID:10008828-1782469800-1782484200@taumarunui.co.nz
SUMMARY:Taumarunui Mixed Make Time Play 9
DESCRIPTION:
URL:https://taumarunui.co.nz/event/taumarunui-mixed-make-time-play-9/2026-06-26/
LOCATION:Taumarunui Golf Club\, 165 Golf Road\, Taumarunui\, New Zealand
CATEGORIES:Clubs,Sport
ATTACH;FMTTYPE=image/jpeg:https://taumarunui.co.nz/wp-content/uploads/2024/11/IMG_8283.jpeg
END:VEVENT
BEGIN:VEVENT
DTSTART;TZID=Pacific/Auckland:20260626T160000
DTEND;TZID=Pacific/Auckland:20260626T180000
DTSTAMP:20260426T014400
CREATED:20241112T230456Z
LAST-MODIFIED:20241112T230456Z
UID:10009352-1782489600-1782496800@taumarunui.co.nz
SUMMARY:Pickleball
DESCRIPTION:Exciting!!!!\nLook at what is starting in Taumarunui – “PICKLEBALL”.\nWe welcome Pete and Terry to Taumarunui\, and they bring their love for the game of Pickleball.\nThe Taumarunui Youth and Community Trust has supported them in getting this up and running in the community.\nAnyone interested can come to the athletic gym on Fridays from 4pm to 6pm.
URL:https://taumarunui.co.nz/event/pickleball/2026-06-26/
LOCATION:Athletics Club\, Turaki Street\, Taumarunui\, New Zealand
CATEGORIES:Clubs,Sport
ATTACH;FMTTYPE=image/jpeg:https://taumarunui.co.nz/wp-content/uploads/2024/11/IMG_8308.jpeg
END:VEVENT
BEGIN:VEVENT
DTSTART;TZID=Pacific/Auckland:20260629T163000
DTEND;TZID=Pacific/Auckland:20260629T191500
DTSTAMP:20260426T014400
CREATED:20241015T064459Z
LAST-MODIFIED:20241015T073820Z
UID:10004239-1782750600-1782760500@taumarunui.co.nz
SUMMARY:Kyokushin Karate
DESCRIPTION:Traditional training every Monday & Wednesday. \nExtra fitness fight class on Friday \n7-12 year olds 4.30 – 5.30pm \nTeens & Adults 5.45pm – 7.15pm
URL:https://taumarunui.co.nz/event/kyokushin-karate/2026-06-29/
LOCATION:Kyokushin Karate\, 4 Marae Street\, Taumarunui\, New Zealand
CATEGORIES:Children,Clubs,Sport
ATTACH;FMTTYPE=image/jpeg:https://taumarunui.co.nz/wp-content/uploads/2024/10/IMG_8094.jpg
END:VEVENT
BEGIN:VEVENT
DTSTART;TZID=Pacific/Auckland:20260630T073000
DTEND;TZID=Pacific/Auckland:20260630T083000
DTSTAMP:20260426T014400
CREATED:20241015T071007Z
LAST-MODIFIED:20241015T071007Z
UID:10005783-1782804600-1782808200@taumarunui.co.nz
SUMMARY:Water Aerobics
DESCRIPTION:Meet every Tuesday and Thursday at the Trust Waikato pool at Taumarunui High School. \nEntry fee is only $3\, so come along and have some fun and gentle exercise
URL:https://taumarunui.co.nz/event/water-aerobics-2/2026-06-30/
LOCATION:Trust Waikato Pool Taumarunui\, Golf Road\, Taumarunui\, New Zealand
CATEGORIES:Clubs,Sport
END:VEVENT
END:VCALENDAR