BEGIN:VCALENDAR
VERSION:2.0
PRODID:-//Taumarunui - ECPv6.15.20//NONSGML v1.0//EN
CALSCALE:GREGORIAN
METHOD:PUBLISH
X-ORIGINAL-URL:https://taumarunui.co.nz
X-WR-CALDESC:Events for Taumarunui
REFRESH-INTERVAL;VALUE=DURATION:PT1H
X-Robots-Tag:noindex
X-PUBLISHED-TTL:PT1H
BEGIN:VTIMEZONE
TZID:Pacific/Auckland
BEGIN:STANDARD
TZOFFSETFROM:+1300
TZOFFSETTO:+1200
TZNAME:NZST
DTSTART:20240406T140000
END:STANDARD
BEGIN:DAYLIGHT
TZOFFSETFROM:+1200
TZOFFSETTO:+1300
TZNAME:NZDT
DTSTART:20240928T140000
END:DAYLIGHT
BEGIN:STANDARD
TZOFFSETFROM:+1300
TZOFFSETTO:+1200
TZNAME:NZST
DTSTART:20250405T140000
END:STANDARD
BEGIN:DAYLIGHT
TZOFFSETFROM:+1200
TZOFFSETTO:+1300
TZNAME:NZDT
DTSTART:20250927T140000
END:DAYLIGHT
BEGIN:STANDARD
TZOFFSETFROM:+1300
TZOFFSETTO:+1200
TZNAME:NZST
DTSTART:20260404T140000
END:STANDARD
BEGIN:DAYLIGHT
TZOFFSETFROM:+1200
TZOFFSETTO:+1300
TZNAME:NZDT
DTSTART:20260926T140000
END:DAYLIGHT
END:VTIMEZONE
BEGIN:VEVENT
DTSTART;TZID=Pacific/Auckland:20251103T163000
DTEND;TZID=Pacific/Auckland:20251103T191500
DTSTAMP:20260426T152021
CREATED:20241015T064459Z
LAST-MODIFIED:20241015T073820Z
UID:10004205-1762187400-1762197300@taumarunui.co.nz
SUMMARY:Kyokushin Karate
DESCRIPTION:Traditional training every Monday & Wednesday. \nExtra fitness fight class on Friday \n7-12 year olds 4.30 – 5.30pm \nTeens & Adults 5.45pm – 7.15pm
URL:https://taumarunui.co.nz/event/kyokushin-karate/2025-11-03/
LOCATION:Kyokushin Karate\, 4 Marae Street\, Taumarunui\, New Zealand
CATEGORIES:Children,Clubs,Sport
ATTACH;FMTTYPE=image/jpeg:https://taumarunui.co.nz/wp-content/uploads/2024/10/IMG_8094.jpg
END:VEVENT
BEGIN:VEVENT
DTSTART;TZID=Pacific/Auckland:20251104T073000
DTEND;TZID=Pacific/Auckland:20251104T083000
DTSTAMP:20260426T152021
CREATED:20241015T071007Z
LAST-MODIFIED:20241015T071007Z
UID:10005749-1762241400-1762245000@taumarunui.co.nz
SUMMARY:Water Aerobics
DESCRIPTION:Meet every Tuesday and Thursday at the Trust Waikato pool at Taumarunui High School. \nEntry fee is only $3\, so come along and have some fun and gentle exercise
URL:https://taumarunui.co.nz/event/water-aerobics-2/2025-11-04/
LOCATION:Trust Waikato Pool Taumarunui\, Golf Road\, Taumarunui\, New Zealand
CATEGORIES:Clubs,Sport
END:VEVENT
BEGIN:VEVENT
DTSTART;TZID=Pacific/Auckland:20251104T173000
DTEND;TZID=Pacific/Auckland:20251104T190000
DTSTAMP:20260426T152021
CREATED:20241015T062549Z
LAST-MODIFIED:20241015T062549Z
UID:10003885-1762277400-1762282800@taumarunui.co.nz
SUMMARY:Progressive Hatha Yoga for all
DESCRIPTION:On every Tuesday of school terms in Senior Citizen Hall\, Taumarunui. \nFirst class $10\, equipment available.
URL:https://taumarunui.co.nz/event/progressive-hatha-yoga-for-all/2025-11-04/
LOCATION:Senior Citizens Hall\, Morero Street\, Taumarunui\, New Zealand
CATEGORIES:Clubs,Sport
END:VEVENT
BEGIN:VEVENT
DTSTART;TZID=Pacific/Auckland:20251105T163000
DTEND;TZID=Pacific/Auckland:20251105T191500
DTSTAMP:20260426T152021
CREATED:20241015T064759Z
LAST-MODIFIED:20241015T073742Z
UID:10004467-1762360200-1762370100@taumarunui.co.nz
SUMMARY:Kyokushin Karate
DESCRIPTION:Traditional training every Monday & Wednesday. \nExtra fitness fight class on Friday \n7-12 year olds 4.30 – 5.30pm \nTeens & Adults 5.45pm – 7.15pm
URL:https://taumarunui.co.nz/event/kyokushin-karate-2/2025-11-05/
LOCATION:Kyokushin Karate\, 4 Marae Street\, Taumarunui\, New Zealand
CATEGORIES:Clubs,Sport
ATTACH;FMTTYPE=image/jpeg:https://taumarunui.co.nz/wp-content/uploads/2024/10/IMG_8094.jpg
END:VEVENT
BEGIN:VEVENT
DTSTART;VALUE=DATE:20251106
DTEND;VALUE=DATE:20251107
DTSTAMP:20260426T152021
CREATED:20241015T045524Z
LAST-MODIFIED:20241015T061800Z
UID:10003064-1762387200-1762473599@taumarunui.co.nz
SUMMARY:Swimming lessons for Parents and Babies/Toddlers
DESCRIPTION:Great activity for parents and their little ones
URL:https://taumarunui.co.nz/event/swimming-lessons-for-parents-and-babies-toddlers/2025-11-06/
LOCATION:Trust Waikato Pool Taumarunui\, Golf Road\, Taumarunui\, New Zealand
CATEGORIES:Children,Classes,Sport
ATTACH;FMTTYPE=image/jpeg:https://taumarunui.co.nz/wp-content/uploads/2024/09/IMG_8008.jpg
END:VEVENT
BEGIN:VEVENT
DTSTART;TZID=Pacific/Auckland:20251106T073000
DTEND;TZID=Pacific/Auckland:20251106T083000
DTSTAMP:20260426T152021
CREATED:20241015T070836Z
LAST-MODIFIED:20241024T080451Z
UID:10005489-1762414200-1762417800@taumarunui.co.nz
SUMMARY:Water Aerobics
DESCRIPTION:Meet every Tuesday and Thursday at the Trust Waikato pool at Taumarunui High School. \nEntry fee is only $3\, so come along and have some fun and gentle exercise
URL:https://taumarunui.co.nz/event/water-aerobics/2025-11-06/
LOCATION:Trust Waikato Pool Taumarunui\, Golf Road\, Taumarunui\, New Zealand
CATEGORIES:Clubs,Sport
ATTACH;FMTTYPE=image/jpeg:https://taumarunui.co.nz/wp-content/uploads/2024/10/IMG_0385.jpg
END:VEVENT
BEGIN:VEVENT
DTSTART;TZID=Pacific/Auckland:20251107T103000
DTEND;TZID=Pacific/Auckland:20251107T143000
DTSTAMP:20260426T152021
CREATED:20241108T003031Z
LAST-MODIFIED:20241108T003031Z
UID:10008795-1762511400-1762525800@taumarunui.co.nz
SUMMARY:Taumarunui Mixed Make Time Play 9
DESCRIPTION:
URL:https://taumarunui.co.nz/event/taumarunui-mixed-make-time-play-9/2025-11-07/
LOCATION:Taumarunui Golf Club\, 165 Golf Road\, Taumarunui\, New Zealand
CATEGORIES:Clubs,Sport
ATTACH;FMTTYPE=image/jpeg:https://taumarunui.co.nz/wp-content/uploads/2024/11/IMG_8283.jpeg
END:VEVENT
BEGIN:VEVENT
DTSTART;TZID=Pacific/Auckland:20251107T160000
DTEND;TZID=Pacific/Auckland:20251107T180000
DTSTAMP:20260426T152021
CREATED:20241112T230456Z
LAST-MODIFIED:20241112T230456Z
UID:10009319-1762531200-1762538400@taumarunui.co.nz
SUMMARY:Pickleball
DESCRIPTION:Exciting!!!!\nLook at what is starting in Taumarunui – “PICKLEBALL”.\nWe welcome Pete and Terry to Taumarunui\, and they bring their love for the game of Pickleball.\nThe Taumarunui Youth and Community Trust has supported them in getting this up and running in the community.\nAnyone interested can come to the athletic gym on Fridays from 4pm to 6pm.
URL:https://taumarunui.co.nz/event/pickleball/2025-11-07/
LOCATION:Athletics Club\, Turaki Street\, Taumarunui\, New Zealand
CATEGORIES:Clubs,Sport
ATTACH;FMTTYPE=image/jpeg:https://taumarunui.co.nz/wp-content/uploads/2024/11/IMG_8308.jpeg
END:VEVENT
BEGIN:VEVENT
DTSTART;TZID=Pacific/Auckland:20251110T163000
DTEND;TZID=Pacific/Auckland:20251110T191500
DTSTAMP:20260426T152021
CREATED:20241015T064459Z
LAST-MODIFIED:20241015T073820Z
UID:10004206-1762792200-1762802100@taumarunui.co.nz
SUMMARY:Kyokushin Karate
DESCRIPTION:Traditional training every Monday & Wednesday. \nExtra fitness fight class on Friday \n7-12 year olds 4.30 – 5.30pm \nTeens & Adults 5.45pm – 7.15pm
URL:https://taumarunui.co.nz/event/kyokushin-karate/2025-11-10/
LOCATION:Kyokushin Karate\, 4 Marae Street\, Taumarunui\, New Zealand
CATEGORIES:Children,Clubs,Sport
ATTACH;FMTTYPE=image/jpeg:https://taumarunui.co.nz/wp-content/uploads/2024/10/IMG_8094.jpg
END:VEVENT
BEGIN:VEVENT
DTSTART;TZID=Pacific/Auckland:20251111T073000
DTEND;TZID=Pacific/Auckland:20251111T083000
DTSTAMP:20260426T152021
CREATED:20241015T071007Z
LAST-MODIFIED:20241015T071007Z
UID:10005750-1762846200-1762849800@taumarunui.co.nz
SUMMARY:Water Aerobics
DESCRIPTION:Meet every Tuesday and Thursday at the Trust Waikato pool at Taumarunui High School. \nEntry fee is only $3\, so come along and have some fun and gentle exercise
URL:https://taumarunui.co.nz/event/water-aerobics-2/2025-11-11/
LOCATION:Trust Waikato Pool Taumarunui\, Golf Road\, Taumarunui\, New Zealand
CATEGORIES:Clubs,Sport
END:VEVENT
BEGIN:VEVENT
DTSTART;TZID=Pacific/Auckland:20251111T173000
DTEND;TZID=Pacific/Auckland:20251111T190000
DTSTAMP:20260426T152021
CREATED:20241015T062549Z
LAST-MODIFIED:20241015T062549Z
UID:10003886-1762882200-1762887600@taumarunui.co.nz
SUMMARY:Progressive Hatha Yoga for all
DESCRIPTION:On every Tuesday of school terms in Senior Citizen Hall\, Taumarunui. \nFirst class $10\, equipment available.
URL:https://taumarunui.co.nz/event/progressive-hatha-yoga-for-all/2025-11-11/
LOCATION:Senior Citizens Hall\, Morero Street\, Taumarunui\, New Zealand
CATEGORIES:Clubs,Sport
END:VEVENT
BEGIN:VEVENT
DTSTART;TZID=Pacific/Auckland:20251112T163000
DTEND;TZID=Pacific/Auckland:20251112T191500
DTSTAMP:20260426T152021
CREATED:20241015T064759Z
LAST-MODIFIED:20241015T073742Z
UID:10004468-1762965000-1762974900@taumarunui.co.nz
SUMMARY:Kyokushin Karate
DESCRIPTION:Traditional training every Monday & Wednesday. \nExtra fitness fight class on Friday \n7-12 year olds 4.30 – 5.30pm \nTeens & Adults 5.45pm – 7.15pm
URL:https://taumarunui.co.nz/event/kyokushin-karate-2/2025-11-12/
LOCATION:Kyokushin Karate\, 4 Marae Street\, Taumarunui\, New Zealand
CATEGORIES:Clubs,Sport
ATTACH;FMTTYPE=image/jpeg:https://taumarunui.co.nz/wp-content/uploads/2024/10/IMG_8094.jpg
END:VEVENT
BEGIN:VEVENT
DTSTART;VALUE=DATE:20251113
DTEND;VALUE=DATE:20251114
DTSTAMP:20260426T152021
CREATED:20241015T045524Z
LAST-MODIFIED:20241015T061800Z
UID:10003065-1762992000-1763078399@taumarunui.co.nz
SUMMARY:Swimming lessons for Parents and Babies/Toddlers
DESCRIPTION:Great activity for parents and their little ones
URL:https://taumarunui.co.nz/event/swimming-lessons-for-parents-and-babies-toddlers/2025-11-13/
LOCATION:Trust Waikato Pool Taumarunui\, Golf Road\, Taumarunui\, New Zealand
CATEGORIES:Children,Classes,Sport
ATTACH;FMTTYPE=image/jpeg:https://taumarunui.co.nz/wp-content/uploads/2024/09/IMG_8008.jpg
END:VEVENT
BEGIN:VEVENT
DTSTART;TZID=Pacific/Auckland:20251113T073000
DTEND;TZID=Pacific/Auckland:20251113T083000
DTSTAMP:20260426T152021
CREATED:20241015T070836Z
LAST-MODIFIED:20241024T080451Z
UID:10005490-1763019000-1763022600@taumarunui.co.nz
SUMMARY:Water Aerobics
DESCRIPTION:Meet every Tuesday and Thursday at the Trust Waikato pool at Taumarunui High School. \nEntry fee is only $3\, so come along and have some fun and gentle exercise
URL:https://taumarunui.co.nz/event/water-aerobics/2025-11-13/
LOCATION:Trust Waikato Pool Taumarunui\, Golf Road\, Taumarunui\, New Zealand
CATEGORIES:Clubs,Sport
ATTACH;FMTTYPE=image/jpeg:https://taumarunui.co.nz/wp-content/uploads/2024/10/IMG_0385.jpg
END:VEVENT
BEGIN:VEVENT
DTSTART;TZID=Pacific/Auckland:20251114T103000
DTEND;TZID=Pacific/Auckland:20251114T143000
DTSTAMP:20260426T152021
CREATED:20241108T003031Z
LAST-MODIFIED:20241108T003031Z
UID:10008796-1763116200-1763130600@taumarunui.co.nz
SUMMARY:Taumarunui Mixed Make Time Play 9
DESCRIPTION:
URL:https://taumarunui.co.nz/event/taumarunui-mixed-make-time-play-9/2025-11-14/
LOCATION:Taumarunui Golf Club\, 165 Golf Road\, Taumarunui\, New Zealand
CATEGORIES:Clubs,Sport
ATTACH;FMTTYPE=image/jpeg:https://taumarunui.co.nz/wp-content/uploads/2024/11/IMG_8283.jpeg
END:VEVENT
BEGIN:VEVENT
DTSTART;TZID=Pacific/Auckland:20251114T160000
DTEND;TZID=Pacific/Auckland:20251114T180000
DTSTAMP:20260426T152021
CREATED:20241112T230456Z
LAST-MODIFIED:20241112T230456Z
UID:10009320-1763136000-1763143200@taumarunui.co.nz
SUMMARY:Pickleball
DESCRIPTION:Exciting!!!!\nLook at what is starting in Taumarunui – “PICKLEBALL”.\nWe welcome Pete and Terry to Taumarunui\, and they bring their love for the game of Pickleball.\nThe Taumarunui Youth and Community Trust has supported them in getting this up and running in the community.\nAnyone interested can come to the athletic gym on Fridays from 4pm to 6pm.
URL:https://taumarunui.co.nz/event/pickleball/2025-11-14/
LOCATION:Athletics Club\, Turaki Street\, Taumarunui\, New Zealand
CATEGORIES:Clubs,Sport
ATTACH;FMTTYPE=image/jpeg:https://taumarunui.co.nz/wp-content/uploads/2024/11/IMG_8308.jpeg
END:VEVENT
BEGIN:VEVENT
DTSTART;TZID=Pacific/Auckland:20251117T163000
DTEND;TZID=Pacific/Auckland:20251117T191500
DTSTAMP:20260426T152021
CREATED:20241015T064459Z
LAST-MODIFIED:20241015T073820Z
UID:10004207-1763397000-1763406900@taumarunui.co.nz
SUMMARY:Kyokushin Karate
DESCRIPTION:Traditional training every Monday & Wednesday. \nExtra fitness fight class on Friday \n7-12 year olds 4.30 – 5.30pm \nTeens & Adults 5.45pm – 7.15pm
URL:https://taumarunui.co.nz/event/kyokushin-karate/2025-11-17/
LOCATION:Kyokushin Karate\, 4 Marae Street\, Taumarunui\, New Zealand
CATEGORIES:Children,Clubs,Sport
ATTACH;FMTTYPE=image/jpeg:https://taumarunui.co.nz/wp-content/uploads/2024/10/IMG_8094.jpg
END:VEVENT
BEGIN:VEVENT
DTSTART;TZID=Pacific/Auckland:20251118T073000
DTEND;TZID=Pacific/Auckland:20251118T083000
DTSTAMP:20260426T152021
CREATED:20241015T071007Z
LAST-MODIFIED:20241015T071007Z
UID:10005751-1763451000-1763454600@taumarunui.co.nz
SUMMARY:Water Aerobics
DESCRIPTION:Meet every Tuesday and Thursday at the Trust Waikato pool at Taumarunui High School. \nEntry fee is only $3\, so come along and have some fun and gentle exercise
URL:https://taumarunui.co.nz/event/water-aerobics-2/2025-11-18/
LOCATION:Trust Waikato Pool Taumarunui\, Golf Road\, Taumarunui\, New Zealand
CATEGORIES:Clubs,Sport
END:VEVENT
BEGIN:VEVENT
DTSTART;TZID=Pacific/Auckland:20251118T173000
DTEND;TZID=Pacific/Auckland:20251118T190000
DTSTAMP:20260426T152021
CREATED:20241015T062549Z
LAST-MODIFIED:20241015T062549Z
UID:10003887-1763487000-1763492400@taumarunui.co.nz
SUMMARY:Progressive Hatha Yoga for all
DESCRIPTION:On every Tuesday of school terms in Senior Citizen Hall\, Taumarunui. \nFirst class $10\, equipment available.
URL:https://taumarunui.co.nz/event/progressive-hatha-yoga-for-all/2025-11-18/
LOCATION:Senior Citizens Hall\, Morero Street\, Taumarunui\, New Zealand
CATEGORIES:Clubs,Sport
END:VEVENT
BEGIN:VEVENT
DTSTART;TZID=Pacific/Auckland:20251119T163000
DTEND;TZID=Pacific/Auckland:20251119T191500
DTSTAMP:20260426T152021
CREATED:20241015T064759Z
LAST-MODIFIED:20241015T073742Z
UID:10004469-1763569800-1763579700@taumarunui.co.nz
SUMMARY:Kyokushin Karate
DESCRIPTION:Traditional training every Monday & Wednesday. \nExtra fitness fight class on Friday \n7-12 year olds 4.30 – 5.30pm \nTeens & Adults 5.45pm – 7.15pm
URL:https://taumarunui.co.nz/event/kyokushin-karate-2/2025-11-19/
LOCATION:Kyokushin Karate\, 4 Marae Street\, Taumarunui\, New Zealand
CATEGORIES:Clubs,Sport
ATTACH;FMTTYPE=image/jpeg:https://taumarunui.co.nz/wp-content/uploads/2024/10/IMG_8094.jpg
END:VEVENT
BEGIN:VEVENT
DTSTART;VALUE=DATE:20251120
DTEND;VALUE=DATE:20251121
DTSTAMP:20260426T152021
CREATED:20241015T045524Z
LAST-MODIFIED:20241015T061800Z
UID:10003066-1763596800-1763683199@taumarunui.co.nz
SUMMARY:Swimming lessons for Parents and Babies/Toddlers
DESCRIPTION:Great activity for parents and their little ones
URL:https://taumarunui.co.nz/event/swimming-lessons-for-parents-and-babies-toddlers/2025-11-20/
LOCATION:Trust Waikato Pool Taumarunui\, Golf Road\, Taumarunui\, New Zealand
CATEGORIES:Children,Classes,Sport
ATTACH;FMTTYPE=image/jpeg:https://taumarunui.co.nz/wp-content/uploads/2024/09/IMG_8008.jpg
END:VEVENT
BEGIN:VEVENT
DTSTART;TZID=Pacific/Auckland:20251120T073000
DTEND;TZID=Pacific/Auckland:20251120T083000
DTSTAMP:20260426T152021
CREATED:20241015T070836Z
LAST-MODIFIED:20241024T080451Z
UID:10005491-1763623800-1763627400@taumarunui.co.nz
SUMMARY:Water Aerobics
DESCRIPTION:Meet every Tuesday and Thursday at the Trust Waikato pool at Taumarunui High School. \nEntry fee is only $3\, so come along and have some fun and gentle exercise
URL:https://taumarunui.co.nz/event/water-aerobics/2025-11-20/
LOCATION:Trust Waikato Pool Taumarunui\, Golf Road\, Taumarunui\, New Zealand
CATEGORIES:Clubs,Sport
ATTACH;FMTTYPE=image/jpeg:https://taumarunui.co.nz/wp-content/uploads/2024/10/IMG_0385.jpg
END:VEVENT
BEGIN:VEVENT
DTSTART;TZID=Pacific/Auckland:20251121T103000
DTEND;TZID=Pacific/Auckland:20251121T143000
DTSTAMP:20260426T152021
CREATED:20241108T003031Z
LAST-MODIFIED:20241108T003031Z
UID:10008797-1763721000-1763735400@taumarunui.co.nz
SUMMARY:Taumarunui Mixed Make Time Play 9
DESCRIPTION:
URL:https://taumarunui.co.nz/event/taumarunui-mixed-make-time-play-9/2025-11-21/
LOCATION:Taumarunui Golf Club\, 165 Golf Road\, Taumarunui\, New Zealand
CATEGORIES:Clubs,Sport
ATTACH;FMTTYPE=image/jpeg:https://taumarunui.co.nz/wp-content/uploads/2024/11/IMG_8283.jpeg
END:VEVENT
BEGIN:VEVENT
DTSTART;TZID=Pacific/Auckland:20251121T160000
DTEND;TZID=Pacific/Auckland:20251121T180000
DTSTAMP:20260426T152021
CREATED:20241112T230456Z
LAST-MODIFIED:20241112T230456Z
UID:10009321-1763740800-1763748000@taumarunui.co.nz
SUMMARY:Pickleball
DESCRIPTION:Exciting!!!!\nLook at what is starting in Taumarunui – “PICKLEBALL”.\nWe welcome Pete and Terry to Taumarunui\, and they bring their love for the game of Pickleball.\nThe Taumarunui Youth and Community Trust has supported them in getting this up and running in the community.\nAnyone interested can come to the athletic gym on Fridays from 4pm to 6pm.
URL:https://taumarunui.co.nz/event/pickleball/2025-11-21/
LOCATION:Athletics Club\, Turaki Street\, Taumarunui\, New Zealand
CATEGORIES:Clubs,Sport
ATTACH;FMTTYPE=image/jpeg:https://taumarunui.co.nz/wp-content/uploads/2024/11/IMG_8308.jpeg
END:VEVENT
BEGIN:VEVENT
DTSTART;TZID=Pacific/Auckland:20251124T163000
DTEND;TZID=Pacific/Auckland:20251124T191500
DTSTAMP:20260426T152021
CREATED:20241015T064459Z
LAST-MODIFIED:20241015T073820Z
UID:10004208-1764001800-1764011700@taumarunui.co.nz
SUMMARY:Kyokushin Karate
DESCRIPTION:Traditional training every Monday & Wednesday. \nExtra fitness fight class on Friday \n7-12 year olds 4.30 – 5.30pm \nTeens & Adults 5.45pm – 7.15pm
URL:https://taumarunui.co.nz/event/kyokushin-karate/2025-11-24/
LOCATION:Kyokushin Karate\, 4 Marae Street\, Taumarunui\, New Zealand
CATEGORIES:Children,Clubs,Sport
ATTACH;FMTTYPE=image/jpeg:https://taumarunui.co.nz/wp-content/uploads/2024/10/IMG_8094.jpg
END:VEVENT
BEGIN:VEVENT
DTSTART;TZID=Pacific/Auckland:20251125T073000
DTEND;TZID=Pacific/Auckland:20251125T083000
DTSTAMP:20260426T152021
CREATED:20241015T071007Z
LAST-MODIFIED:20241015T071007Z
UID:10005752-1764055800-1764059400@taumarunui.co.nz
SUMMARY:Water Aerobics
DESCRIPTION:Meet every Tuesday and Thursday at the Trust Waikato pool at Taumarunui High School. \nEntry fee is only $3\, so come along and have some fun and gentle exercise
URL:https://taumarunui.co.nz/event/water-aerobics-2/2025-11-25/
LOCATION:Trust Waikato Pool Taumarunui\, Golf Road\, Taumarunui\, New Zealand
CATEGORIES:Clubs,Sport
END:VEVENT
BEGIN:VEVENT
DTSTART;TZID=Pacific/Auckland:20251125T173000
DTEND;TZID=Pacific/Auckland:20251125T190000
DTSTAMP:20260426T152021
CREATED:20241015T062549Z
LAST-MODIFIED:20241015T062549Z
UID:10003888-1764091800-1764097200@taumarunui.co.nz
SUMMARY:Progressive Hatha Yoga for all
DESCRIPTION:On every Tuesday of school terms in Senior Citizen Hall\, Taumarunui. \nFirst class $10\, equipment available.
URL:https://taumarunui.co.nz/event/progressive-hatha-yoga-for-all/2025-11-25/
LOCATION:Senior Citizens Hall\, Morero Street\, Taumarunui\, New Zealand
CATEGORIES:Clubs,Sport
END:VEVENT
BEGIN:VEVENT
DTSTART;TZID=Pacific/Auckland:20251126T163000
DTEND;TZID=Pacific/Auckland:20251126T191500
DTSTAMP:20260426T152021
CREATED:20241015T064759Z
LAST-MODIFIED:20241015T073742Z
UID:10004470-1764174600-1764184500@taumarunui.co.nz
SUMMARY:Kyokushin Karate
DESCRIPTION:Traditional training every Monday & Wednesday. \nExtra fitness fight class on Friday \n7-12 year olds 4.30 – 5.30pm \nTeens & Adults 5.45pm – 7.15pm
URL:https://taumarunui.co.nz/event/kyokushin-karate-2/2025-11-26/
LOCATION:Kyokushin Karate\, 4 Marae Street\, Taumarunui\, New Zealand
CATEGORIES:Clubs,Sport
ATTACH;FMTTYPE=image/jpeg:https://taumarunui.co.nz/wp-content/uploads/2024/10/IMG_8094.jpg
END:VEVENT
BEGIN:VEVENT
DTSTART;VALUE=DATE:20251127
DTEND;VALUE=DATE:20251128
DTSTAMP:20260426T152021
CREATED:20241015T045524Z
LAST-MODIFIED:20241015T061800Z
UID:10003067-1764201600-1764287999@taumarunui.co.nz
SUMMARY:Swimming lessons for Parents and Babies/Toddlers
DESCRIPTION:Great activity for parents and their little ones
URL:https://taumarunui.co.nz/event/swimming-lessons-for-parents-and-babies-toddlers/2025-11-27/
LOCATION:Trust Waikato Pool Taumarunui\, Golf Road\, Taumarunui\, New Zealand
CATEGORIES:Children,Classes,Sport
ATTACH;FMTTYPE=image/jpeg:https://taumarunui.co.nz/wp-content/uploads/2024/09/IMG_8008.jpg
END:VEVENT
BEGIN:VEVENT
DTSTART;TZID=Pacific/Auckland:20251127T073000
DTEND;TZID=Pacific/Auckland:20251127T083000
DTSTAMP:20260426T152021
CREATED:20241015T070836Z
LAST-MODIFIED:20241024T080451Z
UID:10005492-1764228600-1764232200@taumarunui.co.nz
SUMMARY:Water Aerobics
DESCRIPTION:Meet every Tuesday and Thursday at the Trust Waikato pool at Taumarunui High School. \nEntry fee is only $3\, so come along and have some fun and gentle exercise
URL:https://taumarunui.co.nz/event/water-aerobics/2025-11-27/
LOCATION:Trust Waikato Pool Taumarunui\, Golf Road\, Taumarunui\, New Zealand
CATEGORIES:Clubs,Sport
ATTACH;FMTTYPE=image/jpeg:https://taumarunui.co.nz/wp-content/uploads/2024/10/IMG_0385.jpg
END:VEVENT
END:VCALENDAR