BEGIN:VCALENDAR
VERSION:2.0
PRODID:-//Taumarunui - ECPv6.15.16//NONSGML v1.0//EN
CALSCALE:GREGORIAN
METHOD:PUBLISH
X-ORIGINAL-URL:https://taumarunui.co.nz
X-WR-CALDESC:Events for Taumarunui
REFRESH-INTERVAL;VALUE=DURATION:PT1H
X-Robots-Tag:noindex
X-PUBLISHED-TTL:PT1H
BEGIN:VTIMEZONE
TZID:Pacific/Auckland
BEGIN:STANDARD
TZOFFSETFROM:+1300
TZOFFSETTO:+1200
TZNAME:NZST
DTSTART:20230401T140000
END:STANDARD
BEGIN:DAYLIGHT
TZOFFSETFROM:+1200
TZOFFSETTO:+1300
TZNAME:NZDT
DTSTART:20230923T140000
END:DAYLIGHT
BEGIN:STANDARD
TZOFFSETFROM:+1300
TZOFFSETTO:+1200
TZNAME:NZST
DTSTART:20240406T140000
END:STANDARD
BEGIN:DAYLIGHT
TZOFFSETFROM:+1200
TZOFFSETTO:+1300
TZNAME:NZDT
DTSTART:20240928T140000
END:DAYLIGHT
BEGIN:STANDARD
TZOFFSETFROM:+1300
TZOFFSETTO:+1200
TZNAME:NZST
DTSTART:20250405T140000
END:STANDARD
BEGIN:DAYLIGHT
TZOFFSETFROM:+1200
TZOFFSETTO:+1300
TZNAME:NZDT
DTSTART:20250927T140000
END:DAYLIGHT
BEGIN:STANDARD
TZOFFSETFROM:+1300
TZOFFSETTO:+1200
TZNAME:NZST
DTSTART:20260404T140000
END:STANDARD
BEGIN:DAYLIGHT
TZOFFSETFROM:+1200
TZOFFSETTO:+1300
TZNAME:NZDT
DTSTART:20260926T140000
END:DAYLIGHT
END:VTIMEZONE
BEGIN:VEVENT
DTSTART;VALUE=DATE:20241101
DTEND;VALUE=DATE:20250301
DTSTAMP:20260423T110212
CREATED:20241024T075521Z
LAST-MODIFIED:20241024T075521Z
UID:10005970-1730419200-1740787199@taumarunui.co.nz
SUMMARY:Summer Golf
DESCRIPTION:Play Golf all summer long from 1st November 2024 to 28th February 2025 \nMembership only $235 \n 
URL:https://taumarunui.co.nz/event/summer-golf/
LOCATION:Taumarunui Golf Club\, 165 Golf Road\, Taumarunui\, New Zealand
CATEGORIES:Clubs,Sport
ATTACH;FMTTYPE=image/jpeg:https://taumarunui.co.nz/wp-content/uploads/2024/10/IMG_0383-1.jpg
END:VEVENT
BEGIN:VEVENT
DTSTART;TZID=Pacific/Auckland:20250101T163000
DTEND;TZID=Pacific/Auckland:20250101T191500
DTSTAMP:20260423T110212
CREATED:20241015T064759Z
LAST-MODIFIED:20241015T073742Z
UID:10004423-1735749000-1735758900@taumarunui.co.nz
SUMMARY:Kyokushin Karate
DESCRIPTION:Traditional training every Monday & Wednesday. \nExtra fitness fight class on Friday \n7-12 year olds 4.30 – 5.30pm \nTeens & Adults 5.45pm – 7.15pm
URL:https://taumarunui.co.nz/event/kyokushin-karate-2/2025-01-01/
LOCATION:Kyokushin Karate\, 4 Marae Street\, Taumarunui\, New Zealand
CATEGORIES:Clubs,Sport
ATTACH;FMTTYPE=image/jpeg:https://taumarunui.co.nz/wp-content/uploads/2024/10/IMG_8094.jpg
END:VEVENT
BEGIN:VEVENT
DTSTART;VALUE=DATE:20250102
DTEND;VALUE=DATE:20250103
DTSTAMP:20260423T110212
CREATED:20241015T045524Z
LAST-MODIFIED:20241015T061800Z
UID:10003020-1735776000-1735862399@taumarunui.co.nz
SUMMARY:Swimming lessons for Parents and Babies/Toddlers
DESCRIPTION:Great activity for parents and their little ones
URL:https://taumarunui.co.nz/event/swimming-lessons-for-parents-and-babies-toddlers/2025-01-02/
LOCATION:Trust Waikato Pool Taumarunui\, Golf Road\, Taumarunui\, New Zealand
CATEGORIES:Children,Classes,Sport
ATTACH;FMTTYPE=image/jpeg:https://taumarunui.co.nz/wp-content/uploads/2024/09/IMG_8008.jpg
END:VEVENT
BEGIN:VEVENT
DTSTART;TZID=Pacific/Auckland:20250102T073000
DTEND;TZID=Pacific/Auckland:20250102T083000
DTSTAMP:20260423T110212
CREATED:20241015T070836Z
LAST-MODIFIED:20241024T080451Z
UID:10005445-1735803000-1735806600@taumarunui.co.nz
SUMMARY:Water Aerobics
DESCRIPTION:Meet every Tuesday and Thursday at the Trust Waikato pool at Taumarunui High School. \nEntry fee is only $3\, so come along and have some fun and gentle exercise
URL:https://taumarunui.co.nz/event/water-aerobics/2025-01-02/
LOCATION:Trust Waikato Pool Taumarunui\, Golf Road\, Taumarunui\, New Zealand
CATEGORIES:Clubs,Sport
ATTACH;FMTTYPE=image/jpeg:https://taumarunui.co.nz/wp-content/uploads/2024/10/IMG_0385.jpg
END:VEVENT
BEGIN:VEVENT
DTSTART;TZID=Pacific/Auckland:20250103T103000
DTEND;TZID=Pacific/Auckland:20250103T143000
DTSTAMP:20260423T110212
CREATED:20241108T003031Z
LAST-MODIFIED:20241108T003031Z
UID:10008751-1735900200-1735914600@taumarunui.co.nz
SUMMARY:Taumarunui Mixed Make Time Play 9
DESCRIPTION:
URL:https://taumarunui.co.nz/event/taumarunui-mixed-make-time-play-9/2025-01-03/
LOCATION:Taumarunui Golf Club\, 165 Golf Road\, Taumarunui\, New Zealand
CATEGORIES:Clubs,Sport
ATTACH;FMTTYPE=image/jpeg:https://taumarunui.co.nz/wp-content/uploads/2024/11/IMG_8283.jpeg
END:VEVENT
BEGIN:VEVENT
DTSTART;TZID=Pacific/Auckland:20250103T160000
DTEND;TZID=Pacific/Auckland:20250103T180000
DTSTAMP:20260423T110212
CREATED:20241112T230456Z
LAST-MODIFIED:20241112T230456Z
UID:10009275-1735920000-1735927200@taumarunui.co.nz
SUMMARY:Pickleball
DESCRIPTION:Exciting!!!!\nLook at what is starting in Taumarunui – “PICKLEBALL”.\nWe welcome Pete and Terry to Taumarunui\, and they bring their love for the game of Pickleball.\nThe Taumarunui Youth and Community Trust has supported them in getting this up and running in the community.\nAnyone interested can come to the athletic gym on Fridays from 4pm to 6pm.
URL:https://taumarunui.co.nz/event/pickleball/2025-01-03/
LOCATION:Athletics Club\, Turaki Street\, Taumarunui\, New Zealand
CATEGORIES:Clubs,Sport
ATTACH;FMTTYPE=image/jpeg:https://taumarunui.co.nz/wp-content/uploads/2024/11/IMG_8308.jpeg
END:VEVENT
BEGIN:VEVENT
DTSTART;TZID=Pacific/Auckland:20250106T163000
DTEND;TZID=Pacific/Auckland:20250106T191500
DTSTAMP:20260423T110212
CREATED:20241015T064459Z
LAST-MODIFIED:20241015T073820Z
UID:10004162-1736181000-1736190900@taumarunui.co.nz
SUMMARY:Kyokushin Karate
DESCRIPTION:Traditional training every Monday & Wednesday. \nExtra fitness fight class on Friday \n7-12 year olds 4.30 – 5.30pm \nTeens & Adults 5.45pm – 7.15pm
URL:https://taumarunui.co.nz/event/kyokushin-karate/2025-01-06/
LOCATION:Kyokushin Karate\, 4 Marae Street\, Taumarunui\, New Zealand
CATEGORIES:Children,Clubs,Sport
ATTACH;FMTTYPE=image/jpeg:https://taumarunui.co.nz/wp-content/uploads/2024/10/IMG_8094.jpg
END:VEVENT
BEGIN:VEVENT
DTSTART;TZID=Pacific/Auckland:20250107T073000
DTEND;TZID=Pacific/Auckland:20250107T083000
DTSTAMP:20260423T110212
CREATED:20241015T071007Z
LAST-MODIFIED:20241015T071007Z
UID:10005706-1736235000-1736238600@taumarunui.co.nz
SUMMARY:Water Aerobics
DESCRIPTION:Meet every Tuesday and Thursday at the Trust Waikato pool at Taumarunui High School. \nEntry fee is only $3\, so come along and have some fun and gentle exercise
URL:https://taumarunui.co.nz/event/water-aerobics-2/2025-01-07/
LOCATION:Trust Waikato Pool Taumarunui\, Golf Road\, Taumarunui\, New Zealand
CATEGORIES:Clubs,Sport
END:VEVENT
BEGIN:VEVENT
DTSTART;TZID=Pacific/Auckland:20250107T173000
DTEND;TZID=Pacific/Auckland:20250107T190000
DTSTAMP:20260423T110212
CREATED:20241015T062549Z
LAST-MODIFIED:20241015T062549Z
UID:10003842-1736271000-1736276400@taumarunui.co.nz
SUMMARY:Progressive Hatha Yoga for all
DESCRIPTION:On every Tuesday of school terms in Senior Citizen Hall\, Taumarunui. \nFirst class $10\, equipment available.
URL:https://taumarunui.co.nz/event/progressive-hatha-yoga-for-all/2025-01-07/
LOCATION:Senior Citizens Hall\, Morero Street\, Taumarunui\, New Zealand
CATEGORIES:Clubs,Sport
END:VEVENT
BEGIN:VEVENT
DTSTART;TZID=Pacific/Auckland:20250108T163000
DTEND;TZID=Pacific/Auckland:20250108T191500
DTSTAMP:20260423T110212
CREATED:20241015T064759Z
LAST-MODIFIED:20241015T073742Z
UID:10004424-1736353800-1736363700@taumarunui.co.nz
SUMMARY:Kyokushin Karate
DESCRIPTION:Traditional training every Monday & Wednesday. \nExtra fitness fight class on Friday \n7-12 year olds 4.30 – 5.30pm \nTeens & Adults 5.45pm – 7.15pm
URL:https://taumarunui.co.nz/event/kyokushin-karate-2/2025-01-08/
LOCATION:Kyokushin Karate\, 4 Marae Street\, Taumarunui\, New Zealand
CATEGORIES:Clubs,Sport
ATTACH;FMTTYPE=image/jpeg:https://taumarunui.co.nz/wp-content/uploads/2024/10/IMG_8094.jpg
END:VEVENT
BEGIN:VEVENT
DTSTART;VALUE=DATE:20250109
DTEND;VALUE=DATE:20250110
DTSTAMP:20260423T110212
CREATED:20241015T045524Z
LAST-MODIFIED:20241015T061800Z
UID:10003021-1736380800-1736467199@taumarunui.co.nz
SUMMARY:Swimming lessons for Parents and Babies/Toddlers
DESCRIPTION:Great activity for parents and their little ones
URL:https://taumarunui.co.nz/event/swimming-lessons-for-parents-and-babies-toddlers/2025-01-09/
LOCATION:Trust Waikato Pool Taumarunui\, Golf Road\, Taumarunui\, New Zealand
CATEGORIES:Children,Classes,Sport
ATTACH;FMTTYPE=image/jpeg:https://taumarunui.co.nz/wp-content/uploads/2024/09/IMG_8008.jpg
END:VEVENT
BEGIN:VEVENT
DTSTART;TZID=Pacific/Auckland:20250109T073000
DTEND;TZID=Pacific/Auckland:20250109T083000
DTSTAMP:20260423T110212
CREATED:20241015T070836Z
LAST-MODIFIED:20241024T080451Z
UID:10005446-1736407800-1736411400@taumarunui.co.nz
SUMMARY:Water Aerobics
DESCRIPTION:Meet every Tuesday and Thursday at the Trust Waikato pool at Taumarunui High School. \nEntry fee is only $3\, so come along and have some fun and gentle exercise
URL:https://taumarunui.co.nz/event/water-aerobics/2025-01-09/
LOCATION:Trust Waikato Pool Taumarunui\, Golf Road\, Taumarunui\, New Zealand
CATEGORIES:Clubs,Sport
ATTACH;FMTTYPE=image/jpeg:https://taumarunui.co.nz/wp-content/uploads/2024/10/IMG_0385.jpg
END:VEVENT
BEGIN:VEVENT
DTSTART;TZID=Pacific/Auckland:20250110T103000
DTEND;TZID=Pacific/Auckland:20250110T143000
DTSTAMP:20260423T110212
CREATED:20241108T003031Z
LAST-MODIFIED:20241108T003031Z
UID:10008752-1736505000-1736519400@taumarunui.co.nz
SUMMARY:Taumarunui Mixed Make Time Play 9
DESCRIPTION:
URL:https://taumarunui.co.nz/event/taumarunui-mixed-make-time-play-9/2025-01-10/
LOCATION:Taumarunui Golf Club\, 165 Golf Road\, Taumarunui\, New Zealand
CATEGORIES:Clubs,Sport
ATTACH;FMTTYPE=image/jpeg:https://taumarunui.co.nz/wp-content/uploads/2024/11/IMG_8283.jpeg
END:VEVENT
BEGIN:VEVENT
DTSTART;TZID=Pacific/Auckland:20250110T160000
DTEND;TZID=Pacific/Auckland:20250110T180000
DTSTAMP:20260423T110212
CREATED:20241112T230456Z
LAST-MODIFIED:20241112T230456Z
UID:10009276-1736524800-1736532000@taumarunui.co.nz
SUMMARY:Pickleball
DESCRIPTION:Exciting!!!!\nLook at what is starting in Taumarunui – “PICKLEBALL”.\nWe welcome Pete and Terry to Taumarunui\, and they bring their love for the game of Pickleball.\nThe Taumarunui Youth and Community Trust has supported them in getting this up and running in the community.\nAnyone interested can come to the athletic gym on Fridays from 4pm to 6pm.
URL:https://taumarunui.co.nz/event/pickleball/2025-01-10/
LOCATION:Athletics Club\, Turaki Street\, Taumarunui\, New Zealand
CATEGORIES:Clubs,Sport
ATTACH;FMTTYPE=image/jpeg:https://taumarunui.co.nz/wp-content/uploads/2024/11/IMG_8308.jpeg
END:VEVENT
BEGIN:VEVENT
DTSTART;TZID=Pacific/Auckland:20250113T163000
DTEND;TZID=Pacific/Auckland:20250113T191500
DTSTAMP:20260423T110212
CREATED:20241015T064459Z
LAST-MODIFIED:20241015T073820Z
UID:10004163-1736785800-1736795700@taumarunui.co.nz
SUMMARY:Kyokushin Karate
DESCRIPTION:Traditional training every Monday & Wednesday. \nExtra fitness fight class on Friday \n7-12 year olds 4.30 – 5.30pm \nTeens & Adults 5.45pm – 7.15pm
URL:https://taumarunui.co.nz/event/kyokushin-karate/2025-01-13/
LOCATION:Kyokushin Karate\, 4 Marae Street\, Taumarunui\, New Zealand
CATEGORIES:Children,Clubs,Sport
ATTACH;FMTTYPE=image/jpeg:https://taumarunui.co.nz/wp-content/uploads/2024/10/IMG_8094.jpg
END:VEVENT
BEGIN:VEVENT
DTSTART;TZID=Pacific/Auckland:20250114T073000
DTEND;TZID=Pacific/Auckland:20250114T083000
DTSTAMP:20260423T110212
CREATED:20241015T071007Z
LAST-MODIFIED:20241015T071007Z
UID:10005707-1736839800-1736843400@taumarunui.co.nz
SUMMARY:Water Aerobics
DESCRIPTION:Meet every Tuesday and Thursday at the Trust Waikato pool at Taumarunui High School. \nEntry fee is only $3\, so come along and have some fun and gentle exercise
URL:https://taumarunui.co.nz/event/water-aerobics-2/2025-01-14/
LOCATION:Trust Waikato Pool Taumarunui\, Golf Road\, Taumarunui\, New Zealand
CATEGORIES:Clubs,Sport
END:VEVENT
BEGIN:VEVENT
DTSTART;TZID=Pacific/Auckland:20250114T173000
DTEND;TZID=Pacific/Auckland:20250114T190000
DTSTAMP:20260423T110212
CREATED:20241015T062549Z
LAST-MODIFIED:20241015T062549Z
UID:10003843-1736875800-1736881200@taumarunui.co.nz
SUMMARY:Progressive Hatha Yoga for all
DESCRIPTION:On every Tuesday of school terms in Senior Citizen Hall\, Taumarunui. \nFirst class $10\, equipment available.
URL:https://taumarunui.co.nz/event/progressive-hatha-yoga-for-all/2025-01-14/
LOCATION:Senior Citizens Hall\, Morero Street\, Taumarunui\, New Zealand
CATEGORIES:Clubs,Sport
END:VEVENT
BEGIN:VEVENT
DTSTART;TZID=Pacific/Auckland:20250115T163000
DTEND;TZID=Pacific/Auckland:20250115T191500
DTSTAMP:20260423T110212
CREATED:20241015T064759Z
LAST-MODIFIED:20241015T073742Z
UID:10004425-1736958600-1736968500@taumarunui.co.nz
SUMMARY:Kyokushin Karate
DESCRIPTION:Traditional training every Monday & Wednesday. \nExtra fitness fight class on Friday \n7-12 year olds 4.30 – 5.30pm \nTeens & Adults 5.45pm – 7.15pm
URL:https://taumarunui.co.nz/event/kyokushin-karate-2/2025-01-15/
LOCATION:Kyokushin Karate\, 4 Marae Street\, Taumarunui\, New Zealand
CATEGORIES:Clubs,Sport
ATTACH;FMTTYPE=image/jpeg:https://taumarunui.co.nz/wp-content/uploads/2024/10/IMG_8094.jpg
END:VEVENT
BEGIN:VEVENT
DTSTART;VALUE=DATE:20250116
DTEND;VALUE=DATE:20250117
DTSTAMP:20260423T110212
CREATED:20241015T045524Z
LAST-MODIFIED:20241015T061800Z
UID:10003022-1736985600-1737071999@taumarunui.co.nz
SUMMARY:Swimming lessons for Parents and Babies/Toddlers
DESCRIPTION:Great activity for parents and their little ones
URL:https://taumarunui.co.nz/event/swimming-lessons-for-parents-and-babies-toddlers/2025-01-16/
LOCATION:Trust Waikato Pool Taumarunui\, Golf Road\, Taumarunui\, New Zealand
CATEGORIES:Children,Classes,Sport
ATTACH;FMTTYPE=image/jpeg:https://taumarunui.co.nz/wp-content/uploads/2024/09/IMG_8008.jpg
END:VEVENT
BEGIN:VEVENT
DTSTART;TZID=Pacific/Auckland:20250116T073000
DTEND;TZID=Pacific/Auckland:20250116T083000
DTSTAMP:20260423T110212
CREATED:20241015T070836Z
LAST-MODIFIED:20241024T080451Z
UID:10005447-1737012600-1737016200@taumarunui.co.nz
SUMMARY:Water Aerobics
DESCRIPTION:Meet every Tuesday and Thursday at the Trust Waikato pool at Taumarunui High School. \nEntry fee is only $3\, so come along and have some fun and gentle exercise
URL:https://taumarunui.co.nz/event/water-aerobics/2025-01-16/
LOCATION:Trust Waikato Pool Taumarunui\, Golf Road\, Taumarunui\, New Zealand
CATEGORIES:Clubs,Sport
ATTACH;FMTTYPE=image/jpeg:https://taumarunui.co.nz/wp-content/uploads/2024/10/IMG_0385.jpg
END:VEVENT
BEGIN:VEVENT
DTSTART;TZID=Pacific/Auckland:20250117T103000
DTEND;TZID=Pacific/Auckland:20250117T143000
DTSTAMP:20260423T110212
CREATED:20241108T003031Z
LAST-MODIFIED:20241108T003031Z
UID:10008753-1737109800-1737124200@taumarunui.co.nz
SUMMARY:Taumarunui Mixed Make Time Play 9
DESCRIPTION:
URL:https://taumarunui.co.nz/event/taumarunui-mixed-make-time-play-9/2025-01-17/
LOCATION:Taumarunui Golf Club\, 165 Golf Road\, Taumarunui\, New Zealand
CATEGORIES:Clubs,Sport
ATTACH;FMTTYPE=image/jpeg:https://taumarunui.co.nz/wp-content/uploads/2024/11/IMG_8283.jpeg
END:VEVENT
BEGIN:VEVENT
DTSTART;TZID=Pacific/Auckland:20250117T160000
DTEND;TZID=Pacific/Auckland:20250117T180000
DTSTAMP:20260423T110212
CREATED:20241112T230456Z
LAST-MODIFIED:20241112T230456Z
UID:10009277-1737129600-1737136800@taumarunui.co.nz
SUMMARY:Pickleball
DESCRIPTION:Exciting!!!!\nLook at what is starting in Taumarunui – “PICKLEBALL”.\nWe welcome Pete and Terry to Taumarunui\, and they bring their love for the game of Pickleball.\nThe Taumarunui Youth and Community Trust has supported them in getting this up and running in the community.\nAnyone interested can come to the athletic gym on Fridays from 4pm to 6pm.
URL:https://taumarunui.co.nz/event/pickleball/2025-01-17/
LOCATION:Athletics Club\, Turaki Street\, Taumarunui\, New Zealand
CATEGORIES:Clubs,Sport
ATTACH;FMTTYPE=image/jpeg:https://taumarunui.co.nz/wp-content/uploads/2024/11/IMG_8308.jpeg
END:VEVENT
BEGIN:VEVENT
DTSTART;TZID=Pacific/Auckland:20250120T163000
DTEND;TZID=Pacific/Auckland:20250120T191500
DTSTAMP:20260423T110212
CREATED:20241015T064459Z
LAST-MODIFIED:20241015T073820Z
UID:10004164-1737390600-1737400500@taumarunui.co.nz
SUMMARY:Kyokushin Karate
DESCRIPTION:Traditional training every Monday & Wednesday. \nExtra fitness fight class on Friday \n7-12 year olds 4.30 – 5.30pm \nTeens & Adults 5.45pm – 7.15pm
URL:https://taumarunui.co.nz/event/kyokushin-karate/2025-01-20/
LOCATION:Kyokushin Karate\, 4 Marae Street\, Taumarunui\, New Zealand
CATEGORIES:Children,Clubs,Sport
ATTACH;FMTTYPE=image/jpeg:https://taumarunui.co.nz/wp-content/uploads/2024/10/IMG_8094.jpg
END:VEVENT
BEGIN:VEVENT
DTSTART;TZID=Pacific/Auckland:20250121T073000
DTEND;TZID=Pacific/Auckland:20250121T083000
DTSTAMP:20260423T110212
CREATED:20241015T071007Z
LAST-MODIFIED:20241015T071007Z
UID:10005708-1737444600-1737448200@taumarunui.co.nz
SUMMARY:Water Aerobics
DESCRIPTION:Meet every Tuesday and Thursday at the Trust Waikato pool at Taumarunui High School. \nEntry fee is only $3\, so come along and have some fun and gentle exercise
URL:https://taumarunui.co.nz/event/water-aerobics-2/2025-01-21/
LOCATION:Trust Waikato Pool Taumarunui\, Golf Road\, Taumarunui\, New Zealand
CATEGORIES:Clubs,Sport
END:VEVENT
BEGIN:VEVENT
DTSTART;TZID=Pacific/Auckland:20250121T173000
DTEND;TZID=Pacific/Auckland:20250121T190000
DTSTAMP:20260423T110212
CREATED:20241015T062549Z
LAST-MODIFIED:20241015T062549Z
UID:10003844-1737480600-1737486000@taumarunui.co.nz
SUMMARY:Progressive Hatha Yoga for all
DESCRIPTION:On every Tuesday of school terms in Senior Citizen Hall\, Taumarunui. \nFirst class $10\, equipment available.
URL:https://taumarunui.co.nz/event/progressive-hatha-yoga-for-all/2025-01-21/
LOCATION:Senior Citizens Hall\, Morero Street\, Taumarunui\, New Zealand
CATEGORIES:Clubs,Sport
END:VEVENT
BEGIN:VEVENT
DTSTART;TZID=Pacific/Auckland:20250122T163000
DTEND;TZID=Pacific/Auckland:20250122T191500
DTSTAMP:20260423T110212
CREATED:20241015T064759Z
LAST-MODIFIED:20241015T073742Z
UID:10004426-1737563400-1737573300@taumarunui.co.nz
SUMMARY:Kyokushin Karate
DESCRIPTION:Traditional training every Monday & Wednesday. \nExtra fitness fight class on Friday \n7-12 year olds 4.30 – 5.30pm \nTeens & Adults 5.45pm – 7.15pm
URL:https://taumarunui.co.nz/event/kyokushin-karate-2/2025-01-22/
LOCATION:Kyokushin Karate\, 4 Marae Street\, Taumarunui\, New Zealand
CATEGORIES:Clubs,Sport
ATTACH;FMTTYPE=image/jpeg:https://taumarunui.co.nz/wp-content/uploads/2024/10/IMG_8094.jpg
END:VEVENT
BEGIN:VEVENT
DTSTART;VALUE=DATE:20250123
DTEND;VALUE=DATE:20250124
DTSTAMP:20260423T110212
CREATED:20241015T045524Z
LAST-MODIFIED:20241015T061800Z
UID:10003023-1737590400-1737676799@taumarunui.co.nz
SUMMARY:Swimming lessons for Parents and Babies/Toddlers
DESCRIPTION:Great activity for parents and their little ones
URL:https://taumarunui.co.nz/event/swimming-lessons-for-parents-and-babies-toddlers/2025-01-23/
LOCATION:Trust Waikato Pool Taumarunui\, Golf Road\, Taumarunui\, New Zealand
CATEGORIES:Children,Classes,Sport
ATTACH;FMTTYPE=image/jpeg:https://taumarunui.co.nz/wp-content/uploads/2024/09/IMG_8008.jpg
END:VEVENT
BEGIN:VEVENT
DTSTART;TZID=Pacific/Auckland:20250123T073000
DTEND;TZID=Pacific/Auckland:20250123T083000
DTSTAMP:20260423T110212
CREATED:20241015T070836Z
LAST-MODIFIED:20241024T080451Z
UID:10005448-1737617400-1737621000@taumarunui.co.nz
SUMMARY:Water Aerobics
DESCRIPTION:Meet every Tuesday and Thursday at the Trust Waikato pool at Taumarunui High School. \nEntry fee is only $3\, so come along and have some fun and gentle exercise
URL:https://taumarunui.co.nz/event/water-aerobics/2025-01-23/
LOCATION:Trust Waikato Pool Taumarunui\, Golf Road\, Taumarunui\, New Zealand
CATEGORIES:Clubs,Sport
ATTACH;FMTTYPE=image/jpeg:https://taumarunui.co.nz/wp-content/uploads/2024/10/IMG_0385.jpg
END:VEVENT
BEGIN:VEVENT
DTSTART;TZID=Pacific/Auckland:20250124T103000
DTEND;TZID=Pacific/Auckland:20250124T143000
DTSTAMP:20260423T110212
CREATED:20241108T003031Z
LAST-MODIFIED:20241108T003031Z
UID:10008754-1737714600-1737729000@taumarunui.co.nz
SUMMARY:Taumarunui Mixed Make Time Play 9
DESCRIPTION:
URL:https://taumarunui.co.nz/event/taumarunui-mixed-make-time-play-9/2025-01-24/
LOCATION:Taumarunui Golf Club\, 165 Golf Road\, Taumarunui\, New Zealand
CATEGORIES:Clubs,Sport
ATTACH;FMTTYPE=image/jpeg:https://taumarunui.co.nz/wp-content/uploads/2024/11/IMG_8283.jpeg
END:VEVENT
BEGIN:VEVENT
DTSTART;TZID=Pacific/Auckland:20250124T160000
DTEND;TZID=Pacific/Auckland:20250124T180000
DTSTAMP:20260423T110212
CREATED:20241112T230456Z
LAST-MODIFIED:20241112T230456Z
UID:10009278-1737734400-1737741600@taumarunui.co.nz
SUMMARY:Pickleball
DESCRIPTION:Exciting!!!!\nLook at what is starting in Taumarunui – “PICKLEBALL”.\nWe welcome Pete and Terry to Taumarunui\, and they bring their love for the game of Pickleball.\nThe Taumarunui Youth and Community Trust has supported them in getting this up and running in the community.\nAnyone interested can come to the athletic gym on Fridays from 4pm to 6pm.
URL:https://taumarunui.co.nz/event/pickleball/2025-01-24/
LOCATION:Athletics Club\, Turaki Street\, Taumarunui\, New Zealand
CATEGORIES:Clubs,Sport
ATTACH;FMTTYPE=image/jpeg:https://taumarunui.co.nz/wp-content/uploads/2024/11/IMG_8308.jpeg
END:VEVENT
END:VCALENDAR