BEGIN:VCALENDAR
VERSION:2.0
PRODID:-//Taumarunui - ECPv6.15.20//NONSGML v1.0//EN
CALSCALE:GREGORIAN
METHOD:PUBLISH
X-ORIGINAL-URL:https://taumarunui.co.nz
X-WR-CALDESC:Events for Taumarunui
REFRESH-INTERVAL;VALUE=DURATION:PT1H
X-Robots-Tag:noindex
X-PUBLISHED-TTL:PT1H
BEGIN:VTIMEZONE
TZID:Pacific/Auckland
BEGIN:STANDARD
TZOFFSETFROM:+1300
TZOFFSETTO:+1200
TZNAME:NZST
DTSTART:20230401T140000
END:STANDARD
BEGIN:DAYLIGHT
TZOFFSETFROM:+1200
TZOFFSETTO:+1300
TZNAME:NZDT
DTSTART:20230923T140000
END:DAYLIGHT
BEGIN:STANDARD
TZOFFSETFROM:+1300
TZOFFSETTO:+1200
TZNAME:NZST
DTSTART:20240406T140000
END:STANDARD
BEGIN:DAYLIGHT
TZOFFSETFROM:+1200
TZOFFSETTO:+1300
TZNAME:NZDT
DTSTART:20240928T140000
END:DAYLIGHT
BEGIN:STANDARD
TZOFFSETFROM:+1300
TZOFFSETTO:+1200
TZNAME:NZST
DTSTART:20250405T140000
END:STANDARD
BEGIN:DAYLIGHT
TZOFFSETFROM:+1200
TZOFFSETTO:+1300
TZNAME:NZDT
DTSTART:20250927T140000
END:DAYLIGHT
END:VTIMEZONE
BEGIN:VEVENT
DTSTART;TZID=Pacific/Auckland:20241016T163000
DTEND;TZID=Pacific/Auckland:20241016T191500
DTSTAMP:20260424T074419
CREATED:20241015T064759Z
LAST-MODIFIED:20241015T073742Z
UID:10004412-1729096200-1729106100@taumarunui.co.nz
SUMMARY:Kyokushin Karate
DESCRIPTION:Traditional training every Monday & Wednesday. \nExtra fitness fight class on Friday \n7-12 year olds 4.30 – 5.30pm \nTeens & Adults 5.45pm – 7.15pm
URL:https://taumarunui.co.nz/event/kyokushin-karate-2/2024-10-16/
LOCATION:Kyokushin Karate\, 4 Marae Street\, Taumarunui\, New Zealand
CATEGORIES:Clubs,Sport
ATTACH;FMTTYPE=image/jpeg:https://taumarunui.co.nz/wp-content/uploads/2024/10/IMG_8094.jpg
END:VEVENT
BEGIN:VEVENT
DTSTART;TZID=Pacific/Auckland:20241017T073000
DTEND;TZID=Pacific/Auckland:20241017T083000
DTSTAMP:20260424T074420
CREATED:20241015T070836Z
LAST-MODIFIED:20241024T080451Z
UID:10005434-1729150200-1729153800@taumarunui.co.nz
SUMMARY:Water Aerobics
DESCRIPTION:Meet every Tuesday and Thursday at the Trust Waikato pool at Taumarunui High School. \nEntry fee is only $3\, so come along and have some fun and gentle exercise
URL:https://taumarunui.co.nz/event/water-aerobics/2024-10-17/
LOCATION:Trust Waikato Pool Taumarunui\, Golf Road\, Taumarunui\, New Zealand
CATEGORIES:Clubs,Sport
ATTACH;FMTTYPE=image/jpeg:https://taumarunui.co.nz/wp-content/uploads/2024/10/IMG_0385.jpg
END:VEVENT
BEGIN:VEVENT
DTSTART;TZID=Pacific/Auckland:20241021T163000
DTEND;TZID=Pacific/Auckland:20241021T191500
DTSTAMP:20260424T074420
CREATED:20241015T064459Z
LAST-MODIFIED:20241015T073820Z
UID:10004151-1729528200-1729538100@taumarunui.co.nz
SUMMARY:Kyokushin Karate
DESCRIPTION:Traditional training every Monday & Wednesday. \nExtra fitness fight class on Friday \n7-12 year olds 4.30 – 5.30pm \nTeens & Adults 5.45pm – 7.15pm
URL:https://taumarunui.co.nz/event/kyokushin-karate/2024-10-21/
LOCATION:Kyokushin Karate\, 4 Marae Street\, Taumarunui\, New Zealand
CATEGORIES:Children,Clubs,Sport
ATTACH;FMTTYPE=image/jpeg:https://taumarunui.co.nz/wp-content/uploads/2024/10/IMG_8094.jpg
END:VEVENT
BEGIN:VEVENT
DTSTART;TZID=Pacific/Auckland:20241022T073000
DTEND;TZID=Pacific/Auckland:20241022T083000
DTSTAMP:20260424T074420
CREATED:20241015T071007Z
LAST-MODIFIED:20241015T071007Z
UID:10005695-1729582200-1729585800@taumarunui.co.nz
SUMMARY:Water Aerobics
DESCRIPTION:Meet every Tuesday and Thursday at the Trust Waikato pool at Taumarunui High School. \nEntry fee is only $3\, so come along and have some fun and gentle exercise
URL:https://taumarunui.co.nz/event/water-aerobics-2/2024-10-22/
LOCATION:Trust Waikato Pool Taumarunui\, Golf Road\, Taumarunui\, New Zealand
CATEGORIES:Clubs,Sport
END:VEVENT
BEGIN:VEVENT
DTSTART;TZID=Pacific/Auckland:20241022T173000
DTEND;TZID=Pacific/Auckland:20241022T190000
DTSTAMP:20260424T074420
CREATED:20241015T062549Z
LAST-MODIFIED:20241015T062549Z
UID:10003831-1729618200-1729623600@taumarunui.co.nz
SUMMARY:Progressive Hatha Yoga for all
DESCRIPTION:On every Tuesday of school terms in Senior Citizen Hall\, Taumarunui. \nFirst class $10\, equipment available.
URL:https://taumarunui.co.nz/event/progressive-hatha-yoga-for-all/2024-10-22/
LOCATION:Senior Citizens Hall\, Morero Street\, Taumarunui\, New Zealand
CATEGORIES:Clubs,Sport
END:VEVENT
BEGIN:VEVENT
DTSTART;TZID=Pacific/Auckland:20241023T163000
DTEND;TZID=Pacific/Auckland:20241023T191500
DTSTAMP:20260424T074420
CREATED:20241015T064759Z
LAST-MODIFIED:20241015T073742Z
UID:10004413-1729701000-1729710900@taumarunui.co.nz
SUMMARY:Kyokushin Karate
DESCRIPTION:Traditional training every Monday & Wednesday. \nExtra fitness fight class on Friday \n7-12 year olds 4.30 – 5.30pm \nTeens & Adults 5.45pm – 7.15pm
URL:https://taumarunui.co.nz/event/kyokushin-karate-2/2024-10-23/
LOCATION:Kyokushin Karate\, 4 Marae Street\, Taumarunui\, New Zealand
CATEGORIES:Clubs,Sport
ATTACH;FMTTYPE=image/jpeg:https://taumarunui.co.nz/wp-content/uploads/2024/10/IMG_8094.jpg
END:VEVENT
BEGIN:VEVENT
DTSTART;TZID=Pacific/Auckland:20241024T073000
DTEND;TZID=Pacific/Auckland:20241024T083000
DTSTAMP:20260424T074420
CREATED:20241015T070836Z
LAST-MODIFIED:20241024T080451Z
UID:10005435-1729755000-1729758600@taumarunui.co.nz
SUMMARY:Water Aerobics
DESCRIPTION:Meet every Tuesday and Thursday at the Trust Waikato pool at Taumarunui High School. \nEntry fee is only $3\, so come along and have some fun and gentle exercise
URL:https://taumarunui.co.nz/event/water-aerobics/2024-10-24/
LOCATION:Trust Waikato Pool Taumarunui\, Golf Road\, Taumarunui\, New Zealand
CATEGORIES:Clubs,Sport
ATTACH;FMTTYPE=image/jpeg:https://taumarunui.co.nz/wp-content/uploads/2024/10/IMG_0385.jpg
END:VEVENT
BEGIN:VEVENT
DTSTART;VALUE=DATE:20241026
DTEND;VALUE=DATE:20241028
DTSTAMP:20260424T074420
CREATED:20241024T053927Z
LAST-MODIFIED:20241024T053927Z
UID:10005962-1729900800-1730073599@taumarunui.co.nz
SUMMARY:Taumarunui Golf Club - Main Trunk Pairs Scramble
DESCRIPTION:Sponsored by Craigs Investment Partners
URL:https://taumarunui.co.nz/event/taumarunui-golf-club-main-trunk-pairs-scramble/
CATEGORIES:Sport
ATTACH;FMTTYPE=image/png:https://taumarunui.co.nz/wp-content/uploads/2024/10/IMG_0377.png
END:VEVENT
BEGIN:VEVENT
DTSTART;VALUE=DATE:20241027
DTEND;VALUE=DATE:20241028
DTSTAMP:20260424T074420
CREATED:20241015T053219Z
LAST-MODIFIED:20241016T054524Z
UID:10003238-1729987200-1730073599@taumarunui.co.nz
SUMMARY:Natural Terrain Motocross Fun Day
DESCRIPTION:Ruapehu Dirt Riders \nEnhancing your Mental wellbeing whilst raising funds to help others
URL:https://taumarunui.co.nz/event/natural-terrain-motocross-fun-day/
CATEGORIES:Sport
ATTACH;FMTTYPE=image/jpeg:https://taumarunui.co.nz/wp-content/uploads/2024/09/IMG_8052.jpg
END:VEVENT
BEGIN:VEVENT
DTSTART;TZID=Pacific/Auckland:20241028T163000
DTEND;TZID=Pacific/Auckland:20241028T191500
DTSTAMP:20260424T074420
CREATED:20241015T064459Z
LAST-MODIFIED:20241015T073820Z
UID:10004152-1730133000-1730142900@taumarunui.co.nz
SUMMARY:Kyokushin Karate
DESCRIPTION:Traditional training every Monday & Wednesday. \nExtra fitness fight class on Friday \n7-12 year olds 4.30 – 5.30pm \nTeens & Adults 5.45pm – 7.15pm
URL:https://taumarunui.co.nz/event/kyokushin-karate/2024-10-28/
LOCATION:Kyokushin Karate\, 4 Marae Street\, Taumarunui\, New Zealand
CATEGORIES:Children,Clubs,Sport
ATTACH;FMTTYPE=image/jpeg:https://taumarunui.co.nz/wp-content/uploads/2024/10/IMG_8094.jpg
END:VEVENT
BEGIN:VEVENT
DTSTART;TZID=Pacific/Auckland:20241029T073000
DTEND;TZID=Pacific/Auckland:20241029T083000
DTSTAMP:20260424T074420
CREATED:20241015T071007Z
LAST-MODIFIED:20241015T071007Z
UID:10005696-1730187000-1730190600@taumarunui.co.nz
SUMMARY:Water Aerobics
DESCRIPTION:Meet every Tuesday and Thursday at the Trust Waikato pool at Taumarunui High School. \nEntry fee is only $3\, so come along and have some fun and gentle exercise
URL:https://taumarunui.co.nz/event/water-aerobics-2/2024-10-29/
LOCATION:Trust Waikato Pool Taumarunui\, Golf Road\, Taumarunui\, New Zealand
CATEGORIES:Clubs,Sport
END:VEVENT
BEGIN:VEVENT
DTSTART;TZID=Pacific/Auckland:20241029T173000
DTEND;TZID=Pacific/Auckland:20241029T190000
DTSTAMP:20260424T074420
CREATED:20241015T062549Z
LAST-MODIFIED:20241015T062549Z
UID:10003832-1730223000-1730228400@taumarunui.co.nz
SUMMARY:Progressive Hatha Yoga for all
DESCRIPTION:On every Tuesday of school terms in Senior Citizen Hall\, Taumarunui. \nFirst class $10\, equipment available.
URL:https://taumarunui.co.nz/event/progressive-hatha-yoga-for-all/2024-10-29/
LOCATION:Senior Citizens Hall\, Morero Street\, Taumarunui\, New Zealand
CATEGORIES:Clubs,Sport
END:VEVENT
BEGIN:VEVENT
DTSTART;TZID=Pacific/Auckland:20241030T100000
DTEND;TZID=Pacific/Auckland:20241030T140000
DTSTAMP:20260424T074420
CREATED:20241024T053713Z
LAST-MODIFIED:20241024T053713Z
UID:10005961-1730282400-1730296800@taumarunui.co.nz
SUMMARY:Taumarunui Golf Club - Club Day
DESCRIPTION:Club Day
URL:https://taumarunui.co.nz/event/taumarunui-golf-club-club-day/
LOCATION:Taumarunui Golf Club\, 165 Golf Road\, Taumarunui\, New Zealand
CATEGORIES:Sport
ATTACH;FMTTYPE=image/png:https://taumarunui.co.nz/wp-content/uploads/2024/10/IMG_0377.png
END:VEVENT
BEGIN:VEVENT
DTSTART;TZID=Pacific/Auckland:20241030T163000
DTEND;TZID=Pacific/Auckland:20241030T191500
DTSTAMP:20260424T074420
CREATED:20241015T064759Z
LAST-MODIFIED:20241015T073742Z
UID:10004414-1730305800-1730315700@taumarunui.co.nz
SUMMARY:Kyokushin Karate
DESCRIPTION:Traditional training every Monday & Wednesday. \nExtra fitness fight class on Friday \n7-12 year olds 4.30 – 5.30pm \nTeens & Adults 5.45pm – 7.15pm
URL:https://taumarunui.co.nz/event/kyokushin-karate-2/2024-10-30/
LOCATION:Kyokushin Karate\, 4 Marae Street\, Taumarunui\, New Zealand
CATEGORIES:Clubs,Sport
ATTACH;FMTTYPE=image/jpeg:https://taumarunui.co.nz/wp-content/uploads/2024/10/IMG_8094.jpg
END:VEVENT
BEGIN:VEVENT
DTSTART;TZID=Pacific/Auckland:20241031T000000
DTEND;TZID=Pacific/Auckland:20241031T000000
DTSTAMP:20260424T074420
CREATED:20241015T052739Z
LAST-MODIFIED:20241015T052739Z
UID:10003237-1730332800-1730332800@taumarunui.co.nz
SUMMARY:Twilight Netball
DESCRIPTION:For all ages and abilities
URL:https://taumarunui.co.nz/event/twilight-netball/2024-10-31/
CATEGORIES:Sport
ATTACH;FMTTYPE=image/jpeg:https://taumarunui.co.nz/wp-content/uploads/2024/09/IMG_8051.jpg
END:VEVENT
BEGIN:VEVENT
DTSTART;VALUE=DATE:20241031
DTEND;VALUE=DATE:20241101
DTSTAMP:20260424T074420
CREATED:20241015T045524Z
LAST-MODIFIED:20241015T061800Z
UID:10003011-1730332800-1730419199@taumarunui.co.nz
SUMMARY:Swimming lessons for Parents and Babies/Toddlers
DESCRIPTION:Great activity for parents and their little ones
URL:https://taumarunui.co.nz/event/swimming-lessons-for-parents-and-babies-toddlers/2024-10-31/
LOCATION:Trust Waikato Pool Taumarunui\, Golf Road\, Taumarunui\, New Zealand
CATEGORIES:Children,Classes,Sport
ATTACH;FMTTYPE=image/jpeg:https://taumarunui.co.nz/wp-content/uploads/2024/09/IMG_8008.jpg
END:VEVENT
BEGIN:VEVENT
DTSTART;TZID=Pacific/Auckland:20241031T073000
DTEND;TZID=Pacific/Auckland:20241031T083000
DTSTAMP:20260424T074420
CREATED:20241015T070836Z
LAST-MODIFIED:20241024T080451Z
UID:10005436-1730359800-1730363400@taumarunui.co.nz
SUMMARY:Water Aerobics
DESCRIPTION:Meet every Tuesday and Thursday at the Trust Waikato pool at Taumarunui High School. \nEntry fee is only $3\, so come along and have some fun and gentle exercise
URL:https://taumarunui.co.nz/event/water-aerobics/2024-10-31/
LOCATION:Trust Waikato Pool Taumarunui\, Golf Road\, Taumarunui\, New Zealand
CATEGORIES:Clubs,Sport
ATTACH;FMTTYPE=image/jpeg:https://taumarunui.co.nz/wp-content/uploads/2024/10/IMG_0385.jpg
END:VEVENT
END:VCALENDAR