BEGIN:VCALENDAR
VERSION:2.0
PRODID:-//Taumarunui - ECPv6.15.20//NONSGML v1.0//EN
CALSCALE:GREGORIAN
METHOD:PUBLISH
X-ORIGINAL-URL:https://taumarunui.co.nz
X-WR-CALDESC:Events for Taumarunui
REFRESH-INTERVAL;VALUE=DURATION:PT1H
X-Robots-Tag:noindex
X-PUBLISHED-TTL:PT1H
BEGIN:VTIMEZONE
TZID:Pacific/Auckland
BEGIN:STANDARD
TZOFFSETFROM:+1300
TZOFFSETTO:+1200
TZNAME:NZST
DTSTART:20250405T140000
END:STANDARD
BEGIN:DAYLIGHT
TZOFFSETFROM:+1200
TZOFFSETTO:+1300
TZNAME:NZDT
DTSTART:20250927T140000
END:DAYLIGHT
BEGIN:STANDARD
TZOFFSETFROM:+1300
TZOFFSETTO:+1200
TZNAME:NZST
DTSTART:20260404T140000
END:STANDARD
BEGIN:DAYLIGHT
TZOFFSETFROM:+1200
TZOFFSETTO:+1300
TZNAME:NZDT
DTSTART:20260926T140000
END:DAYLIGHT
BEGIN:STANDARD
TZOFFSETFROM:+1300
TZOFFSETTO:+1200
TZNAME:NZST
DTSTART:20270403T140000
END:STANDARD
BEGIN:DAYLIGHT
TZOFFSETFROM:+1200
TZOFFSETTO:+1300
TZNAME:NZDT
DTSTART:20270925T140000
END:DAYLIGHT
BEGIN:STANDARD
TZOFFSETFROM:+1300
TZOFFSETTO:+1200
TZNAME:NZST
DTSTART:20280401T140000
END:STANDARD
BEGIN:DAYLIGHT
TZOFFSETFROM:+1200
TZOFFSETTO:+1300
TZNAME:NZDT
DTSTART:20280923T140000
END:DAYLIGHT
END:VTIMEZONE
BEGIN:VEVENT
DTSTART;TZID=Pacific/Auckland:20261017T090000
DTEND;TZID=Pacific/Auckland:20261017T140000
DTSTAMP:20260425T093031
CREATED:20241222T210914Z
LAST-MODIFIED:20241222T210914Z
UID:10009739-1792227600-1792245600@taumarunui.co.nz
SUMMARY:Kakahi Village Market
DESCRIPTION:🌟 We are super excited to announce the date for our very first Kākahi Market! 🎉 Mark your calendars for **15th February 2025**! \nGet ready for a day filled with amazing local vendors\, delicious food\, and vibrant community spirit. We’re looking to showcase startup businesses and side hustles\, along with live music and talented local artists! 🎶 \nPlus\, this will be the same day as the Kākahi Rodeo\, so our town will be bustling with a fantastic country vibe! 🤠 If anyone wants to book a stall\, please contact Fiona at **027 357 7255**. We can’t wait to see you there! 🛍️✨ Stay tuned for more updates! #KākahiMarket #SaveTheDate #CountryVibes
URL:https://taumarunui.co.nz/event/kakahi-village-market/2026-10-17/
CATEGORIES:Event,Markets
ATTACH;FMTTYPE=image/jpeg:https://taumarunui.co.nz/wp-content/uploads/2024/12/IMG_8934.jpeg
END:VEVENT
BEGIN:VEVENT
DTSTART;TZID=Pacific/Auckland:20261021T100000
DTEND;TZID=Pacific/Auckland:20261021T140000
DTSTAMP:20260425T093031
CREATED:20240922T234817Z
LAST-MODIFIED:20241015T055838Z
UID:10002003-1792576800-1792591200@taumarunui.co.nz
SUMMARY:Taumarunui Whakaarotahi Trust Market (Manunui)
DESCRIPTION:Every Wednesday 10am-4pm and last Saturday of every month 10am-1pm
URL:https://taumarunui.co.nz/event/taumarunui-whakaarotahi-trust-market-manunui/2026-10-21/
CATEGORIES:Markets
ATTACH;FMTTYPE=image/jpeg:https://taumarunui.co.nz/wp-content/uploads/2024/09/IMG_8084-1.jpg
END:VEVENT
BEGIN:VEVENT
DTSTART;TZID=Pacific/Auckland:20261028T100000
DTEND;TZID=Pacific/Auckland:20261028T140000
DTSTAMP:20260425T093031
CREATED:20240922T234817Z
LAST-MODIFIED:20241015T055838Z
UID:10002004-1793181600-1793196000@taumarunui.co.nz
SUMMARY:Taumarunui Whakaarotahi Trust Market (Manunui)
DESCRIPTION:Every Wednesday 10am-4pm and last Saturday of every month 10am-1pm
URL:https://taumarunui.co.nz/event/taumarunui-whakaarotahi-trust-market-manunui/2026-10-28/
CATEGORIES:Markets
ATTACH;FMTTYPE=image/jpeg:https://taumarunui.co.nz/wp-content/uploads/2024/09/IMG_8084-1.jpg
END:VEVENT
BEGIN:VEVENT
DTSTART;TZID=Pacific/Auckland:20261031T100000
DTEND;TZID=Pacific/Auckland:20261031T130000
DTSTAMP:20260425T093031
CREATED:20240922T234951Z
LAST-MODIFIED:20241201T001637Z
UID:10002184-1793440800-1793451600@taumarunui.co.nz
SUMMARY:Taumarunui Whakaarotahi Trust Market (Manunui)
DESCRIPTION:Every Wednesday 10am-4pm and last Saturday of every month 10am-1pm (except December)
URL:https://taumarunui.co.nz/event/taumarunui-whakaarotahi-trust-market-manunui-2/2026-10-31/
CATEGORIES:Markets
ATTACH;FMTTYPE=image/jpeg:https://taumarunui.co.nz/wp-content/uploads/2024/09/IMG_8084-1.jpg
END:VEVENT
BEGIN:VEVENT
DTSTART;TZID=Pacific/Auckland:20261101T090000
DTEND;TZID=Pacific/Auckland:20261101T130000
DTSTAMP:20260425T093031
CREATED:20241015T070221Z
LAST-MODIFIED:20241015T070221Z
UID:10005137-1793523600-1793538000@taumarunui.co.nz
SUMMARY:Owhango Market
DESCRIPTION:Held at Owhango Hall on the first Sunday of each month (February-December)
URL:https://taumarunui.co.nz/event/owhango-market/2026-11-01/
LOCATION:Owhango Hall\, 2157 SH4\, Owhango\, New Zealand
CATEGORIES:Markets
END:VEVENT
BEGIN:VEVENT
DTSTART;TZID=Pacific/Auckland:20261104T100000
DTEND;TZID=Pacific/Auckland:20261104T140000
DTSTAMP:20260425T093031
CREATED:20240922T234817Z
LAST-MODIFIED:20241015T055838Z
UID:10002005-1793786400-1793800800@taumarunui.co.nz
SUMMARY:Taumarunui Whakaarotahi Trust Market (Manunui)
DESCRIPTION:Every Wednesday 10am-4pm and last Saturday of every month 10am-1pm
URL:https://taumarunui.co.nz/event/taumarunui-whakaarotahi-trust-market-manunui/2026-11-04/
CATEGORIES:Markets
ATTACH;FMTTYPE=image/jpeg:https://taumarunui.co.nz/wp-content/uploads/2024/09/IMG_8084-1.jpg
END:VEVENT
BEGIN:VEVENT
DTSTART;TZID=Pacific/Auckland:20261107T080000
DTEND;TZID=Pacific/Auckland:20261107T130000
DTSTAMP:20260425T093031
CREATED:20251031T172933Z
LAST-MODIFIED:20251031T172933Z
UID:10012483-1794038400-1794056400@taumarunui.co.nz
SUMMARY:TRACT market
DESCRIPTION:Second Saturday of the month in the Town Centre Arcade\, Taumarunui except for December when it’s the first Saturday to match up with the Christmas parade
URL:https://taumarunui.co.nz/event/tract-market-2-2-2/2026-11-07/
LOCATION:Town Centre Arcade\, 101 Hakiaha Street\, Taumarunui\, New Zealand
CATEGORIES:Markets
ATTACH;FMTTYPE=image/jpeg:https://taumarunui.co.nz/wp-content/uploads/2024/10/IMG_0397.jpeg
END:VEVENT
BEGIN:VEVENT
DTSTART;TZID=Pacific/Auckland:20261111T100000
DTEND;TZID=Pacific/Auckland:20261111T140000
DTSTAMP:20260425T093031
CREATED:20240922T234817Z
LAST-MODIFIED:20241015T055838Z
UID:10002006-1794391200-1794405600@taumarunui.co.nz
SUMMARY:Taumarunui Whakaarotahi Trust Market (Manunui)
DESCRIPTION:Every Wednesday 10am-4pm and last Saturday of every month 10am-1pm
URL:https://taumarunui.co.nz/event/taumarunui-whakaarotahi-trust-market-manunui/2026-11-11/
CATEGORIES:Markets
ATTACH;FMTTYPE=image/jpeg:https://taumarunui.co.nz/wp-content/uploads/2024/09/IMG_8084-1.jpg
END:VEVENT
BEGIN:VEVENT
DTSTART;TZID=Pacific/Auckland:20261118T100000
DTEND;TZID=Pacific/Auckland:20261118T140000
DTSTAMP:20260425T093031
CREATED:20240922T234817Z
LAST-MODIFIED:20241015T055838Z
UID:10002007-1794996000-1795010400@taumarunui.co.nz
SUMMARY:Taumarunui Whakaarotahi Trust Market (Manunui)
DESCRIPTION:Every Wednesday 10am-4pm and last Saturday of every month 10am-1pm
URL:https://taumarunui.co.nz/event/taumarunui-whakaarotahi-trust-market-manunui/2026-11-18/
CATEGORIES:Markets
ATTACH;FMTTYPE=image/jpeg:https://taumarunui.co.nz/wp-content/uploads/2024/09/IMG_8084-1.jpg
END:VEVENT
BEGIN:VEVENT
DTSTART;TZID=Pacific/Auckland:20261121T090000
DTEND;TZID=Pacific/Auckland:20261121T140000
DTSTAMP:20260425T093031
CREATED:20241222T210914Z
LAST-MODIFIED:20241222T210914Z
UID:10009740-1795251600-1795269600@taumarunui.co.nz
SUMMARY:Kakahi Village Market
DESCRIPTION:🌟 We are super excited to announce the date for our very first Kākahi Market! 🎉 Mark your calendars for **15th February 2025**! \nGet ready for a day filled with amazing local vendors\, delicious food\, and vibrant community spirit. We’re looking to showcase startup businesses and side hustles\, along with live music and talented local artists! 🎶 \nPlus\, this will be the same day as the Kākahi Rodeo\, so our town will be bustling with a fantastic country vibe! 🤠 If anyone wants to book a stall\, please contact Fiona at **027 357 7255**. We can’t wait to see you there! 🛍️✨ Stay tuned for more updates! #KākahiMarket #SaveTheDate #CountryVibes
URL:https://taumarunui.co.nz/event/kakahi-village-market/2026-11-21/
CATEGORIES:Event,Markets
ATTACH;FMTTYPE=image/jpeg:https://taumarunui.co.nz/wp-content/uploads/2024/12/IMG_8934.jpeg
END:VEVENT
BEGIN:VEVENT
DTSTART;TZID=Pacific/Auckland:20261125T100000
DTEND;TZID=Pacific/Auckland:20261125T140000
DTSTAMP:20260425T093031
CREATED:20240922T234817Z
LAST-MODIFIED:20241015T055838Z
UID:10002008-1795600800-1795615200@taumarunui.co.nz
SUMMARY:Taumarunui Whakaarotahi Trust Market (Manunui)
DESCRIPTION:Every Wednesday 10am-4pm and last Saturday of every month 10am-1pm
URL:https://taumarunui.co.nz/event/taumarunui-whakaarotahi-trust-market-manunui/2026-11-25/
CATEGORIES:Markets
ATTACH;FMTTYPE=image/jpeg:https://taumarunui.co.nz/wp-content/uploads/2024/09/IMG_8084-1.jpg
END:VEVENT
BEGIN:VEVENT
DTSTART;TZID=Pacific/Auckland:20261128T100000
DTEND;TZID=Pacific/Auckland:20261128T130000
DTSTAMP:20260425T093031
CREATED:20240922T234951Z
LAST-MODIFIED:20241201T001637Z
UID:10002185-1795860000-1795870800@taumarunui.co.nz
SUMMARY:Taumarunui Whakaarotahi Trust Market (Manunui)
DESCRIPTION:Every Wednesday 10am-4pm and last Saturday of every month 10am-1pm (except December)
URL:https://taumarunui.co.nz/event/taumarunui-whakaarotahi-trust-market-manunui-2/2026-11-28/
CATEGORIES:Markets
ATTACH;FMTTYPE=image/jpeg:https://taumarunui.co.nz/wp-content/uploads/2024/09/IMG_8084-1.jpg
END:VEVENT
BEGIN:VEVENT
DTSTART;TZID=Pacific/Auckland:20261202T100000
DTEND;TZID=Pacific/Auckland:20261202T140000
DTSTAMP:20260425T093031
CREATED:20240922T234817Z
LAST-MODIFIED:20241015T055838Z
UID:10002009-1796205600-1796220000@taumarunui.co.nz
SUMMARY:Taumarunui Whakaarotahi Trust Market (Manunui)
DESCRIPTION:Every Wednesday 10am-4pm and last Saturday of every month 10am-1pm
URL:https://taumarunui.co.nz/event/taumarunui-whakaarotahi-trust-market-manunui/2026-12-02/
CATEGORIES:Markets
ATTACH;FMTTYPE=image/jpeg:https://taumarunui.co.nz/wp-content/uploads/2024/09/IMG_8084-1.jpg
END:VEVENT
BEGIN:VEVENT
DTSTART;TZID=Pacific/Auckland:20261205T080000
DTEND;TZID=Pacific/Auckland:20261205T130000
DTSTAMP:20260425T093031
CREATED:20251031T172933Z
LAST-MODIFIED:20251031T172933Z
UID:10012484-1796457600-1796475600@taumarunui.co.nz
SUMMARY:TRACT market
DESCRIPTION:Second Saturday of the month in the Town Centre Arcade\, Taumarunui except for December when it’s the first Saturday to match up with the Christmas parade
URL:https://taumarunui.co.nz/event/tract-market-2-2-2/2026-12-05/
LOCATION:Town Centre Arcade\, 101 Hakiaha Street\, Taumarunui\, New Zealand
CATEGORIES:Markets
ATTACH;FMTTYPE=image/jpeg:https://taumarunui.co.nz/wp-content/uploads/2024/10/IMG_0397.jpeg
END:VEVENT
BEGIN:VEVENT
DTSTART;TZID=Pacific/Auckland:20261206T090000
DTEND;TZID=Pacific/Auckland:20261206T130000
DTSTAMP:20260425T093031
CREATED:20241015T070221Z
LAST-MODIFIED:20241015T070221Z
UID:10005138-1796547600-1796562000@taumarunui.co.nz
SUMMARY:Owhango Market
DESCRIPTION:Held at Owhango Hall on the first Sunday of each month (February-December)
URL:https://taumarunui.co.nz/event/owhango-market/2026-12-06/
LOCATION:Owhango Hall\, 2157 SH4\, Owhango\, New Zealand
CATEGORIES:Markets
END:VEVENT
BEGIN:VEVENT
DTSTART;TZID=Pacific/Auckland:20261209T100000
DTEND;TZID=Pacific/Auckland:20261209T140000
DTSTAMP:20260425T093031
CREATED:20240922T234817Z
LAST-MODIFIED:20241015T055838Z
UID:10002010-1796810400-1796824800@taumarunui.co.nz
SUMMARY:Taumarunui Whakaarotahi Trust Market (Manunui)
DESCRIPTION:Every Wednesday 10am-4pm and last Saturday of every month 10am-1pm
URL:https://taumarunui.co.nz/event/taumarunui-whakaarotahi-trust-market-manunui/2026-12-09/
CATEGORIES:Markets
ATTACH;FMTTYPE=image/jpeg:https://taumarunui.co.nz/wp-content/uploads/2024/09/IMG_8084-1.jpg
END:VEVENT
BEGIN:VEVENT
DTSTART;TZID=Pacific/Auckland:20261216T100000
DTEND;TZID=Pacific/Auckland:20261216T140000
DTSTAMP:20260425T093031
CREATED:20240922T234817Z
LAST-MODIFIED:20241015T055838Z
UID:10002011-1797415200-1797429600@taumarunui.co.nz
SUMMARY:Taumarunui Whakaarotahi Trust Market (Manunui)
DESCRIPTION:Every Wednesday 10am-4pm and last Saturday of every month 10am-1pm
URL:https://taumarunui.co.nz/event/taumarunui-whakaarotahi-trust-market-manunui/2026-12-16/
CATEGORIES:Markets
ATTACH;FMTTYPE=image/jpeg:https://taumarunui.co.nz/wp-content/uploads/2024/09/IMG_8084-1.jpg
END:VEVENT
BEGIN:VEVENT
DTSTART;TZID=Pacific/Auckland:20261219T090000
DTEND;TZID=Pacific/Auckland:20261219T140000
DTSTAMP:20260425T093031
CREATED:20241222T210914Z
LAST-MODIFIED:20241222T210914Z
UID:10009741-1797670800-1797688800@taumarunui.co.nz
SUMMARY:Kakahi Village Market
DESCRIPTION:🌟 We are super excited to announce the date for our very first Kākahi Market! 🎉 Mark your calendars for **15th February 2025**! \nGet ready for a day filled with amazing local vendors\, delicious food\, and vibrant community spirit. We’re looking to showcase startup businesses and side hustles\, along with live music and talented local artists! 🎶 \nPlus\, this will be the same day as the Kākahi Rodeo\, so our town will be bustling with a fantastic country vibe! 🤠 If anyone wants to book a stall\, please contact Fiona at **027 357 7255**. We can’t wait to see you there! 🛍️✨ Stay tuned for more updates! #KākahiMarket #SaveTheDate #CountryVibes
URL:https://taumarunui.co.nz/event/kakahi-village-market/2026-12-19/
CATEGORIES:Event,Markets
ATTACH;FMTTYPE=image/jpeg:https://taumarunui.co.nz/wp-content/uploads/2024/12/IMG_8934.jpeg
END:VEVENT
BEGIN:VEVENT
DTSTART;TZID=Pacific/Auckland:20261223T100000
DTEND;TZID=Pacific/Auckland:20261223T140000
DTSTAMP:20260425T093031
CREATED:20240922T234817Z
LAST-MODIFIED:20241015T055838Z
UID:10002012-1798020000-1798034400@taumarunui.co.nz
SUMMARY:Taumarunui Whakaarotahi Trust Market (Manunui)
DESCRIPTION:Every Wednesday 10am-4pm and last Saturday of every month 10am-1pm
URL:https://taumarunui.co.nz/event/taumarunui-whakaarotahi-trust-market-manunui/2026-12-23/
CATEGORIES:Markets
ATTACH;FMTTYPE=image/jpeg:https://taumarunui.co.nz/wp-content/uploads/2024/09/IMG_8084-1.jpg
END:VEVENT
BEGIN:VEVENT
DTSTART;TZID=Pacific/Auckland:20261226T100000
DTEND;TZID=Pacific/Auckland:20261226T130000
DTSTAMP:20260425T093031
CREATED:20240922T234951Z
LAST-MODIFIED:20241201T001637Z
UID:10002186-1798279200-1798290000@taumarunui.co.nz
SUMMARY:Taumarunui Whakaarotahi Trust Market (Manunui)
DESCRIPTION:Every Wednesday 10am-4pm and last Saturday of every month 10am-1pm (except December)
URL:https://taumarunui.co.nz/event/taumarunui-whakaarotahi-trust-market-manunui-2/2026-12-26/
CATEGORIES:Markets
ATTACH;FMTTYPE=image/jpeg:https://taumarunui.co.nz/wp-content/uploads/2024/09/IMG_8084-1.jpg
END:VEVENT
BEGIN:VEVENT
DTSTART;TZID=Pacific/Auckland:20261230T100000
DTEND;TZID=Pacific/Auckland:20261230T140000
DTSTAMP:20260425T093031
CREATED:20240922T234817Z
LAST-MODIFIED:20241015T055838Z
UID:10002013-1798624800-1798639200@taumarunui.co.nz
SUMMARY:Taumarunui Whakaarotahi Trust Market (Manunui)
DESCRIPTION:Every Wednesday 10am-4pm and last Saturday of every month 10am-1pm
URL:https://taumarunui.co.nz/event/taumarunui-whakaarotahi-trust-market-manunui/2026-12-30/
CATEGORIES:Markets
ATTACH;FMTTYPE=image/jpeg:https://taumarunui.co.nz/wp-content/uploads/2024/09/IMG_8084-1.jpg
END:VEVENT
BEGIN:VEVENT
DTSTART;TZID=Pacific/Auckland:20270102T080000
DTEND;TZID=Pacific/Auckland:20270102T130000
DTSTAMP:20260425T093031
CREATED:20251031T172933Z
LAST-MODIFIED:20251031T172933Z
UID:10012485-1798876800-1798894800@taumarunui.co.nz
SUMMARY:TRACT market
DESCRIPTION:Second Saturday of the month in the Town Centre Arcade\, Taumarunui except for December when it’s the first Saturday to match up with the Christmas parade
URL:https://taumarunui.co.nz/event/tract-market-2-2-2/2027-01-02/
LOCATION:Town Centre Arcade\, 101 Hakiaha Street\, Taumarunui\, New Zealand
CATEGORIES:Markets
ATTACH;FMTTYPE=image/jpeg:https://taumarunui.co.nz/wp-content/uploads/2024/10/IMG_0397.jpeg
END:VEVENT
BEGIN:VEVENT
DTSTART;TZID=Pacific/Auckland:20270103T090000
DTEND;TZID=Pacific/Auckland:20270103T130000
DTSTAMP:20260425T093031
CREATED:20241015T070221Z
LAST-MODIFIED:20241015T070221Z
UID:10005139-1798966800-1798981200@taumarunui.co.nz
SUMMARY:Owhango Market
DESCRIPTION:Held at Owhango Hall on the first Sunday of each month (February-December)
URL:https://taumarunui.co.nz/event/owhango-market/2027-01-03/
LOCATION:Owhango Hall\, 2157 SH4\, Owhango\, New Zealand
CATEGORIES:Markets
END:VEVENT
BEGIN:VEVENT
DTSTART;TZID=Pacific/Auckland:20270106T100000
DTEND;TZID=Pacific/Auckland:20270106T140000
DTSTAMP:20260425T093031
CREATED:20240922T234817Z
LAST-MODIFIED:20241015T055838Z
UID:10002014-1799229600-1799244000@taumarunui.co.nz
SUMMARY:Taumarunui Whakaarotahi Trust Market (Manunui)
DESCRIPTION:Every Wednesday 10am-4pm and last Saturday of every month 10am-1pm
URL:https://taumarunui.co.nz/event/taumarunui-whakaarotahi-trust-market-manunui/2027-01-06/
CATEGORIES:Markets
ATTACH;FMTTYPE=image/jpeg:https://taumarunui.co.nz/wp-content/uploads/2024/09/IMG_8084-1.jpg
END:VEVENT
BEGIN:VEVENT
DTSTART;TZID=Pacific/Auckland:20270113T100000
DTEND;TZID=Pacific/Auckland:20270113T140000
DTSTAMP:20260425T093031
CREATED:20240922T234817Z
LAST-MODIFIED:20241015T055838Z
UID:10002015-1799834400-1799848800@taumarunui.co.nz
SUMMARY:Taumarunui Whakaarotahi Trust Market (Manunui)
DESCRIPTION:Every Wednesday 10am-4pm and last Saturday of every month 10am-1pm
URL:https://taumarunui.co.nz/event/taumarunui-whakaarotahi-trust-market-manunui/2027-01-13/
CATEGORIES:Markets
ATTACH;FMTTYPE=image/jpeg:https://taumarunui.co.nz/wp-content/uploads/2024/09/IMG_8084-1.jpg
END:VEVENT
BEGIN:VEVENT
DTSTART;TZID=Pacific/Auckland:20270116T090000
DTEND;TZID=Pacific/Auckland:20270116T140000
DTSTAMP:20260425T093031
CREATED:20241222T210914Z
LAST-MODIFIED:20241222T210914Z
UID:10009742-1800090000-1800108000@taumarunui.co.nz
SUMMARY:Kakahi Village Market
DESCRIPTION:🌟 We are super excited to announce the date for our very first Kākahi Market! 🎉 Mark your calendars for **15th February 2025**! \nGet ready for a day filled with amazing local vendors\, delicious food\, and vibrant community spirit. We’re looking to showcase startup businesses and side hustles\, along with live music and talented local artists! 🎶 \nPlus\, this will be the same day as the Kākahi Rodeo\, so our town will be bustling with a fantastic country vibe! 🤠 If anyone wants to book a stall\, please contact Fiona at **027 357 7255**. We can’t wait to see you there! 🛍️✨ Stay tuned for more updates! #KākahiMarket #SaveTheDate #CountryVibes
URL:https://taumarunui.co.nz/event/kakahi-village-market/2027-01-16/
CATEGORIES:Event,Markets
ATTACH;FMTTYPE=image/jpeg:https://taumarunui.co.nz/wp-content/uploads/2024/12/IMG_8934.jpeg
END:VEVENT
BEGIN:VEVENT
DTSTART;TZID=Pacific/Auckland:20270120T100000
DTEND;TZID=Pacific/Auckland:20270120T140000
DTSTAMP:20260425T093031
CREATED:20240922T234817Z
LAST-MODIFIED:20241015T055838Z
UID:10002016-1800439200-1800453600@taumarunui.co.nz
SUMMARY:Taumarunui Whakaarotahi Trust Market (Manunui)
DESCRIPTION:Every Wednesday 10am-4pm and last Saturday of every month 10am-1pm
URL:https://taumarunui.co.nz/event/taumarunui-whakaarotahi-trust-market-manunui/2027-01-20/
CATEGORIES:Markets
ATTACH;FMTTYPE=image/jpeg:https://taumarunui.co.nz/wp-content/uploads/2024/09/IMG_8084-1.jpg
END:VEVENT
BEGIN:VEVENT
DTSTART;TZID=Pacific/Auckland:20270127T100000
DTEND;TZID=Pacific/Auckland:20270127T140000
DTSTAMP:20260425T093031
CREATED:20240922T234817Z
LAST-MODIFIED:20241015T055838Z
UID:10002017-1801044000-1801058400@taumarunui.co.nz
SUMMARY:Taumarunui Whakaarotahi Trust Market (Manunui)
DESCRIPTION:Every Wednesday 10am-4pm and last Saturday of every month 10am-1pm
URL:https://taumarunui.co.nz/event/taumarunui-whakaarotahi-trust-market-manunui/2027-01-27/
CATEGORIES:Markets
ATTACH;FMTTYPE=image/jpeg:https://taumarunui.co.nz/wp-content/uploads/2024/09/IMG_8084-1.jpg
END:VEVENT
BEGIN:VEVENT
DTSTART;TZID=Pacific/Auckland:20270130T100000
DTEND;TZID=Pacific/Auckland:20270130T130000
DTSTAMP:20260425T093031
CREATED:20240922T234951Z
LAST-MODIFIED:20241201T001637Z
UID:10002187-1801303200-1801314000@taumarunui.co.nz
SUMMARY:Taumarunui Whakaarotahi Trust Market (Manunui)
DESCRIPTION:Every Wednesday 10am-4pm and last Saturday of every month 10am-1pm (except December)
URL:https://taumarunui.co.nz/event/taumarunui-whakaarotahi-trust-market-manunui-2/2027-01-30/
CATEGORIES:Markets
ATTACH;FMTTYPE=image/jpeg:https://taumarunui.co.nz/wp-content/uploads/2024/09/IMG_8084-1.jpg
END:VEVENT
BEGIN:VEVENT
DTSTART;TZID=Pacific/Auckland:20270203T100000
DTEND;TZID=Pacific/Auckland:20270203T140000
DTSTAMP:20260425T093031
CREATED:20240922T234817Z
LAST-MODIFIED:20241015T055838Z
UID:10002018-1801648800-1801663200@taumarunui.co.nz
SUMMARY:Taumarunui Whakaarotahi Trust Market (Manunui)
DESCRIPTION:Every Wednesday 10am-4pm and last Saturday of every month 10am-1pm
URL:https://taumarunui.co.nz/event/taumarunui-whakaarotahi-trust-market-manunui/2027-02-03/
CATEGORIES:Markets
ATTACH;FMTTYPE=image/jpeg:https://taumarunui.co.nz/wp-content/uploads/2024/09/IMG_8084-1.jpg
END:VEVENT
END:VCALENDAR