BEGIN:VCALENDAR
VERSION:2.0
PRODID:-//Taumarunui - ECPv6.15.20//NONSGML v1.0//EN
CALSCALE:GREGORIAN
METHOD:PUBLISH
X-ORIGINAL-URL:https://taumarunui.co.nz
X-WR-CALDESC:Events for Taumarunui
REFRESH-INTERVAL;VALUE=DURATION:PT1H
X-Robots-Tag:noindex
X-PUBLISHED-TTL:PT1H
BEGIN:VTIMEZONE
TZID:Pacific/Auckland
BEGIN:STANDARD
TZOFFSETFROM:+1300
TZOFFSETTO:+1200
TZNAME:NZST
DTSTART:20240406T140000
END:STANDARD
BEGIN:DAYLIGHT
TZOFFSETFROM:+1200
TZOFFSETTO:+1300
TZNAME:NZDT
DTSTART:20240928T140000
END:DAYLIGHT
BEGIN:STANDARD
TZOFFSETFROM:+1300
TZOFFSETTO:+1200
TZNAME:NZST
DTSTART:20250405T140000
END:STANDARD
BEGIN:DAYLIGHT
TZOFFSETFROM:+1200
TZOFFSETTO:+1300
TZNAME:NZDT
DTSTART:20250927T140000
END:DAYLIGHT
BEGIN:STANDARD
TZOFFSETFROM:+1300
TZOFFSETTO:+1200
TZNAME:NZST
DTSTART:20260404T140000
END:STANDARD
BEGIN:DAYLIGHT
TZOFFSETFROM:+1200
TZOFFSETTO:+1300
TZNAME:NZDT
DTSTART:20260926T140000
END:DAYLIGHT
END:VTIMEZONE
BEGIN:VEVENT
DTSTART;TZID=Pacific/Auckland:20251210T100000
DTEND;TZID=Pacific/Auckland:20251210T140000
DTSTAMP:20260423T151636
CREATED:20240922T234817Z
LAST-MODIFIED:20241015T055838Z
UID:10001958-1765360800-1765375200@taumarunui.co.nz
SUMMARY:Taumarunui Whakaarotahi Trust Market (Manunui)
DESCRIPTION:Every Wednesday 10am-4pm and last Saturday of every month 10am-1pm
URL:https://taumarunui.co.nz/event/taumarunui-whakaarotahi-trust-market-manunui/2025-12-10/
CATEGORIES:Markets
ATTACH;FMTTYPE=image/jpeg:https://taumarunui.co.nz/wp-content/uploads/2024/09/IMG_8084-1.jpg
END:VEVENT
BEGIN:VEVENT
DTSTART;TZID=Pacific/Auckland:20251207T090000
DTEND;TZID=Pacific/Auckland:20251207T130000
DTSTAMP:20260423T151636
CREATED:20241015T070221Z
LAST-MODIFIED:20241015T070221Z
UID:10005126-1765098000-1765112400@taumarunui.co.nz
SUMMARY:Owhango Market
DESCRIPTION:Held at Owhango Hall on the first Sunday of each month (February-December)
URL:https://taumarunui.co.nz/event/owhango-market/2025-12-07/
LOCATION:Owhango Hall\, 2157 SH4\, Owhango\, New Zealand
CATEGORIES:Markets
END:VEVENT
BEGIN:VEVENT
DTSTART;TZID=Pacific/Auckland:20251206T080000
DTEND;TZID=Pacific/Auckland:20251206T130000
DTSTAMP:20260423T151636
CREATED:20251031T172933Z
LAST-MODIFIED:20251031T172933Z
UID:10009665-1765008000-1765026000@taumarunui.co.nz
SUMMARY:TRACT market
DESCRIPTION:Second Saturday of the month in the Town Centre Arcade\, Taumarunui except for December when it’s the first Saturday to match up with the Christmas parade
URL:https://taumarunui.co.nz/event/tract-market-2-2-2/2025-12-06/
LOCATION:Town Centre Arcade\, 101 Hakiaha Street\, Taumarunui\, New Zealand
CATEGORIES:Markets
ATTACH;FMTTYPE=image/jpeg:https://taumarunui.co.nz/wp-content/uploads/2024/10/IMG_0397.jpeg
END:VEVENT
BEGIN:VEVENT
DTSTART;TZID=Pacific/Auckland:20251203T100000
DTEND;TZID=Pacific/Auckland:20251203T140000
DTSTAMP:20260423T151636
CREATED:20240922T234817Z
LAST-MODIFIED:20241015T055838Z
UID:10001957-1764756000-1764770400@taumarunui.co.nz
SUMMARY:Taumarunui Whakaarotahi Trust Market (Manunui)
DESCRIPTION:Every Wednesday 10am-4pm and last Saturday of every month 10am-1pm
URL:https://taumarunui.co.nz/event/taumarunui-whakaarotahi-trust-market-manunui/2025-12-03/
CATEGORIES:Markets
ATTACH;FMTTYPE=image/jpeg:https://taumarunui.co.nz/wp-content/uploads/2024/09/IMG_8084-1.jpg
END:VEVENT
BEGIN:VEVENT
DTSTART;TZID=Pacific/Auckland:20251130T100000
DTEND;TZID=Pacific/Auckland:20251130T140000
DTSTAMP:20260423T151636
CREATED:20250915T181845Z
LAST-MODIFIED:20250915T181845Z
UID:10012435-1764496800-1764511200@taumarunui.co.nz
SUMMARY:Ruapehu Gardening Market Day
DESCRIPTION:
URL:https://taumarunui.co.nz/event/ruapehu-gardening-market-day/
CATEGORIES:Markets
ATTACH;FMTTYPE=image/jpeg:https://taumarunui.co.nz/wp-content/uploads/2025/09/IMG_1674.jpeg
END:VEVENT
BEGIN:VEVENT
DTSTART;TZID=Pacific/Auckland:20251129T100000
DTEND;TZID=Pacific/Auckland:20251129T130000
DTSTAMP:20260423T151636
CREATED:20240922T234951Z
LAST-MODIFIED:20241201T001637Z
UID:10002173-1764410400-1764421200@taumarunui.co.nz
SUMMARY:Taumarunui Whakaarotahi Trust Market (Manunui)
DESCRIPTION:Every Wednesday 10am-4pm and last Saturday of every month 10am-1pm (except December)
URL:https://taumarunui.co.nz/event/taumarunui-whakaarotahi-trust-market-manunui-2/2025-11-29/
CATEGORIES:Markets
ATTACH;FMTTYPE=image/jpeg:https://taumarunui.co.nz/wp-content/uploads/2024/09/IMG_8084-1.jpg
END:VEVENT
BEGIN:VEVENT
DTSTART;TZID=Pacific/Auckland:20251126T100000
DTEND;TZID=Pacific/Auckland:20251126T140000
DTSTAMP:20260423T151636
CREATED:20240922T234817Z
LAST-MODIFIED:20241015T055838Z
UID:10001956-1764151200-1764165600@taumarunui.co.nz
SUMMARY:Taumarunui Whakaarotahi Trust Market (Manunui)
DESCRIPTION:Every Wednesday 10am-4pm and last Saturday of every month 10am-1pm
URL:https://taumarunui.co.nz/event/taumarunui-whakaarotahi-trust-market-manunui/2025-11-26/
CATEGORIES:Markets
ATTACH;FMTTYPE=image/jpeg:https://taumarunui.co.nz/wp-content/uploads/2024/09/IMG_8084-1.jpg
END:VEVENT
BEGIN:VEVENT
DTSTART;TZID=Pacific/Auckland:20251119T100000
DTEND;TZID=Pacific/Auckland:20251119T140000
DTSTAMP:20260423T151636
CREATED:20240922T234817Z
LAST-MODIFIED:20241015T055838Z
UID:10001955-1763546400-1763560800@taumarunui.co.nz
SUMMARY:Taumarunui Whakaarotahi Trust Market (Manunui)
DESCRIPTION:Every Wednesday 10am-4pm and last Saturday of every month 10am-1pm
URL:https://taumarunui.co.nz/event/taumarunui-whakaarotahi-trust-market-manunui/2025-11-19/
CATEGORIES:Markets
ATTACH;FMTTYPE=image/jpeg:https://taumarunui.co.nz/wp-content/uploads/2024/09/IMG_8084-1.jpg
END:VEVENT
BEGIN:VEVENT
DTSTART;TZID=Pacific/Auckland:20251115T090000
DTEND;TZID=Pacific/Auckland:20251115T140000
DTSTAMP:20260423T151636
CREATED:20241222T210914Z
LAST-MODIFIED:20241222T210914Z
UID:10009728-1763197200-1763215200@taumarunui.co.nz
SUMMARY:Kakahi Village Market
DESCRIPTION:🌟 We are super excited to announce the date for our very first Kākahi Market! 🎉 Mark your calendars for **15th February 2025**! \nGet ready for a day filled with amazing local vendors\, delicious food\, and vibrant community spirit. We’re looking to showcase startup businesses and side hustles\, along with live music and talented local artists! 🎶 \nPlus\, this will be the same day as the Kākahi Rodeo\, so our town will be bustling with a fantastic country vibe! 🤠 If anyone wants to book a stall\, please contact Fiona at **027 357 7255**. We can’t wait to see you there! 🛍️✨ Stay tuned for more updates! #KākahiMarket #SaveTheDate #CountryVibes
URL:https://taumarunui.co.nz/event/kakahi-village-market/2025-11-15/
CATEGORIES:Event,Markets
ATTACH;FMTTYPE=image/jpeg:https://taumarunui.co.nz/wp-content/uploads/2024/12/IMG_8934.jpeg
END:VEVENT
BEGIN:VEVENT
DTSTART;TZID=Pacific/Auckland:20251112T100000
DTEND;TZID=Pacific/Auckland:20251112T140000
DTSTAMP:20260423T151636
CREATED:20240922T234817Z
LAST-MODIFIED:20241015T055838Z
UID:10001954-1762941600-1762956000@taumarunui.co.nz
SUMMARY:Taumarunui Whakaarotahi Trust Market (Manunui)
DESCRIPTION:Every Wednesday 10am-4pm and last Saturday of every month 10am-1pm
URL:https://taumarunui.co.nz/event/taumarunui-whakaarotahi-trust-market-manunui/2025-11-12/
CATEGORIES:Markets
ATTACH;FMTTYPE=image/jpeg:https://taumarunui.co.nz/wp-content/uploads/2024/09/IMG_8084-1.jpg
END:VEVENT
BEGIN:VEVENT
DTSTART;TZID=Pacific/Auckland:20251108T080000
DTEND;TZID=Pacific/Auckland:20251108T130000
DTSTAMP:20260423T151636
CREATED:20241122T042447Z
LAST-MODIFIED:20241122T042448Z
UID:10009664-1762588800-1762606800@taumarunui.co.nz
SUMMARY:TRACT market
DESCRIPTION:Second Saturday of the month in the Town Centre Arcade\, Taumarunui except for December when it’s the first Saturday to match up with the Christmas parade
URL:https://taumarunui.co.nz/event/tract-market-2-2/2025-11-08/
LOCATION:Town Centre Arcade\, 101 Hakiaha Street\, Taumarunui\, New Zealand
CATEGORIES:Markets
ATTACH;FMTTYPE=image/jpeg:https://taumarunui.co.nz/wp-content/uploads/2024/10/IMG_0397.jpeg
END:VEVENT
BEGIN:VEVENT
DTSTART;TZID=Pacific/Auckland:20251105T100000
DTEND;TZID=Pacific/Auckland:20251105T140000
DTSTAMP:20260423T151636
CREATED:20240922T234817Z
LAST-MODIFIED:20241015T055838Z
UID:10001953-1762336800-1762351200@taumarunui.co.nz
SUMMARY:Taumarunui Whakaarotahi Trust Market (Manunui)
DESCRIPTION:Every Wednesday 10am-4pm and last Saturday of every month 10am-1pm
URL:https://taumarunui.co.nz/event/taumarunui-whakaarotahi-trust-market-manunui/2025-11-05/
CATEGORIES:Markets
ATTACH;FMTTYPE=image/jpeg:https://taumarunui.co.nz/wp-content/uploads/2024/09/IMG_8084-1.jpg
END:VEVENT
BEGIN:VEVENT
DTSTART;TZID=Pacific/Auckland:20251102T090000
DTEND;TZID=Pacific/Auckland:20251102T130000
DTSTAMP:20260423T151636
CREATED:20241015T070221Z
LAST-MODIFIED:20241015T070221Z
UID:10005125-1762074000-1762088400@taumarunui.co.nz
SUMMARY:Owhango Market
DESCRIPTION:Held at Owhango Hall on the first Sunday of each month (February-December)
URL:https://taumarunui.co.nz/event/owhango-market/2025-11-02/
LOCATION:Owhango Hall\, 2157 SH4\, Owhango\, New Zealand
CATEGORIES:Markets
END:VEVENT
BEGIN:VEVENT
DTSTART;TZID=Pacific/Auckland:20251029T100000
DTEND;TZID=Pacific/Auckland:20251029T140000
DTSTAMP:20260423T151636
CREATED:20240922T234817Z
LAST-MODIFIED:20241015T055838Z
UID:10001952-1761732000-1761746400@taumarunui.co.nz
SUMMARY:Taumarunui Whakaarotahi Trust Market (Manunui)
DESCRIPTION:Every Wednesday 10am-4pm and last Saturday of every month 10am-1pm
URL:https://taumarunui.co.nz/event/taumarunui-whakaarotahi-trust-market-manunui/2025-10-29/
CATEGORIES:Markets
ATTACH;FMTTYPE=image/jpeg:https://taumarunui.co.nz/wp-content/uploads/2024/09/IMG_8084-1.jpg
END:VEVENT
BEGIN:VEVENT
DTSTART;TZID=Pacific/Auckland:20251025T100000
DTEND;TZID=Pacific/Auckland:20251025T130000
DTSTAMP:20260423T151636
CREATED:20240922T234951Z
LAST-MODIFIED:20241201T001637Z
UID:10002172-1761386400-1761397200@taumarunui.co.nz
SUMMARY:Taumarunui Whakaarotahi Trust Market (Manunui)
DESCRIPTION:Every Wednesday 10am-4pm and last Saturday of every month 10am-1pm (except December)
URL:https://taumarunui.co.nz/event/taumarunui-whakaarotahi-trust-market-manunui-2/2025-10-25/
CATEGORIES:Markets
ATTACH;FMTTYPE=image/jpeg:https://taumarunui.co.nz/wp-content/uploads/2024/09/IMG_8084-1.jpg
END:VEVENT
BEGIN:VEVENT
DTSTART;TZID=Pacific/Auckland:20251022T100000
DTEND;TZID=Pacific/Auckland:20251022T140000
DTSTAMP:20260423T151636
CREATED:20240922T234817Z
LAST-MODIFIED:20241015T055838Z
UID:10001951-1761127200-1761141600@taumarunui.co.nz
SUMMARY:Taumarunui Whakaarotahi Trust Market (Manunui)
DESCRIPTION:Every Wednesday 10am-4pm and last Saturday of every month 10am-1pm
URL:https://taumarunui.co.nz/event/taumarunui-whakaarotahi-trust-market-manunui/2025-10-22/
CATEGORIES:Markets
ATTACH;FMTTYPE=image/jpeg:https://taumarunui.co.nz/wp-content/uploads/2024/09/IMG_8084-1.jpg
END:VEVENT
BEGIN:VEVENT
DTSTART;TZID=Pacific/Auckland:20251018T090000
DTEND;TZID=Pacific/Auckland:20251018T140000
DTSTAMP:20260423T151636
CREATED:20241222T210914Z
LAST-MODIFIED:20241222T210914Z
UID:10009727-1760778000-1760796000@taumarunui.co.nz
SUMMARY:Kakahi Village Market
DESCRIPTION:🌟 We are super excited to announce the date for our very first Kākahi Market! 🎉 Mark your calendars for **15th February 2025**! \nGet ready for a day filled with amazing local vendors\, delicious food\, and vibrant community spirit. We’re looking to showcase startup businesses and side hustles\, along with live music and talented local artists! 🎶 \nPlus\, this will be the same day as the Kākahi Rodeo\, so our town will be bustling with a fantastic country vibe! 🤠 If anyone wants to book a stall\, please contact Fiona at **027 357 7255**. We can’t wait to see you there! 🛍️✨ Stay tuned for more updates! #KākahiMarket #SaveTheDate #CountryVibes
URL:https://taumarunui.co.nz/event/kakahi-village-market/2025-10-18/
CATEGORIES:Event,Markets
ATTACH;FMTTYPE=image/jpeg:https://taumarunui.co.nz/wp-content/uploads/2024/12/IMG_8934.jpeg
END:VEVENT
BEGIN:VEVENT
DTSTART;TZID=Pacific/Auckland:20251015T100000
DTEND;TZID=Pacific/Auckland:20251015T140000
DTSTAMP:20260423T151636
CREATED:20240922T234817Z
LAST-MODIFIED:20241015T055838Z
UID:10001950-1760522400-1760536800@taumarunui.co.nz
SUMMARY:Taumarunui Whakaarotahi Trust Market (Manunui)
DESCRIPTION:Every Wednesday 10am-4pm and last Saturday of every month 10am-1pm
URL:https://taumarunui.co.nz/event/taumarunui-whakaarotahi-trust-market-manunui/2025-10-15/
CATEGORIES:Markets
ATTACH;FMTTYPE=image/jpeg:https://taumarunui.co.nz/wp-content/uploads/2024/09/IMG_8084-1.jpg
END:VEVENT
BEGIN:VEVENT
DTSTART;TZID=Pacific/Auckland:20251011T080000
DTEND;TZID=Pacific/Auckland:20251011T130000
DTSTAMP:20260423T151636
CREATED:20241122T042447Z
LAST-MODIFIED:20241122T042448Z
UID:10009663-1760169600-1760187600@taumarunui.co.nz
SUMMARY:TRACT market
DESCRIPTION:Second Saturday of the month in the Town Centre Arcade\, Taumarunui except for December when it’s the first Saturday to match up with the Christmas parade
URL:https://taumarunui.co.nz/event/tract-market-2-2/2025-10-11/
LOCATION:Town Centre Arcade\, 101 Hakiaha Street\, Taumarunui\, New Zealand
CATEGORIES:Markets
ATTACH;FMTTYPE=image/jpeg:https://taumarunui.co.nz/wp-content/uploads/2024/10/IMG_0397.jpeg
END:VEVENT
BEGIN:VEVENT
DTSTART;TZID=Pacific/Auckland:20251008T100000
DTEND;TZID=Pacific/Auckland:20251008T140000
DTSTAMP:20260423T151636
CREATED:20240922T234817Z
LAST-MODIFIED:20241015T055838Z
UID:10001949-1759917600-1759932000@taumarunui.co.nz
SUMMARY:Taumarunui Whakaarotahi Trust Market (Manunui)
DESCRIPTION:Every Wednesday 10am-4pm and last Saturday of every month 10am-1pm
URL:https://taumarunui.co.nz/event/taumarunui-whakaarotahi-trust-market-manunui/2025-10-08/
CATEGORIES:Markets
ATTACH;FMTTYPE=image/jpeg:https://taumarunui.co.nz/wp-content/uploads/2024/09/IMG_8084-1.jpg
END:VEVENT
BEGIN:VEVENT
DTSTART;TZID=Pacific/Auckland:20251005T090000
DTEND;TZID=Pacific/Auckland:20251005T130000
DTSTAMP:20260423T151636
CREATED:20241015T070221Z
LAST-MODIFIED:20241015T070221Z
UID:10005124-1759654800-1759669200@taumarunui.co.nz
SUMMARY:Owhango Market
DESCRIPTION:Held at Owhango Hall on the first Sunday of each month (February-December)
URL:https://taumarunui.co.nz/event/owhango-market/2025-10-05/
LOCATION:Owhango Hall\, 2157 SH4\, Owhango\, New Zealand
CATEGORIES:Markets
END:VEVENT
BEGIN:VEVENT
DTSTART;TZID=Pacific/Auckland:20251001T100000
DTEND;TZID=Pacific/Auckland:20251001T140000
DTSTAMP:20260423T151636
CREATED:20240922T234817Z
LAST-MODIFIED:20241015T055838Z
UID:10001948-1759312800-1759327200@taumarunui.co.nz
SUMMARY:Taumarunui Whakaarotahi Trust Market (Manunui)
DESCRIPTION:Every Wednesday 10am-4pm and last Saturday of every month 10am-1pm
URL:https://taumarunui.co.nz/event/taumarunui-whakaarotahi-trust-market-manunui/2025-10-01/
CATEGORIES:Markets
ATTACH;FMTTYPE=image/jpeg:https://taumarunui.co.nz/wp-content/uploads/2024/09/IMG_8084-1.jpg
END:VEVENT
BEGIN:VEVENT
DTSTART;TZID=Pacific/Auckland:20250927T100000
DTEND;TZID=Pacific/Auckland:20250927T130000
DTSTAMP:20260423T151636
CREATED:20240922T234951Z
LAST-MODIFIED:20241201T001637Z
UID:10002171-1758967200-1758978000@taumarunui.co.nz
SUMMARY:Taumarunui Whakaarotahi Trust Market (Manunui)
DESCRIPTION:Every Wednesday 10am-4pm and last Saturday of every month 10am-1pm (except December)
URL:https://taumarunui.co.nz/event/taumarunui-whakaarotahi-trust-market-manunui-2/2025-09-27/
CATEGORIES:Markets
ATTACH;FMTTYPE=image/jpeg:https://taumarunui.co.nz/wp-content/uploads/2024/09/IMG_8084-1.jpg
END:VEVENT
BEGIN:VEVENT
DTSTART;TZID=Pacific/Auckland:20250924T100000
DTEND;TZID=Pacific/Auckland:20250924T140000
DTSTAMP:20260423T151636
CREATED:20240922T234817Z
LAST-MODIFIED:20241015T055838Z
UID:10001947-1758708000-1758722400@taumarunui.co.nz
SUMMARY:Taumarunui Whakaarotahi Trust Market (Manunui)
DESCRIPTION:Every Wednesday 10am-4pm and last Saturday of every month 10am-1pm
URL:https://taumarunui.co.nz/event/taumarunui-whakaarotahi-trust-market-manunui/2025-09-24/
CATEGORIES:Markets
ATTACH;FMTTYPE=image/jpeg:https://taumarunui.co.nz/wp-content/uploads/2024/09/IMG_8084-1.jpg
END:VEVENT
BEGIN:VEVENT
DTSTART;TZID=Pacific/Auckland:20250920T090000
DTEND;TZID=Pacific/Auckland:20250920T140000
DTSTAMP:20260423T151636
CREATED:20241222T210914Z
LAST-MODIFIED:20241222T210914Z
UID:10009726-1758358800-1758376800@taumarunui.co.nz
SUMMARY:Kakahi Village Market
DESCRIPTION:🌟 We are super excited to announce the date for our very first Kākahi Market! 🎉 Mark your calendars for **15th February 2025**! \nGet ready for a day filled with amazing local vendors\, delicious food\, and vibrant community spirit. We’re looking to showcase startup businesses and side hustles\, along with live music and talented local artists! 🎶 \nPlus\, this will be the same day as the Kākahi Rodeo\, so our town will be bustling with a fantastic country vibe! 🤠 If anyone wants to book a stall\, please contact Fiona at **027 357 7255**. We can’t wait to see you there! 🛍️✨ Stay tuned for more updates! #KākahiMarket #SaveTheDate #CountryVibes
URL:https://taumarunui.co.nz/event/kakahi-village-market/2025-09-20/
CATEGORIES:Event,Markets
ATTACH;FMTTYPE=image/jpeg:https://taumarunui.co.nz/wp-content/uploads/2024/12/IMG_8934.jpeg
END:VEVENT
BEGIN:VEVENT
DTSTART;TZID=Pacific/Auckland:20250917T100000
DTEND;TZID=Pacific/Auckland:20250917T140000
DTSTAMP:20260423T151636
CREATED:20240922T234817Z
LAST-MODIFIED:20241015T055838Z
UID:10001946-1758103200-1758117600@taumarunui.co.nz
SUMMARY:Taumarunui Whakaarotahi Trust Market (Manunui)
DESCRIPTION:Every Wednesday 10am-4pm and last Saturday of every month 10am-1pm
URL:https://taumarunui.co.nz/event/taumarunui-whakaarotahi-trust-market-manunui/2025-09-17/
CATEGORIES:Markets
ATTACH;FMTTYPE=image/jpeg:https://taumarunui.co.nz/wp-content/uploads/2024/09/IMG_8084-1.jpg
END:VEVENT
BEGIN:VEVENT
DTSTART;TZID=Pacific/Auckland:20250913T080000
DTEND;TZID=Pacific/Auckland:20250913T130000
DTSTAMP:20260423T151636
CREATED:20241122T042447Z
LAST-MODIFIED:20241122T042448Z
UID:10009662-1757750400-1757768400@taumarunui.co.nz
SUMMARY:TRACT market
DESCRIPTION:Second Saturday of the month in the Town Centre Arcade\, Taumarunui except for December when it’s the first Saturday to match up with the Christmas parade
URL:https://taumarunui.co.nz/event/tract-market-2-2/2025-09-13/
LOCATION:Town Centre Arcade\, 101 Hakiaha Street\, Taumarunui\, New Zealand
CATEGORIES:Markets
ATTACH;FMTTYPE=image/jpeg:https://taumarunui.co.nz/wp-content/uploads/2024/10/IMG_0397.jpeg
END:VEVENT
BEGIN:VEVENT
DTSTART;TZID=Pacific/Auckland:20250910T100000
DTEND;TZID=Pacific/Auckland:20250910T140000
DTSTAMP:20260423T151636
CREATED:20240922T234817Z
LAST-MODIFIED:20241015T055838Z
UID:10001945-1757498400-1757512800@taumarunui.co.nz
SUMMARY:Taumarunui Whakaarotahi Trust Market (Manunui)
DESCRIPTION:Every Wednesday 10am-4pm and last Saturday of every month 10am-1pm
URL:https://taumarunui.co.nz/event/taumarunui-whakaarotahi-trust-market-manunui/2025-09-10/
CATEGORIES:Markets
ATTACH;FMTTYPE=image/jpeg:https://taumarunui.co.nz/wp-content/uploads/2024/09/IMG_8084-1.jpg
END:VEVENT
BEGIN:VEVENT
DTSTART;TZID=Pacific/Auckland:20250907T090000
DTEND;TZID=Pacific/Auckland:20250907T130000
DTSTAMP:20260423T151636
CREATED:20241015T070221Z
LAST-MODIFIED:20241015T070221Z
UID:10005123-1757235600-1757250000@taumarunui.co.nz
SUMMARY:Owhango Market
DESCRIPTION:Held at Owhango Hall on the first Sunday of each month (February-December)
URL:https://taumarunui.co.nz/event/owhango-market/2025-09-07/
LOCATION:Owhango Hall\, 2157 SH4\, Owhango\, New Zealand
CATEGORIES:Markets
END:VEVENT
BEGIN:VEVENT
DTSTART;TZID=Pacific/Auckland:20250903T100000
DTEND;TZID=Pacific/Auckland:20250903T140000
DTSTAMP:20260423T151636
CREATED:20240922T234817Z
LAST-MODIFIED:20241015T055838Z
UID:10001944-1756893600-1756908000@taumarunui.co.nz
SUMMARY:Taumarunui Whakaarotahi Trust Market (Manunui)
DESCRIPTION:Every Wednesday 10am-4pm and last Saturday of every month 10am-1pm
URL:https://taumarunui.co.nz/event/taumarunui-whakaarotahi-trust-market-manunui/2025-09-03/
CATEGORIES:Markets
ATTACH;FMTTYPE=image/jpeg:https://taumarunui.co.nz/wp-content/uploads/2024/09/IMG_8084-1.jpg
END:VEVENT
END:VCALENDAR