BEGIN:VCALENDAR
VERSION:2.0
PRODID:-//Taumarunui - ECPv6.15.16//NONSGML v1.0//EN
CALSCALE:GREGORIAN
METHOD:PUBLISH
X-ORIGINAL-URL:https://taumarunui.co.nz
X-WR-CALDESC:Events for Taumarunui
REFRESH-INTERVAL;VALUE=DURATION:PT1H
X-Robots-Tag:noindex
X-PUBLISHED-TTL:PT1H
BEGIN:VTIMEZONE
TZID:Pacific/Auckland
BEGIN:STANDARD
TZOFFSETFROM:+1300
TZOFFSETTO:+1200
TZNAME:NZST
DTSTART:20250405T140000
END:STANDARD
BEGIN:DAYLIGHT
TZOFFSETFROM:+1200
TZOFFSETTO:+1300
TZNAME:NZDT
DTSTART:20250927T140000
END:DAYLIGHT
BEGIN:STANDARD
TZOFFSETFROM:+1300
TZOFFSETTO:+1200
TZNAME:NZST
DTSTART:20260404T140000
END:STANDARD
BEGIN:DAYLIGHT
TZOFFSETFROM:+1200
TZOFFSETTO:+1300
TZNAME:NZDT
DTSTART:20260926T140000
END:DAYLIGHT
BEGIN:STANDARD
TZOFFSETFROM:+1300
TZOFFSETTO:+1200
TZNAME:NZST
DTSTART:20270403T140000
END:STANDARD
BEGIN:DAYLIGHT
TZOFFSETFROM:+1200
TZOFFSETTO:+1300
TZNAME:NZDT
DTSTART:20270925T140000
END:DAYLIGHT
END:VTIMEZONE
BEGIN:VEVENT
DTSTART;TZID=Pacific/Auckland:20260606T080000
DTEND;TZID=Pacific/Auckland:20260606T130000
DTSTAMP:20260421T214525
CREATED:20251031T172933Z
LAST-MODIFIED:20251031T172933Z
UID:10012478-1780732800-1780750800@taumarunui.co.nz
SUMMARY:TRACT market
DESCRIPTION:Second Saturday of the month in the Town Centre Arcade\, Taumarunui except for December when it’s the first Saturday to match up with the Christmas parade
URL:https://taumarunui.co.nz/event/tract-market-2-2-2/2026-06-06/
LOCATION:Town Centre Arcade\, 101 Hakiaha Street\, Taumarunui\, New Zealand
CATEGORIES:Markets
ATTACH;FMTTYPE=image/jpeg:https://taumarunui.co.nz/wp-content/uploads/2024/10/IMG_0397.jpeg
END:VEVENT
BEGIN:VEVENT
DTSTART;TZID=Pacific/Auckland:20260607T090000
DTEND;TZID=Pacific/Auckland:20260607T130000
DTSTAMP:20260421T214525
CREATED:20241015T070221Z
LAST-MODIFIED:20241015T070221Z
UID:10005132-1780822800-1780837200@taumarunui.co.nz
SUMMARY:Owhango Market
DESCRIPTION:Held at Owhango Hall on the first Sunday of each month (February-December)
URL:https://taumarunui.co.nz/event/owhango-market/2026-06-07/
LOCATION:Owhango Hall\, 2157 SH4\, Owhango\, New Zealand
CATEGORIES:Markets
END:VEVENT
BEGIN:VEVENT
DTSTART;TZID=Pacific/Auckland:20260610T100000
DTEND;TZID=Pacific/Auckland:20260610T140000
DTSTAMP:20260421T214525
CREATED:20240922T234817Z
LAST-MODIFIED:20241015T055838Z
UID:10001984-1781085600-1781100000@taumarunui.co.nz
SUMMARY:Taumarunui Whakaarotahi Trust Market (Manunui)
DESCRIPTION:Every Wednesday 10am-4pm and last Saturday of every month 10am-1pm
URL:https://taumarunui.co.nz/event/taumarunui-whakaarotahi-trust-market-manunui/2026-06-10/
CATEGORIES:Markets
ATTACH;FMTTYPE=image/jpeg:https://taumarunui.co.nz/wp-content/uploads/2024/09/IMG_8084-1.jpg
END:VEVENT
BEGIN:VEVENT
DTSTART;TZID=Pacific/Auckland:20260617T100000
DTEND;TZID=Pacific/Auckland:20260617T140000
DTSTAMP:20260421T214525
CREATED:20240922T234817Z
LAST-MODIFIED:20241015T055838Z
UID:10001985-1781690400-1781704800@taumarunui.co.nz
SUMMARY:Taumarunui Whakaarotahi Trust Market (Manunui)
DESCRIPTION:Every Wednesday 10am-4pm and last Saturday of every month 10am-1pm
URL:https://taumarunui.co.nz/event/taumarunui-whakaarotahi-trust-market-manunui/2026-06-17/
CATEGORIES:Markets
ATTACH;FMTTYPE=image/jpeg:https://taumarunui.co.nz/wp-content/uploads/2024/09/IMG_8084-1.jpg
END:VEVENT
BEGIN:VEVENT
DTSTART;TZID=Pacific/Auckland:20260620T090000
DTEND;TZID=Pacific/Auckland:20260620T140000
DTSTAMP:20260421T214525
CREATED:20241222T210914Z
LAST-MODIFIED:20241222T210914Z
UID:10009735-1781946000-1781964000@taumarunui.co.nz
SUMMARY:Kakahi Village Market
DESCRIPTION:🌟 We are super excited to announce the date for our very first Kākahi Market! 🎉 Mark your calendars for **15th February 2025**! \nGet ready for a day filled with amazing local vendors\, delicious food\, and vibrant community spirit. We’re looking to showcase startup businesses and side hustles\, along with live music and talented local artists! 🎶 \nPlus\, this will be the same day as the Kākahi Rodeo\, so our town will be bustling with a fantastic country vibe! 🤠 If anyone wants to book a stall\, please contact Fiona at **027 357 7255**. We can’t wait to see you there! 🛍️✨ Stay tuned for more updates! #KākahiMarket #SaveTheDate #CountryVibes
URL:https://taumarunui.co.nz/event/kakahi-village-market/2026-06-20/
CATEGORIES:Event,Markets
ATTACH;FMTTYPE=image/jpeg:https://taumarunui.co.nz/wp-content/uploads/2024/12/IMG_8934.jpeg
END:VEVENT
BEGIN:VEVENT
DTSTART;TZID=Pacific/Auckland:20260624T100000
DTEND;TZID=Pacific/Auckland:20260624T140000
DTSTAMP:20260421T214525
CREATED:20240922T234817Z
LAST-MODIFIED:20241015T055838Z
UID:10001986-1782295200-1782309600@taumarunui.co.nz
SUMMARY:Taumarunui Whakaarotahi Trust Market (Manunui)
DESCRIPTION:Every Wednesday 10am-4pm and last Saturday of every month 10am-1pm
URL:https://taumarunui.co.nz/event/taumarunui-whakaarotahi-trust-market-manunui/2026-06-24/
CATEGORIES:Markets
ATTACH;FMTTYPE=image/jpeg:https://taumarunui.co.nz/wp-content/uploads/2024/09/IMG_8084-1.jpg
END:VEVENT
BEGIN:VEVENT
DTSTART;TZID=Pacific/Auckland:20260627T100000
DTEND;TZID=Pacific/Auckland:20260627T130000
DTSTAMP:20260421T214525
CREATED:20240922T234951Z
LAST-MODIFIED:20241201T001637Z
UID:10002180-1782554400-1782565200@taumarunui.co.nz
SUMMARY:Taumarunui Whakaarotahi Trust Market (Manunui)
DESCRIPTION:Every Wednesday 10am-4pm and last Saturday of every month 10am-1pm (except December)
URL:https://taumarunui.co.nz/event/taumarunui-whakaarotahi-trust-market-manunui-2/2026-06-27/
CATEGORIES:Markets
ATTACH;FMTTYPE=image/jpeg:https://taumarunui.co.nz/wp-content/uploads/2024/09/IMG_8084-1.jpg
END:VEVENT
BEGIN:VEVENT
DTSTART;TZID=Pacific/Auckland:20260701T100000
DTEND;TZID=Pacific/Auckland:20260701T140000
DTSTAMP:20260421T214525
CREATED:20240922T234817Z
LAST-MODIFIED:20241015T055838Z
UID:10001987-1782900000-1782914400@taumarunui.co.nz
SUMMARY:Taumarunui Whakaarotahi Trust Market (Manunui)
DESCRIPTION:Every Wednesday 10am-4pm and last Saturday of every month 10am-1pm
URL:https://taumarunui.co.nz/event/taumarunui-whakaarotahi-trust-market-manunui/2026-07-01/
CATEGORIES:Markets
ATTACH;FMTTYPE=image/jpeg:https://taumarunui.co.nz/wp-content/uploads/2024/09/IMG_8084-1.jpg
END:VEVENT
BEGIN:VEVENT
DTSTART;TZID=Pacific/Auckland:20260704T080000
DTEND;TZID=Pacific/Auckland:20260704T130000
DTSTAMP:20260421T214525
CREATED:20251031T172933Z
LAST-MODIFIED:20251031T172933Z
UID:10012479-1783152000-1783170000@taumarunui.co.nz
SUMMARY:TRACT market
DESCRIPTION:Second Saturday of the month in the Town Centre Arcade\, Taumarunui except for December when it’s the first Saturday to match up with the Christmas parade
URL:https://taumarunui.co.nz/event/tract-market-2-2-2/2026-07-04/
LOCATION:Town Centre Arcade\, 101 Hakiaha Street\, Taumarunui\, New Zealand
CATEGORIES:Markets
ATTACH;FMTTYPE=image/jpeg:https://taumarunui.co.nz/wp-content/uploads/2024/10/IMG_0397.jpeg
END:VEVENT
BEGIN:VEVENT
DTSTART;TZID=Pacific/Auckland:20260705T090000
DTEND;TZID=Pacific/Auckland:20260705T130000
DTSTAMP:20260421T214525
CREATED:20241015T070221Z
LAST-MODIFIED:20241015T070221Z
UID:10005133-1783242000-1783256400@taumarunui.co.nz
SUMMARY:Owhango Market
DESCRIPTION:Held at Owhango Hall on the first Sunday of each month (February-December)
URL:https://taumarunui.co.nz/event/owhango-market/2026-07-05/
LOCATION:Owhango Hall\, 2157 SH4\, Owhango\, New Zealand
CATEGORIES:Markets
END:VEVENT
BEGIN:VEVENT
DTSTART;TZID=Pacific/Auckland:20260708T100000
DTEND;TZID=Pacific/Auckland:20260708T140000
DTSTAMP:20260421T214525
CREATED:20240922T234817Z
LAST-MODIFIED:20241015T055838Z
UID:10001988-1783504800-1783519200@taumarunui.co.nz
SUMMARY:Taumarunui Whakaarotahi Trust Market (Manunui)
DESCRIPTION:Every Wednesday 10am-4pm and last Saturday of every month 10am-1pm
URL:https://taumarunui.co.nz/event/taumarunui-whakaarotahi-trust-market-manunui/2026-07-08/
CATEGORIES:Markets
ATTACH;FMTTYPE=image/jpeg:https://taumarunui.co.nz/wp-content/uploads/2024/09/IMG_8084-1.jpg
END:VEVENT
BEGIN:VEVENT
DTSTART;TZID=Pacific/Auckland:20260715T100000
DTEND;TZID=Pacific/Auckland:20260715T140000
DTSTAMP:20260421T214525
CREATED:20240922T234817Z
LAST-MODIFIED:20241015T055838Z
UID:10001989-1784109600-1784124000@taumarunui.co.nz
SUMMARY:Taumarunui Whakaarotahi Trust Market (Manunui)
DESCRIPTION:Every Wednesday 10am-4pm and last Saturday of every month 10am-1pm
URL:https://taumarunui.co.nz/event/taumarunui-whakaarotahi-trust-market-manunui/2026-07-15/
CATEGORIES:Markets
ATTACH;FMTTYPE=image/jpeg:https://taumarunui.co.nz/wp-content/uploads/2024/09/IMG_8084-1.jpg
END:VEVENT
BEGIN:VEVENT
DTSTART;TZID=Pacific/Auckland:20260718T090000
DTEND;TZID=Pacific/Auckland:20260718T140000
DTSTAMP:20260421T214525
CREATED:20241222T210914Z
LAST-MODIFIED:20241222T210914Z
UID:10009736-1784365200-1784383200@taumarunui.co.nz
SUMMARY:Kakahi Village Market
DESCRIPTION:🌟 We are super excited to announce the date for our very first Kākahi Market! 🎉 Mark your calendars for **15th February 2025**! \nGet ready for a day filled with amazing local vendors\, delicious food\, and vibrant community spirit. We’re looking to showcase startup businesses and side hustles\, along with live music and talented local artists! 🎶 \nPlus\, this will be the same day as the Kākahi Rodeo\, so our town will be bustling with a fantastic country vibe! 🤠 If anyone wants to book a stall\, please contact Fiona at **027 357 7255**. We can’t wait to see you there! 🛍️✨ Stay tuned for more updates! #KākahiMarket #SaveTheDate #CountryVibes
URL:https://taumarunui.co.nz/event/kakahi-village-market/2026-07-18/
CATEGORIES:Event,Markets
ATTACH;FMTTYPE=image/jpeg:https://taumarunui.co.nz/wp-content/uploads/2024/12/IMG_8934.jpeg
END:VEVENT
BEGIN:VEVENT
DTSTART;TZID=Pacific/Auckland:20260722T100000
DTEND;TZID=Pacific/Auckland:20260722T140000
DTSTAMP:20260421T214525
CREATED:20240922T234817Z
LAST-MODIFIED:20241015T055838Z
UID:10001990-1784714400-1784728800@taumarunui.co.nz
SUMMARY:Taumarunui Whakaarotahi Trust Market (Manunui)
DESCRIPTION:Every Wednesday 10am-4pm and last Saturday of every month 10am-1pm
URL:https://taumarunui.co.nz/event/taumarunui-whakaarotahi-trust-market-manunui/2026-07-22/
CATEGORIES:Markets
ATTACH;FMTTYPE=image/jpeg:https://taumarunui.co.nz/wp-content/uploads/2024/09/IMG_8084-1.jpg
END:VEVENT
BEGIN:VEVENT
DTSTART;TZID=Pacific/Auckland:20260725T100000
DTEND;TZID=Pacific/Auckland:20260725T130000
DTSTAMP:20260421T214525
CREATED:20240922T234951Z
LAST-MODIFIED:20241201T001637Z
UID:10002181-1784973600-1784984400@taumarunui.co.nz
SUMMARY:Taumarunui Whakaarotahi Trust Market (Manunui)
DESCRIPTION:Every Wednesday 10am-4pm and last Saturday of every month 10am-1pm (except December)
URL:https://taumarunui.co.nz/event/taumarunui-whakaarotahi-trust-market-manunui-2/2026-07-25/
CATEGORIES:Markets
ATTACH;FMTTYPE=image/jpeg:https://taumarunui.co.nz/wp-content/uploads/2024/09/IMG_8084-1.jpg
END:VEVENT
BEGIN:VEVENT
DTSTART;TZID=Pacific/Auckland:20260729T100000
DTEND;TZID=Pacific/Auckland:20260729T140000
DTSTAMP:20260421T214525
CREATED:20240922T234817Z
LAST-MODIFIED:20241015T055838Z
UID:10001991-1785319200-1785333600@taumarunui.co.nz
SUMMARY:Taumarunui Whakaarotahi Trust Market (Manunui)
DESCRIPTION:Every Wednesday 10am-4pm and last Saturday of every month 10am-1pm
URL:https://taumarunui.co.nz/event/taumarunui-whakaarotahi-trust-market-manunui/2026-07-29/
CATEGORIES:Markets
ATTACH;FMTTYPE=image/jpeg:https://taumarunui.co.nz/wp-content/uploads/2024/09/IMG_8084-1.jpg
END:VEVENT
BEGIN:VEVENT
DTSTART;TZID=Pacific/Auckland:20260801T080000
DTEND;TZID=Pacific/Auckland:20260801T130000
DTSTAMP:20260421T214525
CREATED:20251031T172933Z
LAST-MODIFIED:20251031T172933Z
UID:10012480-1785571200-1785589200@taumarunui.co.nz
SUMMARY:TRACT market
DESCRIPTION:Second Saturday of the month in the Town Centre Arcade\, Taumarunui except for December when it’s the first Saturday to match up with the Christmas parade
URL:https://taumarunui.co.nz/event/tract-market-2-2-2/2026-08-01/
LOCATION:Town Centre Arcade\, 101 Hakiaha Street\, Taumarunui\, New Zealand
CATEGORIES:Markets
ATTACH;FMTTYPE=image/jpeg:https://taumarunui.co.nz/wp-content/uploads/2024/10/IMG_0397.jpeg
END:VEVENT
BEGIN:VEVENT
DTSTART;TZID=Pacific/Auckland:20260802T090000
DTEND;TZID=Pacific/Auckland:20260802T130000
DTSTAMP:20260421T214525
CREATED:20241015T070221Z
LAST-MODIFIED:20241015T070221Z
UID:10005134-1785661200-1785675600@taumarunui.co.nz
SUMMARY:Owhango Market
DESCRIPTION:Held at Owhango Hall on the first Sunday of each month (February-December)
URL:https://taumarunui.co.nz/event/owhango-market/2026-08-02/
LOCATION:Owhango Hall\, 2157 SH4\, Owhango\, New Zealand
CATEGORIES:Markets
END:VEVENT
BEGIN:VEVENT
DTSTART;TZID=Pacific/Auckland:20260805T100000
DTEND;TZID=Pacific/Auckland:20260805T140000
DTSTAMP:20260421T214525
CREATED:20240922T234817Z
LAST-MODIFIED:20241015T055838Z
UID:10001992-1785924000-1785938400@taumarunui.co.nz
SUMMARY:Taumarunui Whakaarotahi Trust Market (Manunui)
DESCRIPTION:Every Wednesday 10am-4pm and last Saturday of every month 10am-1pm
URL:https://taumarunui.co.nz/event/taumarunui-whakaarotahi-trust-market-manunui/2026-08-05/
CATEGORIES:Markets
ATTACH;FMTTYPE=image/jpeg:https://taumarunui.co.nz/wp-content/uploads/2024/09/IMG_8084-1.jpg
END:VEVENT
BEGIN:VEVENT
DTSTART;TZID=Pacific/Auckland:20260812T100000
DTEND;TZID=Pacific/Auckland:20260812T140000
DTSTAMP:20260421T214525
CREATED:20240922T234817Z
LAST-MODIFIED:20241015T055838Z
UID:10001993-1786528800-1786543200@taumarunui.co.nz
SUMMARY:Taumarunui Whakaarotahi Trust Market (Manunui)
DESCRIPTION:Every Wednesday 10am-4pm and last Saturday of every month 10am-1pm
URL:https://taumarunui.co.nz/event/taumarunui-whakaarotahi-trust-market-manunui/2026-08-12/
CATEGORIES:Markets
ATTACH;FMTTYPE=image/jpeg:https://taumarunui.co.nz/wp-content/uploads/2024/09/IMG_8084-1.jpg
END:VEVENT
BEGIN:VEVENT
DTSTART;TZID=Pacific/Auckland:20260815T090000
DTEND;TZID=Pacific/Auckland:20260815T140000
DTSTAMP:20260421T214525
CREATED:20241222T210914Z
LAST-MODIFIED:20241222T210914Z
UID:10009737-1786784400-1786802400@taumarunui.co.nz
SUMMARY:Kakahi Village Market
DESCRIPTION:🌟 We are super excited to announce the date for our very first Kākahi Market! 🎉 Mark your calendars for **15th February 2025**! \nGet ready for a day filled with amazing local vendors\, delicious food\, and vibrant community spirit. We’re looking to showcase startup businesses and side hustles\, along with live music and talented local artists! 🎶 \nPlus\, this will be the same day as the Kākahi Rodeo\, so our town will be bustling with a fantastic country vibe! 🤠 If anyone wants to book a stall\, please contact Fiona at **027 357 7255**. We can’t wait to see you there! 🛍️✨ Stay tuned for more updates! #KākahiMarket #SaveTheDate #CountryVibes
URL:https://taumarunui.co.nz/event/kakahi-village-market/2026-08-15/
CATEGORIES:Event,Markets
ATTACH;FMTTYPE=image/jpeg:https://taumarunui.co.nz/wp-content/uploads/2024/12/IMG_8934.jpeg
END:VEVENT
BEGIN:VEVENT
DTSTART;TZID=Pacific/Auckland:20260819T100000
DTEND;TZID=Pacific/Auckland:20260819T140000
DTSTAMP:20260421T214525
CREATED:20240922T234817Z
LAST-MODIFIED:20241015T055838Z
UID:10001994-1787133600-1787148000@taumarunui.co.nz
SUMMARY:Taumarunui Whakaarotahi Trust Market (Manunui)
DESCRIPTION:Every Wednesday 10am-4pm and last Saturday of every month 10am-1pm
URL:https://taumarunui.co.nz/event/taumarunui-whakaarotahi-trust-market-manunui/2026-08-19/
CATEGORIES:Markets
ATTACH;FMTTYPE=image/jpeg:https://taumarunui.co.nz/wp-content/uploads/2024/09/IMG_8084-1.jpg
END:VEVENT
BEGIN:VEVENT
DTSTART;TZID=Pacific/Auckland:20260826T100000
DTEND;TZID=Pacific/Auckland:20260826T140000
DTSTAMP:20260421T214525
CREATED:20240922T234817Z
LAST-MODIFIED:20241015T055838Z
UID:10001995-1787738400-1787752800@taumarunui.co.nz
SUMMARY:Taumarunui Whakaarotahi Trust Market (Manunui)
DESCRIPTION:Every Wednesday 10am-4pm and last Saturday of every month 10am-1pm
URL:https://taumarunui.co.nz/event/taumarunui-whakaarotahi-trust-market-manunui/2026-08-26/
CATEGORIES:Markets
ATTACH;FMTTYPE=image/jpeg:https://taumarunui.co.nz/wp-content/uploads/2024/09/IMG_8084-1.jpg
END:VEVENT
BEGIN:VEVENT
DTSTART;TZID=Pacific/Auckland:20260829T100000
DTEND;TZID=Pacific/Auckland:20260829T130000
DTSTAMP:20260421T214525
CREATED:20240922T234951Z
LAST-MODIFIED:20241201T001637Z
UID:10002182-1787997600-1788008400@taumarunui.co.nz
SUMMARY:Taumarunui Whakaarotahi Trust Market (Manunui)
DESCRIPTION:Every Wednesday 10am-4pm and last Saturday of every month 10am-1pm (except December)
URL:https://taumarunui.co.nz/event/taumarunui-whakaarotahi-trust-market-manunui-2/2026-08-29/
CATEGORIES:Markets
ATTACH;FMTTYPE=image/jpeg:https://taumarunui.co.nz/wp-content/uploads/2024/09/IMG_8084-1.jpg
END:VEVENT
BEGIN:VEVENT
DTSTART;TZID=Pacific/Auckland:20260902T100000
DTEND;TZID=Pacific/Auckland:20260902T140000
DTSTAMP:20260421T214525
CREATED:20240922T234817Z
LAST-MODIFIED:20241015T055838Z
UID:10001996-1788343200-1788357600@taumarunui.co.nz
SUMMARY:Taumarunui Whakaarotahi Trust Market (Manunui)
DESCRIPTION:Every Wednesday 10am-4pm and last Saturday of every month 10am-1pm
URL:https://taumarunui.co.nz/event/taumarunui-whakaarotahi-trust-market-manunui/2026-09-02/
CATEGORIES:Markets
ATTACH;FMTTYPE=image/jpeg:https://taumarunui.co.nz/wp-content/uploads/2024/09/IMG_8084-1.jpg
END:VEVENT
BEGIN:VEVENT
DTSTART;TZID=Pacific/Auckland:20260905T080000
DTEND;TZID=Pacific/Auckland:20260905T130000
DTSTAMP:20260421T214525
CREATED:20251031T172933Z
LAST-MODIFIED:20251031T172933Z
UID:10012481-1788595200-1788613200@taumarunui.co.nz
SUMMARY:TRACT market
DESCRIPTION:Second Saturday of the month in the Town Centre Arcade\, Taumarunui except for December when it’s the first Saturday to match up with the Christmas parade
URL:https://taumarunui.co.nz/event/tract-market-2-2-2/2026-09-05/
LOCATION:Town Centre Arcade\, 101 Hakiaha Street\, Taumarunui\, New Zealand
CATEGORIES:Markets
ATTACH;FMTTYPE=image/jpeg:https://taumarunui.co.nz/wp-content/uploads/2024/10/IMG_0397.jpeg
END:VEVENT
BEGIN:VEVENT
DTSTART;TZID=Pacific/Auckland:20260906T090000
DTEND;TZID=Pacific/Auckland:20260906T130000
DTSTAMP:20260421T214525
CREATED:20241015T070221Z
LAST-MODIFIED:20241015T070221Z
UID:10005135-1788685200-1788699600@taumarunui.co.nz
SUMMARY:Owhango Market
DESCRIPTION:Held at Owhango Hall on the first Sunday of each month (February-December)
URL:https://taumarunui.co.nz/event/owhango-market/2026-09-06/
LOCATION:Owhango Hall\, 2157 SH4\, Owhango\, New Zealand
CATEGORIES:Markets
END:VEVENT
BEGIN:VEVENT
DTSTART;TZID=Pacific/Auckland:20260909T100000
DTEND;TZID=Pacific/Auckland:20260909T140000
DTSTAMP:20260421T214525
CREATED:20240922T234817Z
LAST-MODIFIED:20241015T055838Z
UID:10001997-1788948000-1788962400@taumarunui.co.nz
SUMMARY:Taumarunui Whakaarotahi Trust Market (Manunui)
DESCRIPTION:Every Wednesday 10am-4pm and last Saturday of every month 10am-1pm
URL:https://taumarunui.co.nz/event/taumarunui-whakaarotahi-trust-market-manunui/2026-09-09/
CATEGORIES:Markets
ATTACH;FMTTYPE=image/jpeg:https://taumarunui.co.nz/wp-content/uploads/2024/09/IMG_8084-1.jpg
END:VEVENT
BEGIN:VEVENT
DTSTART;TZID=Pacific/Auckland:20260916T100000
DTEND;TZID=Pacific/Auckland:20260916T140000
DTSTAMP:20260421T214525
CREATED:20240922T234817Z
LAST-MODIFIED:20241015T055838Z
UID:10001998-1789552800-1789567200@taumarunui.co.nz
SUMMARY:Taumarunui Whakaarotahi Trust Market (Manunui)
DESCRIPTION:Every Wednesday 10am-4pm and last Saturday of every month 10am-1pm
URL:https://taumarunui.co.nz/event/taumarunui-whakaarotahi-trust-market-manunui/2026-09-16/
CATEGORIES:Markets
ATTACH;FMTTYPE=image/jpeg:https://taumarunui.co.nz/wp-content/uploads/2024/09/IMG_8084-1.jpg
END:VEVENT
BEGIN:VEVENT
DTSTART;TZID=Pacific/Auckland:20260919T090000
DTEND;TZID=Pacific/Auckland:20260919T140000
DTSTAMP:20260421T214525
CREATED:20241222T210914Z
LAST-MODIFIED:20241222T210914Z
UID:10009738-1789808400-1789826400@taumarunui.co.nz
SUMMARY:Kakahi Village Market
DESCRIPTION:🌟 We are super excited to announce the date for our very first Kākahi Market! 🎉 Mark your calendars for **15th February 2025**! \nGet ready for a day filled with amazing local vendors\, delicious food\, and vibrant community spirit. We’re looking to showcase startup businesses and side hustles\, along with live music and talented local artists! 🎶 \nPlus\, this will be the same day as the Kākahi Rodeo\, so our town will be bustling with a fantastic country vibe! 🤠 If anyone wants to book a stall\, please contact Fiona at **027 357 7255**. We can’t wait to see you there! 🛍️✨ Stay tuned for more updates! #KākahiMarket #SaveTheDate #CountryVibes
URL:https://taumarunui.co.nz/event/kakahi-village-market/2026-09-19/
CATEGORIES:Event,Markets
ATTACH;FMTTYPE=image/jpeg:https://taumarunui.co.nz/wp-content/uploads/2024/12/IMG_8934.jpeg
END:VEVENT
END:VCALENDAR