BEGIN:VCALENDAR
VERSION:2.0
PRODID:-//Taumarunui - ECPv6.15.16//NONSGML v1.0//EN
CALSCALE:GREGORIAN
METHOD:PUBLISH
X-ORIGINAL-URL:https://taumarunui.co.nz
X-WR-CALDESC:Events for Taumarunui
REFRESH-INTERVAL;VALUE=DURATION:PT1H
X-Robots-Tag:noindex
X-PUBLISHED-TTL:PT1H
BEGIN:VTIMEZONE
TZID:Pacific/Auckland
BEGIN:STANDARD
TZOFFSETFROM:+1300
TZOFFSETTO:+1200
TZNAME:NZST
DTSTART:20250405T140000
END:STANDARD
BEGIN:DAYLIGHT
TZOFFSETFROM:+1200
TZOFFSETTO:+1300
TZNAME:NZDT
DTSTART:20250927T140000
END:DAYLIGHT
BEGIN:STANDARD
TZOFFSETFROM:+1300
TZOFFSETTO:+1200
TZNAME:NZST
DTSTART:20260404T140000
END:STANDARD
BEGIN:DAYLIGHT
TZOFFSETFROM:+1200
TZOFFSETTO:+1300
TZNAME:NZDT
DTSTART:20260926T140000
END:DAYLIGHT
BEGIN:STANDARD
TZOFFSETFROM:+1300
TZOFFSETTO:+1200
TZNAME:NZST
DTSTART:20270403T140000
END:STANDARD
BEGIN:DAYLIGHT
TZOFFSETFROM:+1200
TZOFFSETTO:+1300
TZNAME:NZDT
DTSTART:20270925T140000
END:DAYLIGHT
END:VTIMEZONE
BEGIN:VEVENT
DTSTART;TZID=Pacific/Auckland:20260502T080000
DTEND;TZID=Pacific/Auckland:20260502T130000
DTSTAMP:20260421T140601
CREATED:20251031T172933Z
LAST-MODIFIED:20251031T172933Z
UID:10012477-1777708800-1777726800@taumarunui.co.nz
SUMMARY:TRACT market
DESCRIPTION:Second Saturday of the month in the Town Centre Arcade\, Taumarunui except for December when it’s the first Saturday to match up with the Christmas parade
URL:https://taumarunui.co.nz/event/tract-market-2-2-2/2026-05-02/
LOCATION:Town Centre Arcade\, 101 Hakiaha Street\, Taumarunui\, New Zealand
CATEGORIES:Markets
ATTACH;FMTTYPE=image/jpeg:https://taumarunui.co.nz/wp-content/uploads/2024/10/IMG_0397.jpeg
END:VEVENT
BEGIN:VEVENT
DTSTART;TZID=Pacific/Auckland:20260503T090000
DTEND;TZID=Pacific/Auckland:20260503T130000
DTSTAMP:20260421T140601
CREATED:20241015T070221Z
LAST-MODIFIED:20241015T070221Z
UID:10005131-1777798800-1777813200@taumarunui.co.nz
SUMMARY:Owhango Market
DESCRIPTION:Held at Owhango Hall on the first Sunday of each month (February-December)
URL:https://taumarunui.co.nz/event/owhango-market/2026-05-03/
LOCATION:Owhango Hall\, 2157 SH4\, Owhango\, New Zealand
CATEGORIES:Markets
END:VEVENT
BEGIN:VEVENT
DTSTART;TZID=Pacific/Auckland:20260506T100000
DTEND;TZID=Pacific/Auckland:20260506T140000
DTSTAMP:20260421T140601
CREATED:20240922T234817Z
LAST-MODIFIED:20241015T055838Z
UID:10001979-1778061600-1778076000@taumarunui.co.nz
SUMMARY:Taumarunui Whakaarotahi Trust Market (Manunui)
DESCRIPTION:Every Wednesday 10am-4pm and last Saturday of every month 10am-1pm
URL:https://taumarunui.co.nz/event/taumarunui-whakaarotahi-trust-market-manunui/2026-05-06/
CATEGORIES:Markets
ATTACH;FMTTYPE=image/jpeg:https://taumarunui.co.nz/wp-content/uploads/2024/09/IMG_8084-1.jpg
END:VEVENT
BEGIN:VEVENT
DTSTART;TZID=Pacific/Auckland:20260513T100000
DTEND;TZID=Pacific/Auckland:20260513T140000
DTSTAMP:20260421T140601
CREATED:20240922T234817Z
LAST-MODIFIED:20241015T055838Z
UID:10001980-1778666400-1778680800@taumarunui.co.nz
SUMMARY:Taumarunui Whakaarotahi Trust Market (Manunui)
DESCRIPTION:Every Wednesday 10am-4pm and last Saturday of every month 10am-1pm
URL:https://taumarunui.co.nz/event/taumarunui-whakaarotahi-trust-market-manunui/2026-05-13/
CATEGORIES:Markets
ATTACH;FMTTYPE=image/jpeg:https://taumarunui.co.nz/wp-content/uploads/2024/09/IMG_8084-1.jpg
END:VEVENT
BEGIN:VEVENT
DTSTART;TZID=Pacific/Auckland:20260516T090000
DTEND;TZID=Pacific/Auckland:20260516T140000
DTSTAMP:20260421T140601
CREATED:20241222T210914Z
LAST-MODIFIED:20241222T210914Z
UID:10009734-1778922000-1778940000@taumarunui.co.nz
SUMMARY:Kakahi Village Market
DESCRIPTION:🌟 We are super excited to announce the date for our very first Kākahi Market! 🎉 Mark your calendars for **15th February 2025**! \nGet ready for a day filled with amazing local vendors\, delicious food\, and vibrant community spirit. We’re looking to showcase startup businesses and side hustles\, along with live music and talented local artists! 🎶 \nPlus\, this will be the same day as the Kākahi Rodeo\, so our town will be bustling with a fantastic country vibe! 🤠 If anyone wants to book a stall\, please contact Fiona at **027 357 7255**. We can’t wait to see you there! 🛍️✨ Stay tuned for more updates! #KākahiMarket #SaveTheDate #CountryVibes
URL:https://taumarunui.co.nz/event/kakahi-village-market/2026-05-16/
CATEGORIES:Event,Markets
ATTACH;FMTTYPE=image/jpeg:https://taumarunui.co.nz/wp-content/uploads/2024/12/IMG_8934.jpeg
END:VEVENT
BEGIN:VEVENT
DTSTART;TZID=Pacific/Auckland:20260520T100000
DTEND;TZID=Pacific/Auckland:20260520T140000
DTSTAMP:20260421T140601
CREATED:20240922T234817Z
LAST-MODIFIED:20241015T055838Z
UID:10001981-1779271200-1779285600@taumarunui.co.nz
SUMMARY:Taumarunui Whakaarotahi Trust Market (Manunui)
DESCRIPTION:Every Wednesday 10am-4pm and last Saturday of every month 10am-1pm
URL:https://taumarunui.co.nz/event/taumarunui-whakaarotahi-trust-market-manunui/2026-05-20/
CATEGORIES:Markets
ATTACH;FMTTYPE=image/jpeg:https://taumarunui.co.nz/wp-content/uploads/2024/09/IMG_8084-1.jpg
END:VEVENT
BEGIN:VEVENT
DTSTART;TZID=Pacific/Auckland:20260527T100000
DTEND;TZID=Pacific/Auckland:20260527T140000
DTSTAMP:20260421T140601
CREATED:20240922T234817Z
LAST-MODIFIED:20241015T055838Z
UID:10001982-1779876000-1779890400@taumarunui.co.nz
SUMMARY:Taumarunui Whakaarotahi Trust Market (Manunui)
DESCRIPTION:Every Wednesday 10am-4pm and last Saturday of every month 10am-1pm
URL:https://taumarunui.co.nz/event/taumarunui-whakaarotahi-trust-market-manunui/2026-05-27/
CATEGORIES:Markets
ATTACH;FMTTYPE=image/jpeg:https://taumarunui.co.nz/wp-content/uploads/2024/09/IMG_8084-1.jpg
END:VEVENT
BEGIN:VEVENT
DTSTART;TZID=Pacific/Auckland:20260530T100000
DTEND;TZID=Pacific/Auckland:20260530T130000
DTSTAMP:20260421T140601
CREATED:20240922T234951Z
LAST-MODIFIED:20241201T001637Z
UID:10002179-1780135200-1780146000@taumarunui.co.nz
SUMMARY:Taumarunui Whakaarotahi Trust Market (Manunui)
DESCRIPTION:Every Wednesday 10am-4pm and last Saturday of every month 10am-1pm (except December)
URL:https://taumarunui.co.nz/event/taumarunui-whakaarotahi-trust-market-manunui-2/2026-05-30/
CATEGORIES:Markets
ATTACH;FMTTYPE=image/jpeg:https://taumarunui.co.nz/wp-content/uploads/2024/09/IMG_8084-1.jpg
END:VEVENT
END:VCALENDAR