BEGIN:VCALENDAR
VERSION:2.0
PRODID:-//Taumarunui - ECPv6.15.16//NONSGML v1.0//EN
CALSCALE:GREGORIAN
METHOD:PUBLISH
X-ORIGINAL-URL:https://taumarunui.co.nz
X-WR-CALDESC:Events for Taumarunui
REFRESH-INTERVAL;VALUE=DURATION:PT1H
X-Robots-Tag:noindex
X-PUBLISHED-TTL:PT1H
BEGIN:VTIMEZONE
TZID:Pacific/Auckland
BEGIN:STANDARD
TZOFFSETFROM:+1300
TZOFFSETTO:+1200
TZNAME:NZST
DTSTART:20250405T140000
END:STANDARD
BEGIN:DAYLIGHT
TZOFFSETFROM:+1200
TZOFFSETTO:+1300
TZNAME:NZDT
DTSTART:20250927T140000
END:DAYLIGHT
BEGIN:STANDARD
TZOFFSETFROM:+1300
TZOFFSETTO:+1200
TZNAME:NZST
DTSTART:20260404T140000
END:STANDARD
BEGIN:DAYLIGHT
TZOFFSETFROM:+1200
TZOFFSETTO:+1300
TZNAME:NZDT
DTSTART:20260926T140000
END:DAYLIGHT
BEGIN:STANDARD
TZOFFSETFROM:+1300
TZOFFSETTO:+1200
TZNAME:NZST
DTSTART:20270403T140000
END:STANDARD
BEGIN:DAYLIGHT
TZOFFSETFROM:+1200
TZOFFSETTO:+1300
TZNAME:NZDT
DTSTART:20270925T140000
END:DAYLIGHT
END:VTIMEZONE
BEGIN:VEVENT
DTSTART;TZID=Pacific/Auckland:20260103T080000
DTEND;TZID=Pacific/Auckland:20260103T130000
DTSTAMP:20260422T144655
CREATED:20251031T172933Z
LAST-MODIFIED:20251031T172933Z
UID:10012473-1767427200-1767445200@taumarunui.co.nz
SUMMARY:TRACT market
DESCRIPTION:Second Saturday of the month in the Town Centre Arcade\, Taumarunui except for December when it’s the first Saturday to match up with the Christmas parade
URL:https://taumarunui.co.nz/event/tract-market-2-2-2/2026-01-03/
LOCATION:Town Centre Arcade\, 101 Hakiaha Street\, Taumarunui\, New Zealand
CATEGORIES:Markets
ATTACH;FMTTYPE=image/jpeg:https://taumarunui.co.nz/wp-content/uploads/2024/10/IMG_0397.jpeg
END:VEVENT
BEGIN:VEVENT
DTSTART;TZID=Pacific/Auckland:20260104T090000
DTEND;TZID=Pacific/Auckland:20260104T130000
DTSTAMP:20260422T144655
CREATED:20241015T070221Z
LAST-MODIFIED:20241015T070221Z
UID:10005127-1767517200-1767531600@taumarunui.co.nz
SUMMARY:Owhango Market
DESCRIPTION:Held at Owhango Hall on the first Sunday of each month (February-December)
URL:https://taumarunui.co.nz/event/owhango-market/2026-01-04/
LOCATION:Owhango Hall\, 2157 SH4\, Owhango\, New Zealand
CATEGORIES:Markets
END:VEVENT
BEGIN:VEVENT
DTSTART;TZID=Pacific/Auckland:20260107T100000
DTEND;TZID=Pacific/Auckland:20260107T140000
DTSTAMP:20260422T144655
CREATED:20240922T234817Z
LAST-MODIFIED:20241015T055838Z
UID:10001962-1767780000-1767794400@taumarunui.co.nz
SUMMARY:Taumarunui Whakaarotahi Trust Market (Manunui)
DESCRIPTION:Every Wednesday 10am-4pm and last Saturday of every month 10am-1pm
URL:https://taumarunui.co.nz/event/taumarunui-whakaarotahi-trust-market-manunui/2026-01-07/
CATEGORIES:Markets
ATTACH;FMTTYPE=image/jpeg:https://taumarunui.co.nz/wp-content/uploads/2024/09/IMG_8084-1.jpg
END:VEVENT
BEGIN:VEVENT
DTSTART;TZID=Pacific/Auckland:20260114T100000
DTEND;TZID=Pacific/Auckland:20260114T140000
DTSTAMP:20260422T144655
CREATED:20240922T234817Z
LAST-MODIFIED:20241015T055838Z
UID:10001963-1768384800-1768399200@taumarunui.co.nz
SUMMARY:Taumarunui Whakaarotahi Trust Market (Manunui)
DESCRIPTION:Every Wednesday 10am-4pm and last Saturday of every month 10am-1pm
URL:https://taumarunui.co.nz/event/taumarunui-whakaarotahi-trust-market-manunui/2026-01-14/
CATEGORIES:Markets
ATTACH;FMTTYPE=image/jpeg:https://taumarunui.co.nz/wp-content/uploads/2024/09/IMG_8084-1.jpg
END:VEVENT
BEGIN:VEVENT
DTSTART;TZID=Pacific/Auckland:20260117T090000
DTEND;TZID=Pacific/Auckland:20260117T140000
DTSTAMP:20260422T144655
CREATED:20241222T210914Z
LAST-MODIFIED:20241222T210914Z
UID:10009730-1768640400-1768658400@taumarunui.co.nz
SUMMARY:Kakahi Village Market
DESCRIPTION:🌟 We are super excited to announce the date for our very first Kākahi Market! 🎉 Mark your calendars for **15th February 2025**! \nGet ready for a day filled with amazing local vendors\, delicious food\, and vibrant community spirit. We’re looking to showcase startup businesses and side hustles\, along with live music and talented local artists! 🎶 \nPlus\, this will be the same day as the Kākahi Rodeo\, so our town will be bustling with a fantastic country vibe! 🤠 If anyone wants to book a stall\, please contact Fiona at **027 357 7255**. We can’t wait to see you there! 🛍️✨ Stay tuned for more updates! #KākahiMarket #SaveTheDate #CountryVibes
URL:https://taumarunui.co.nz/event/kakahi-village-market/2026-01-17/
CATEGORIES:Event,Markets
ATTACH;FMTTYPE=image/jpeg:https://taumarunui.co.nz/wp-content/uploads/2024/12/IMG_8934.jpeg
END:VEVENT
BEGIN:VEVENT
DTSTART;TZID=Pacific/Auckland:20260121T100000
DTEND;TZID=Pacific/Auckland:20260121T140000
DTSTAMP:20260422T144655
CREATED:20240922T234817Z
LAST-MODIFIED:20241015T055838Z
UID:10001964-1768989600-1769004000@taumarunui.co.nz
SUMMARY:Taumarunui Whakaarotahi Trust Market (Manunui)
DESCRIPTION:Every Wednesday 10am-4pm and last Saturday of every month 10am-1pm
URL:https://taumarunui.co.nz/event/taumarunui-whakaarotahi-trust-market-manunui/2026-01-21/
CATEGORIES:Markets
ATTACH;FMTTYPE=image/jpeg:https://taumarunui.co.nz/wp-content/uploads/2024/09/IMG_8084-1.jpg
END:VEVENT
BEGIN:VEVENT
DTSTART;TZID=Pacific/Auckland:20260128T100000
DTEND;TZID=Pacific/Auckland:20260128T140000
DTSTAMP:20260422T144655
CREATED:20240922T234817Z
LAST-MODIFIED:20241015T055838Z
UID:10001965-1769594400-1769608800@taumarunui.co.nz
SUMMARY:Taumarunui Whakaarotahi Trust Market (Manunui)
DESCRIPTION:Every Wednesday 10am-4pm and last Saturday of every month 10am-1pm
URL:https://taumarunui.co.nz/event/taumarunui-whakaarotahi-trust-market-manunui/2026-01-28/
CATEGORIES:Markets
ATTACH;FMTTYPE=image/jpeg:https://taumarunui.co.nz/wp-content/uploads/2024/09/IMG_8084-1.jpg
END:VEVENT
BEGIN:VEVENT
DTSTART;TZID=Pacific/Auckland:20260131T100000
DTEND;TZID=Pacific/Auckland:20260131T130000
DTSTAMP:20260422T144655
CREATED:20240922T234951Z
LAST-MODIFIED:20241201T001637Z
UID:10002175-1769853600-1769864400@taumarunui.co.nz
SUMMARY:Taumarunui Whakaarotahi Trust Market (Manunui)
DESCRIPTION:Every Wednesday 10am-4pm and last Saturday of every month 10am-1pm (except December)
URL:https://taumarunui.co.nz/event/taumarunui-whakaarotahi-trust-market-manunui-2/2026-01-31/
CATEGORIES:Markets
ATTACH;FMTTYPE=image/jpeg:https://taumarunui.co.nz/wp-content/uploads/2024/09/IMG_8084-1.jpg
END:VEVENT
END:VCALENDAR