BEGIN:VCALENDAR
VERSION:2.0
PRODID:-//Taumarunui - ECPv6.15.16//NONSGML v1.0//EN
CALSCALE:GREGORIAN
METHOD:PUBLISH
X-ORIGINAL-URL:https://taumarunui.co.nz
X-WR-CALDESC:Events for Taumarunui
REFRESH-INTERVAL;VALUE=DURATION:PT1H
X-Robots-Tag:noindex
X-PUBLISHED-TTL:PT1H
BEGIN:VTIMEZONE
TZID:Pacific/Auckland
BEGIN:STANDARD
TZOFFSETFROM:+1300
TZOFFSETTO:+1200
TZNAME:NZST
DTSTART:20280401T140000
END:STANDARD
BEGIN:DAYLIGHT
TZOFFSETFROM:+1200
TZOFFSETTO:+1300
TZNAME:NZDT
DTSTART:20280923T140000
END:DAYLIGHT
BEGIN:STANDARD
TZOFFSETFROM:+1300
TZOFFSETTO:+1200
TZNAME:NZST
DTSTART:20290331T140000
END:STANDARD
BEGIN:DAYLIGHT
TZOFFSETFROM:+1200
TZOFFSETTO:+1300
TZNAME:NZDT
DTSTART:20290929T140000
END:DAYLIGHT
BEGIN:STANDARD
TZOFFSETFROM:+1300
TZOFFSETTO:+1200
TZNAME:NZST
DTSTART:20300406T140000
END:STANDARD
BEGIN:DAYLIGHT
TZOFFSETFROM:+1200
TZOFFSETTO:+1300
TZNAME:NZDT
DTSTART:20300928T140000
END:DAYLIGHT
BEGIN:STANDARD
TZOFFSETFROM:+1300
TZOFFSETTO:+1200
TZNAME:NZST
DTSTART:20310405T140000
END:STANDARD
BEGIN:DAYLIGHT
TZOFFSETFROM:+1200
TZOFFSETTO:+1300
TZNAME:NZDT
DTSTART:20310927T140000
END:DAYLIGHT
END:VTIMEZONE
BEGIN:VEVENT
DTSTART;TZID=Pacific/Auckland:20291210T190000
DTEND;TZID=Pacific/Auckland:20291210T203000
DTSTAMP:20260422T090503
CREATED:20250109T072732Z
LAST-MODIFIED:20250109T072732Z
UID:10010294-1891623600-1891629000@taumarunui.co.nz
SUMMARY:Adult Jiu-Jitsu classes
DESCRIPTION:❓ Do you find regular exercise boring? Looking for something more exciting? ❓ \nOur Adult Jiu-Jitsu classes is the answer! It’s not just a workout – it’s a challenge\, a community\, and a fun way to get fit! \nIn our classes you’ll:\n💪 Build strength\, flexibility\, and endurance\n🌟 Boost your confidence and mental toughness\n🤼 Have fun while mastering a powerful skill\n🙌 Join a supportive\, motivating community \nNo experience needed! We will guide you every step of the way. Classes start next Monday. \n👊 Your first week is FREE! 👊\nDM us now to reserve your spot or learn more! \n#JiuJitsu #AdultJiuJitsu #Fitness #MartialArts #GetStronger #Confidence #FunWorkout
URL:https://taumarunui.co.nz/event/adult-jiu-jitsu-classes/2029-12-10/
CATEGORIES:Event
ATTACH;FMTTYPE=image/jpeg:https://taumarunui.co.nz/wp-content/uploads/2025/01/IMG_0457.jpeg
END:VEVENT
BEGIN:VEVENT
DTSTART;TZID=Pacific/Auckland:20291213T190000
DTEND;TZID=Pacific/Auckland:20291213T203000
DTSTAMP:20260422T090503
CREATED:20250109T072732Z
LAST-MODIFIED:20250109T072732Z
UID:10010295-1891882800-1891888200@taumarunui.co.nz
SUMMARY:Adult Jiu-Jitsu classes
DESCRIPTION:❓ Do you find regular exercise boring? Looking for something more exciting? ❓ \nOur Adult Jiu-Jitsu classes is the answer! It’s not just a workout – it’s a challenge\, a community\, and a fun way to get fit! \nIn our classes you’ll:\n💪 Build strength\, flexibility\, and endurance\n🌟 Boost your confidence and mental toughness\n🤼 Have fun while mastering a powerful skill\n🙌 Join a supportive\, motivating community \nNo experience needed! We will guide you every step of the way. Classes start next Monday. \n👊 Your first week is FREE! 👊\nDM us now to reserve your spot or learn more! \n#JiuJitsu #AdultJiuJitsu #Fitness #MartialArts #GetStronger #Confidence #FunWorkout
URL:https://taumarunui.co.nz/event/adult-jiu-jitsu-classes/2029-12-13/
CATEGORIES:Event
ATTACH;FMTTYPE=image/jpeg:https://taumarunui.co.nz/wp-content/uploads/2025/01/IMG_0457.jpeg
END:VEVENT
BEGIN:VEVENT
DTSTART;TZID=Pacific/Auckland:20291215T090000
DTEND;TZID=Pacific/Auckland:20291215T140000
DTSTAMP:20260422T090503
CREATED:20241222T210914Z
LAST-MODIFIED:20241222T210914Z
UID:10009777-1892019600-1892037600@taumarunui.co.nz
SUMMARY:Kakahi Village Market
DESCRIPTION:🌟 We are super excited to announce the date for our very first Kākahi Market! 🎉 Mark your calendars for **15th February 2025**! \nGet ready for a day filled with amazing local vendors\, delicious food\, and vibrant community spirit. We’re looking to showcase startup businesses and side hustles\, along with live music and talented local artists! 🎶 \nPlus\, this will be the same day as the Kākahi Rodeo\, so our town will be bustling with a fantastic country vibe! 🤠 If anyone wants to book a stall\, please contact Fiona at **027 357 7255**. We can’t wait to see you there! 🛍️✨ Stay tuned for more updates! #KākahiMarket #SaveTheDate #CountryVibes
URL:https://taumarunui.co.nz/event/kakahi-village-market/2029-12-15/
CATEGORIES:Event,Markets
ATTACH;FMTTYPE=image/jpeg:https://taumarunui.co.nz/wp-content/uploads/2024/12/IMG_8934.jpeg
END:VEVENT
BEGIN:VEVENT
DTSTART;TZID=Pacific/Auckland:20291217T190000
DTEND;TZID=Pacific/Auckland:20291217T203000
DTSTAMP:20260422T090503
CREATED:20250109T072732Z
LAST-MODIFIED:20250109T072732Z
UID:10010296-1892228400-1892233800@taumarunui.co.nz
SUMMARY:Adult Jiu-Jitsu classes
DESCRIPTION:❓ Do you find regular exercise boring? Looking for something more exciting? ❓ \nOur Adult Jiu-Jitsu classes is the answer! It’s not just a workout – it’s a challenge\, a community\, and a fun way to get fit! \nIn our classes you’ll:\n💪 Build strength\, flexibility\, and endurance\n🌟 Boost your confidence and mental toughness\n🤼 Have fun while mastering a powerful skill\n🙌 Join a supportive\, motivating community \nNo experience needed! We will guide you every step of the way. Classes start next Monday. \n👊 Your first week is FREE! 👊\nDM us now to reserve your spot or learn more! \n#JiuJitsu #AdultJiuJitsu #Fitness #MartialArts #GetStronger #Confidence #FunWorkout
URL:https://taumarunui.co.nz/event/adult-jiu-jitsu-classes/2029-12-17/
CATEGORIES:Event
ATTACH;FMTTYPE=image/jpeg:https://taumarunui.co.nz/wp-content/uploads/2025/01/IMG_0457.jpeg
END:VEVENT
BEGIN:VEVENT
DTSTART;TZID=Pacific/Auckland:20291220T190000
DTEND;TZID=Pacific/Auckland:20291220T203000
DTSTAMP:20260422T090503
CREATED:20250109T072732Z
LAST-MODIFIED:20250109T072732Z
UID:10010297-1892487600-1892493000@taumarunui.co.nz
SUMMARY:Adult Jiu-Jitsu classes
DESCRIPTION:❓ Do you find regular exercise boring? Looking for something more exciting? ❓ \nOur Adult Jiu-Jitsu classes is the answer! It’s not just a workout – it’s a challenge\, a community\, and a fun way to get fit! \nIn our classes you’ll:\n💪 Build strength\, flexibility\, and endurance\n🌟 Boost your confidence and mental toughness\n🤼 Have fun while mastering a powerful skill\n🙌 Join a supportive\, motivating community \nNo experience needed! We will guide you every step of the way. Classes start next Monday. \n👊 Your first week is FREE! 👊\nDM us now to reserve your spot or learn more! \n#JiuJitsu #AdultJiuJitsu #Fitness #MartialArts #GetStronger #Confidence #FunWorkout
URL:https://taumarunui.co.nz/event/adult-jiu-jitsu-classes/2029-12-20/
CATEGORIES:Event
ATTACH;FMTTYPE=image/jpeg:https://taumarunui.co.nz/wp-content/uploads/2025/01/IMG_0457.jpeg
END:VEVENT
BEGIN:VEVENT
DTSTART;TZID=Pacific/Auckland:20291224T190000
DTEND;TZID=Pacific/Auckland:20291224T203000
DTSTAMP:20260422T090503
CREATED:20250109T072732Z
LAST-MODIFIED:20250109T072732Z
UID:10010298-1892833200-1892838600@taumarunui.co.nz
SUMMARY:Adult Jiu-Jitsu classes
DESCRIPTION:❓ Do you find regular exercise boring? Looking for something more exciting? ❓ \nOur Adult Jiu-Jitsu classes is the answer! It’s not just a workout – it’s a challenge\, a community\, and a fun way to get fit! \nIn our classes you’ll:\n💪 Build strength\, flexibility\, and endurance\n🌟 Boost your confidence and mental toughness\n🤼 Have fun while mastering a powerful skill\n🙌 Join a supportive\, motivating community \nNo experience needed! We will guide you every step of the way. Classes start next Monday. \n👊 Your first week is FREE! 👊\nDM us now to reserve your spot or learn more! \n#JiuJitsu #AdultJiuJitsu #Fitness #MartialArts #GetStronger #Confidence #FunWorkout
URL:https://taumarunui.co.nz/event/adult-jiu-jitsu-classes/2029-12-24/
CATEGORIES:Event
ATTACH;FMTTYPE=image/jpeg:https://taumarunui.co.nz/wp-content/uploads/2025/01/IMG_0457.jpeg
END:VEVENT
BEGIN:VEVENT
DTSTART;TZID=Pacific/Auckland:20291227T190000
DTEND;TZID=Pacific/Auckland:20291227T203000
DTSTAMP:20260422T090503
CREATED:20250109T072732Z
LAST-MODIFIED:20250109T072732Z
UID:10010299-1893092400-1893097800@taumarunui.co.nz
SUMMARY:Adult Jiu-Jitsu classes
DESCRIPTION:❓ Do you find regular exercise boring? Looking for something more exciting? ❓ \nOur Adult Jiu-Jitsu classes is the answer! It’s not just a workout – it’s a challenge\, a community\, and a fun way to get fit! \nIn our classes you’ll:\n💪 Build strength\, flexibility\, and endurance\n🌟 Boost your confidence and mental toughness\n🤼 Have fun while mastering a powerful skill\n🙌 Join a supportive\, motivating community \nNo experience needed! We will guide you every step of the way. Classes start next Monday. \n👊 Your first week is FREE! 👊\nDM us now to reserve your spot or learn more! \n#JiuJitsu #AdultJiuJitsu #Fitness #MartialArts #GetStronger #Confidence #FunWorkout
URL:https://taumarunui.co.nz/event/adult-jiu-jitsu-classes/2029-12-27/
CATEGORIES:Event
ATTACH;FMTTYPE=image/jpeg:https://taumarunui.co.nz/wp-content/uploads/2025/01/IMG_0457.jpeg
END:VEVENT
BEGIN:VEVENT
DTSTART;TZID=Pacific/Auckland:20291231T190000
DTEND;TZID=Pacific/Auckland:20291231T203000
DTSTAMP:20260422T090503
CREATED:20250109T072732Z
LAST-MODIFIED:20250109T072732Z
UID:10010300-1893438000-1893443400@taumarunui.co.nz
SUMMARY:Adult Jiu-Jitsu classes
DESCRIPTION:❓ Do you find regular exercise boring? Looking for something more exciting? ❓ \nOur Adult Jiu-Jitsu classes is the answer! It’s not just a workout – it’s a challenge\, a community\, and a fun way to get fit! \nIn our classes you’ll:\n💪 Build strength\, flexibility\, and endurance\n🌟 Boost your confidence and mental toughness\n🤼 Have fun while mastering a powerful skill\n🙌 Join a supportive\, motivating community \nNo experience needed! We will guide you every step of the way. Classes start next Monday. \n👊 Your first week is FREE! 👊\nDM us now to reserve your spot or learn more! \n#JiuJitsu #AdultJiuJitsu #Fitness #MartialArts #GetStronger #Confidence #FunWorkout
URL:https://taumarunui.co.nz/event/adult-jiu-jitsu-classes/2029-12-31/
CATEGORIES:Event
ATTACH;FMTTYPE=image/jpeg:https://taumarunui.co.nz/wp-content/uploads/2025/01/IMG_0457.jpeg
END:VEVENT
BEGIN:VEVENT
DTSTART;TZID=Pacific/Auckland:20300103T190000
DTEND;TZID=Pacific/Auckland:20300103T203000
DTSTAMP:20260422T090503
CREATED:20250109T072732Z
LAST-MODIFIED:20250109T072732Z
UID:10010301-1893697200-1893702600@taumarunui.co.nz
SUMMARY:Adult Jiu-Jitsu classes
DESCRIPTION:❓ Do you find regular exercise boring? Looking for something more exciting? ❓ \nOur Adult Jiu-Jitsu classes is the answer! It’s not just a workout – it’s a challenge\, a community\, and a fun way to get fit! \nIn our classes you’ll:\n💪 Build strength\, flexibility\, and endurance\n🌟 Boost your confidence and mental toughness\n🤼 Have fun while mastering a powerful skill\n🙌 Join a supportive\, motivating community \nNo experience needed! We will guide you every step of the way. Classes start next Monday. \n👊 Your first week is FREE! 👊\nDM us now to reserve your spot or learn more! \n#JiuJitsu #AdultJiuJitsu #Fitness #MartialArts #GetStronger #Confidence #FunWorkout
URL:https://taumarunui.co.nz/event/adult-jiu-jitsu-classes/2030-01-03/
CATEGORIES:Event
ATTACH;FMTTYPE=image/jpeg:https://taumarunui.co.nz/wp-content/uploads/2025/01/IMG_0457.jpeg
END:VEVENT
BEGIN:VEVENT
DTSTART;TZID=Pacific/Auckland:20300107T190000
DTEND;TZID=Pacific/Auckland:20300107T203000
DTSTAMP:20260422T090503
CREATED:20250109T072732Z
LAST-MODIFIED:20250109T072732Z
UID:10010302-1894042800-1894048200@taumarunui.co.nz
SUMMARY:Adult Jiu-Jitsu classes
DESCRIPTION:❓ Do you find regular exercise boring? Looking for something more exciting? ❓ \nOur Adult Jiu-Jitsu classes is the answer! It’s not just a workout – it’s a challenge\, a community\, and a fun way to get fit! \nIn our classes you’ll:\n💪 Build strength\, flexibility\, and endurance\n🌟 Boost your confidence and mental toughness\n🤼 Have fun while mastering a powerful skill\n🙌 Join a supportive\, motivating community \nNo experience needed! We will guide you every step of the way. Classes start next Monday. \n👊 Your first week is FREE! 👊\nDM us now to reserve your spot or learn more! \n#JiuJitsu #AdultJiuJitsu #Fitness #MartialArts #GetStronger #Confidence #FunWorkout
URL:https://taumarunui.co.nz/event/adult-jiu-jitsu-classes/2030-01-07/
CATEGORIES:Event
ATTACH;FMTTYPE=image/jpeg:https://taumarunui.co.nz/wp-content/uploads/2025/01/IMG_0457.jpeg
END:VEVENT
END:VCALENDAR