BEGIN:VCALENDAR
VERSION:2.0
PRODID:-//Taumarunui - ECPv6.15.16//NONSGML v1.0//EN
CALSCALE:GREGORIAN
METHOD:PUBLISH
X-ORIGINAL-URL:https://taumarunui.co.nz
X-WR-CALDESC:Events for Taumarunui
REFRESH-INTERVAL;VALUE=DURATION:PT1H
X-Robots-Tag:noindex
X-PUBLISHED-TTL:PT1H
BEGIN:VTIMEZONE
TZID:Pacific/Auckland
BEGIN:STANDARD
TZOFFSETFROM:+1300
TZOFFSETTO:+1200
TZNAME:NZST
DTSTART:20240406T140000
END:STANDARD
BEGIN:DAYLIGHT
TZOFFSETFROM:+1200
TZOFFSETTO:+1300
TZNAME:NZDT
DTSTART:20240928T140000
END:DAYLIGHT
BEGIN:STANDARD
TZOFFSETFROM:+1300
TZOFFSETTO:+1200
TZNAME:NZST
DTSTART:20250405T140000
END:STANDARD
BEGIN:DAYLIGHT
TZOFFSETFROM:+1200
TZOFFSETTO:+1300
TZNAME:NZDT
DTSTART:20250927T140000
END:DAYLIGHT
BEGIN:STANDARD
TZOFFSETFROM:+1300
TZOFFSETTO:+1200
TZNAME:NZST
DTSTART:20260404T140000
END:STANDARD
BEGIN:DAYLIGHT
TZOFFSETFROM:+1200
TZOFFSETTO:+1300
TZNAME:NZDT
DTSTART:20260926T140000
END:DAYLIGHT
END:VTIMEZONE
BEGIN:VEVENT
DTSTART;TZID=Pacific/Auckland:20251205T200000
DTEND;TZID=Pacific/Auckland:20251205T220000
DTSTAMP:20260421T095946
CREATED:20250926T005747Z
LAST-MODIFIED:20251125T233043Z
UID:10012440-1764964800-1764972000@taumarunui.co.nz
SUMMARY:Sound Cartel at Cossie Club
DESCRIPTION:🎶 Sound Cartel is back! 🎶\n📆 Friday 5 December 📆\n\nThinking about your Christmas party? 🎄 Why not celebrate with us on the night — it’s the perfect chance to enjoy great music\, food\, and fun! \nTalk to us now about booking your Christmas function at the club. \nOur restaurant will be open\, the courtesy van will be running\, and our staff and committee are ready to welcome you for a fantastic night out. \nNo cover charge — just great live music and good company.\nCome join us for an awesome night!\nSound Cartel
URL:https://taumarunui.co.nz/event/sound-cartel-at-cossie-club/
CATEGORIES:Event
ATTACH;FMTTYPE=image/jpeg:https://taumarunui.co.nz/wp-content/uploads/2025/09/IMG_2467.jpeg
END:VEVENT
END:VCALENDAR