BEGIN:VCALENDAR
VERSION:2.0
PRODID:-//Taumarunui - ECPv6.15.20//NONSGML v1.0//EN
CALSCALE:GREGORIAN
METHOD:PUBLISH
X-ORIGINAL-URL:https://taumarunui.co.nz
X-WR-CALDESC:Events for Taumarunui
REFRESH-INTERVAL;VALUE=DURATION:PT1H
X-Robots-Tag:noindex
X-PUBLISHED-TTL:PT1H
BEGIN:VTIMEZONE
TZID:Pacific/Auckland
BEGIN:STANDARD
TZOFFSETFROM:+1300
TZOFFSETTO:+1200
TZNAME:NZST
DTSTART:20240406T140000
END:STANDARD
BEGIN:DAYLIGHT
TZOFFSETFROM:+1200
TZOFFSETTO:+1300
TZNAME:NZDT
DTSTART:20240928T140000
END:DAYLIGHT
BEGIN:STANDARD
TZOFFSETFROM:+1300
TZOFFSETTO:+1200
TZNAME:NZST
DTSTART:20250405T140000
END:STANDARD
BEGIN:DAYLIGHT
TZOFFSETFROM:+1200
TZOFFSETTO:+1300
TZNAME:NZDT
DTSTART:20250927T140000
END:DAYLIGHT
BEGIN:STANDARD
TZOFFSETFROM:+1300
TZOFFSETTO:+1200
TZNAME:NZST
DTSTART:20260404T140000
END:STANDARD
BEGIN:DAYLIGHT
TZOFFSETFROM:+1200
TZOFFSETTO:+1300
TZNAME:NZDT
DTSTART:20260926T140000
END:DAYLIGHT
END:VTIMEZONE
BEGIN:VEVENT
DTSTART;TZID=Pacific/Auckland:20250204T153000
DTEND;TZID=Pacific/Auckland:20250204T163000
DTSTAMP:20260426T044250
CREATED:20250204T002604Z
LAST-MODIFIED:20250204T002604Z
UID:10011058-1738683000-1738686600@taumarunui.co.nz
SUMMARY:Kids Jiu-Jitsu
DESCRIPTION:🤼 Kids Jiu-Jitsu 🤼 \nOur Kids Jiu-Jitsu Classes for ages 7+ start February 4th\, and spaces are limited! \n✅ Build Strength & Flexibility\n✅ Learn Self-Defense\n✅ Boost Confidence & Discipline\n✅ Have Fun and Make New Friends! \n📅 Classes begin February 4th – don’t wait\, spots are filling up fast! \n📲 Contact us to reserve your child’s place today!
URL:https://taumarunui.co.nz/event/kids-jiu-jitsu/2025-02-04/
CATEGORIES:Children,Classes
ATTACH;FMTTYPE=image/jpeg:https://taumarunui.co.nz/wp-content/uploads/2025/02/IMG_9329.jpeg
END:VEVENT
BEGIN:VEVENT
DTSTART;VALUE=DATE:20250206
DTEND;VALUE=DATE:20250207
DTSTAMP:20260426T044250
CREATED:20241015T045524Z
LAST-MODIFIED:20241015T061800Z
UID:10003025-1738800000-1738886399@taumarunui.co.nz
SUMMARY:Swimming lessons for Parents and Babies/Toddlers
DESCRIPTION:Great activity for parents and their little ones
URL:https://taumarunui.co.nz/event/swimming-lessons-for-parents-and-babies-toddlers/2025-02-06/
LOCATION:Trust Waikato Pool Taumarunui\, Golf Road\, Taumarunui\, New Zealand
CATEGORIES:Children,Classes,Sport
ATTACH;FMTTYPE=image/jpeg:https://taumarunui.co.nz/wp-content/uploads/2024/09/IMG_8008.jpg
END:VEVENT
BEGIN:VEVENT
DTSTART;TZID=Pacific/Auckland:20250206T153000
DTEND;TZID=Pacific/Auckland:20250206T163000
DTSTAMP:20260426T044250
CREATED:20250204T002604Z
LAST-MODIFIED:20250204T002604Z
UID:10011059-1738855800-1738859400@taumarunui.co.nz
SUMMARY:Kids Jiu-Jitsu
DESCRIPTION:🤼 Kids Jiu-Jitsu 🤼 \nOur Kids Jiu-Jitsu Classes for ages 7+ start February 4th\, and spaces are limited! \n✅ Build Strength & Flexibility\n✅ Learn Self-Defense\n✅ Boost Confidence & Discipline\n✅ Have Fun and Make New Friends! \n📅 Classes begin February 4th – don’t wait\, spots are filling up fast! \n📲 Contact us to reserve your child’s place today!
URL:https://taumarunui.co.nz/event/kids-jiu-jitsu/2025-02-06/
CATEGORIES:Children,Classes
ATTACH;FMTTYPE=image/jpeg:https://taumarunui.co.nz/wp-content/uploads/2025/02/IMG_9329.jpeg
END:VEVENT
BEGIN:VEVENT
DTSTART;TZID=Pacific/Auckland:20250208T100000
DTEND;TZID=Pacific/Auckland:20250208T150000
DTSTAMP:20260426T044250
CREATED:20241015T050012Z
LAST-MODIFIED:20241015T050012Z
UID:10003087-1739008800-1739026800@taumarunui.co.nz
SUMMARY:Foundational Wananga
DESCRIPTION:Traditional Maori Healing classes
URL:https://taumarunui.co.nz/event/foundational-wananga/2025-02-08/
LOCATION:Taumarunui\, Taumarunui\, New Zealand
CATEGORIES:Classes
ATTACH;FMTTYPE=image/jpeg:https://taumarunui.co.nz/wp-content/uploads/2024/09/IMG_8010.jpg
GEO:-38.8832802;175.2563657
END:VEVENT
BEGIN:VEVENT
DTSTART;TZID=Pacific/Auckland:20250211T153000
DTEND;TZID=Pacific/Auckland:20250211T163000
DTSTAMP:20260426T044250
CREATED:20250204T002604Z
LAST-MODIFIED:20250204T002604Z
UID:10011060-1739287800-1739291400@taumarunui.co.nz
SUMMARY:Kids Jiu-Jitsu
DESCRIPTION:🤼 Kids Jiu-Jitsu 🤼 \nOur Kids Jiu-Jitsu Classes for ages 7+ start February 4th\, and spaces are limited! \n✅ Build Strength & Flexibility\n✅ Learn Self-Defense\n✅ Boost Confidence & Discipline\n✅ Have Fun and Make New Friends! \n📅 Classes begin February 4th – don’t wait\, spots are filling up fast! \n📲 Contact us to reserve your child’s place today!
URL:https://taumarunui.co.nz/event/kids-jiu-jitsu/2025-02-11/
CATEGORIES:Children,Classes
ATTACH;FMTTYPE=image/jpeg:https://taumarunui.co.nz/wp-content/uploads/2025/02/IMG_9329.jpeg
END:VEVENT
BEGIN:VEVENT
DTSTART;VALUE=DATE:20250213
DTEND;VALUE=DATE:20250214
DTSTAMP:20260426T044250
CREATED:20241015T045524Z
LAST-MODIFIED:20241015T061800Z
UID:10003026-1739404800-1739491199@taumarunui.co.nz
SUMMARY:Swimming lessons for Parents and Babies/Toddlers
DESCRIPTION:Great activity for parents and their little ones
URL:https://taumarunui.co.nz/event/swimming-lessons-for-parents-and-babies-toddlers/2025-02-13/
LOCATION:Trust Waikato Pool Taumarunui\, Golf Road\, Taumarunui\, New Zealand
CATEGORIES:Children,Classes,Sport
ATTACH;FMTTYPE=image/jpeg:https://taumarunui.co.nz/wp-content/uploads/2024/09/IMG_8008.jpg
END:VEVENT
BEGIN:VEVENT
DTSTART;TZID=Pacific/Auckland:20250213T153000
DTEND;TZID=Pacific/Auckland:20250213T163000
DTSTAMP:20260426T044250
CREATED:20250204T002604Z
LAST-MODIFIED:20250204T002604Z
UID:10011061-1739460600-1739464200@taumarunui.co.nz
SUMMARY:Kids Jiu-Jitsu
DESCRIPTION:🤼 Kids Jiu-Jitsu 🤼 \nOur Kids Jiu-Jitsu Classes for ages 7+ start February 4th\, and spaces are limited! \n✅ Build Strength & Flexibility\n✅ Learn Self-Defense\n✅ Boost Confidence & Discipline\n✅ Have Fun and Make New Friends! \n📅 Classes begin February 4th – don’t wait\, spots are filling up fast! \n📲 Contact us to reserve your child’s place today!
URL:https://taumarunui.co.nz/event/kids-jiu-jitsu/2025-02-13/
CATEGORIES:Children,Classes
ATTACH;FMTTYPE=image/jpeg:https://taumarunui.co.nz/wp-content/uploads/2025/02/IMG_9329.jpeg
END:VEVENT
BEGIN:VEVENT
DTSTART;TZID=Pacific/Auckland:20250215T100000
DTEND;TZID=Pacific/Auckland:20250215T150000
DTSTAMP:20260426T044250
CREATED:20241015T050012Z
LAST-MODIFIED:20241015T050012Z
UID:10003088-1739613600-1739631600@taumarunui.co.nz
SUMMARY:Foundational Wananga
DESCRIPTION:Traditional Maori Healing classes
URL:https://taumarunui.co.nz/event/foundational-wananga/2025-02-15/
LOCATION:Taumarunui\, Taumarunui\, New Zealand
CATEGORIES:Classes
ATTACH;FMTTYPE=image/jpeg:https://taumarunui.co.nz/wp-content/uploads/2024/09/IMG_8010.jpg
GEO:-38.8832802;175.2563657
END:VEVENT
BEGIN:VEVENT
DTSTART;TZID=Pacific/Auckland:20250218T153000
DTEND;TZID=Pacific/Auckland:20250218T163000
DTSTAMP:20260426T044250
CREATED:20250204T002604Z
LAST-MODIFIED:20250204T002604Z
UID:10011062-1739892600-1739896200@taumarunui.co.nz
SUMMARY:Kids Jiu-Jitsu
DESCRIPTION:🤼 Kids Jiu-Jitsu 🤼 \nOur Kids Jiu-Jitsu Classes for ages 7+ start February 4th\, and spaces are limited! \n✅ Build Strength & Flexibility\n✅ Learn Self-Defense\n✅ Boost Confidence & Discipline\n✅ Have Fun and Make New Friends! \n📅 Classes begin February 4th – don’t wait\, spots are filling up fast! \n📲 Contact us to reserve your child’s place today!
URL:https://taumarunui.co.nz/event/kids-jiu-jitsu/2025-02-18/
CATEGORIES:Children,Classes
ATTACH;FMTTYPE=image/jpeg:https://taumarunui.co.nz/wp-content/uploads/2025/02/IMG_9329.jpeg
END:VEVENT
BEGIN:VEVENT
DTSTART;VALUE=DATE:20250220
DTEND;VALUE=DATE:20250221
DTSTAMP:20260426T044250
CREATED:20241015T045524Z
LAST-MODIFIED:20241015T061800Z
UID:10003027-1740009600-1740095999@taumarunui.co.nz
SUMMARY:Swimming lessons for Parents and Babies/Toddlers
DESCRIPTION:Great activity for parents and their little ones
URL:https://taumarunui.co.nz/event/swimming-lessons-for-parents-and-babies-toddlers/2025-02-20/
LOCATION:Trust Waikato Pool Taumarunui\, Golf Road\, Taumarunui\, New Zealand
CATEGORIES:Children,Classes,Sport
ATTACH;FMTTYPE=image/jpeg:https://taumarunui.co.nz/wp-content/uploads/2024/09/IMG_8008.jpg
END:VEVENT
BEGIN:VEVENT
DTSTART;TZID=Pacific/Auckland:20250220T153000
DTEND;TZID=Pacific/Auckland:20250220T163000
DTSTAMP:20260426T044250
CREATED:20250204T002604Z
LAST-MODIFIED:20250204T002604Z
UID:10011063-1740065400-1740069000@taumarunui.co.nz
SUMMARY:Kids Jiu-Jitsu
DESCRIPTION:🤼 Kids Jiu-Jitsu 🤼 \nOur Kids Jiu-Jitsu Classes for ages 7+ start February 4th\, and spaces are limited! \n✅ Build Strength & Flexibility\n✅ Learn Self-Defense\n✅ Boost Confidence & Discipline\n✅ Have Fun and Make New Friends! \n📅 Classes begin February 4th – don’t wait\, spots are filling up fast! \n📲 Contact us to reserve your child’s place today!
URL:https://taumarunui.co.nz/event/kids-jiu-jitsu/2025-02-20/
CATEGORIES:Children,Classes
ATTACH;FMTTYPE=image/jpeg:https://taumarunui.co.nz/wp-content/uploads/2025/02/IMG_9329.jpeg
END:VEVENT
BEGIN:VEVENT
DTSTART;TZID=Pacific/Auckland:20250222T100000
DTEND;TZID=Pacific/Auckland:20250222T150000
DTSTAMP:20260426T044250
CREATED:20241015T050012Z
LAST-MODIFIED:20241015T050012Z
UID:10003089-1740218400-1740236400@taumarunui.co.nz
SUMMARY:Foundational Wananga
DESCRIPTION:Traditional Maori Healing classes
URL:https://taumarunui.co.nz/event/foundational-wananga/2025-02-22/
LOCATION:Taumarunui\, Taumarunui\, New Zealand
CATEGORIES:Classes
ATTACH;FMTTYPE=image/jpeg:https://taumarunui.co.nz/wp-content/uploads/2024/09/IMG_8010.jpg
GEO:-38.8832802;175.2563657
END:VEVENT
BEGIN:VEVENT
DTSTART;TZID=Pacific/Auckland:20250225T153000
DTEND;TZID=Pacific/Auckland:20250225T163000
DTSTAMP:20260426T044250
CREATED:20250204T002604Z
LAST-MODIFIED:20250204T002604Z
UID:10011064-1740497400-1740501000@taumarunui.co.nz
SUMMARY:Kids Jiu-Jitsu
DESCRIPTION:🤼 Kids Jiu-Jitsu 🤼 \nOur Kids Jiu-Jitsu Classes for ages 7+ start February 4th\, and spaces are limited! \n✅ Build Strength & Flexibility\n✅ Learn Self-Defense\n✅ Boost Confidence & Discipline\n✅ Have Fun and Make New Friends! \n📅 Classes begin February 4th – don’t wait\, spots are filling up fast! \n📲 Contact us to reserve your child’s place today!
URL:https://taumarunui.co.nz/event/kids-jiu-jitsu/2025-02-25/
CATEGORIES:Children,Classes
ATTACH;FMTTYPE=image/jpeg:https://taumarunui.co.nz/wp-content/uploads/2025/02/IMG_9329.jpeg
END:VEVENT
BEGIN:VEVENT
DTSTART;VALUE=DATE:20250227
DTEND;VALUE=DATE:20250228
DTSTAMP:20260426T044250
CREATED:20241015T045524Z
LAST-MODIFIED:20241015T061800Z
UID:10003028-1740614400-1740700799@taumarunui.co.nz
SUMMARY:Swimming lessons for Parents and Babies/Toddlers
DESCRIPTION:Great activity for parents and their little ones
URL:https://taumarunui.co.nz/event/swimming-lessons-for-parents-and-babies-toddlers/2025-02-27/
LOCATION:Trust Waikato Pool Taumarunui\, Golf Road\, Taumarunui\, New Zealand
CATEGORIES:Children,Classes,Sport
ATTACH;FMTTYPE=image/jpeg:https://taumarunui.co.nz/wp-content/uploads/2024/09/IMG_8008.jpg
END:VEVENT
BEGIN:VEVENT
DTSTART;TZID=Pacific/Auckland:20250227T153000
DTEND;TZID=Pacific/Auckland:20250227T163000
DTSTAMP:20260426T044250
CREATED:20250204T002604Z
LAST-MODIFIED:20250204T002604Z
UID:10011065-1740670200-1740673800@taumarunui.co.nz
SUMMARY:Kids Jiu-Jitsu
DESCRIPTION:🤼 Kids Jiu-Jitsu 🤼 \nOur Kids Jiu-Jitsu Classes for ages 7+ start February 4th\, and spaces are limited! \n✅ Build Strength & Flexibility\n✅ Learn Self-Defense\n✅ Boost Confidence & Discipline\n✅ Have Fun and Make New Friends! \n📅 Classes begin February 4th – don’t wait\, spots are filling up fast! \n📲 Contact us to reserve your child’s place today!
URL:https://taumarunui.co.nz/event/kids-jiu-jitsu/2025-02-27/
CATEGORIES:Children,Classes
ATTACH;FMTTYPE=image/jpeg:https://taumarunui.co.nz/wp-content/uploads/2025/02/IMG_9329.jpeg
END:VEVENT
BEGIN:VEVENT
DTSTART;TZID=Pacific/Auckland:20250301T100000
DTEND;TZID=Pacific/Auckland:20250301T150000
DTSTAMP:20260426T044250
CREATED:20241015T050012Z
LAST-MODIFIED:20241015T050012Z
UID:10003090-1740823200-1740841200@taumarunui.co.nz
SUMMARY:Foundational Wananga
DESCRIPTION:Traditional Maori Healing classes
URL:https://taumarunui.co.nz/event/foundational-wananga/2025-03-01/
LOCATION:Taumarunui\, Taumarunui\, New Zealand
CATEGORIES:Classes
ATTACH;FMTTYPE=image/jpeg:https://taumarunui.co.nz/wp-content/uploads/2024/09/IMG_8010.jpg
GEO:-38.8832802;175.2563657
END:VEVENT
BEGIN:VEVENT
DTSTART;TZID=Pacific/Auckland:20250304T153000
DTEND;TZID=Pacific/Auckland:20250304T163000
DTSTAMP:20260426T044250
CREATED:20250204T002604Z
LAST-MODIFIED:20250204T002604Z
UID:10011066-1741102200-1741105800@taumarunui.co.nz
SUMMARY:Kids Jiu-Jitsu
DESCRIPTION:🤼 Kids Jiu-Jitsu 🤼 \nOur Kids Jiu-Jitsu Classes for ages 7+ start February 4th\, and spaces are limited! \n✅ Build Strength & Flexibility\n✅ Learn Self-Defense\n✅ Boost Confidence & Discipline\n✅ Have Fun and Make New Friends! \n📅 Classes begin February 4th – don’t wait\, spots are filling up fast! \n📲 Contact us to reserve your child’s place today!
URL:https://taumarunui.co.nz/event/kids-jiu-jitsu/2025-03-04/
CATEGORIES:Children,Classes
ATTACH;FMTTYPE=image/jpeg:https://taumarunui.co.nz/wp-content/uploads/2025/02/IMG_9329.jpeg
END:VEVENT
BEGIN:VEVENT
DTSTART;VALUE=DATE:20250306
DTEND;VALUE=DATE:20250307
DTSTAMP:20260426T044250
CREATED:20241015T045524Z
LAST-MODIFIED:20241015T061800Z
UID:10003029-1741219200-1741305599@taumarunui.co.nz
SUMMARY:Swimming lessons for Parents and Babies/Toddlers
DESCRIPTION:Great activity for parents and their little ones
URL:https://taumarunui.co.nz/event/swimming-lessons-for-parents-and-babies-toddlers/2025-03-06/
LOCATION:Trust Waikato Pool Taumarunui\, Golf Road\, Taumarunui\, New Zealand
CATEGORIES:Children,Classes,Sport
ATTACH;FMTTYPE=image/jpeg:https://taumarunui.co.nz/wp-content/uploads/2024/09/IMG_8008.jpg
END:VEVENT
BEGIN:VEVENT
DTSTART;TZID=Pacific/Auckland:20250306T153000
DTEND;TZID=Pacific/Auckland:20250306T163000
DTSTAMP:20260426T044250
CREATED:20250204T002604Z
LAST-MODIFIED:20250204T002604Z
UID:10011067-1741275000-1741278600@taumarunui.co.nz
SUMMARY:Kids Jiu-Jitsu
DESCRIPTION:🤼 Kids Jiu-Jitsu 🤼 \nOur Kids Jiu-Jitsu Classes for ages 7+ start February 4th\, and spaces are limited! \n✅ Build Strength & Flexibility\n✅ Learn Self-Defense\n✅ Boost Confidence & Discipline\n✅ Have Fun and Make New Friends! \n📅 Classes begin February 4th – don’t wait\, spots are filling up fast! \n📲 Contact us to reserve your child’s place today!
URL:https://taumarunui.co.nz/event/kids-jiu-jitsu/2025-03-06/
CATEGORIES:Children,Classes
ATTACH;FMTTYPE=image/jpeg:https://taumarunui.co.nz/wp-content/uploads/2025/02/IMG_9329.jpeg
END:VEVENT
BEGIN:VEVENT
DTSTART;TZID=Pacific/Auckland:20250308T100000
DTEND;TZID=Pacific/Auckland:20250308T150000
DTSTAMP:20260426T044250
CREATED:20241015T050012Z
LAST-MODIFIED:20241015T050012Z
UID:10003091-1741428000-1741446000@taumarunui.co.nz
SUMMARY:Foundational Wananga
DESCRIPTION:Traditional Maori Healing classes
URL:https://taumarunui.co.nz/event/foundational-wananga/2025-03-08/
LOCATION:Taumarunui\, Taumarunui\, New Zealand
CATEGORIES:Classes
ATTACH;FMTTYPE=image/jpeg:https://taumarunui.co.nz/wp-content/uploads/2024/09/IMG_8010.jpg
GEO:-38.8832802;175.2563657
END:VEVENT
BEGIN:VEVENT
DTSTART;TZID=Pacific/Auckland:20250311T153000
DTEND;TZID=Pacific/Auckland:20250311T163000
DTSTAMP:20260426T044250
CREATED:20250204T002604Z
LAST-MODIFIED:20250204T002604Z
UID:10011068-1741707000-1741710600@taumarunui.co.nz
SUMMARY:Kids Jiu-Jitsu
DESCRIPTION:🤼 Kids Jiu-Jitsu 🤼 \nOur Kids Jiu-Jitsu Classes for ages 7+ start February 4th\, and spaces are limited! \n✅ Build Strength & Flexibility\n✅ Learn Self-Defense\n✅ Boost Confidence & Discipline\n✅ Have Fun and Make New Friends! \n📅 Classes begin February 4th – don’t wait\, spots are filling up fast! \n📲 Contact us to reserve your child’s place today!
URL:https://taumarunui.co.nz/event/kids-jiu-jitsu/2025-03-11/
CATEGORIES:Children,Classes
ATTACH;FMTTYPE=image/jpeg:https://taumarunui.co.nz/wp-content/uploads/2025/02/IMG_9329.jpeg
END:VEVENT
BEGIN:VEVENT
DTSTART;VALUE=DATE:20250313
DTEND;VALUE=DATE:20250314
DTSTAMP:20260426T044250
CREATED:20241015T045524Z
LAST-MODIFIED:20241015T061800Z
UID:10003030-1741824000-1741910399@taumarunui.co.nz
SUMMARY:Swimming lessons for Parents and Babies/Toddlers
DESCRIPTION:Great activity for parents and their little ones
URL:https://taumarunui.co.nz/event/swimming-lessons-for-parents-and-babies-toddlers/2025-03-13/
LOCATION:Trust Waikato Pool Taumarunui\, Golf Road\, Taumarunui\, New Zealand
CATEGORIES:Children,Classes,Sport
ATTACH;FMTTYPE=image/jpeg:https://taumarunui.co.nz/wp-content/uploads/2024/09/IMG_8008.jpg
END:VEVENT
BEGIN:VEVENT
DTSTART;TZID=Pacific/Auckland:20250313T153000
DTEND;TZID=Pacific/Auckland:20250313T163000
DTSTAMP:20260426T044250
CREATED:20250204T002604Z
LAST-MODIFIED:20250204T002604Z
UID:10011069-1741879800-1741883400@taumarunui.co.nz
SUMMARY:Kids Jiu-Jitsu
DESCRIPTION:🤼 Kids Jiu-Jitsu 🤼 \nOur Kids Jiu-Jitsu Classes for ages 7+ start February 4th\, and spaces are limited! \n✅ Build Strength & Flexibility\n✅ Learn Self-Defense\n✅ Boost Confidence & Discipline\n✅ Have Fun and Make New Friends! \n📅 Classes begin February 4th – don’t wait\, spots are filling up fast! \n📲 Contact us to reserve your child’s place today!
URL:https://taumarunui.co.nz/event/kids-jiu-jitsu/2025-03-13/
CATEGORIES:Children,Classes
ATTACH;FMTTYPE=image/jpeg:https://taumarunui.co.nz/wp-content/uploads/2025/02/IMG_9329.jpeg
END:VEVENT
BEGIN:VEVENT
DTSTART;TZID=Pacific/Auckland:20250315T093000
DTEND;TZID=Pacific/Auckland:20250315T153000
DTSTAMP:20260426T044250
CREATED:20250301T043901Z
LAST-MODIFIED:20250301T043901Z
UID:10011962-1742031000-1742052600@taumarunui.co.nz
SUMMARY:Introduction to Mixed Media - Art Workshop
DESCRIPTION:On again due to popular demand
URL:https://taumarunui.co.nz/event/introduction-to-mixed-media-art-workshop-2/
LOCATION:Taumarunui Arts Centre\, Hakiaha Street\, Taumarunui\, New Zealand
CATEGORIES:Classes,Event
ATTACH;FMTTYPE=image/jpeg:https://taumarunui.co.nz/wp-content/uploads/2025/03/IMG_9645.jpeg
END:VEVENT
BEGIN:VEVENT
DTSTART;TZID=Pacific/Auckland:20250315T100000
DTEND;TZID=Pacific/Auckland:20250315T150000
DTSTAMP:20260426T044250
CREATED:20241015T050012Z
LAST-MODIFIED:20241015T050012Z
UID:10003092-1742032800-1742050800@taumarunui.co.nz
SUMMARY:Foundational Wananga
DESCRIPTION:Traditional Maori Healing classes
URL:https://taumarunui.co.nz/event/foundational-wananga/2025-03-15/
LOCATION:Taumarunui\, Taumarunui\, New Zealand
CATEGORIES:Classes
ATTACH;FMTTYPE=image/jpeg:https://taumarunui.co.nz/wp-content/uploads/2024/09/IMG_8010.jpg
GEO:-38.8832802;175.2563657
END:VEVENT
BEGIN:VEVENT
DTSTART;TZID=Pacific/Auckland:20250318T153000
DTEND;TZID=Pacific/Auckland:20250318T163000
DTSTAMP:20260426T044250
CREATED:20250204T002604Z
LAST-MODIFIED:20250204T002604Z
UID:10011070-1742311800-1742315400@taumarunui.co.nz
SUMMARY:Kids Jiu-Jitsu
DESCRIPTION:🤼 Kids Jiu-Jitsu 🤼 \nOur Kids Jiu-Jitsu Classes for ages 7+ start February 4th\, and spaces are limited! \n✅ Build Strength & Flexibility\n✅ Learn Self-Defense\n✅ Boost Confidence & Discipline\n✅ Have Fun and Make New Friends! \n📅 Classes begin February 4th – don’t wait\, spots are filling up fast! \n📲 Contact us to reserve your child’s place today!
URL:https://taumarunui.co.nz/event/kids-jiu-jitsu/2025-03-18/
CATEGORIES:Children,Classes
ATTACH;FMTTYPE=image/jpeg:https://taumarunui.co.nz/wp-content/uploads/2025/02/IMG_9329.jpeg
END:VEVENT
BEGIN:VEVENT
DTSTART;VALUE=DATE:20250320
DTEND;VALUE=DATE:20250321
DTSTAMP:20260426T044250
CREATED:20241015T045524Z
LAST-MODIFIED:20241015T061800Z
UID:10003031-1742428800-1742515199@taumarunui.co.nz
SUMMARY:Swimming lessons for Parents and Babies/Toddlers
DESCRIPTION:Great activity for parents and their little ones
URL:https://taumarunui.co.nz/event/swimming-lessons-for-parents-and-babies-toddlers/2025-03-20/
LOCATION:Trust Waikato Pool Taumarunui\, Golf Road\, Taumarunui\, New Zealand
CATEGORIES:Children,Classes,Sport
ATTACH;FMTTYPE=image/jpeg:https://taumarunui.co.nz/wp-content/uploads/2024/09/IMG_8008.jpg
END:VEVENT
BEGIN:VEVENT
DTSTART;TZID=Pacific/Auckland:20250320T153000
DTEND;TZID=Pacific/Auckland:20250320T163000
DTSTAMP:20260426T044250
CREATED:20250204T002604Z
LAST-MODIFIED:20250204T002604Z
UID:10011071-1742484600-1742488200@taumarunui.co.nz
SUMMARY:Kids Jiu-Jitsu
DESCRIPTION:🤼 Kids Jiu-Jitsu 🤼 \nOur Kids Jiu-Jitsu Classes for ages 7+ start February 4th\, and spaces are limited! \n✅ Build Strength & Flexibility\n✅ Learn Self-Defense\n✅ Boost Confidence & Discipline\n✅ Have Fun and Make New Friends! \n📅 Classes begin February 4th – don’t wait\, spots are filling up fast! \n📲 Contact us to reserve your child’s place today!
URL:https://taumarunui.co.nz/event/kids-jiu-jitsu/2025-03-20/
CATEGORIES:Children,Classes
ATTACH;FMTTYPE=image/jpeg:https://taumarunui.co.nz/wp-content/uploads/2025/02/IMG_9329.jpeg
END:VEVENT
BEGIN:VEVENT
DTSTART;TZID=Pacific/Auckland:20250322T100000
DTEND;TZID=Pacific/Auckland:20250322T150000
DTSTAMP:20260426T044250
CREATED:20241015T050012Z
LAST-MODIFIED:20241015T050012Z
UID:10003093-1742637600-1742655600@taumarunui.co.nz
SUMMARY:Foundational Wananga
DESCRIPTION:Traditional Maori Healing classes
URL:https://taumarunui.co.nz/event/foundational-wananga/2025-03-22/
LOCATION:Taumarunui\, Taumarunui\, New Zealand
CATEGORIES:Classes
ATTACH;FMTTYPE=image/jpeg:https://taumarunui.co.nz/wp-content/uploads/2024/09/IMG_8010.jpg
GEO:-38.8832802;175.2563657
END:VEVENT
BEGIN:VEVENT
DTSTART;TZID=Pacific/Auckland:20250325T153000
DTEND;TZID=Pacific/Auckland:20250325T163000
DTSTAMP:20260426T044250
CREATED:20250204T002604Z
LAST-MODIFIED:20250204T002604Z
UID:10011072-1742916600-1742920200@taumarunui.co.nz
SUMMARY:Kids Jiu-Jitsu
DESCRIPTION:🤼 Kids Jiu-Jitsu 🤼 \nOur Kids Jiu-Jitsu Classes for ages 7+ start February 4th\, and spaces are limited! \n✅ Build Strength & Flexibility\n✅ Learn Self-Defense\n✅ Boost Confidence & Discipline\n✅ Have Fun and Make New Friends! \n📅 Classes begin February 4th – don’t wait\, spots are filling up fast! \n📲 Contact us to reserve your child’s place today!
URL:https://taumarunui.co.nz/event/kids-jiu-jitsu/2025-03-25/
CATEGORIES:Children,Classes
ATTACH;FMTTYPE=image/jpeg:https://taumarunui.co.nz/wp-content/uploads/2025/02/IMG_9329.jpeg
END:VEVENT
END:VCALENDAR