BEGIN:VCALENDAR
VERSION:2.0
PRODID:-//Taumarunui - ECPv6.15.20//NONSGML v1.0//EN
CALSCALE:GREGORIAN
METHOD:PUBLISH
X-ORIGINAL-URL:https://taumarunui.co.nz
X-WR-CALDESC:Events for Taumarunui
REFRESH-INTERVAL;VALUE=DURATION:PT1H
X-Robots-Tag:noindex
X-PUBLISHED-TTL:PT1H
BEGIN:VTIMEZONE
TZID:Pacific/Auckland
BEGIN:STANDARD
TZOFFSETFROM:+1300
TZOFFSETTO:+1200
TZNAME:NZST
DTSTART:20270403T140000
END:STANDARD
BEGIN:DAYLIGHT
TZOFFSETFROM:+1200
TZOFFSETTO:+1300
TZNAME:NZDT
DTSTART:20270925T140000
END:DAYLIGHT
BEGIN:STANDARD
TZOFFSETFROM:+1300
TZOFFSETTO:+1200
TZNAME:NZST
DTSTART:20280401T140000
END:STANDARD
BEGIN:DAYLIGHT
TZOFFSETFROM:+1200
TZOFFSETTO:+1300
TZNAME:NZDT
DTSTART:20280923T140000
END:DAYLIGHT
BEGIN:STANDARD
TZOFFSETFROM:+1300
TZOFFSETTO:+1200
TZNAME:NZST
DTSTART:20290331T140000
END:STANDARD
BEGIN:DAYLIGHT
TZOFFSETFROM:+1200
TZOFFSETTO:+1300
TZNAME:NZDT
DTSTART:20290929T140000
END:DAYLIGHT
END:VTIMEZONE
BEGIN:VEVENT
DTSTART;TZID=Pacific/Auckland:20280120T100000
DTEND;TZID=Pacific/Auckland:20280120T110000
DTSTAMP:20260423T205942
CREATED:20241015T061311Z
LAST-MODIFIED:20241025T022839Z
UID:10003419-1831975200-1831978800@taumarunui.co.nz
SUMMARY:Ruapehu Toy Library
DESCRIPTION:We are open on Thursday and Saturday during school terms \nSituated in the Taumarunui Arts Centre \nWe welcome any new members
URL:https://taumarunui.co.nz/event/ruapehu-toy-library/2028-01-20/
LOCATION:Taumarunui Arts Centre\, Hakiaha Street\, Taumarunui\, New Zealand
CATEGORIES:Children
ATTACH;FMTTYPE=image/jpeg:https://taumarunui.co.nz/wp-content/uploads/2024/10/IMG_8156-scaled.jpeg
END:VEVENT
BEGIN:VEVENT
DTSTART;TZID=Pacific/Auckland:20280120T100000
DTEND;TZID=Pacific/Auckland:20280120T113000
DTSTAMP:20260423T205942
CREATED:20250910T225011Z
LAST-MODIFIED:20250910T225012Z
UID:10012365-1831975200-1831980600@taumarunui.co.nz
SUMMARY:Kanikani Kids
DESCRIPTION:Come along with pre-school children and enjoy a 20-30 minute music based session. \nMeet and chat with others in the same season of life. \n$2 donation \n 
URL:https://taumarunui.co.nz/event/kanikani-kids-2/2028-01-20/
LOCATION:Taumarunui Baptist Church\, 250 Taupo Road\, Taumarunui\, New Zealand
CATEGORIES:Children
END:VEVENT
BEGIN:VEVENT
DTSTART;TZID=Pacific/Auckland:20280120T153000
DTEND;TZID=Pacific/Auckland:20280120T163000
DTSTAMP:20260423T205942
CREATED:20250204T002604Z
LAST-MODIFIED:20250204T002604Z
UID:10011367-1831995000-1831998600@taumarunui.co.nz
SUMMARY:Kids Jiu-Jitsu
DESCRIPTION:🤼 Kids Jiu-Jitsu 🤼 \nOur Kids Jiu-Jitsu Classes for ages 7+ start February 4th\, and spaces are limited! \n✅ Build Strength & Flexibility\n✅ Learn Self-Defense\n✅ Boost Confidence & Discipline\n✅ Have Fun and Make New Friends! \n📅 Classes begin February 4th – don’t wait\, spots are filling up fast! \n📲 Contact us to reserve your child’s place today!
URL:https://taumarunui.co.nz/event/kids-jiu-jitsu/2028-01-20/
CATEGORIES:Children,Classes
ATTACH;FMTTYPE=image/jpeg:https://taumarunui.co.nz/wp-content/uploads/2025/02/IMG_9329.jpeg
END:VEVENT
BEGIN:VEVENT
DTSTART;TZID=Pacific/Auckland:20280120T153000
DTEND;TZID=Pacific/Auckland:20280120T170000
DTSTAMP:20260423T205942
CREATED:20240922T233142Z
LAST-MODIFIED:20241027T233413Z
UID:10001804-1831995000-1832000400@taumarunui.co.nz
SUMMARY:King Country Scout Group
DESCRIPTION:Meeting every Thursday at Scout Hall\, O’Reilly Crescent\, Matapuna \nOutdoor and water activities\, games\, crafts\, camps\, hikes and fun! \nKeas aged 5-8 years\, Cubs 8-11 years\, Scouts 11-14 years \nLeader volunteers welcome \nContact: kingcountry@group.scouts.nz
URL:https://taumarunui.co.nz/event/king-country-scout-group/2028-01-20/
LOCATION:Scout Hall\, Taupo Road\, Taumarunui\, 3920\, New Zealand
CATEGORIES:Children,Clubs
GEO:-38.883687;175.298651
X-APPLE-STRUCTURED-LOCATION;VALUE=URI;X-ADDRESS=Scout Hall Taupo Road Taumarunui 3920 New Zealand;X-APPLE-RADIUS=500;X-TITLE=Taupo Road:geo:175.298651,-38.883687
END:VEVENT
BEGIN:VEVENT
DTSTART;TZID=Pacific/Auckland:20280121T093000
DTEND;TZID=Pacific/Auckland:20280121T123000
DTSTAMP:20260423T205942
CREATED:20241027T232922Z
LAST-MODIFIED:20241027T232922Z
UID:10006146-1832059800-1832070600@taumarunui.co.nz
SUMMARY:Manunui Playcentre
DESCRIPTION:Come along to Manunui Playcentre and check us out. For children aged 0-5.  $2 a session per family
URL:https://taumarunui.co.nz/event/manunui-playcentre-2/2028-01-21/
LOCATION:Manunui Playcentre\, 161 Miro Street\, Manunui\, Taumarunui\, New Zealand
CATEGORIES:Children,Clubs
ATTACH;FMTTYPE=image/png:https://taumarunui.co.nz/wp-content/uploads/2024/10/IMG_8098.png
GEO:-38.8875174;175.3227703
X-APPLE-STRUCTURED-LOCATION;VALUE=URI;X-ADDRESS=Manunui Playcentre 161 Miro Street Manunui Taumarunui New Zealand;X-APPLE-RADIUS=500;X-TITLE=161 Miro Street\, Manunui:geo:175.3227703,-38.8875174
END:VEVENT
BEGIN:VEVENT
DTSTART;TZID=Pacific/Auckland:20280122T100000
DTEND;TZID=Pacific/Auckland:20280122T110000
DTSTAMP:20260423T205942
CREATED:20241015T061524Z
LAST-MODIFIED:20241024T053057Z
UID:10003680-1832148000-1832151600@taumarunui.co.nz
SUMMARY:Ruapehu Toy Library
DESCRIPTION:We are open on Thursday and Saturday. Situated in the Taumarunui Arts Centre \nWe welcome any new members
URL:https://taumarunui.co.nz/event/ruapehu-toy-library-2/2028-01-22/
CATEGORIES:Children
ATTACH;FMTTYPE=image/jpeg:https://taumarunui.co.nz/wp-content/uploads/2024/10/IMG_8156-scaled.jpeg
END:VEVENT
BEGIN:VEVENT
DTSTART;TZID=Pacific/Auckland:20280124T163000
DTEND;TZID=Pacific/Auckland:20280124T191500
DTSTAMP:20260423T205942
CREATED:20241015T064459Z
LAST-MODIFIED:20241015T073820Z
UID:10004321-1832344200-1832354100@taumarunui.co.nz
SUMMARY:Kyokushin Karate
DESCRIPTION:Traditional training every Monday & Wednesday. \nExtra fitness fight class on Friday \n7-12 year olds 4.30 – 5.30pm \nTeens & Adults 5.45pm – 7.15pm
URL:https://taumarunui.co.nz/event/kyokushin-karate/2028-01-24/
LOCATION:Kyokushin Karate\, 4 Marae Street\, Taumarunui\, New Zealand
CATEGORIES:Children,Clubs,Sport
ATTACH;FMTTYPE=image/jpeg:https://taumarunui.co.nz/wp-content/uploads/2024/10/IMG_8094.jpg
END:VEVENT
BEGIN:VEVENT
DTSTART;TZID=Pacific/Auckland:20280125T153000
DTEND;TZID=Pacific/Auckland:20280125T163000
DTSTAMP:20260423T205942
CREATED:20250204T002604Z
LAST-MODIFIED:20250204T002604Z
UID:10011368-1832427000-1832430600@taumarunui.co.nz
SUMMARY:Kids Jiu-Jitsu
DESCRIPTION:🤼 Kids Jiu-Jitsu 🤼 \nOur Kids Jiu-Jitsu Classes for ages 7+ start February 4th\, and spaces are limited! \n✅ Build Strength & Flexibility\n✅ Learn Self-Defense\n✅ Boost Confidence & Discipline\n✅ Have Fun and Make New Friends! \n📅 Classes begin February 4th – don’t wait\, spots are filling up fast! \n📲 Contact us to reserve your child’s place today!
URL:https://taumarunui.co.nz/event/kids-jiu-jitsu/2028-01-25/
CATEGORIES:Children,Classes
ATTACH;FMTTYPE=image/jpeg:https://taumarunui.co.nz/wp-content/uploads/2025/02/IMG_9329.jpeg
END:VEVENT
BEGIN:VEVENT
DTSTART;TZID=Pacific/Auckland:20280127T100000
DTEND;TZID=Pacific/Auckland:20280127T110000
DTSTAMP:20260423T205942
CREATED:20241015T061311Z
LAST-MODIFIED:20241025T022839Z
UID:10003420-1832580000-1832583600@taumarunui.co.nz
SUMMARY:Ruapehu Toy Library
DESCRIPTION:We are open on Thursday and Saturday during school terms \nSituated in the Taumarunui Arts Centre \nWe welcome any new members
URL:https://taumarunui.co.nz/event/ruapehu-toy-library/2028-01-27/
LOCATION:Taumarunui Arts Centre\, Hakiaha Street\, Taumarunui\, New Zealand
CATEGORIES:Children
ATTACH;FMTTYPE=image/jpeg:https://taumarunui.co.nz/wp-content/uploads/2024/10/IMG_8156-scaled.jpeg
END:VEVENT
BEGIN:VEVENT
DTSTART;TZID=Pacific/Auckland:20280127T153000
DTEND;TZID=Pacific/Auckland:20280127T163000
DTSTAMP:20260423T205942
CREATED:20250204T002604Z
LAST-MODIFIED:20250204T002604Z
UID:10011369-1832599800-1832603400@taumarunui.co.nz
SUMMARY:Kids Jiu-Jitsu
DESCRIPTION:🤼 Kids Jiu-Jitsu 🤼 \nOur Kids Jiu-Jitsu Classes for ages 7+ start February 4th\, and spaces are limited! \n✅ Build Strength & Flexibility\n✅ Learn Self-Defense\n✅ Boost Confidence & Discipline\n✅ Have Fun and Make New Friends! \n📅 Classes begin February 4th – don’t wait\, spots are filling up fast! \n📲 Contact us to reserve your child’s place today!
URL:https://taumarunui.co.nz/event/kids-jiu-jitsu/2028-01-27/
CATEGORIES:Children,Classes
ATTACH;FMTTYPE=image/jpeg:https://taumarunui.co.nz/wp-content/uploads/2025/02/IMG_9329.jpeg
END:VEVENT
BEGIN:VEVENT
DTSTART;TZID=Pacific/Auckland:20280127T153000
DTEND;TZID=Pacific/Auckland:20280127T170000
DTSTAMP:20260423T205942
CREATED:20240922T233142Z
LAST-MODIFIED:20241027T233413Z
UID:10001805-1832599800-1832605200@taumarunui.co.nz
SUMMARY:King Country Scout Group
DESCRIPTION:Meeting every Thursday at Scout Hall\, O’Reilly Crescent\, Matapuna \nOutdoor and water activities\, games\, crafts\, camps\, hikes and fun! \nKeas aged 5-8 years\, Cubs 8-11 years\, Scouts 11-14 years \nLeader volunteers welcome \nContact: kingcountry@group.scouts.nz
URL:https://taumarunui.co.nz/event/king-country-scout-group/2028-01-27/
LOCATION:Scout Hall\, Taupo Road\, Taumarunui\, 3920\, New Zealand
CATEGORIES:Children,Clubs
GEO:-38.883687;175.298651
X-APPLE-STRUCTURED-LOCATION;VALUE=URI;X-ADDRESS=Scout Hall Taupo Road Taumarunui 3920 New Zealand;X-APPLE-RADIUS=500;X-TITLE=Taupo Road:geo:175.298651,-38.883687
END:VEVENT
BEGIN:VEVENT
DTSTART;TZID=Pacific/Auckland:20280128T093000
DTEND;TZID=Pacific/Auckland:20280128T123000
DTSTAMP:20260423T205942
CREATED:20241027T232922Z
LAST-MODIFIED:20241027T232922Z
UID:10006147-1832664600-1832675400@taumarunui.co.nz
SUMMARY:Manunui Playcentre
DESCRIPTION:Come along to Manunui Playcentre and check us out. For children aged 0-5.  $2 a session per family
URL:https://taumarunui.co.nz/event/manunui-playcentre-2/2028-01-28/
LOCATION:Manunui Playcentre\, 161 Miro Street\, Manunui\, Taumarunui\, New Zealand
CATEGORIES:Children,Clubs
ATTACH;FMTTYPE=image/png:https://taumarunui.co.nz/wp-content/uploads/2024/10/IMG_8098.png
GEO:-38.8875174;175.3227703
X-APPLE-STRUCTURED-LOCATION;VALUE=URI;X-ADDRESS=Manunui Playcentre 161 Miro Street Manunui Taumarunui New Zealand;X-APPLE-RADIUS=500;X-TITLE=161 Miro Street\, Manunui:geo:175.3227703,-38.8875174
END:VEVENT
BEGIN:VEVENT
DTSTART;TZID=Pacific/Auckland:20280129T100000
DTEND;TZID=Pacific/Auckland:20280129T110000
DTSTAMP:20260423T205942
CREATED:20241015T061524Z
LAST-MODIFIED:20241024T053057Z
UID:10003681-1832752800-1832756400@taumarunui.co.nz
SUMMARY:Ruapehu Toy Library
DESCRIPTION:We are open on Thursday and Saturday. Situated in the Taumarunui Arts Centre \nWe welcome any new members
URL:https://taumarunui.co.nz/event/ruapehu-toy-library-2/2028-01-29/
CATEGORIES:Children
ATTACH;FMTTYPE=image/jpeg:https://taumarunui.co.nz/wp-content/uploads/2024/10/IMG_8156-scaled.jpeg
END:VEVENT
BEGIN:VEVENT
DTSTART;TZID=Pacific/Auckland:20280131T163000
DTEND;TZID=Pacific/Auckland:20280131T191500
DTSTAMP:20260423T205942
CREATED:20241015T064459Z
LAST-MODIFIED:20241015T073820Z
UID:10004322-1832949000-1832958900@taumarunui.co.nz
SUMMARY:Kyokushin Karate
DESCRIPTION:Traditional training every Monday & Wednesday. \nExtra fitness fight class on Friday \n7-12 year olds 4.30 – 5.30pm \nTeens & Adults 5.45pm – 7.15pm
URL:https://taumarunui.co.nz/event/kyokushin-karate/2028-01-31/
LOCATION:Kyokushin Karate\, 4 Marae Street\, Taumarunui\, New Zealand
CATEGORIES:Children,Clubs,Sport
ATTACH;FMTTYPE=image/jpeg:https://taumarunui.co.nz/wp-content/uploads/2024/10/IMG_8094.jpg
END:VEVENT
BEGIN:VEVENT
DTSTART;TZID=Pacific/Auckland:20280201T153000
DTEND;TZID=Pacific/Auckland:20280201T163000
DTSTAMP:20260423T205942
CREATED:20250204T002604Z
LAST-MODIFIED:20250204T002604Z
UID:10011370-1833031800-1833035400@taumarunui.co.nz
SUMMARY:Kids Jiu-Jitsu
DESCRIPTION:🤼 Kids Jiu-Jitsu 🤼 \nOur Kids Jiu-Jitsu Classes for ages 7+ start February 4th\, and spaces are limited! \n✅ Build Strength & Flexibility\n✅ Learn Self-Defense\n✅ Boost Confidence & Discipline\n✅ Have Fun and Make New Friends! \n📅 Classes begin February 4th – don’t wait\, spots are filling up fast! \n📲 Contact us to reserve your child’s place today!
URL:https://taumarunui.co.nz/event/kids-jiu-jitsu/2028-02-01/
CATEGORIES:Children,Classes
ATTACH;FMTTYPE=image/jpeg:https://taumarunui.co.nz/wp-content/uploads/2025/02/IMG_9329.jpeg
END:VEVENT
BEGIN:VEVENT
DTSTART;TZID=Pacific/Auckland:20280203T100000
DTEND;TZID=Pacific/Auckland:20280203T110000
DTSTAMP:20260423T205942
CREATED:20241015T061311Z
LAST-MODIFIED:20241025T022839Z
UID:10003421-1833184800-1833188400@taumarunui.co.nz
SUMMARY:Ruapehu Toy Library
DESCRIPTION:We are open on Thursday and Saturday during school terms \nSituated in the Taumarunui Arts Centre \nWe welcome any new members
URL:https://taumarunui.co.nz/event/ruapehu-toy-library/2028-02-03/
LOCATION:Taumarunui Arts Centre\, Hakiaha Street\, Taumarunui\, New Zealand
CATEGORIES:Children
ATTACH;FMTTYPE=image/jpeg:https://taumarunui.co.nz/wp-content/uploads/2024/10/IMG_8156-scaled.jpeg
END:VEVENT
BEGIN:VEVENT
DTSTART;TZID=Pacific/Auckland:20280203T100000
DTEND;TZID=Pacific/Auckland:20280203T113000
DTSTAMP:20260423T205942
CREATED:20250910T225011Z
LAST-MODIFIED:20250910T225012Z
UID:10012366-1833184800-1833190200@taumarunui.co.nz
SUMMARY:Kanikani Kids
DESCRIPTION:Come along with pre-school children and enjoy a 20-30 minute music based session. \nMeet and chat with others in the same season of life. \n$2 donation \n 
URL:https://taumarunui.co.nz/event/kanikani-kids-2/2028-02-03/
LOCATION:Taumarunui Baptist Church\, 250 Taupo Road\, Taumarunui\, New Zealand
CATEGORIES:Children
END:VEVENT
BEGIN:VEVENT
DTSTART;TZID=Pacific/Auckland:20280203T153000
DTEND;TZID=Pacific/Auckland:20280203T163000
DTSTAMP:20260423T205942
CREATED:20250204T002604Z
LAST-MODIFIED:20250204T002604Z
UID:10011371-1833204600-1833208200@taumarunui.co.nz
SUMMARY:Kids Jiu-Jitsu
DESCRIPTION:🤼 Kids Jiu-Jitsu 🤼 \nOur Kids Jiu-Jitsu Classes for ages 7+ start February 4th\, and spaces are limited! \n✅ Build Strength & Flexibility\n✅ Learn Self-Defense\n✅ Boost Confidence & Discipline\n✅ Have Fun and Make New Friends! \n📅 Classes begin February 4th – don’t wait\, spots are filling up fast! \n📲 Contact us to reserve your child’s place today!
URL:https://taumarunui.co.nz/event/kids-jiu-jitsu/2028-02-03/
CATEGORIES:Children,Classes
ATTACH;FMTTYPE=image/jpeg:https://taumarunui.co.nz/wp-content/uploads/2025/02/IMG_9329.jpeg
END:VEVENT
BEGIN:VEVENT
DTSTART;TZID=Pacific/Auckland:20280203T153000
DTEND;TZID=Pacific/Auckland:20280203T170000
DTSTAMP:20260423T205942
CREATED:20240922T233142Z
LAST-MODIFIED:20241027T233413Z
UID:10001806-1833204600-1833210000@taumarunui.co.nz
SUMMARY:King Country Scout Group
DESCRIPTION:Meeting every Thursday at Scout Hall\, O’Reilly Crescent\, Matapuna \nOutdoor and water activities\, games\, crafts\, camps\, hikes and fun! \nKeas aged 5-8 years\, Cubs 8-11 years\, Scouts 11-14 years \nLeader volunteers welcome \nContact: kingcountry@group.scouts.nz
URL:https://taumarunui.co.nz/event/king-country-scout-group/2028-02-03/
LOCATION:Scout Hall\, Taupo Road\, Taumarunui\, 3920\, New Zealand
CATEGORIES:Children,Clubs
GEO:-38.883687;175.298651
X-APPLE-STRUCTURED-LOCATION;VALUE=URI;X-ADDRESS=Scout Hall Taupo Road Taumarunui 3920 New Zealand;X-APPLE-RADIUS=500;X-TITLE=Taupo Road:geo:175.298651,-38.883687
END:VEVENT
BEGIN:VEVENT
DTSTART;TZID=Pacific/Auckland:20280204T093000
DTEND;TZID=Pacific/Auckland:20280204T123000
DTSTAMP:20260423T205942
CREATED:20241027T232922Z
LAST-MODIFIED:20241027T232922Z
UID:10006148-1833269400-1833280200@taumarunui.co.nz
SUMMARY:Manunui Playcentre
DESCRIPTION:Come along to Manunui Playcentre and check us out. For children aged 0-5.  $2 a session per family
URL:https://taumarunui.co.nz/event/manunui-playcentre-2/2028-02-04/
LOCATION:Manunui Playcentre\, 161 Miro Street\, Manunui\, Taumarunui\, New Zealand
CATEGORIES:Children,Clubs
ATTACH;FMTTYPE=image/png:https://taumarunui.co.nz/wp-content/uploads/2024/10/IMG_8098.png
GEO:-38.8875174;175.3227703
X-APPLE-STRUCTURED-LOCATION;VALUE=URI;X-ADDRESS=Manunui Playcentre 161 Miro Street Manunui Taumarunui New Zealand;X-APPLE-RADIUS=500;X-TITLE=161 Miro Street\, Manunui:geo:175.3227703,-38.8875174
END:VEVENT
BEGIN:VEVENT
DTSTART;TZID=Pacific/Auckland:20280205T100000
DTEND;TZID=Pacific/Auckland:20280205T110000
DTSTAMP:20260423T205942
CREATED:20241015T061524Z
LAST-MODIFIED:20241024T053057Z
UID:10003682-1833357600-1833361200@taumarunui.co.nz
SUMMARY:Ruapehu Toy Library
DESCRIPTION:We are open on Thursday and Saturday. Situated in the Taumarunui Arts Centre \nWe welcome any new members
URL:https://taumarunui.co.nz/event/ruapehu-toy-library-2/2028-02-05/
CATEGORIES:Children
ATTACH;FMTTYPE=image/jpeg:https://taumarunui.co.nz/wp-content/uploads/2024/10/IMG_8156-scaled.jpeg
END:VEVENT
BEGIN:VEVENT
DTSTART;TZID=Pacific/Auckland:20280207T163000
DTEND;TZID=Pacific/Auckland:20280207T191500
DTSTAMP:20260423T205942
CREATED:20241015T064459Z
LAST-MODIFIED:20241015T073820Z
UID:10004323-1833553800-1833563700@taumarunui.co.nz
SUMMARY:Kyokushin Karate
DESCRIPTION:Traditional training every Monday & Wednesday. \nExtra fitness fight class on Friday \n7-12 year olds 4.30 – 5.30pm \nTeens & Adults 5.45pm – 7.15pm
URL:https://taumarunui.co.nz/event/kyokushin-karate/2028-02-07/
LOCATION:Kyokushin Karate\, 4 Marae Street\, Taumarunui\, New Zealand
CATEGORIES:Children,Clubs,Sport
ATTACH;FMTTYPE=image/jpeg:https://taumarunui.co.nz/wp-content/uploads/2024/10/IMG_8094.jpg
END:VEVENT
BEGIN:VEVENT
DTSTART;TZID=Pacific/Auckland:20280208T153000
DTEND;TZID=Pacific/Auckland:20280208T163000
DTSTAMP:20260423T205942
CREATED:20250204T002604Z
LAST-MODIFIED:20250204T002604Z
UID:10011372-1833636600-1833640200@taumarunui.co.nz
SUMMARY:Kids Jiu-Jitsu
DESCRIPTION:🤼 Kids Jiu-Jitsu 🤼 \nOur Kids Jiu-Jitsu Classes for ages 7+ start February 4th\, and spaces are limited! \n✅ Build Strength & Flexibility\n✅ Learn Self-Defense\n✅ Boost Confidence & Discipline\n✅ Have Fun and Make New Friends! \n📅 Classes begin February 4th – don’t wait\, spots are filling up fast! \n📲 Contact us to reserve your child’s place today!
URL:https://taumarunui.co.nz/event/kids-jiu-jitsu/2028-02-08/
CATEGORIES:Children,Classes
ATTACH;FMTTYPE=image/jpeg:https://taumarunui.co.nz/wp-content/uploads/2025/02/IMG_9329.jpeg
END:VEVENT
BEGIN:VEVENT
DTSTART;TZID=Pacific/Auckland:20280210T100000
DTEND;TZID=Pacific/Auckland:20280210T110000
DTSTAMP:20260423T205942
CREATED:20241015T061311Z
LAST-MODIFIED:20241025T022839Z
UID:10003422-1833789600-1833793200@taumarunui.co.nz
SUMMARY:Ruapehu Toy Library
DESCRIPTION:We are open on Thursday and Saturday during school terms \nSituated in the Taumarunui Arts Centre \nWe welcome any new members
URL:https://taumarunui.co.nz/event/ruapehu-toy-library/2028-02-10/
LOCATION:Taumarunui Arts Centre\, Hakiaha Street\, Taumarunui\, New Zealand
CATEGORIES:Children
ATTACH;FMTTYPE=image/jpeg:https://taumarunui.co.nz/wp-content/uploads/2024/10/IMG_8156-scaled.jpeg
END:VEVENT
BEGIN:VEVENT
DTSTART;TZID=Pacific/Auckland:20280210T153000
DTEND;TZID=Pacific/Auckland:20280210T163000
DTSTAMP:20260423T205942
CREATED:20250204T002604Z
LAST-MODIFIED:20250204T002604Z
UID:10011373-1833809400-1833813000@taumarunui.co.nz
SUMMARY:Kids Jiu-Jitsu
DESCRIPTION:🤼 Kids Jiu-Jitsu 🤼 \nOur Kids Jiu-Jitsu Classes for ages 7+ start February 4th\, and spaces are limited! \n✅ Build Strength & Flexibility\n✅ Learn Self-Defense\n✅ Boost Confidence & Discipline\n✅ Have Fun and Make New Friends! \n📅 Classes begin February 4th – don’t wait\, spots are filling up fast! \n📲 Contact us to reserve your child’s place today!
URL:https://taumarunui.co.nz/event/kids-jiu-jitsu/2028-02-10/
CATEGORIES:Children,Classes
ATTACH;FMTTYPE=image/jpeg:https://taumarunui.co.nz/wp-content/uploads/2025/02/IMG_9329.jpeg
END:VEVENT
BEGIN:VEVENT
DTSTART;TZID=Pacific/Auckland:20280210T153000
DTEND;TZID=Pacific/Auckland:20280210T170000
DTSTAMP:20260423T205942
CREATED:20240922T233142Z
LAST-MODIFIED:20241027T233413Z
UID:10001807-1833809400-1833814800@taumarunui.co.nz
SUMMARY:King Country Scout Group
DESCRIPTION:Meeting every Thursday at Scout Hall\, O’Reilly Crescent\, Matapuna \nOutdoor and water activities\, games\, crafts\, camps\, hikes and fun! \nKeas aged 5-8 years\, Cubs 8-11 years\, Scouts 11-14 years \nLeader volunteers welcome \nContact: kingcountry@group.scouts.nz
URL:https://taumarunui.co.nz/event/king-country-scout-group/2028-02-10/
LOCATION:Scout Hall\, Taupo Road\, Taumarunui\, 3920\, New Zealand
CATEGORIES:Children,Clubs
GEO:-38.883687;175.298651
X-APPLE-STRUCTURED-LOCATION;VALUE=URI;X-ADDRESS=Scout Hall Taupo Road Taumarunui 3920 New Zealand;X-APPLE-RADIUS=500;X-TITLE=Taupo Road:geo:175.298651,-38.883687
END:VEVENT
BEGIN:VEVENT
DTSTART;TZID=Pacific/Auckland:20280211T093000
DTEND;TZID=Pacific/Auckland:20280211T123000
DTSTAMP:20260423T205942
CREATED:20241027T232922Z
LAST-MODIFIED:20241027T232922Z
UID:10006149-1833874200-1833885000@taumarunui.co.nz
SUMMARY:Manunui Playcentre
DESCRIPTION:Come along to Manunui Playcentre and check us out. For children aged 0-5.  $2 a session per family
URL:https://taumarunui.co.nz/event/manunui-playcentre-2/2028-02-11/
LOCATION:Manunui Playcentre\, 161 Miro Street\, Manunui\, Taumarunui\, New Zealand
CATEGORIES:Children,Clubs
ATTACH;FMTTYPE=image/png:https://taumarunui.co.nz/wp-content/uploads/2024/10/IMG_8098.png
GEO:-38.8875174;175.3227703
X-APPLE-STRUCTURED-LOCATION;VALUE=URI;X-ADDRESS=Manunui Playcentre 161 Miro Street Manunui Taumarunui New Zealand;X-APPLE-RADIUS=500;X-TITLE=161 Miro Street\, Manunui:geo:175.3227703,-38.8875174
END:VEVENT
BEGIN:VEVENT
DTSTART;TZID=Pacific/Auckland:20280212T100000
DTEND;TZID=Pacific/Auckland:20280212T110000
DTSTAMP:20260423T205942
CREATED:20241015T061524Z
LAST-MODIFIED:20241024T053057Z
UID:10003683-1833962400-1833966000@taumarunui.co.nz
SUMMARY:Ruapehu Toy Library
DESCRIPTION:We are open on Thursday and Saturday. Situated in the Taumarunui Arts Centre \nWe welcome any new members
URL:https://taumarunui.co.nz/event/ruapehu-toy-library-2/2028-02-12/
CATEGORIES:Children
ATTACH;FMTTYPE=image/jpeg:https://taumarunui.co.nz/wp-content/uploads/2024/10/IMG_8156-scaled.jpeg
END:VEVENT
BEGIN:VEVENT
DTSTART;TZID=Pacific/Auckland:20280214T163000
DTEND;TZID=Pacific/Auckland:20280214T191500
DTSTAMP:20260423T205942
CREATED:20241015T064459Z
LAST-MODIFIED:20241015T073820Z
UID:10004324-1834158600-1834168500@taumarunui.co.nz
SUMMARY:Kyokushin Karate
DESCRIPTION:Traditional training every Monday & Wednesday. \nExtra fitness fight class on Friday \n7-12 year olds 4.30 – 5.30pm \nTeens & Adults 5.45pm – 7.15pm
URL:https://taumarunui.co.nz/event/kyokushin-karate/2028-02-14/
LOCATION:Kyokushin Karate\, 4 Marae Street\, Taumarunui\, New Zealand
CATEGORIES:Children,Clubs,Sport
ATTACH;FMTTYPE=image/jpeg:https://taumarunui.co.nz/wp-content/uploads/2024/10/IMG_8094.jpg
END:VEVENT
BEGIN:VEVENT
DTSTART;TZID=Pacific/Auckland:20280215T153000
DTEND;TZID=Pacific/Auckland:20280215T163000
DTSTAMP:20260423T205942
CREATED:20250204T002604Z
LAST-MODIFIED:20250204T002604Z
UID:10011374-1834241400-1834245000@taumarunui.co.nz
SUMMARY:Kids Jiu-Jitsu
DESCRIPTION:🤼 Kids Jiu-Jitsu 🤼 \nOur Kids Jiu-Jitsu Classes for ages 7+ start February 4th\, and spaces are limited! \n✅ Build Strength & Flexibility\n✅ Learn Self-Defense\n✅ Boost Confidence & Discipline\n✅ Have Fun and Make New Friends! \n📅 Classes begin February 4th – don’t wait\, spots are filling up fast! \n📲 Contact us to reserve your child’s place today!
URL:https://taumarunui.co.nz/event/kids-jiu-jitsu/2028-02-15/
CATEGORIES:Children,Classes
ATTACH;FMTTYPE=image/jpeg:https://taumarunui.co.nz/wp-content/uploads/2025/02/IMG_9329.jpeg
END:VEVENT
END:VCALENDAR