BEGIN:VCALENDAR
VERSION:2.0
PRODID:-//Taumarunui - ECPv6.15.20//NONSGML v1.0//EN
CALSCALE:GREGORIAN
METHOD:PUBLISH
X-ORIGINAL-URL:https://taumarunui.co.nz
X-WR-CALDESC:Events for Taumarunui
REFRESH-INTERVAL;VALUE=DURATION:PT1H
X-Robots-Tag:noindex
X-PUBLISHED-TTL:PT1H
BEGIN:VTIMEZONE
TZID:Pacific/Auckland
BEGIN:STANDARD
TZOFFSETFROM:+1300
TZOFFSETTO:+1200
TZNAME:NZST
DTSTART:20260404T140000
END:STANDARD
BEGIN:DAYLIGHT
TZOFFSETFROM:+1200
TZOFFSETTO:+1300
TZNAME:NZDT
DTSTART:20260926T140000
END:DAYLIGHT
BEGIN:STANDARD
TZOFFSETFROM:+1300
TZOFFSETTO:+1200
TZNAME:NZST
DTSTART:20270403T140000
END:STANDARD
BEGIN:DAYLIGHT
TZOFFSETFROM:+1200
TZOFFSETTO:+1300
TZNAME:NZDT
DTSTART:20270925T140000
END:DAYLIGHT
BEGIN:STANDARD
TZOFFSETFROM:+1300
TZOFFSETTO:+1200
TZNAME:NZST
DTSTART:20280401T140000
END:STANDARD
BEGIN:DAYLIGHT
TZOFFSETFROM:+1200
TZOFFSETTO:+1300
TZNAME:NZDT
DTSTART:20280923T140000
END:DAYLIGHT
BEGIN:STANDARD
TZOFFSETFROM:+1300
TZOFFSETTO:+1200
TZNAME:NZST
DTSTART:20290331T140000
END:STANDARD
BEGIN:DAYLIGHT
TZOFFSETFROM:+1200
TZOFFSETTO:+1300
TZNAME:NZDT
DTSTART:20290929T140000
END:DAYLIGHT
END:VTIMEZONE
BEGIN:VEVENT
DTSTART;TZID=Pacific/Auckland:20271227T163000
DTEND;TZID=Pacific/Auckland:20271227T191500
DTSTAMP:20260423T205817
CREATED:20241015T064459Z
LAST-MODIFIED:20241015T073820Z
UID:10004317-1829925000-1829934900@taumarunui.co.nz
SUMMARY:Kyokushin Karate
DESCRIPTION:Traditional training every Monday & Wednesday. \nExtra fitness fight class on Friday \n7-12 year olds 4.30 – 5.30pm \nTeens & Adults 5.45pm – 7.15pm
URL:https://taumarunui.co.nz/event/kyokushin-karate/2027-12-27/
LOCATION:Kyokushin Karate\, 4 Marae Street\, Taumarunui\, New Zealand
CATEGORIES:Children,Clubs,Sport
ATTACH;FMTTYPE=image/jpeg:https://taumarunui.co.nz/wp-content/uploads/2024/10/IMG_8094.jpg
END:VEVENT
BEGIN:VEVENT
DTSTART;TZID=Pacific/Auckland:20271228T153000
DTEND;TZID=Pacific/Auckland:20271228T163000
DTSTAMP:20260423T205817
CREATED:20250204T002604Z
LAST-MODIFIED:20250204T002604Z
UID:10011360-1830007800-1830011400@taumarunui.co.nz
SUMMARY:Kids Jiu-Jitsu
DESCRIPTION:🤼 Kids Jiu-Jitsu 🤼 \nOur Kids Jiu-Jitsu Classes for ages 7+ start February 4th\, and spaces are limited! \n✅ Build Strength & Flexibility\n✅ Learn Self-Defense\n✅ Boost Confidence & Discipline\n✅ Have Fun and Make New Friends! \n📅 Classes begin February 4th – don’t wait\, spots are filling up fast! \n📲 Contact us to reserve your child’s place today!
URL:https://taumarunui.co.nz/event/kids-jiu-jitsu/2027-12-28/
CATEGORIES:Children,Classes
ATTACH;FMTTYPE=image/jpeg:https://taumarunui.co.nz/wp-content/uploads/2025/02/IMG_9329.jpeg
END:VEVENT
BEGIN:VEVENT
DTSTART;TZID=Pacific/Auckland:20271230T100000
DTEND;TZID=Pacific/Auckland:20271230T110000
DTSTAMP:20260423T205817
CREATED:20241015T061311Z
LAST-MODIFIED:20241025T022839Z
UID:10003416-1830160800-1830164400@taumarunui.co.nz
SUMMARY:Ruapehu Toy Library
DESCRIPTION:We are open on Thursday and Saturday during school terms \nSituated in the Taumarunui Arts Centre \nWe welcome any new members
URL:https://taumarunui.co.nz/event/ruapehu-toy-library/2027-12-30/
LOCATION:Taumarunui Arts Centre\, Hakiaha Street\, Taumarunui\, New Zealand
CATEGORIES:Children
ATTACH;FMTTYPE=image/jpeg:https://taumarunui.co.nz/wp-content/uploads/2024/10/IMG_8156-scaled.jpeg
END:VEVENT
BEGIN:VEVENT
DTSTART;TZID=Pacific/Auckland:20271230T153000
DTEND;TZID=Pacific/Auckland:20271230T163000
DTSTAMP:20260423T205817
CREATED:20250204T002604Z
LAST-MODIFIED:20250204T002604Z
UID:10011361-1830180600-1830184200@taumarunui.co.nz
SUMMARY:Kids Jiu-Jitsu
DESCRIPTION:🤼 Kids Jiu-Jitsu 🤼 \nOur Kids Jiu-Jitsu Classes for ages 7+ start February 4th\, and spaces are limited! \n✅ Build Strength & Flexibility\n✅ Learn Self-Defense\n✅ Boost Confidence & Discipline\n✅ Have Fun and Make New Friends! \n📅 Classes begin February 4th – don’t wait\, spots are filling up fast! \n📲 Contact us to reserve your child’s place today!
URL:https://taumarunui.co.nz/event/kids-jiu-jitsu/2027-12-30/
CATEGORIES:Children,Classes
ATTACH;FMTTYPE=image/jpeg:https://taumarunui.co.nz/wp-content/uploads/2025/02/IMG_9329.jpeg
END:VEVENT
BEGIN:VEVENT
DTSTART;TZID=Pacific/Auckland:20271230T153000
DTEND;TZID=Pacific/Auckland:20271230T170000
DTSTAMP:20260423T205817
CREATED:20240922T233142Z
LAST-MODIFIED:20241027T233413Z
UID:10001801-1830180600-1830186000@taumarunui.co.nz
SUMMARY:King Country Scout Group
DESCRIPTION:Meeting every Thursday at Scout Hall\, O’Reilly Crescent\, Matapuna \nOutdoor and water activities\, games\, crafts\, camps\, hikes and fun! \nKeas aged 5-8 years\, Cubs 8-11 years\, Scouts 11-14 years \nLeader volunteers welcome \nContact: kingcountry@group.scouts.nz
URL:https://taumarunui.co.nz/event/king-country-scout-group/2027-12-30/
LOCATION:Scout Hall\, Taupo Road\, Taumarunui\, 3920\, New Zealand
CATEGORIES:Children,Clubs
GEO:-38.883687;175.298651
X-APPLE-STRUCTURED-LOCATION;VALUE=URI;X-ADDRESS=Scout Hall Taupo Road Taumarunui 3920 New Zealand;X-APPLE-RADIUS=500;X-TITLE=Taupo Road:geo:175.298651,-38.883687
END:VEVENT
BEGIN:VEVENT
DTSTART;TZID=Pacific/Auckland:20271231T093000
DTEND;TZID=Pacific/Auckland:20271231T123000
DTSTAMP:20260423T205817
CREATED:20241027T232922Z
LAST-MODIFIED:20241027T232922Z
UID:10006143-1830245400-1830256200@taumarunui.co.nz
SUMMARY:Manunui Playcentre
DESCRIPTION:Come along to Manunui Playcentre and check us out. For children aged 0-5.  $2 a session per family
URL:https://taumarunui.co.nz/event/manunui-playcentre-2/2027-12-31/
LOCATION:Manunui Playcentre\, 161 Miro Street\, Manunui\, Taumarunui\, New Zealand
CATEGORIES:Children,Clubs
ATTACH;FMTTYPE=image/png:https://taumarunui.co.nz/wp-content/uploads/2024/10/IMG_8098.png
GEO:-38.8875174;175.3227703
X-APPLE-STRUCTURED-LOCATION;VALUE=URI;X-ADDRESS=Manunui Playcentre 161 Miro Street Manunui Taumarunui New Zealand;X-APPLE-RADIUS=500;X-TITLE=161 Miro Street\, Manunui:geo:175.3227703,-38.8875174
END:VEVENT
BEGIN:VEVENT
DTSTART;TZID=Pacific/Auckland:20280101T100000
DTEND;TZID=Pacific/Auckland:20280101T110000
DTSTAMP:20260423T205817
CREATED:20241015T061524Z
LAST-MODIFIED:20241024T053057Z
UID:10003677-1830333600-1830337200@taumarunui.co.nz
SUMMARY:Ruapehu Toy Library
DESCRIPTION:We are open on Thursday and Saturday. Situated in the Taumarunui Arts Centre \nWe welcome any new members
URL:https://taumarunui.co.nz/event/ruapehu-toy-library-2/2028-01-01/
CATEGORIES:Children
ATTACH;FMTTYPE=image/jpeg:https://taumarunui.co.nz/wp-content/uploads/2024/10/IMG_8156-scaled.jpeg
END:VEVENT
BEGIN:VEVENT
DTSTART;TZID=Pacific/Auckland:20280103T163000
DTEND;TZID=Pacific/Auckland:20280103T191500
DTSTAMP:20260423T205817
CREATED:20241015T064459Z
LAST-MODIFIED:20241015T073820Z
UID:10004318-1830529800-1830539700@taumarunui.co.nz
SUMMARY:Kyokushin Karate
DESCRIPTION:Traditional training every Monday & Wednesday. \nExtra fitness fight class on Friday \n7-12 year olds 4.30 – 5.30pm \nTeens & Adults 5.45pm – 7.15pm
URL:https://taumarunui.co.nz/event/kyokushin-karate/2028-01-03/
LOCATION:Kyokushin Karate\, 4 Marae Street\, Taumarunui\, New Zealand
CATEGORIES:Children,Clubs,Sport
ATTACH;FMTTYPE=image/jpeg:https://taumarunui.co.nz/wp-content/uploads/2024/10/IMG_8094.jpg
END:VEVENT
BEGIN:VEVENT
DTSTART;TZID=Pacific/Auckland:20280104T153000
DTEND;TZID=Pacific/Auckland:20280104T163000
DTSTAMP:20260423T205817
CREATED:20250204T002604Z
LAST-MODIFIED:20250204T002604Z
UID:10011362-1830612600-1830616200@taumarunui.co.nz
SUMMARY:Kids Jiu-Jitsu
DESCRIPTION:🤼 Kids Jiu-Jitsu 🤼 \nOur Kids Jiu-Jitsu Classes for ages 7+ start February 4th\, and spaces are limited! \n✅ Build Strength & Flexibility\n✅ Learn Self-Defense\n✅ Boost Confidence & Discipline\n✅ Have Fun and Make New Friends! \n📅 Classes begin February 4th – don’t wait\, spots are filling up fast! \n📲 Contact us to reserve your child’s place today!
URL:https://taumarunui.co.nz/event/kids-jiu-jitsu/2028-01-04/
CATEGORIES:Children,Classes
ATTACH;FMTTYPE=image/jpeg:https://taumarunui.co.nz/wp-content/uploads/2025/02/IMG_9329.jpeg
END:VEVENT
BEGIN:VEVENT
DTSTART;TZID=Pacific/Auckland:20280106T100000
DTEND;TZID=Pacific/Auckland:20280106T110000
DTSTAMP:20260423T205817
CREATED:20241015T061311Z
LAST-MODIFIED:20241025T022839Z
UID:10003417-1830765600-1830769200@taumarunui.co.nz
SUMMARY:Ruapehu Toy Library
DESCRIPTION:We are open on Thursday and Saturday during school terms \nSituated in the Taumarunui Arts Centre \nWe welcome any new members
URL:https://taumarunui.co.nz/event/ruapehu-toy-library/2028-01-06/
LOCATION:Taumarunui Arts Centre\, Hakiaha Street\, Taumarunui\, New Zealand
CATEGORIES:Children
ATTACH;FMTTYPE=image/jpeg:https://taumarunui.co.nz/wp-content/uploads/2024/10/IMG_8156-scaled.jpeg
END:VEVENT
BEGIN:VEVENT
DTSTART;TZID=Pacific/Auckland:20280106T100000
DTEND;TZID=Pacific/Auckland:20280106T113000
DTSTAMP:20260423T205817
CREATED:20250910T225011Z
LAST-MODIFIED:20250910T225012Z
UID:10012364-1830765600-1830771000@taumarunui.co.nz
SUMMARY:Kanikani Kids
DESCRIPTION:Come along with pre-school children and enjoy a 20-30 minute music based session. \nMeet and chat with others in the same season of life. \n$2 donation \n 
URL:https://taumarunui.co.nz/event/kanikani-kids-2/2028-01-06/
LOCATION:Taumarunui Baptist Church\, 250 Taupo Road\, Taumarunui\, New Zealand
CATEGORIES:Children
END:VEVENT
BEGIN:VEVENT
DTSTART;TZID=Pacific/Auckland:20280106T153000
DTEND;TZID=Pacific/Auckland:20280106T163000
DTSTAMP:20260423T205817
CREATED:20250204T002604Z
LAST-MODIFIED:20250204T002604Z
UID:10011363-1830785400-1830789000@taumarunui.co.nz
SUMMARY:Kids Jiu-Jitsu
DESCRIPTION:🤼 Kids Jiu-Jitsu 🤼 \nOur Kids Jiu-Jitsu Classes for ages 7+ start February 4th\, and spaces are limited! \n✅ Build Strength & Flexibility\n✅ Learn Self-Defense\n✅ Boost Confidence & Discipline\n✅ Have Fun and Make New Friends! \n📅 Classes begin February 4th – don’t wait\, spots are filling up fast! \n📲 Contact us to reserve your child’s place today!
URL:https://taumarunui.co.nz/event/kids-jiu-jitsu/2028-01-06/
CATEGORIES:Children,Classes
ATTACH;FMTTYPE=image/jpeg:https://taumarunui.co.nz/wp-content/uploads/2025/02/IMG_9329.jpeg
END:VEVENT
BEGIN:VEVENT
DTSTART;TZID=Pacific/Auckland:20280106T153000
DTEND;TZID=Pacific/Auckland:20280106T170000
DTSTAMP:20260423T205817
CREATED:20240922T233142Z
LAST-MODIFIED:20241027T233413Z
UID:10001802-1830785400-1830790800@taumarunui.co.nz
SUMMARY:King Country Scout Group
DESCRIPTION:Meeting every Thursday at Scout Hall\, O’Reilly Crescent\, Matapuna \nOutdoor and water activities\, games\, crafts\, camps\, hikes and fun! \nKeas aged 5-8 years\, Cubs 8-11 years\, Scouts 11-14 years \nLeader volunteers welcome \nContact: kingcountry@group.scouts.nz
URL:https://taumarunui.co.nz/event/king-country-scout-group/2028-01-06/
LOCATION:Scout Hall\, Taupo Road\, Taumarunui\, 3920\, New Zealand
CATEGORIES:Children,Clubs
GEO:-38.883687;175.298651
X-APPLE-STRUCTURED-LOCATION;VALUE=URI;X-ADDRESS=Scout Hall Taupo Road Taumarunui 3920 New Zealand;X-APPLE-RADIUS=500;X-TITLE=Taupo Road:geo:175.298651,-38.883687
END:VEVENT
BEGIN:VEVENT
DTSTART;TZID=Pacific/Auckland:20280107T093000
DTEND;TZID=Pacific/Auckland:20280107T123000
DTSTAMP:20260423T205817
CREATED:20241027T232922Z
LAST-MODIFIED:20241027T232922Z
UID:10006144-1830850200-1830861000@taumarunui.co.nz
SUMMARY:Manunui Playcentre
DESCRIPTION:Come along to Manunui Playcentre and check us out. For children aged 0-5.  $2 a session per family
URL:https://taumarunui.co.nz/event/manunui-playcentre-2/2028-01-07/
LOCATION:Manunui Playcentre\, 161 Miro Street\, Manunui\, Taumarunui\, New Zealand
CATEGORIES:Children,Clubs
ATTACH;FMTTYPE=image/png:https://taumarunui.co.nz/wp-content/uploads/2024/10/IMG_8098.png
GEO:-38.8875174;175.3227703
X-APPLE-STRUCTURED-LOCATION;VALUE=URI;X-ADDRESS=Manunui Playcentre 161 Miro Street Manunui Taumarunui New Zealand;X-APPLE-RADIUS=500;X-TITLE=161 Miro Street\, Manunui:geo:175.3227703,-38.8875174
END:VEVENT
BEGIN:VEVENT
DTSTART;TZID=Pacific/Auckland:20280108T100000
DTEND;TZID=Pacific/Auckland:20280108T110000
DTSTAMP:20260423T205817
CREATED:20241015T061524Z
LAST-MODIFIED:20241024T053057Z
UID:10003678-1830938400-1830942000@taumarunui.co.nz
SUMMARY:Ruapehu Toy Library
DESCRIPTION:We are open on Thursday and Saturday. Situated in the Taumarunui Arts Centre \nWe welcome any new members
URL:https://taumarunui.co.nz/event/ruapehu-toy-library-2/2028-01-08/
CATEGORIES:Children
ATTACH;FMTTYPE=image/jpeg:https://taumarunui.co.nz/wp-content/uploads/2024/10/IMG_8156-scaled.jpeg
END:VEVENT
BEGIN:VEVENT
DTSTART;TZID=Pacific/Auckland:20280110T163000
DTEND;TZID=Pacific/Auckland:20280110T191500
DTSTAMP:20260423T205817
CREATED:20241015T064459Z
LAST-MODIFIED:20241015T073820Z
UID:10004319-1831134600-1831144500@taumarunui.co.nz
SUMMARY:Kyokushin Karate
DESCRIPTION:Traditional training every Monday & Wednesday. \nExtra fitness fight class on Friday \n7-12 year olds 4.30 – 5.30pm \nTeens & Adults 5.45pm – 7.15pm
URL:https://taumarunui.co.nz/event/kyokushin-karate/2028-01-10/
LOCATION:Kyokushin Karate\, 4 Marae Street\, Taumarunui\, New Zealand
CATEGORIES:Children,Clubs,Sport
ATTACH;FMTTYPE=image/jpeg:https://taumarunui.co.nz/wp-content/uploads/2024/10/IMG_8094.jpg
END:VEVENT
BEGIN:VEVENT
DTSTART;TZID=Pacific/Auckland:20280111T153000
DTEND;TZID=Pacific/Auckland:20280111T163000
DTSTAMP:20260423T205817
CREATED:20250204T002604Z
LAST-MODIFIED:20250204T002604Z
UID:10011364-1831217400-1831221000@taumarunui.co.nz
SUMMARY:Kids Jiu-Jitsu
DESCRIPTION:🤼 Kids Jiu-Jitsu 🤼 \nOur Kids Jiu-Jitsu Classes for ages 7+ start February 4th\, and spaces are limited! \n✅ Build Strength & Flexibility\n✅ Learn Self-Defense\n✅ Boost Confidence & Discipline\n✅ Have Fun and Make New Friends! \n📅 Classes begin February 4th – don’t wait\, spots are filling up fast! \n📲 Contact us to reserve your child’s place today!
URL:https://taumarunui.co.nz/event/kids-jiu-jitsu/2028-01-11/
CATEGORIES:Children,Classes
ATTACH;FMTTYPE=image/jpeg:https://taumarunui.co.nz/wp-content/uploads/2025/02/IMG_9329.jpeg
END:VEVENT
BEGIN:VEVENT
DTSTART;TZID=Pacific/Auckland:20280113T100000
DTEND;TZID=Pacific/Auckland:20280113T110000
DTSTAMP:20260423T205817
CREATED:20241015T061311Z
LAST-MODIFIED:20241025T022839Z
UID:10003418-1831370400-1831374000@taumarunui.co.nz
SUMMARY:Ruapehu Toy Library
DESCRIPTION:We are open on Thursday and Saturday during school terms \nSituated in the Taumarunui Arts Centre \nWe welcome any new members
URL:https://taumarunui.co.nz/event/ruapehu-toy-library/2028-01-13/
LOCATION:Taumarunui Arts Centre\, Hakiaha Street\, Taumarunui\, New Zealand
CATEGORIES:Children
ATTACH;FMTTYPE=image/jpeg:https://taumarunui.co.nz/wp-content/uploads/2024/10/IMG_8156-scaled.jpeg
END:VEVENT
BEGIN:VEVENT
DTSTART;TZID=Pacific/Auckland:20280113T153000
DTEND;TZID=Pacific/Auckland:20280113T163000
DTSTAMP:20260423T205817
CREATED:20250204T002604Z
LAST-MODIFIED:20250204T002604Z
UID:10011365-1831390200-1831393800@taumarunui.co.nz
SUMMARY:Kids Jiu-Jitsu
DESCRIPTION:🤼 Kids Jiu-Jitsu 🤼 \nOur Kids Jiu-Jitsu Classes for ages 7+ start February 4th\, and spaces are limited! \n✅ Build Strength & Flexibility\n✅ Learn Self-Defense\n✅ Boost Confidence & Discipline\n✅ Have Fun and Make New Friends! \n📅 Classes begin February 4th – don’t wait\, spots are filling up fast! \n📲 Contact us to reserve your child’s place today!
URL:https://taumarunui.co.nz/event/kids-jiu-jitsu/2028-01-13/
CATEGORIES:Children,Classes
ATTACH;FMTTYPE=image/jpeg:https://taumarunui.co.nz/wp-content/uploads/2025/02/IMG_9329.jpeg
END:VEVENT
BEGIN:VEVENT
DTSTART;TZID=Pacific/Auckland:20280113T153000
DTEND;TZID=Pacific/Auckland:20280113T170000
DTSTAMP:20260423T205817
CREATED:20240922T233142Z
LAST-MODIFIED:20241027T233413Z
UID:10001803-1831390200-1831395600@taumarunui.co.nz
SUMMARY:King Country Scout Group
DESCRIPTION:Meeting every Thursday at Scout Hall\, O’Reilly Crescent\, Matapuna \nOutdoor and water activities\, games\, crafts\, camps\, hikes and fun! \nKeas aged 5-8 years\, Cubs 8-11 years\, Scouts 11-14 years \nLeader volunteers welcome \nContact: kingcountry@group.scouts.nz
URL:https://taumarunui.co.nz/event/king-country-scout-group/2028-01-13/
LOCATION:Scout Hall\, Taupo Road\, Taumarunui\, 3920\, New Zealand
CATEGORIES:Children,Clubs
GEO:-38.883687;175.298651
X-APPLE-STRUCTURED-LOCATION;VALUE=URI;X-ADDRESS=Scout Hall Taupo Road Taumarunui 3920 New Zealand;X-APPLE-RADIUS=500;X-TITLE=Taupo Road:geo:175.298651,-38.883687
END:VEVENT
BEGIN:VEVENT
DTSTART;TZID=Pacific/Auckland:20280114T093000
DTEND;TZID=Pacific/Auckland:20280114T123000
DTSTAMP:20260423T205817
CREATED:20241027T232922Z
LAST-MODIFIED:20241027T232922Z
UID:10006145-1831455000-1831465800@taumarunui.co.nz
SUMMARY:Manunui Playcentre
DESCRIPTION:Come along to Manunui Playcentre and check us out. For children aged 0-5.  $2 a session per family
URL:https://taumarunui.co.nz/event/manunui-playcentre-2/2028-01-14/
LOCATION:Manunui Playcentre\, 161 Miro Street\, Manunui\, Taumarunui\, New Zealand
CATEGORIES:Children,Clubs
ATTACH;FMTTYPE=image/png:https://taumarunui.co.nz/wp-content/uploads/2024/10/IMG_8098.png
GEO:-38.8875174;175.3227703
X-APPLE-STRUCTURED-LOCATION;VALUE=URI;X-ADDRESS=Manunui Playcentre 161 Miro Street Manunui Taumarunui New Zealand;X-APPLE-RADIUS=500;X-TITLE=161 Miro Street\, Manunui:geo:175.3227703,-38.8875174
END:VEVENT
BEGIN:VEVENT
DTSTART;TZID=Pacific/Auckland:20280115T100000
DTEND;TZID=Pacific/Auckland:20280115T110000
DTSTAMP:20260423T205817
CREATED:20241015T061524Z
LAST-MODIFIED:20241024T053057Z
UID:10003679-1831543200-1831546800@taumarunui.co.nz
SUMMARY:Ruapehu Toy Library
DESCRIPTION:We are open on Thursday and Saturday. Situated in the Taumarunui Arts Centre \nWe welcome any new members
URL:https://taumarunui.co.nz/event/ruapehu-toy-library-2/2028-01-15/
CATEGORIES:Children
ATTACH;FMTTYPE=image/jpeg:https://taumarunui.co.nz/wp-content/uploads/2024/10/IMG_8156-scaled.jpeg
END:VEVENT
BEGIN:VEVENT
DTSTART;TZID=Pacific/Auckland:20280117T163000
DTEND;TZID=Pacific/Auckland:20280117T191500
DTSTAMP:20260423T205817
CREATED:20241015T064459Z
LAST-MODIFIED:20241015T073820Z
UID:10004320-1831739400-1831749300@taumarunui.co.nz
SUMMARY:Kyokushin Karate
DESCRIPTION:Traditional training every Monday & Wednesday. \nExtra fitness fight class on Friday \n7-12 year olds 4.30 – 5.30pm \nTeens & Adults 5.45pm – 7.15pm
URL:https://taumarunui.co.nz/event/kyokushin-karate/2028-01-17/
LOCATION:Kyokushin Karate\, 4 Marae Street\, Taumarunui\, New Zealand
CATEGORIES:Children,Clubs,Sport
ATTACH;FMTTYPE=image/jpeg:https://taumarunui.co.nz/wp-content/uploads/2024/10/IMG_8094.jpg
END:VEVENT
BEGIN:VEVENT
DTSTART;TZID=Pacific/Auckland:20280118T153000
DTEND;TZID=Pacific/Auckland:20280118T163000
DTSTAMP:20260423T205817
CREATED:20250204T002604Z
LAST-MODIFIED:20250204T002604Z
UID:10011366-1831822200-1831825800@taumarunui.co.nz
SUMMARY:Kids Jiu-Jitsu
DESCRIPTION:🤼 Kids Jiu-Jitsu 🤼 \nOur Kids Jiu-Jitsu Classes for ages 7+ start February 4th\, and spaces are limited! \n✅ Build Strength & Flexibility\n✅ Learn Self-Defense\n✅ Boost Confidence & Discipline\n✅ Have Fun and Make New Friends! \n📅 Classes begin February 4th – don’t wait\, spots are filling up fast! \n📲 Contact us to reserve your child’s place today!
URL:https://taumarunui.co.nz/event/kids-jiu-jitsu/2028-01-18/
CATEGORIES:Children,Classes
ATTACH;FMTTYPE=image/jpeg:https://taumarunui.co.nz/wp-content/uploads/2025/02/IMG_9329.jpeg
END:VEVENT
BEGIN:VEVENT
DTSTART;TZID=Pacific/Auckland:20280120T100000
DTEND;TZID=Pacific/Auckland:20280120T110000
DTSTAMP:20260423T205817
CREATED:20241015T061311Z
LAST-MODIFIED:20241025T022839Z
UID:10003419-1831975200-1831978800@taumarunui.co.nz
SUMMARY:Ruapehu Toy Library
DESCRIPTION:We are open on Thursday and Saturday during school terms \nSituated in the Taumarunui Arts Centre \nWe welcome any new members
URL:https://taumarunui.co.nz/event/ruapehu-toy-library/2028-01-20/
LOCATION:Taumarunui Arts Centre\, Hakiaha Street\, Taumarunui\, New Zealand
CATEGORIES:Children
ATTACH;FMTTYPE=image/jpeg:https://taumarunui.co.nz/wp-content/uploads/2024/10/IMG_8156-scaled.jpeg
END:VEVENT
BEGIN:VEVENT
DTSTART;TZID=Pacific/Auckland:20280120T100000
DTEND;TZID=Pacific/Auckland:20280120T113000
DTSTAMP:20260423T205817
CREATED:20250910T225011Z
LAST-MODIFIED:20250910T225012Z
UID:10012365-1831975200-1831980600@taumarunui.co.nz
SUMMARY:Kanikani Kids
DESCRIPTION:Come along with pre-school children and enjoy a 20-30 minute music based session. \nMeet and chat with others in the same season of life. \n$2 donation \n 
URL:https://taumarunui.co.nz/event/kanikani-kids-2/2028-01-20/
LOCATION:Taumarunui Baptist Church\, 250 Taupo Road\, Taumarunui\, New Zealand
CATEGORIES:Children
END:VEVENT
BEGIN:VEVENT
DTSTART;TZID=Pacific/Auckland:20280120T153000
DTEND;TZID=Pacific/Auckland:20280120T163000
DTSTAMP:20260423T205817
CREATED:20250204T002604Z
LAST-MODIFIED:20250204T002604Z
UID:10011367-1831995000-1831998600@taumarunui.co.nz
SUMMARY:Kids Jiu-Jitsu
DESCRIPTION:🤼 Kids Jiu-Jitsu 🤼 \nOur Kids Jiu-Jitsu Classes for ages 7+ start February 4th\, and spaces are limited! \n✅ Build Strength & Flexibility\n✅ Learn Self-Defense\n✅ Boost Confidence & Discipline\n✅ Have Fun and Make New Friends! \n📅 Classes begin February 4th – don’t wait\, spots are filling up fast! \n📲 Contact us to reserve your child’s place today!
URL:https://taumarunui.co.nz/event/kids-jiu-jitsu/2028-01-20/
CATEGORIES:Children,Classes
ATTACH;FMTTYPE=image/jpeg:https://taumarunui.co.nz/wp-content/uploads/2025/02/IMG_9329.jpeg
END:VEVENT
BEGIN:VEVENT
DTSTART;TZID=Pacific/Auckland:20280120T153000
DTEND;TZID=Pacific/Auckland:20280120T170000
DTSTAMP:20260423T205817
CREATED:20240922T233142Z
LAST-MODIFIED:20241027T233413Z
UID:10001804-1831995000-1832000400@taumarunui.co.nz
SUMMARY:King Country Scout Group
DESCRIPTION:Meeting every Thursday at Scout Hall\, O’Reilly Crescent\, Matapuna \nOutdoor and water activities\, games\, crafts\, camps\, hikes and fun! \nKeas aged 5-8 years\, Cubs 8-11 years\, Scouts 11-14 years \nLeader volunteers welcome \nContact: kingcountry@group.scouts.nz
URL:https://taumarunui.co.nz/event/king-country-scout-group/2028-01-20/
LOCATION:Scout Hall\, Taupo Road\, Taumarunui\, 3920\, New Zealand
CATEGORIES:Children,Clubs
GEO:-38.883687;175.298651
X-APPLE-STRUCTURED-LOCATION;VALUE=URI;X-ADDRESS=Scout Hall Taupo Road Taumarunui 3920 New Zealand;X-APPLE-RADIUS=500;X-TITLE=Taupo Road:geo:175.298651,-38.883687
END:VEVENT
BEGIN:VEVENT
DTSTART;TZID=Pacific/Auckland:20280121T093000
DTEND;TZID=Pacific/Auckland:20280121T123000
DTSTAMP:20260423T205817
CREATED:20241027T232922Z
LAST-MODIFIED:20241027T232922Z
UID:10006146-1832059800-1832070600@taumarunui.co.nz
SUMMARY:Manunui Playcentre
DESCRIPTION:Come along to Manunui Playcentre and check us out. For children aged 0-5.  $2 a session per family
URL:https://taumarunui.co.nz/event/manunui-playcentre-2/2028-01-21/
LOCATION:Manunui Playcentre\, 161 Miro Street\, Manunui\, Taumarunui\, New Zealand
CATEGORIES:Children,Clubs
ATTACH;FMTTYPE=image/png:https://taumarunui.co.nz/wp-content/uploads/2024/10/IMG_8098.png
GEO:-38.8875174;175.3227703
X-APPLE-STRUCTURED-LOCATION;VALUE=URI;X-ADDRESS=Manunui Playcentre 161 Miro Street Manunui Taumarunui New Zealand;X-APPLE-RADIUS=500;X-TITLE=161 Miro Street\, Manunui:geo:175.3227703,-38.8875174
END:VEVENT
BEGIN:VEVENT
DTSTART;TZID=Pacific/Auckland:20280122T100000
DTEND;TZID=Pacific/Auckland:20280122T110000
DTSTAMP:20260423T205817
CREATED:20241015T061524Z
LAST-MODIFIED:20241024T053057Z
UID:10003680-1832148000-1832151600@taumarunui.co.nz
SUMMARY:Ruapehu Toy Library
DESCRIPTION:We are open on Thursday and Saturday. Situated in the Taumarunui Arts Centre \nWe welcome any new members
URL:https://taumarunui.co.nz/event/ruapehu-toy-library-2/2028-01-22/
CATEGORIES:Children
ATTACH;FMTTYPE=image/jpeg:https://taumarunui.co.nz/wp-content/uploads/2024/10/IMG_8156-scaled.jpeg
END:VEVENT
END:VCALENDAR