BEGIN:VCALENDAR
VERSION:2.0
PRODID:-//Taumarunui - ECPv6.15.16//NONSGML v1.0//EN
CALSCALE:GREGORIAN
METHOD:PUBLISH
X-WR-CALNAME:Taumarunui
X-ORIGINAL-URL:https://taumarunui.co.nz
X-WR-CALDESC:Events for Taumarunui
REFRESH-INTERVAL;VALUE=DURATION:PT1H
X-Robots-Tag:noindex
X-PUBLISHED-TTL:PT1H
BEGIN:VTIMEZONE
TZID:Pacific/Auckland
BEGIN:STANDARD
TZOFFSETFROM:+1300
TZOFFSETTO:+1200
TZNAME:NZST
DTSTART:20240406T140000
END:STANDARD
BEGIN:DAYLIGHT
TZOFFSETFROM:+1200
TZOFFSETTO:+1300
TZNAME:NZDT
DTSTART:20240928T140000
END:DAYLIGHT
BEGIN:STANDARD
TZOFFSETFROM:+1300
TZOFFSETTO:+1200
TZNAME:NZST
DTSTART:20250405T140000
END:STANDARD
BEGIN:DAYLIGHT
TZOFFSETFROM:+1200
TZOFFSETTO:+1300
TZNAME:NZDT
DTSTART:20250927T140000
END:DAYLIGHT
BEGIN:STANDARD
TZOFFSETFROM:+1300
TZOFFSETTO:+1200
TZNAME:NZST
DTSTART:20260404T140000
END:STANDARD
BEGIN:DAYLIGHT
TZOFFSETFROM:+1200
TZOFFSETTO:+1300
TZNAME:NZDT
DTSTART:20260926T140000
END:DAYLIGHT
BEGIN:STANDARD
TZOFFSETFROM:+1300
TZOFFSETTO:+1200
TZNAME:NZST
DTSTART:20270403T140000
END:STANDARD
BEGIN:DAYLIGHT
TZOFFSETFROM:+1200
TZOFFSETTO:+1300
TZNAME:NZDT
DTSTART:20270925T140000
END:DAYLIGHT
END:VTIMEZONE
BEGIN:VEVENT
DTSTART;VALUE=DATE:20251101
DTEND;VALUE=DATE:20260301
DTSTAMP:20260422T232122
CREATED:20251019T202710Z
LAST-MODIFIED:20251019T202710Z
UID:10012464-1761955200-1772323199@taumarunui.co.nz
SUMMARY:Summer Golf
DESCRIPTION:Play golf all Summer long at the Taumarunui Golf Club \nMembership only $245
URL:https://taumarunui.co.nz/event/summer-golf-2/
LOCATION:Taumarunui Golf Club\, 165 Golf Road\, Taumarunui\, New Zealand
ATTACH;FMTTYPE=image/jpeg:https://taumarunui.co.nz/wp-content/uploads/2025/10/IMG_2055.jpeg
END:VEVENT
BEGIN:VEVENT
DTSTART;TZID=Pacific/Auckland:20251128T190000
DTEND;TZID=Pacific/Auckland:20251206T210000
DTSTAMP:20260422T232122
CREATED:20251112T211258Z
LAST-MODIFIED:20251112T211258Z
UID:10012540-1764356400-1765054800@taumarunui.co.nz
SUMMARY:“The Pink Hammer”
DESCRIPTION:Grab your toolbelt and your sense of humor- The Pink Hammer is coming to Taumarunui! 🔨 💓\nPerforming Arts Taumarunui Inc. proudly presents Michele Amas’ hit comedy\, directed by local Tim Leahy.\nStarring 4 of our powerhouse leading ladies Brenda Ralph\, Katy Bolten\, Lizy Green and Kerrin Hickey\, plus newcomer Aston Leaning as the delightfully grumpy Woody. (More about them soon).\nThis play is smart\, funny\, and full of heart – a celebration of resilience\, friendship\, and finding strength where you least expect it.\n🔨 The Pink Hammer – you won’t want to miss this one!\n🗓 Onstage 28 November 2025 – 6 December 2025\n🎟 Tickets on sale NOW from iTicket at http://www.iticket.co.nz/events/2025/nov/pati-the-pink-hammer or from your local iSite – grab yours today!
URL:https://taumarunui.co.nz/event/the-pink-hammer/
LOCATION:The Little Theatre
ATTACH;FMTTYPE=image/jpeg:https://taumarunui.co.nz/wp-content/uploads/2025/11/IMG_2349.jpeg
END:VEVENT
BEGIN:VEVENT
DTSTART;VALUE=DATE:20251201
DTEND;VALUE=DATE:20251209
DTSTAMP:20260422T232122
CREATED:20251203T022556Z
LAST-MODIFIED:20251203T022556Z
UID:10012812-1764547200-1765238399@taumarunui.co.nz
SUMMARY:Christmas Tree Festival
DESCRIPTION:See poster for opening times
URL:https://taumarunui.co.nz/event/christmas-tree-festival-2/
ATTACH;FMTTYPE=image/jpeg:https://taumarunui.co.nz/wp-content/uploads/2025/12/IMG_2606-scaled.jpeg
END:VEVENT
BEGIN:VEVENT
DTSTART;VALUE=DATE:20251205
DTEND;VALUE=DATE:20251221
DTSTAMP:20260422T232122
CREATED:20251128T053705Z
LAST-MODIFIED:20251128T053705Z
UID:10012809-1764892800-1766275199@taumarunui.co.nz
SUMMARY:Big Christmas Art Sale
DESCRIPTION:Twin Rivers Community Gallery is holding a\n‘BIG CHRISTMAS ART SALE”\nstarting Friday 5th December (the day before the Santa Parade).\nDrop in and grab a bargain at marked down prices and get something special\nand original for those you love.\nThis Sale runs until 20th December\nat the Twin Rivers Community Art Gallery 111 Hakiaha Street. Sale prices range from 25% off and 50% off Those who get in quick will get the best offers. Plus – remember\, you’ll be supporting the local community buying local.
URL:https://taumarunui.co.nz/event/big-christmas-art-sale/
ATTACH;FMTTYPE=image/jpeg:https://taumarunui.co.nz/wp-content/uploads/2025/11/IMG_2519.jpeg
END:VEVENT
BEGIN:VEVENT
DTSTART;VALUE=DATE:20251206
DTEND;VALUE=DATE:20251207
DTSTAMP:20260422T232122
CREATED:20250510T224440Z
LAST-MODIFIED:20250510T224440Z
UID:10012271-1764979200-1765065599@taumarunui.co.nz
SUMMARY:Christmas Hamper Golf Tournament
DESCRIPTION:Check out our tournaments and discover why visitors keep coming back to enjoy Taumarunui’s beautiful Tarrangower golf course. Our members are famous for their warm hospitality. This year\, make it your mission to join our golfing family.
URL:https://taumarunui.co.nz/event/christmas-hamper-golf-tournament/
LOCATION:Taumarunui Golf Club\, 165 Golf Road\, Taumarunui\, New Zealand
ATTACH;FMTTYPE=image/jpeg:https://taumarunui.co.nz/wp-content/uploads/2025/05/IMG_0535.jpeg
END:VEVENT
BEGIN:VEVENT
DTSTART;TZID=Pacific/Auckland:20251206T080000
DTEND;TZID=Pacific/Auckland:20251206T130000
DTSTAMP:20260422T232122
CREATED:20251031T172933Z
LAST-MODIFIED:20251031T172933Z
UID:10009665-1765008000-1765026000@taumarunui.co.nz
SUMMARY:TRACT market
DESCRIPTION:Second Saturday of the month in the Town Centre Arcade\, Taumarunui except for December when it’s the first Saturday to match up with the Christmas parade
URL:https://taumarunui.co.nz/event/tract-market-2-2-2/2025-12-06/
LOCATION:Town Centre Arcade\, 101 Hakiaha Street\, Taumarunui\, New Zealand
CATEGORIES:Markets
ATTACH;FMTTYPE=image/jpeg:https://taumarunui.co.nz/wp-content/uploads/2024/10/IMG_0397.jpeg
END:VEVENT
BEGIN:VEVENT
DTSTART;TZID=Pacific/Auckland:20251206T100000
DTEND;TZID=Pacific/Auckland:20251206T110000
DTSTAMP:20260422T232122
CREATED:20241015T061524Z
LAST-MODIFIED:20241024T053057Z
UID:10003569-1765015200-1765018800@taumarunui.co.nz
SUMMARY:Ruapehu Toy Library
DESCRIPTION:We are open on Thursday and Saturday. Situated in the Taumarunui Arts Centre \nWe welcome any new members
URL:https://taumarunui.co.nz/event/ruapehu-toy-library-2/2025-12-06/
CATEGORIES:Children
ATTACH;FMTTYPE=image/jpeg:https://taumarunui.co.nz/wp-content/uploads/2024/10/IMG_8156-scaled.jpeg
END:VEVENT
BEGIN:VEVENT
DTSTART;TZID=Pacific/Auckland:20251206T100000
DTEND;TZID=Pacific/Auckland:20251206T140000
DTSTAMP:20260422T232122
CREATED:20251205T170455Z
LAST-MODIFIED:20251205T170455Z
UID:10012813-1765015200-1765029600@taumarunui.co.nz
SUMMARY:Christmas inflatables
DESCRIPTION:Be sure to call into the Taumarunui Arts Centre today between 10am and 2pm. Lynn will be there again this year with her Christmas inflatables.
URL:https://taumarunui.co.nz/event/christmas-inflatables/
LOCATION:Taumarunui Arts Centre\, Hakiaha Street\, Taumarunui\, New Zealand
ATTACH;FMTTYPE=image/jpeg:https://taumarunui.co.nz/wp-content/uploads/2025/12/IMG_2633.jpeg
END:VEVENT
BEGIN:VEVENT
DTSTART;TZID=Pacific/Auckland:20251206T110000
DTEND;TZID=Pacific/Auckland:20251206T140000
DTSTAMP:20260422T232122
CREATED:20250915T182451Z
LAST-MODIFIED:20251103T223348Z
UID:10012436-1765018800-1765029600@taumarunui.co.nz
SUMMARY:Taumarunui Christmas Parade
DESCRIPTION:Save the Date
URL:https://taumarunui.co.nz/event/taumarunui-christmas-parade/
CATEGORIES:Event
ATTACH;FMTTYPE=image/jpeg:https://taumarunui.co.nz/wp-content/uploads/2025/11/2.jpg
END:VEVENT
BEGIN:VEVENT
DTSTART;TZID=Pacific/Auckland:20251206T130000
DTEND;TZID=Pacific/Auckland:20251206T180000
DTSTAMP:20260422T232122
CREATED:20251024T211630Z
LAST-MODIFIED:20251024T211630Z
UID:10012470-1765026000-1765044000@taumarunui.co.nz
SUMMARY:Bradley’s Garden Christmas Party
DESCRIPTION:Bradley’s Garden Christmas Party! 🎅🏼🥂🎄\nYou don’t want to miss this party! \n📅 Saturday 6th December | 1–6pm\n🍸 Gin bar & Christmas cocktails\n🎶 Live band\n🚚 Food trucks\n🎁 Festive vibes all afternoon \nRound up your friends and celebrate the season in style at Bradley’s Garden 🌿 \n🎟️ Tickets & info: Email – melana.bradley@xtra.co.nz
URL:https://taumarunui.co.nz/event/bradleys-garden-christmas-party/
LOCATION:Bradleys Garden
ATTACH;FMTTYPE=image/jpeg:https://taumarunui.co.nz/wp-content/uploads/2025/10/IMG_2154.jpeg
END:VEVENT
BEGIN:VEVENT
DTSTART;TZID=Pacific/Auckland:20251206T200000
DTEND;TZID=Pacific/Auckland:20251206T230000
DTSTAMP:20260422T232122
CREATED:20251126T013211Z
LAST-MODIFIED:20251126T013211Z
UID:10012545-1765051200-1765062000@taumarunui.co.nz
SUMMARY:Riverview band at RSA
DESCRIPTION:Back by popular demand!
URL:https://taumarunui.co.nz/event/riverview-band-at-rsa/
LOCATION:Taumarunui RSA
ATTACH;FMTTYPE=image/jpeg:https://taumarunui.co.nz/wp-content/uploads/2025/11/IMG_2477.jpeg
END:VEVENT
END:VCALENDAR