BEGIN:VCALENDAR
VERSION:2.0
PRODID:-//Taumarunui - ECPv6.15.16//NONSGML v1.0//EN
CALSCALE:GREGORIAN
METHOD:PUBLISH
X-WR-CALNAME:Taumarunui
X-ORIGINAL-URL:https://taumarunui.co.nz
X-WR-CALDESC:Events for Taumarunui
REFRESH-INTERVAL;VALUE=DURATION:PT1H
X-Robots-Tag:noindex
X-PUBLISHED-TTL:PT1H
BEGIN:VTIMEZONE
TZID:Pacific/Auckland
BEGIN:STANDARD
TZOFFSETFROM:+1300
TZOFFSETTO:+1200
TZNAME:NZST
DTSTART:20240406T140000
END:STANDARD
BEGIN:DAYLIGHT
TZOFFSETFROM:+1200
TZOFFSETTO:+1300
TZNAME:NZDT
DTSTART:20240928T140000
END:DAYLIGHT
BEGIN:STANDARD
TZOFFSETFROM:+1300
TZOFFSETTO:+1200
TZNAME:NZST
DTSTART:20250405T140000
END:STANDARD
BEGIN:DAYLIGHT
TZOFFSETFROM:+1200
TZOFFSETTO:+1300
TZNAME:NZDT
DTSTART:20250927T140000
END:DAYLIGHT
BEGIN:STANDARD
TZOFFSETFROM:+1300
TZOFFSETTO:+1200
TZNAME:NZST
DTSTART:20260404T140000
END:STANDARD
BEGIN:DAYLIGHT
TZOFFSETFROM:+1200
TZOFFSETTO:+1300
TZNAME:NZDT
DTSTART:20260926T140000
END:DAYLIGHT
END:VTIMEZONE
BEGIN:VEVENT
DTSTART;VALUE=DATE:20251017
DTEND;VALUE=DATE:20251020
DTSTAMP:20260423T062406
CREATED:20250903T053849Z
LAST-MODIFIED:20250903T053849Z
UID:10012304-1760659200-1760918399@taumarunui.co.nz
SUMMARY:Tiger Moth Fly-in at Taumarunui
DESCRIPTION:FLY-IN AT TAUMARANUI\, 17 – 19 October\, 2025 \nThe Taumaranui Aero Club has invited the Tiger Moth Club of NZ for its annual fly-in the weekend before Labour Weekend. \nThere will be the usual gathering of Tiger Moths and other DH aircraft\, along with GA aircraft owner or flown by members of the Tiger Moth Club. Competitions will be held on Saturday\, 17 October with the annual dinner to follow. \nThis event commemorates the founding of the Tiger Moth Club at Taumaranui in 1969. \n\nSaturday is competition day with results and winners announced at a dinner on Saturday night.\nSunday normally has no planned activity except members departing for home.\nThe weekend will always be held regardless of the weather. You may just take the road.\n\nA registration form can be accessed through the link below. The registration process is important to enable the caterers and transport to plan so please use the form asap. \nhttps://forms.gle/PjP8hjyoZ8KyEqKg7 \n  \nDeerness Awards: \nAt the Dinner\, we will not only be awarding the prizes for competition flying but also the Ray Deerness Awards for Photographic and Literary excellence. Two separate categories. Get your\nentries showcasing anything aviation related in to tigermothclub@gmail.com It is limited to club members and will close on the 10th October 2025 Winners will be announced at Taumarunui on the 18th October at our dinner.
URL:https://taumarunui.co.nz/event/tiger-moth-fly-in-at-taumarunui/
CATEGORIES:Event
ATTACH;FMTTYPE=image/jpeg:https://taumarunui.co.nz/wp-content/uploads/2025/09/IMG_0560.jpeg
END:VEVENT
BEGIN:VEVENT
DTSTART;VALUE=DATE:20251017
DTEND;VALUE=DATE:20251020
DTSTAMP:20260423T062406
CREATED:20250926T012132Z
LAST-MODIFIED:20250926T012132Z
UID:10012441-1760659200-1760918399@taumarunui.co.nz
SUMMARY:NZMCA Meet and Greet
DESCRIPTION:For all New Zealand Motor Caravan Association (NZMCA) Members interested in coming to Taumarunui on the weekend of 17-19 October: A space and a view to look forward to in Taringamutu\, Tamarunui\, in October. The first photo is the Taringamutu School Paddock which is available for NZMCA Members’ Motorhomes and Caravans to park on for the “Meet and Greet” weekend of 17\, 18 and 19 October. It is 700m or so from the Taumarunui Airfield where the annual Tiger Moth Flyin will be held during the same dates. The other photo is the great view of Mt Ruapehu taken from near the golf course. Don’t forget to mark up your calendar to avoid missing out. This year’s event could rejuvenate making the annual visit of NZMCA Membrs to Taumarunui for the Tiger Moth Flyin. This one is also a great opportunity for the new Members\, who have recently joined the NZMCA Lake Taupo Area who live in Ongarue\, Taumarunui\, Manunui\, Taringamutu\, Owhango\, Waimarino and nearby districts\, to meet each other as well as Members from other parts of the NZMCA Lake Taupo Area and even other NZMCA Areas. For more information\, contact Les Schwass on 02102260295 or John Wadsworth on 0212735533.
URL:https://taumarunui.co.nz/event/nzmca-meet-and-greet/
CATEGORIES:Clubs,Event
ATTACH;FMTTYPE=image/jpeg:https://taumarunui.co.nz/wp-content/uploads/2025/09/IMG_1739.jpeg
END:VEVENT
BEGIN:VEVENT
DTSTART;TZID=Pacific/Auckland:20251019T120000
DTEND;TZID=Pacific/Auckland:20251019T150000
DTSTAMP:20260423T062406
CREATED:20251004T185854Z
LAST-MODIFIED:20251004T185854Z
UID:10012447-1760875200-1760886000@taumarunui.co.nz
SUMMARY:Taumarunui Country Music Club
DESCRIPTION:
URL:https://taumarunui.co.nz/event/taumarunui-country-music-club-2/
LOCATION:Taumarunui Primary School\, 2 Maata Street\, Taumarunui\, New Zealand
ATTACH;FMTTYPE=image/jpeg:https://taumarunui.co.nz/wp-content/uploads/2025/10/IMG_1776.jpeg
END:VEVENT
BEGIN:VEVENT
DTSTART;TZID=Pacific/Auckland:20251019T140000
DTEND;TZID=Pacific/Auckland:20251019T160000
DTSTAMP:20260423T062406
CREATED:20251009T033819Z
LAST-MODIFIED:20251014T204525Z
UID:10012450-1760882400-1760889600@taumarunui.co.nz
SUMMARY:“The Show Must Go On!”
DESCRIPTION:**CONCERT POSTPONED**\nDue to the recent wild weather\, we’ve decided to pause our singing voices for just a little longer! 🌧\nWe know a lot of people have been affected\, so we’re taking a moment to let everyone catch their breath.\nA new date will be announced soon – and we promise it’ll be worth the wait! 💛\nStay safe\, stay dry and keep humming those show tunes until we’re all together again! 🎶
URL:https://taumarunui.co.nz/event/the-show-must-go-on/
LOCATION:Taumarunui Little Theatre\, 22 Miriama Street\, Taumarunui\, New Zealand
ATTACH;FMTTYPE=image/jpeg:https://taumarunui.co.nz/wp-content/uploads/2025/10/IMG_1972.jpeg
END:VEVENT
END:VCALENDAR